{"text_format":"1","workbook":"xlsx","n_sheets":6,"sheets":["Задание","Данные","Комиссии партнеров","Combined Table","Данные (пример без формул)","Сводная таблица (пример)"],"not_rendered":{"charts":0,"images":0,"macros":1,"external_links":0,"defined_names":2,"comments":0,"pivot_tables":1},"unopened":[],"bounds":{"document_bytes":16777216,"sheet_cells":100000,"rows_first":2000,"rows_last":500,"rows_between":2000,"halvings":0,"cell_chars":16384,"cell_head_chars":4096},"cells_cut":0,"cells_raw":0,"read":"whole","date_system":"1900"}

{"sheet":"Задание","index":0,"n_rows":12,"n_cols":1,"rows_kept":12,"cut":false,"hidden":false,"merged":[]}
["Задача 1"]
["Есть две вкладки: \"Данные\" и \"Комиссии партнеров\"\nНужно подтянуть столбец \"Комиссия партнера %\" (из вкладки \"Комиссии партнеров\") на вкладку \"Данные\".  \nИспользуйте функцию ВПР.\nПример результата, который вы должны получить - смотрите на вкладке \"Данные (пример без формул)\".\nОдна из обучающих статей по ВПР: https://www.planetaexcel.ru/techniques/2/106/"]
[]
["Задача 2"]
["На вкладке \"Данные\", в столбце \"Комиссия партнера (руб)\" нужно посчитать комиссию партнера в рублях\nПример результата, который вы должны получить - смотрите на вкладке \"Данные (пример без формул)\"."]
[]
[]
["Задача 3"]
["На основе полученных цифр на вкладке \"Данные\" нужно построить сводный отчет по итоговой комиссии каждого партнера. \nПример результата, который вы должны получить - смотрите на вкладке \"Сводная таблица (пример)\"."]
[]
["Задача 4"]
["Отправить выполненное задание на почту: d.bykovskaya@ttkds.ru\nС темой: Тестовое задание на вакансию Менеджер по контенту ФПК, {ваше ФИО}."]

{"sheet":"Данные","index":1,"n_rows":5705,"n_cols":7,"rows_kept":5705,"cut":false,"hidden":false,"merged":[]}
[null,null,null,null,null,"Комиссия партнера %","Комиссия партнера (руб)"]
["Номер заказ","Партнер","Дата заказа","Статус заказа","Сумма заказа","Комиссия партнера %","Комиссия партнера (руб)"]
[165797,"","1945-05-01","не оплачен",3109,{"$f":"IFERROR(VLOOKUP(B3,'Комиссии партнеров'!$A$2:$B$52,2,FALSE),\"\")","v":""},{"$f":"IFERROR(E3*F3,\"\")","v":""}]
[165800,"Партнер номер 1","1945-05-01","не оплачен",1664,{"$f":"IFERROR(VLOOKUP(B4,'Комиссии партнеров'!$A$2:$B$52,2,FALSE),\"\")","v":0.05},{"$f":"IFERROR(E4*F4,\"\")","v":83.2}]
[165802,"Партнер номер 2","1945-05-01","не оплачен",2552,{"$f":"IFERROR(VLOOKUP(B5,'Комиссии партнеров'!$A$2:$B$52,2,FALSE),\"\")","v":0.04},{"$f":"Commission(E5,F5)","v":102.08}]
[165805,"","1945-05-01","оплачен",1303,{"$f":"IFERROR(VLOOKUP(B6,'Комиссии партнеров'!$A$2:$B$52,2,FALSE),\"\")","v":""},""]
[165808,"Партнер номер 1","1945-05-01","не оплачен",2030,{"$f":"IFERROR(VLOOKUP(B7,'Комиссии партнеров'!$A$2:$B$52,2,FALSE),\"\")","v":0.05},101.5]
[165813,"","1945-05-01","оплачен",1447,{"$f":"IFERROR(VLOOKUP(B8,'Комиссии партнеров'!$A$2:$B$52,2,FALSE),\"\")","v":""}]
[165815,"Партнер номер 3","1945-05-01","оплачен",1541,{"$f":"IFERROR(VLOOKUP(B9,'Комиссии партнеров'!$A$2:$B$52,2,FALSE),\"\")","v":0.05},77.050000000000011]
[165820,"","1945-05-01","оплачен",2286,{"$f":"IFERROR(VLOOKUP(B10,'Комиссии партнеров'!$A$2:$B$52,2,FALSE),\"\")","v":""}]
[165822,"","1945-05-01","не оплачен",9631,{"$f":"IFERROR(VLOOKUP(B11,'Комиссии партнеров'!$A$2:$B$52,2,FALSE),\"\")","v":""}]
[165825,"Партнер номер 4","1945-05-01","не оплачен",2368,{"$f":"IFERROR(VLOOKUP(B12,'Комиссии партнеров'!$A$2:$B$52,2,FALSE),\"\")","v":0.04},94.72]
[165828,"Партнер номер 1","1945-05-01","не оплачен",2188,{"$f":"IFERROR(VLOOKUP(B13,'Комиссии партнеров'!$A$2:$B$52,2,FALSE),\"\")","v":0.05},109.4]
[165831,"Партнер номер 3","1945-05-01","оплачен",5127,{"$f":"IFERROR(VLOOKUP(B14,'Комиссии партнеров'!$A$2:$B$52,2,FALSE),\"\")","v":0.05},256.35000000000002]
[165833,"Партнер номер 5","1945-05-01","оплачен",4852,{"$f":"IFERROR(VLOOKUP(B15,'Комиссии партнеров'!$A$2:$B$52,2,FALSE),\"\")","v":0.03},145.56]
[165837,"","1945-05-01","оплачен",3042,{"$f":"IFERROR(VLOOKUP(B16,'Комиссии партнеров'!$A$2:$B$52,2,FALSE),\"\")","v":""}]
[165840,"Партнер номер 1","1945-05-01","оплачен",764,{"$f":"IFERROR(VLOOKUP(B17,'Комиссии партнеров'!$A$2:$B$52,2,FALSE),\"\")","v":0.05},38.200000000000003]
[165845,"Партнер номер 6","1945-05-01","не оплачен",4239,{"$f":"IFERROR(VLOOKUP(B18,'Комиссии партнеров'!$A$2:$B$52,2,FALSE),\"\")","v":0.04},169.56]
[165850,"Партнер номер 1","1945-05-01","оплачен",2084,{"$f":"IFERROR(VLOOKUP(B19,'Комиссии партнеров'!$A$2:$B$52,2,FALSE),\"\")","v":0.05},104.2]
[165852,"Партнер номер 3","1945-05-01","оплачен",1620,{"$f":"IFERROR(VLOOKUP(B20,'Комиссии партнеров'!$A$2:$B$52,2,FALSE),\"\")","v":0.05},81]
[165854,"Партнер номер 1","1945-05-01","оплачен",1654,{"$f":"IFERROR(VLOOKUP(B21,'Комиссии партнеров'!$A$2:$B$52,2,FALSE),\"\")","v":0.05},82.7]
[165856,"","1945-05-01","не оплачен",5745,{"$f":"IFERROR(VLOOKUP(B22,'Комиссии партнеров'!$A$2:$B$52,2,FALSE),\"\")","v":""}]
[165859,"Партнер номер 3","1945-05-01","оплачен",3123,{"$f":"IFERROR(VLOOKUP(B23,'Комиссии партнеров'!$A$2:$B$52,2,FALSE),\"\")","v":0.05},156.15]
[165863,"Партнер номер 7","1945-05-01","не оплачен",1355,{"$f":"IFERROR(VLOOKUP(B24,'Комиссии партнеров'!$A$2:$B$52,2,FALSE),\"\")","v":0.05},67.75]
[165866,"Партнер номер 4","1945-05-01","не оплачен",2311,{"$f":"IFERROR(VLOOKUP(B25,'Комиссии партнеров'!$A$2:$B$52,2,FALSE),\"\")","v":0.04},92.44]
[165872,"","1945-05-01","не оплачен",2630,{"$f":"IFERROR(VLOOKUP(B26,'Комиссии партнеров'!$A$2:$B$52,2,FALSE),\"\")","v":""}]
[165875,"Партнер номер 1","1945-05-01","оплачен",861,{"$f":"IFERROR(VLOOKUP(B27,'Комиссии партнеров'!$A$2:$B$52,2,FALSE),\"\")","v":0.05},43.050000000000004]
[165880,"","1945-05-01","не оплачен",1322,{"$f":"IFERROR(VLOOKUP(B28,'Комиссии партнеров'!$A$2:$B$52,2,FALSE),\"\")","v":""}]
[165882,"","1945-05-01","оплачен",1691,{"$f":"IFERROR(VLOOKUP(B29,'Комиссии партнеров'!$A$2:$B$52,2,FALSE),\"\")","v":""}]
[165887,"","1945-05-01","оплачен",2284,{"$f":"IFERROR(VLOOKUP(B30,'Комиссии партнеров'!$A$2:$B$52,2,FALSE),\"\")","v":""}]
[165889,"","1945-05-01","не оплачен",970,{"$f":"IFERROR(VLOOKUP(B31,'Комиссии партнеров'!$A$2:$B$52,2,FALSE),\"\")","v":""}]
[165895,"","1945-05-01","оплачен",1441,{"$f":"IFERROR(VLOOKUP(B32,'Комиссии партнеров'!$A$2:$B$52,2,FALSE),\"\")","v":""}]
[165896,"Партнер номер 7","1945-05-01","не оплачен",947,{"$f":"IFERROR(VLOOKUP(B33,'Комиссии партнеров'!$A$2:$B$52,2,FALSE),\"\")","v":0.05},47.35]
[165899,"","1945-05-01","не оплачен",4798,{"$f":"IFERROR(VLOOKUP(B34,'Комиссии партнеров'!$A$2:$B$52,2,FALSE),\"\")","v":""}]
[165900,"","1945-05-01","не оплачен",1323,{"$f":"IFERROR(VLOOKUP(B35,'Комиссии партнеров'!$A$2:$B$52,2,FALSE),\"\")","v":""}]
[165902,"","1945-05-01","оплачен",1231,{"$f":"IFERROR(VLOOKUP(B36,'Комиссии партнеров'!$A$2:$B$52,2,FALSE),\"\")","v":""}]
[165906,"Партнер номер 1","1945-05-01","не оплачен",1359,{"$f":"IFERROR(VLOOKUP(B37,'Комиссии партнеров'!$A$2:$B$52,2,FALSE),\"\")","v":0.05},67.95]
[165909,"","1945-05-01","не оплачен",2884,{"$f":"IFERROR(VLOOKUP(B38,'Комиссии партнеров'!$A$2:$B$52,2,FALSE),\"\")","v":""}]
[165912,"Партнер номер 3","1945-05-01","оплачен",1727,{"$f":"IFERROR(VLOOKUP(B39,'Комиссии партнеров'!$A$2:$B$52,2,FALSE),\"\")","v":0.05},86.350000000000009]
[165914,"","1945-05-01","оплачен",3232,{"$f":"IFERROR(VLOOKUP(B40,'Комиссии партнеров'!$A$2:$B$52,2,FALSE),\"\")","v":""}]
[165917,"Партнер номер 1","1945-05-01","оплачен",1337,{"$f":"IFERROR(VLOOKUP(B41,'Комиссии партнеров'!$A$2:$B$52,2,FALSE),\"\")","v":0.05},66.850000000000009]
[165921,"Партнер номер 7","1945-05-01","оплачен",819,{"$f":"IFERROR(VLOOKUP(B42,'Комиссии партнеров'!$A$2:$B$52,2,FALSE),\"\")","v":0.05},40.950000000000003]
[165923,"Партнер номер 8","1945-05-01","оплачен",2334,{"$f":"IFERROR(VLOOKUP(B43,'Комиссии партнеров'!$A$2:$B$52,2,FALSE),\"\")","v":0.03},70.02]
[165925,"Партнер номер 9","1945-05-01","не оплачен",1868,{"$f":"IFERROR(VLOOKUP(B44,'Комиссии партнеров'!$A$2:$B$52,2,FALSE),\"\")","v":0.05},93.4]
[165932,"Партнер номер 3","1945-05-01","не оплачен",894,{"$f":"IFERROR(VLOOKUP(B45,'Комиссии партнеров'!$A$2:$B$52,2,FALSE),\"\")","v":0.05},44.7]
[165936,"","1945-05-01","оплачен",8555,{"$f":"IFERROR(VLOOKUP(B46,'Комиссии партнеров'!$A$2:$B$52,2,FALSE),\"\")","v":""}]
[165938,"","1945-05-01","не оплачен",958,{"$f":"IFERROR(VLOOKUP(B47,'Комиссии партнеров'!$A$2:$B$52,2,FALSE),\"\")","v":""}]
[165944,"Партнер номер 5","1945-05-01","оплачен",1995,{"$f":"IFERROR(VLOOKUP(B48,'Комиссии партнеров'!$A$2:$B$52,2,FALSE),\"\")","v":0.03},59.849999999999994]
[165948,"Партнер номер 5","1945-05-01","оплачен",9159,{"$f":"IFERROR(VLOOKUP(B49,'Комиссии партнеров'!$A$2:$B$52,2,FALSE),\"\")","v":0.03},274.77]
[165954,"Партнер номер 10","1945-05-01","оплачен",2559,{"$f":"IFERROR(VLOOKUP(B50,'Комиссии партнеров'!$A$2:$B$52,2,FALSE),\"\")","v":0.04},102.36]
[165955,"","1945-05-01","оплачен",4926,{"$f":"IFERROR(VLOOKUP(B51,'Комиссии партнеров'!$A$2:$B$52,2,FALSE),\"\")","v":""}]
[165960,"","1945-05-01","не оплачен",903,{"$f":"IFERROR(VLOOKUP(B52,'Комиссии партнеров'!$A$2:$B$52,2,FALSE),\"\")","v":""}]
[165963,"","1945-05-01","оплачен",16759,{"$f":"IFERROR(VLOOKUP(B53,'Комиссии партнеров'!$A$2:$B$52,2,FALSE),\"\")","v":""}]
[165969,"","1945-05-01","оплачен",1990,{"$f":"IFERROR(VLOOKUP(B54,'Комиссии партнеров'!$A$2:$B$52,2,FALSE),\"\")","v":""}]
[165971,"","1945-05-01","оплачен",1838,{"$f":"IFERROR(VLOOKUP(B55,'Комиссии партнеров'!$A$2:$B$52,2,FALSE),\"\")","v":""}]
[165975,"","1945-05-01","не оплачен",666,{"$f":"IFERROR(VLOOKUP(B56,'Комиссии партнеров'!$A$2:$B$52,2,FALSE),\"\")","v":""}]
[165977,"","1945-05-01","оплачен",1648,{"$f":"IFERROR(VLOOKUP(B57,'Комиссии партнеров'!$A$2:$B$52,2,FALSE),\"\")","v":""}]
[165984,"Партнер номер 7","1945-05-01","оплачен",2007,{"$f":"IFERROR(VLOOKUP(B58,'Комиссии партнеров'!$A$2:$B$52,2,FALSE),\"\")","v":0.05},100.35000000000001]
[165989,"","1945-05-01","оплачен",3208,{"$f":"IFERROR(VLOOKUP(B59,'Комиссии партнеров'!$A$2:$B$52,2,FALSE),\"\")","v":""}]
[165991,"Партнер номер 1","1945-05-01","оплачен",677,{"$f":"IFERROR(VLOOKUP(B60,'Комиссии партнеров'!$A$2:$B$52,2,FALSE),\"\")","v":0.05},33.85]
[165998,"","1945-05-01","оплачен",2788,{"$f":"IFERROR(VLOOKUP(B61,'Комиссии партнеров'!$A$2:$B$52,2,FALSE),\"\")","v":""}]
[166008,"Партнер номер 1","1945-05-01","не оплачен",940,{"$f":"IFERROR(VLOOKUP(B62,'Комиссии партнеров'!$A$2:$B$52,2,FALSE),\"\")","v":0.05},47]
[166012,"","1945-05-01","не оплачен",4016,{"$f":"IFERROR(VLOOKUP(B63,'Комиссии партнеров'!$A$2:$B$52,2,FALSE),\"\")","v":""}]
[166016,"Партнер номер 1","1945-05-01","оплачен",1990,{"$f":"IFERROR(VLOOKUP(B64,'Комиссии партнеров'!$A$2:$B$52,2,FALSE),\"\")","v":0.05},99.5]
[166021,"","1945-05-01","не оплачен",619,{"$f":"IFERROR(VLOOKUP(B65,'Комиссии партнеров'!$A$2:$B$52,2,FALSE),\"\")","v":""}]
[166028,"Партнер номер 1","1945-05-01","не оплачен",483,{"$f":"IFERROR(VLOOKUP(B66,'Комиссии партнеров'!$A$2:$B$52,2,FALSE),\"\")","v":0.05},24.150000000000002]
[166033,"Партнер номер 3","1945-05-01","оплачен",1002,{"$f":"IFERROR(VLOOKUP(B67,'Комиссии партнеров'!$A$2:$B$52,2,FALSE),\"\")","v":0.05},50.1]
[166036,"Партнер номер 9","1945-05-01","не оплачен",3586,{"$f":"IFERROR(VLOOKUP(B68,'Комиссии партнеров'!$A$2:$B$52,2,FALSE),\"\")","v":0.05},179.3]
[166039,"Партнер номер 1","1945-05-01","не оплачен",575,{"$f":"IFERROR(VLOOKUP(B69,'Комиссии партнеров'!$A$2:$B$52,2,FALSE),\"\")","v":0.05},28.75]
[166043,"","1945-05-01","оплачен",1155,{"$f":"IFERROR(VLOOKUP(B70,'Комиссии партнеров'!$A$2:$B$52,2,FALSE),\"\")","v":""}]
[166045,null,"1945-05-01","не оплачен",2247,{"$f":"IFERROR(VLOOKUP(B71,'Комиссии партнеров'!$A$2:$B$52,2,FALSE),\"\")","v":""}]
[166048,"Партнер номер 1","1945-05-01","не оплачен",1791,{"$f":"IFERROR(VLOOKUP(B72,'Комиссии партнеров'!$A$2:$B$52,2,FALSE),\"\")","v":0.05},89.550000000000011]
[166053,"","1945-05-01","не оплачен",854,{"$f":"IFERROR(VLOOKUP(B73,'Комиссии партнеров'!$A$2:$B$52,2,FALSE),\"\")","v":""}]
[166054,"","1945-05-01","оплачен",3687,{"$f":"IFERROR(VLOOKUP(B74,'Комиссии партнеров'!$A$2:$B$52,2,FALSE),\"\")","v":""}]
[166056,"","1945-05-01","оплачен",1014,{"$f":"IFERROR(VLOOKUP(B75,'Комиссии партнеров'!$A$2:$B$52,2,FALSE),\"\")","v":""}]
[166060,"Партнер номер 3","1945-05-01","не оплачен",940,{"$f":"IFERROR(VLOOKUP(B76,'Комиссии партнеров'!$A$2:$B$52,2,FALSE),\"\")","v":0.05},47]
[166065,"Партнер номер 11","1945-05-01","оплачен",2201,{"$f":"IFERROR(VLOOKUP(B77,'Комиссии партнеров'!$A$2:$B$52,2,FALSE),\"\")","v":0.05},110.05000000000001]
[166074,"Партнер номер 10","1945-05-01","оплачен",2751,{"$f":"IFERROR(VLOOKUP(B78,'Комиссии партнеров'!$A$2:$B$52,2,FALSE),\"\")","v":0.04},110.04]
[166076,"Партнер номер 1","1945-05-01","оплачен",2302,{"$f":"IFERROR(VLOOKUP(B79,'Комиссии партнеров'!$A$2:$B$52,2,FALSE),\"\")","v":0.05},115.10000000000001]
[166079,"Партнер номер 3","1945-05-01","не оплачен",3240,{"$f":"IFERROR(VLOOKUP(B80,'Комиссии партнеров'!$A$2:$B$52,2,FALSE),\"\")","v":0.05},162]
[166083,"Партнер номер 1","1945-05-01","не оплачен",485,{"$f":"IFERROR(VLOOKUP(B81,'Комиссии партнеров'!$A$2:$B$52,2,FALSE),\"\")","v":0.05},24.25]
[166085,"","1945-05-01","оплачен",3342,{"$f":"IFERROR(VLOOKUP(B82,'Комиссии партнеров'!$A$2:$B$52,2,FALSE),\"\")","v":""}]
[166094,"","1945-05-01","оплачен",2374,{"$f":"IFERROR(VLOOKUP(B83,'Комиссии партнеров'!$A$2:$B$52,2,FALSE),\"\")","v":""}]
[166099,"","1945-05-01","оплачен",1982,{"$f":"IFERROR(VLOOKUP(B84,'Комиссии партнеров'!$A$2:$B$52,2,FALSE),\"\")","v":""}]
[166104,"","1945-05-01","оплачен",2278,{"$f":"IFERROR(VLOOKUP(B85,'Комиссии партнеров'!$A$2:$B$52,2,FALSE),\"\")","v":""}]
[166106,"Партнер номер 1","1945-05-01","не оплачен",1237,{"$f":"IFERROR(VLOOKUP(B86,'Комиссии партнеров'!$A$2:$B$52,2,FALSE),\"\")","v":0.05},61.85]
[166110,"","1945-05-01","не оплачен",2663,{"$f":"IFERROR(VLOOKUP(B87,'Комиссии партнеров'!$A$2:$B$52,2,FALSE),\"\")","v":""}]
[166113,"Партнер номер 1","1945-05-01","оплачен",841,{"$f":"IFERROR(VLOOKUP(B88,'Комиссии партнеров'!$A$2:$B$52,2,FALSE),\"\")","v":0.05},42.050000000000004]
[166117,"Партнер номер 1","1945-05-01","оплачен",1237,{"$f":"IFERROR(VLOOKUP(B89,'Комиссии партнеров'!$A$2:$B$52,2,FALSE),\"\")","v":0.05},61.85]
[166120,"Партнер номер 1","1945-05-01","оплачен",2836,{"$f":"IFERROR(VLOOKUP(B90,'Комиссии партнеров'!$A$2:$B$52,2,FALSE),\"\")","v":0.05},141.80000000000001]
[166125,"Партнер номер 11","1945-05-01","оплачен",1822,{"$f":"IFERROR(VLOOKUP(B91,'Комиссии партнеров'!$A$2:$B$52,2,FALSE),\"\")","v":0.05},91.100000000000009]
[166129,"","1945-05-01","оплачен",483,{"$f":"IFERROR(VLOOKUP(B92,'Комиссии партнеров'!$A$2:$B$52,2,FALSE),\"\")","v":""}]
[166132,"Партнер номер 4","1945-05-01","оплачен",1335,{"$f":"IFERROR(VLOOKUP(B93,'Комиссии партнеров'!$A$2:$B$52,2,FALSE),\"\")","v":0.04},53.4]
[166137,"","1945-05-01","не оплачен",2146,{"$f":"IFERROR(VLOOKUP(B94,'Комиссии партнеров'!$A$2:$B$52,2,FALSE),\"\")","v":""}]
[166139,"","1945-05-01","не оплачен",715,{"$f":"IFERROR(VLOOKUP(B95,'Комиссии партнеров'!$A$2:$B$52,2,FALSE),\"\")","v":""}]
[166143,"","1945-05-01","не оплачен",2146,{"$f":"IFERROR(VLOOKUP(B96,'Комиссии партнеров'!$A$2:$B$52,2,FALSE),\"\")","v":""}]
[166148,"","1945-05-01","оплачен",4510,{"$f":"IFERROR(VLOOKUP(B97,'Комиссии партнеров'!$A$2:$B$52,2,FALSE),\"\")","v":""}]
[166151,"Партнер номер 11","1945-05-01","не оплачен",1677,{"$f":"IFERROR(VLOOKUP(B98,'Комиссии партнеров'!$A$2:$B$52,2,FALSE),\"\")","v":0.05},83.850000000000009]
[166164,"Партнер номер 11","1945-05-01","не оплачен",1822,{"$f":"IFERROR(VLOOKUP(B99,'Комиссии партнеров'!$A$2:$B$52,2,FALSE),\"\")","v":0.05},91.100000000000009]
[166167,"","1945-05-01","не оплачен",4007,{"$f":"IFERROR(VLOOKUP(B100,'Комиссии партнеров'!$A$2:$B$52,2,FALSE),\"\")","v":""}]
[166176,"","1945-05-01","не оплачен",3054,{"$f":"IFERROR(VLOOKUP(B101,'Комиссии партнеров'!$A$2:$B$52,2,FALSE),\"\")","v":""}]
[166181,"","1945-05-01","оплачен",4625,{"$f":"IFERROR(VLOOKUP(B102,'Комиссии партнеров'!$A$2:$B$52,2,FALSE),\"\")","v":""}]
[166183,"","1945-05-01","оплачен",1446,{"$f":"IFERROR(VLOOKUP(B103,'Комиссии партнеров'!$A$2:$B$52,2,FALSE),\"\")","v":""}]
[166184,"","1945-05-01","оплачен",981,{"$f":"IFERROR(VLOOKUP(B104,'Комиссии партнеров'!$A$2:$B$52,2,FALSE),\"\")","v":""}]
[166187,"Партнер номер 1","1945-05-01","не оплачен",2201,{"$f":"IFERROR(VLOOKUP(B105,'Комиссии партнеров'!$A$2:$B$52,2,FALSE),\"\")","v":0.05},110.05000000000001]
[166190,"","1945-05-01","оплачен",2104,{"$f":"IFERROR(VLOOKUP(B106,'Комиссии партнеров'!$A$2:$B$52,2,FALSE),\"\")","v":""}]
[166193,"Партнер номер 1","1945-05-01","не оплачен",821,{"$f":"IFERROR(VLOOKUP(B107,'Комиссии партнеров'!$A$2:$B$52,2,FALSE),\"\")","v":0.05},41.050000000000004]
[166203,"Партнер номер 1","1945-05-01","не оплачен",2286,{"$f":"IFERROR(VLOOKUP(B108,'Комиссии партнеров'!$A$2:$B$52,2,FALSE),\"\")","v":0.05},114.30000000000001]
[166209,"","1945-05-01","оплачен",3027,{"$f":"IFERROR(VLOOKUP(B109,'Комиссии партнеров'!$A$2:$B$52,2,FALSE),\"\")","v":""}]
[166211,"","1945-05-01","оплачен",1091,{"$f":"IFERROR(VLOOKUP(B110,'Комиссии партнеров'!$A$2:$B$52,2,FALSE),\"\")","v":""}]
[166214,"","1945-05-01","не оплачен",1193,{"$f":"IFERROR(VLOOKUP(B111,'Комиссии партнеров'!$A$2:$B$52,2,FALSE),\"\")","v":""}]
[166215,"","1945-05-01","оплачен",802,{"$f":"IFERROR(VLOOKUP(B112,'Комиссии партнеров'!$A$2:$B$52,2,FALSE),\"\")","v":""}]
[166218,"","1945-05-01","не оплачен",2116,{"$f":"IFERROR(VLOOKUP(B113,'Комиссии партнеров'!$A$2:$B$52,2,FALSE),\"\")","v":""}]
[166223,"Партнер номер 1","1945-05-01","оплачен",2750,{"$f":"IFERROR(VLOOKUP(B114,'Комиссии партнеров'!$A$2:$B$52,2,FALSE),\"\")","v":0.05},137.5]
[166225,"Партнер номер 1","1945-05-01","не оплачен",639,{"$f":"IFERROR(VLOOKUP(B115,'Комиссии партнеров'!$A$2:$B$52,2,FALSE),\"\")","v":0.05},31.950000000000003]
[166229,"Партнер номер 3","1945-05-01","не оплачен",485,{"$f":"IFERROR(VLOOKUP(B116,'Комиссии партнеров'!$A$2:$B$52,2,FALSE),\"\")","v":0.05},24.25]
[166233,"Партнер номер 1","1945-05-01","не оплачен",639,{"$f":"IFERROR(VLOOKUP(B117,'Комиссии партнеров'!$A$2:$B$52,2,FALSE),\"\")","v":0.05},31.950000000000003]
[166235,"Партнер номер 3","1945-05-01","не оплачен",3201,{"$f":"IFERROR(VLOOKUP(B118,'Комиссии партнеров'!$A$2:$B$52,2,FALSE),\"\")","v":0.05},160.05000000000001]
[166237,"Партнер номер 1","1945-05-01","не оплачен",762,{"$f":"IFERROR(VLOOKUP(B119,'Комиссии партнеров'!$A$2:$B$52,2,FALSE),\"\")","v":0.05},38.1]
[166239,"Партнер номер 1","1945-05-01","оплачен",530,{"$f":"IFERROR(VLOOKUP(B120,'Комиссии партнеров'!$A$2:$B$52,2,FALSE),\"\")","v":0.05},26.5]
[166242,"Партнер номер 12","1945-05-01","оплачен",6860,{"$f":"IFERROR(VLOOKUP(B121,'Комиссии партнеров'!$A$2:$B$52,2,FALSE),\"\")","v":0.03},205.79999999999998]
[166245,"Партнер номер 1","1945-05-01","не оплачен",779,{"$f":"IFERROR(VLOOKUP(B122,'Комиссии партнеров'!$A$2:$B$52,2,FALSE),\"\")","v":0.05},38.950000000000003]
[166247,"","1945-05-01","оплачен",2783,{"$f":"IFERROR(VLOOKUP(B123,'Комиссии партнеров'!$A$2:$B$52,2,FALSE),\"\")","v":""}]
[166251,"Партнер номер 1","1945-05-01","не оплачен",1762,{"$f":"IFERROR(VLOOKUP(B124,'Комиссии партнеров'!$A$2:$B$52,2,FALSE),\"\")","v":0.05},88.100000000000009]
[166256,"Партнер номер 1","1945-05-01","не оплачен",393,{"$f":"IFERROR(VLOOKUP(B125,'Комиссии партнеров'!$A$2:$B$52,2,FALSE),\"\")","v":0.05},19.650000000000002]
[166257,"","1945-05-01","оплачен",7602,{"$f":"IFERROR(VLOOKUP(B126,'Комиссии партнеров'!$A$2:$B$52,2,FALSE),\"\")","v":""}]
[166259,"Партнер номер 1","1945-05-01","не оплачен",393,{"$f":"IFERROR(VLOOKUP(B127,'Комиссии партнеров'!$A$2:$B$52,2,FALSE),\"\")","v":0.05},19.650000000000002]
[166264,"Партнер номер 1","1945-05-01","не оплачен",401,{"$f":"IFERROR(VLOOKUP(B128,'Комиссии партнеров'!$A$2:$B$52,2,FALSE),\"\")","v":0.05},20.05]
[166267,"","1945-05-01","оплачен",2401,{"$f":"IFERROR(VLOOKUP(B129,'Комиссии партнеров'!$A$2:$B$52,2,FALSE),\"\")","v":""}]
[166269,"","1945-05-01","оплачен",3690,{"$f":"IFERROR(VLOOKUP(B130,'Комиссии партнеров'!$A$2:$B$52,2,FALSE),\"\")","v":""}]
[166273,"Партнер номер 1","1945-05-01","не оплачен",3505,{"$f":"IFERROR(VLOOKUP(B131,'Комиссии партнеров'!$A$2:$B$52,2,FALSE),\"\")","v":0.05},175.25]
[166278,"Партнер номер 13","1945-05-01","оплачен",1201,{"$f":"IFERROR(VLOOKUP(B132,'Комиссии партнеров'!$A$2:$B$52,2,FALSE),\"\")","v":0.05},60.050000000000004]
[166283,"Партнер номер 1","1945-05-01","не оплачен",1184,{"$f":"IFERROR(VLOOKUP(B133,'Комиссии партнеров'!$A$2:$B$52,2,FALSE),\"\")","v":0.05},59.2]
[166284,"","1945-05-01","не оплачен",3149,{"$f":"IFERROR(VLOOKUP(B134,'Комиссии партнеров'!$A$2:$B$52,2,FALSE),\"\")","v":""}]
[166288,"Партнер номер 7","1945-05-01","не оплачен",1137,{"$f":"IFERROR(VLOOKUP(B135,'Комиссии партнеров'!$A$2:$B$52,2,FALSE),\"\")","v":0.05},56.85]
[166293,"Партнер номер 1","1945-05-01","не оплачен",401,{"$f":"IFERROR(VLOOKUP(B136,'Комиссии партнеров'!$A$2:$B$52,2,FALSE),\"\")","v":0.05},20.05]
[166295,"","1945-05-01","оплачен",2147,{"$f":"IFERROR(VLOOKUP(B137,'Комиссии партнеров'!$A$2:$B$52,2,FALSE),\"\")","v":""}]
[166298,"Партнер номер 1","1945-05-01","не оплачен",2212,{"$f":"IFERROR(VLOOKUP(B138,'Комиссии партнеров'!$A$2:$B$52,2,FALSE),\"\")","v":0.05},110.60000000000001]
[166302,"Партнер номер 5","1945-05-01","оплачен",1367,{"$f":"IFERROR(VLOOKUP(B139,'Комиссии партнеров'!$A$2:$B$52,2,FALSE),\"\")","v":0.03},41.01]
[166306,"","1945-05-01","оплачен",2938,{"$f":"IFERROR(VLOOKUP(B140,'Комиссии партнеров'!$A$2:$B$52,2,FALSE),\"\")","v":""}]
[166308,"Партнер номер 7","1945-05-01","не оплачен",1391,{"$f":"IFERROR(VLOOKUP(B141,'Комиссии партнеров'!$A$2:$B$52,2,FALSE),\"\")","v":0.05},69.55]
[166310,"","1945-05-01","не оплачен",1846,{"$f":"IFERROR(VLOOKUP(B142,'Комиссии партнеров'!$A$2:$B$52,2,FALSE),\"\")","v":""}]
[166315,"Партнер номер 1","1945-05-01","оплачен",2171,{"$f":"IFERROR(VLOOKUP(B143,'Комиссии партнеров'!$A$2:$B$52,2,FALSE),\"\")","v":0.05},108.55000000000001]
[166318,"","1945-05-01","не оплачен",2309,{"$f":"IFERROR(VLOOKUP(B144,'Комиссии партнеров'!$A$2:$B$52,2,FALSE),\"\")","v":""}]
[166323,"Партнер номер 5","1945-05-01","оплачен",2187,{"$f":"IFERROR(VLOOKUP(B145,'Комиссии партнеров'!$A$2:$B$52,2,FALSE),\"\")","v":0.03},65.61]
[166325,"Партнер номер 1","1945-05-01","не оплачен",271,{"$f":"IFERROR(VLOOKUP(B146,'Комиссии партнеров'!$A$2:$B$52,2,FALSE),\"\")","v":0.05},13.55]
[166330,"Партнер номер 5","1945-05-01","оплачен",2710,{"$f":"IFERROR(VLOOKUP(B147,'Комиссии партнеров'!$A$2:$B$52,2,FALSE),\"\")","v":0.03},81.3]
[166332,"Партнер номер 11","1945-05-01","не оплачен",3179,{"$f":"IFERROR(VLOOKUP(B148,'Комиссии партнеров'!$A$2:$B$52,2,FALSE),\"\")","v":0.05},158.95000000000002]
[166336,"Партнер номер 1","1945-05-01","оплачен",1003,{"$f":"IFERROR(VLOOKUP(B149,'Комиссии партнеров'!$A$2:$B$52,2,FALSE),\"\")","v":0.05},50.150000000000006]
[166340,"","1945-05-01","не оплачен",7902,{"$f":"IFERROR(VLOOKUP(B150,'Комиссии партнеров'!$A$2:$B$52,2,FALSE),\"\")","v":""}]
[166346,"","1945-05-01","не оплачен",2568,{"$f":"IFERROR(VLOOKUP(B151,'Комиссии партнеров'!$A$2:$B$52,2,FALSE),\"\")","v":""}]
[166350,"","1945-05-01","оплачен",2588,{"$f":"IFERROR(VLOOKUP(B152,'Комиссии партнеров'!$A$2:$B$52,2,FALSE),\"\")","v":""}]
[166354,"Партнер номер 9","1945-05-01","не оплачен",1826,{"$f":"IFERROR(VLOOKUP(B153,'Комиссии партнеров'!$A$2:$B$52,2,FALSE),\"\")","v":0.05},91.300000000000011]
[166356,"","1945-05-01","не оплачен",2530,{"$f":"IFERROR(VLOOKUP(B154,'Комиссии партнеров'!$A$2:$B$52,2,FALSE),\"\")","v":""}]
[166358,"","1945-05-01","не оплачен",983,{"$f":"IFERROR(VLOOKUP(B155,'Комиссии партнеров'!$A$2:$B$52,2,FALSE),\"\")","v":""}]
[166361,"Партнер номер 7","1945-05-01","не оплачен",271,{"$f":"IFERROR(VLOOKUP(B156,'Комиссии партнеров'!$A$2:$B$52,2,FALSE),\"\")","v":0.05},13.55]
[166367,"","1945-05-01","оплачен",3158,{"$f":"IFERROR(VLOOKUP(B157,'Комиссии партнеров'!$A$2:$B$52,2,FALSE),\"\")","v":""}]
[166372,"","1945-05-01","оплачен",1364,{"$f":"IFERROR(VLOOKUP(B158,'Комиссии партнеров'!$A$2:$B$52,2,FALSE),\"\")","v":""}]
[166375,"","1945-05-01","оплачен",1024,{"$f":"IFERROR(VLOOKUP(B159,'Комиссии партнеров'!$A$2:$B$52,2,FALSE),\"\")","v":""}]
[166379,"","1945-05-01","не оплачен",1400,{"$f":"IFERROR(VLOOKUP(B160,'Комиссии партнеров'!$A$2:$B$52,2,FALSE),\"\")","v":""}]
[166383,"Партнер номер 1","1945-05-01","оплачен",2569,{"$f":"IFERROR(VLOOKUP(B161,'Комиссии партнеров'!$A$2:$B$52,2,FALSE),\"\")","v":0.05},128.45000000000002]
[166387,"","1945-05-01","оплачен",2547,{"$f":"IFERROR(VLOOKUP(B162,'Комиссии партнеров'!$A$2:$B$52,2,FALSE),\"\")","v":""}]
[166392,"","1945-05-01","оплачен",1057,{"$f":"IFERROR(VLOOKUP(B163,'Комиссии партнеров'!$A$2:$B$52,2,FALSE),\"\")","v":""}]
[166394,"Партнер номер 1","1945-05-01","не оплачен",401,{"$f":"IFERROR(VLOOKUP(B164,'Комиссии партнеров'!$A$2:$B$52,2,FALSE),\"\")","v":0.05},20.05]
[166398,"","1945-05-01","оплачен",1506,{"$f":"IFERROR(VLOOKUP(B165,'Комиссии партнеров'!$A$2:$B$52,2,FALSE),\"\")","v":""}]
[166400,"Партнер номер 1","1945-05-01","не оплачен",759,{"$f":"IFERROR(VLOOKUP(B166,'Комиссии партнеров'!$A$2:$B$52,2,FALSE),\"\")","v":0.05},37.950000000000003]
[166402,"","1945-05-01","не оплачен",2900,{"$f":"IFERROR(VLOOKUP(B167,'Комиссии партнеров'!$A$2:$B$52,2,FALSE),\"\")","v":""}]
[166405,"Партнер номер 1","1945-05-01","не оплачен",930,{"$f":"IFERROR(VLOOKUP(B168,'Комиссии партнеров'!$A$2:$B$52,2,FALSE),\"\")","v":0.05},46.5]
[166410,"Партнер номер 4","1945-05-01","оплачен",2084,{"$f":"IFERROR(VLOOKUP(B169,'Комиссии партнеров'!$A$2:$B$52,2,FALSE),\"\")","v":0.04},83.36]
[166414,"Партнер номер 7","1945-05-01","не оплачен",401,{"$f":"IFERROR(VLOOKUP(B170,'Комиссии партнеров'!$A$2:$B$52,2,FALSE),\"\")","v":0.05},20.05]
[166419,"","1945-05-01","оплачен",2426,{"$f":"IFERROR(VLOOKUP(B171,'Комиссии партнеров'!$A$2:$B$52,2,FALSE),\"\")","v":""}]
[166423,"Партнер номер 10","1945-05-01","оплачен",1183,{"$f":"IFERROR(VLOOKUP(B172,'Комиссии партнеров'!$A$2:$B$52,2,FALSE),\"\")","v":0.04},47.32]
[166425,"Партнер номер 5","1945-05-01","не оплачен",2544,{"$f":"IFERROR(VLOOKUP(B173,'Комиссии партнеров'!$A$2:$B$52,2,FALSE),\"\")","v":0.03},76.319999999999993]
[166429,"","1945-05-01","оплачен",3408,{"$f":"IFERROR(VLOOKUP(B174,'Комиссии партнеров'!$A$2:$B$52,2,FALSE),\"\")","v":""}]
[166435,"","1945-05-01","оплачен",3412,{"$f":"IFERROR(VLOOKUP(B175,'Комиссии партнеров'!$A$2:$B$52,2,FALSE),\"\")","v":""}]
[166437,"","1945-05-01","оплачен",2286,{"$f":"IFERROR(VLOOKUP(B176,'Комиссии партнеров'!$A$2:$B$52,2,FALSE),\"\")","v":""}]
[166440,"","1945-05-01","оплачен",2253,{"$f":"IFERROR(VLOOKUP(B177,'Комиссии партнеров'!$A$2:$B$52,2,FALSE),\"\")","v":""}]
[166441,"","1945-05-01","оплачен",2976,{"$f":"IFERROR(VLOOKUP(B178,'Комиссии партнеров'!$A$2:$B$52,2,FALSE),\"\")","v":""}]
[166443,"","1945-05-01","оплачен",2571,{"$f":"IFERROR(VLOOKUP(B179,'Комиссии партнеров'!$A$2:$B$52,2,FALSE),\"\")","v":""}]
[166446,"","1945-05-01","оплачен",2306,{"$f":"IFERROR(VLOOKUP(B180,'Комиссии партнеров'!$A$2:$B$52,2,FALSE),\"\")","v":""}]
[166454,"Партнер номер 5","1945-05-01","не оплачен",4371,{"$f":"IFERROR(VLOOKUP(B181,'Комиссии партнеров'!$A$2:$B$52,2,FALSE),\"\")","v":0.03},131.13]
[166458,"Партнер номер 14","1945-05-01","оплачен",1446,{"$f":"IFERROR(VLOOKUP(B182,'Комиссии партнеров'!$A$2:$B$52,2,FALSE),\"\")","v":0.03},43.379999999999995]
[166460,"","1945-05-01","оплачен",1531,{"$f":"IFERROR(VLOOKUP(B183,'Комиссии партнеров'!$A$2:$B$52,2,FALSE),\"\")","v":""}]
[166464,"","1945-05-01","оплачен",2323,{"$f":"IFERROR(VLOOKUP(B184,'Комиссии партнеров'!$A$2:$B$52,2,FALSE),\"\")","v":""}]
[166468,"Партнер номер 15","1945-05-01","не оплачен",1687,{"$f":"IFERROR(VLOOKUP(B185,'Комиссии партнеров'!$A$2:$B$52,2,FALSE),\"\")","v":0.03},50.61]
[166470,"Партнер номер 5","1945-05-01","оплачен",4699,{"$f":"IFERROR(VLOOKUP(B186,'Комиссии партнеров'!$A$2:$B$52,2,FALSE),\"\")","v":0.03},140.97]
[166475,"Партнер номер 3","1945-05-01","оплачен",816,{"$f":"IFERROR(VLOOKUP(B187,'Комиссии партнеров'!$A$2:$B$52,2,FALSE),\"\")","v":0.05},40.800000000000004]
[166479,"","1945-05-01","оплачен",985,{"$f":"IFERROR(VLOOKUP(B188,'Комиссии партнеров'!$A$2:$B$52,2,FALSE),\"\")","v":""}]
[166484,"Партнер номер 9","1945-05-01","оплачен",4292,{"$f":"IFERROR(VLOOKUP(B189,'Комиссии партнеров'!$A$2:$B$52,2,FALSE),\"\")","v":0.05},214.60000000000002]
[166488,"Партнер номер 5","1945-05-01","оплачен",1975,{"$f":"IFERROR(VLOOKUP(B190,'Комиссии партнеров'!$A$2:$B$52,2,FALSE),\"\")","v":0.03},59.25]
[166491,"","1945-05-01","оплачен",4185,{"$f":"IFERROR(VLOOKUP(B191,'Комиссии партнеров'!$A$2:$B$52,2,FALSE),\"\")","v":""}]
[166493,"","1945-05-01","не оплачен",2801,{"$f":"IFERROR(VLOOKUP(B192,'Комиссии партнеров'!$A$2:$B$52,2,FALSE),\"\")","v":""}]
[166498,"Партнер номер 1","1945-05-01","оплачен",965,{"$f":"IFERROR(VLOOKUP(B193,'Комиссии партнеров'!$A$2:$B$52,2,FALSE),\"\")","v":0.05},48.25]
[166501,"","1945-05-01","оплачен",2765,{"$f":"IFERROR(VLOOKUP(B194,'Комиссии партнеров'!$A$2:$B$52,2,FALSE),\"\")","v":""}]
[166504,"Партнер номер 1","1945-05-01","не оплачен",4070,{"$f":"IFERROR(VLOOKUP(B195,'Комиссии партнеров'!$A$2:$B$52,2,FALSE),\"\")","v":0.05},203.5]
[166506,"Партнер номер 1","1945-05-01","не оплачен",4070,{"$f":"IFERROR(VLOOKUP(B196,'Комиссии партнеров'!$A$2:$B$52,2,FALSE),\"\")","v":0.05},203.5]
[166510,"","1945-05-01","оплачен",4305,{"$f":"IFERROR(VLOOKUP(B197,'Комиссии партнеров'!$A$2:$B$52,2,FALSE),\"\")","v":""}]
[166512,"","1945-05-01","оплачен",8695,{"$f":"IFERROR(VLOOKUP(B198,'Комиссии партнеров'!$A$2:$B$52,2,FALSE),\"\")","v":""}]
[166514,"","1945-05-01","оплачен",1970,{"$f":"IFERROR(VLOOKUP(B199,'Комиссии партнеров'!$A$2:$B$52,2,FALSE),\"\")","v":""}]
[166517,"Партнер номер 1","1945-05-01","не оплачен",830,{"$f":"IFERROR(VLOOKUP(B200,'Комиссии партнеров'!$A$2:$B$52,2,FALSE),\"\")","v":0.05},41.5]
[166522,"","1945-05-01","оплачен",2689,{"$f":"IFERROR(VLOOKUP(B201,'Комиссии партнеров'!$A$2:$B$52,2,FALSE),\"\")","v":""}]
[166526,"Партнер номер 5","1945-05-02","оплачен",4167,{"$f":"IFERROR(VLOOKUP(B202,'Комиссии партнеров'!$A$2:$B$52,2,FALSE),\"\")","v":0.03},125.00999999999999]
[166528,"Партнер номер 5","1945-05-02","не оплачен",1476,{"$f":"IFERROR(VLOOKUP(B203,'Комиссии партнеров'!$A$2:$B$52,2,FALSE),\"\")","v":0.03},44.28]
[166531,"","1945-05-02","не оплачен",4889,{"$f":"IFERROR(VLOOKUP(B204,'Комиссии партнеров'!$A$2:$B$52,2,FALSE),\"\")","v":""}]
[166536,"","1945-05-02","не оплачен",3891,{"$f":"IFERROR(VLOOKUP(B205,'Комиссии партнеров'!$A$2:$B$52,2,FALSE),\"\")","v":""}]
[166540,"","1945-05-02","оплачен",5884,{"$f":"IFERROR(VLOOKUP(B206,'Комиссии партнеров'!$A$2:$B$52,2,FALSE),\"\")","v":""}]
[166543,"Партнер номер 1","1945-05-02","оплачен",2027,{"$f":"IFERROR(VLOOKUP(B207,'Комиссии партнеров'!$A$2:$B$52,2,FALSE),\"\")","v":0.05},101.35000000000001]
[166548,"","1945-05-02","оплачен",3619,{"$f":"IFERROR(VLOOKUP(B208,'Комиссии партнеров'!$A$2:$B$52,2,FALSE),\"\")","v":""}]
[166554,"","1945-05-02","оплачен",1048,{"$f":"IFERROR(VLOOKUP(B209,'Комиссии партнеров'!$A$2:$B$52,2,FALSE),\"\")","v":""}]
[166558,"Партнер номер 1","1945-05-02","не оплачен",880,{"$f":"IFERROR(VLOOKUP(B210,'Комиссии партнеров'!$A$2:$B$52,2,FALSE),\"\")","v":0.05},44]
[166562,"Партнер номер 2","1945-05-02","оплачен",2239,{"$f":"IFERROR(VLOOKUP(B211,'Комиссии партнеров'!$A$2:$B$52,2,FALSE),\"\")","v":0.04},89.56]
[166564,"","1945-05-02","не оплачен",1194,{"$f":"IFERROR(VLOOKUP(B212,'Комиссии партнеров'!$A$2:$B$52,2,FALSE),\"\")","v":""}]
[166570,"Партнер номер 1","1945-05-02","не оплачен",1093,{"$f":"IFERROR(VLOOKUP(B213,'Комиссии партнеров'!$A$2:$B$52,2,FALSE),\"\")","v":0.05},54.650000000000006]
[166574,"Партнер номер 1","1945-05-02","оплачен",3600,{"$f":"IFERROR(VLOOKUP(B214,'Комиссии партнеров'!$A$2:$B$52,2,FALSE),\"\")","v":0.05},180]
[166575,"Партнер номер 1","1945-05-02","оплачен",478,{"$f":"IFERROR(VLOOKUP(B215,'Комиссии партнеров'!$A$2:$B$52,2,FALSE),\"\")","v":0.05},23.900000000000002]
[166577,"","1945-05-02","не оплачен",3322,{"$f":"IFERROR(VLOOKUP(B216,'Комиссии партнеров'!$A$2:$B$52,2,FALSE),\"\")","v":""}]
[166581,"Партнер номер 1","1945-05-02","не оплачен",2114,{"$f":"IFERROR(VLOOKUP(B217,'Комиссии партнеров'!$A$2:$B$52,2,FALSE),\"\")","v":0.05},105.7]
[166584,"Партнер номер 7","1945-05-02","оплачен",2660,{"$f":"IFERROR(VLOOKUP(B218,'Комиссии партнеров'!$A$2:$B$52,2,FALSE),\"\")","v":0.05},133]
[166587,"Партнер номер 7","1945-05-02","оплачен",2660,{"$f":"IFERROR(VLOOKUP(B219,'Комиссии партнеров'!$A$2:$B$52,2,FALSE),\"\")","v":0.05},133]
[166592,"","1945-05-02","оплачен",1964,{"$f":"IFERROR(VLOOKUP(B220,'Комиссии партнеров'!$A$2:$B$52,2,FALSE),\"\")","v":""}]
[166596,"Партнер номер 7","1945-05-02","оплачен",2347,{"$f":"IFERROR(VLOOKUP(B221,'Комиссии партнеров'!$A$2:$B$52,2,FALSE),\"\")","v":0.05},117.35000000000001]
[166602,"Партнер номер 1","1945-05-02","не оплачен",4984,{"$f":"IFERROR(VLOOKUP(B222,'Комиссии партнеров'!$A$2:$B$52,2,FALSE),\"\")","v":0.05},249.20000000000002]
[166605,"Партнер номер 16","1945-05-02","оплачен",2336,{"$f":"IFERROR(VLOOKUP(B223,'Комиссии партнеров'!$A$2:$B$52,2,FALSE),\"\")","v":0.05},116.80000000000001]
[166606,"","1945-05-02","не оплачен",1361,{"$f":"IFERROR(VLOOKUP(B224,'Комиссии партнеров'!$A$2:$B$52,2,FALSE),\"\")","v":""}]
[166609,"Партнер номер 1","1945-05-02","не оплачен",2453,{"$f":"IFERROR(VLOOKUP(B225,'Комиссии партнеров'!$A$2:$B$52,2,FALSE),\"\")","v":0.05},122.65]
[166614,"Партнер номер 1","1945-05-02","не оплачен",875,{"$f":"IFERROR(VLOOKUP(B226,'Комиссии партнеров'!$A$2:$B$52,2,FALSE),\"\")","v":0.05},43.75]
[166617,"","1945-05-02","оплачен",4394,{"$f":"IFERROR(VLOOKUP(B227,'Комиссии партнеров'!$A$2:$B$52,2,FALSE),\"\")","v":""}]
[166619,"","1945-05-02","не оплачен",1828,{"$f":"IFERROR(VLOOKUP(B228,'Комиссии партнеров'!$A$2:$B$52,2,FALSE),\"\")","v":""}]
[166623,"Партнер номер 1","1945-05-02","оплачен",2567,{"$f":"IFERROR(VLOOKUP(B229,'Комиссии партнеров'!$A$2:$B$52,2,FALSE),\"\")","v":0.05},128.35]
[166627,"Партнер номер 3","1945-05-02","не оплачен",2342,{"$f":"IFERROR(VLOOKUP(B230,'Комиссии партнеров'!$A$2:$B$52,2,FALSE),\"\")","v":0.05},117.10000000000001]
[166629,"","1945-05-02","оплачен",3211,{"$f":"IFERROR(VLOOKUP(B231,'Комиссии партнеров'!$A$2:$B$52,2,FALSE),\"\")","v":""}]
[166630,"Партнер номер 1","1945-05-02","не оплачен",1072,{"$f":"IFERROR(VLOOKUP(B232,'Комиссии партнеров'!$A$2:$B$52,2,FALSE),\"\")","v":0.05},53.6]
[166634,"Партнер номер 3","1945-05-02","не оплачен",2702,{"$f":"IFERROR(VLOOKUP(B233,'Комиссии партнеров'!$A$2:$B$52,2,FALSE),\"\")","v":0.05},135.1]
[166639,"Партнер номер 1","1945-05-02","оплачен",654,{"$f":"IFERROR(VLOOKUP(B234,'Комиссии партнеров'!$A$2:$B$52,2,FALSE),\"\")","v":0.05},32.700000000000003]
[166644,"Партнер номер 1","1945-05-02","оплачен",705,{"$f":"IFERROR(VLOOKUP(B235,'Комиссии партнеров'!$A$2:$B$52,2,FALSE),\"\")","v":0.05},35.25]
[166646,"","1945-05-02","оплачен",2378,{"$f":"IFERROR(VLOOKUP(B236,'Комиссии партнеров'!$A$2:$B$52,2,FALSE),\"\")","v":""}]
[166648,"Партнер номер 1","1945-05-02","оплачен",1526,{"$f":"IFERROR(VLOOKUP(B237,'Комиссии партнеров'!$A$2:$B$52,2,FALSE),\"\")","v":0.05},76.3]
[166653,"","1945-05-02","оплачен",2131,{"$f":"IFERROR(VLOOKUP(B238,'Комиссии партнеров'!$A$2:$B$52,2,FALSE),\"\")","v":""}]
[166657,"Партнер номер 1","1945-05-02","оплачен",1213,{"$f":"IFERROR(VLOOKUP(B239,'Комиссии партнеров'!$A$2:$B$52,2,FALSE),\"\")","v":0.05},60.650000000000006]
[166661,"","1945-05-02","оплачен",4267,{"$f":"IFERROR(VLOOKUP(B240,'Комиссии партнеров'!$A$2:$B$52,2,FALSE),\"\")","v":""}]
[166664,"","1945-05-02","оплачен",4468,{"$f":"IFERROR(VLOOKUP(B241,'Комиссии партнеров'!$A$2:$B$52,2,FALSE),\"\")","v":""}]
[166666,"","1945-05-02","оплачен",3385,{"$f":"IFERROR(VLOOKUP(B242,'Комиссии партнеров'!$A$2:$B$52,2,FALSE),\"\")","v":""}]
[166669,"","1945-05-02","оплачен",5659,{"$f":"IFERROR(VLOOKUP(B243,'Комиссии партнеров'!$A$2:$B$52,2,FALSE),\"\")","v":""}]
[166672,"","1945-05-02","оплачен",2719,{"$f":"IFERROR(VLOOKUP(B244,'Комиссии партнеров'!$A$2:$B$52,2,FALSE),\"\")","v":""}]
[166676,"Партнер номер 6","1945-05-02","оплачен",662,{"$f":"IFERROR(VLOOKUP(B245,'Комиссии партнеров'!$A$2:$B$52,2,FALSE),\"\")","v":0.04},26.48]
[166677,"Партнер номер 7","1945-05-02","не оплачен",654,{"$f":"IFERROR(VLOOKUP(B246,'Комиссии партнеров'!$A$2:$B$52,2,FALSE),\"\")","v":0.05},32.700000000000003]
[166679,"Партнер номер 17","1945-05-02","оплачен",1624,{"$f":"IFERROR(VLOOKUP(B247,'Комиссии партнеров'!$A$2:$B$52,2,FALSE),\"\")","v":0.04},64.960000000000008]
[166682,"","1945-05-02","оплачен",4633,{"$f":"IFERROR(VLOOKUP(B248,'Комиссии партнеров'!$A$2:$B$52,2,FALSE),\"\")","v":""}]
[166685,"","1945-05-02","оплачен",4109,{"$f":"IFERROR(VLOOKUP(B249,'Комиссии партнеров'!$A$2:$B$52,2,FALSE),\"\")","v":""}]
[166690,"","1945-05-02","не оплачен",5115,{"$f":"IFERROR(VLOOKUP(B250,'Комиссии партнеров'!$A$2:$B$52,2,FALSE),\"\")","v":""}]
[166693,"Партнер номер 5","1945-05-02","не оплачен",4411,{"$f":"IFERROR(VLOOKUP(B251,'Комиссии партнеров'!$A$2:$B$52,2,FALSE),\"\")","v":0.03},132.32999999999998]
[166695,"","1945-05-02","не оплачен",5802,{"$f":"IFERROR(VLOOKUP(B252,'Комиссии партнеров'!$A$2:$B$52,2,FALSE),\"\")","v":""}]
[166700,"Партнер номер 7","1945-05-02","оплачен",1304,{"$f":"IFERROR(VLOOKUP(B253,'Комиссии партнеров'!$A$2:$B$52,2,FALSE),\"\")","v":0.05},65.2]
[166703,"","1945-05-02","не оплачен",1673,{"$f":"IFERROR(VLOOKUP(B254,'Комиссии партнеров'!$A$2:$B$52,2,FALSE),\"\")","v":""}]
[166708,"Партнер номер 11","1945-05-02","не оплачен",905,{"$f":"IFERROR(VLOOKUP(B255,'Комиссии партнеров'!$A$2:$B$52,2,FALSE),\"\")","v":0.05},45.25]
[166713,"Партнер номер 10","1945-05-02","не оплачен",2299,{"$f":"IFERROR(VLOOKUP(B256,'Комиссии партнеров'!$A$2:$B$52,2,FALSE),\"\")","v":0.04},91.960000000000008]
[166715,"","1945-05-02","оплачен",2213,{"$f":"IFERROR(VLOOKUP(B257,'Комиссии партнеров'!$A$2:$B$52,2,FALSE),\"\")","v":""}]
[166718,"","1945-05-02","не оплачен",2321,{"$f":"IFERROR(VLOOKUP(B258,'Комиссии партнеров'!$A$2:$B$52,2,FALSE),\"\")","v":""}]
[166722,"","1945-05-02","оплачен",5842,{"$f":"IFERROR(VLOOKUP(B259,'Комиссии партнеров'!$A$2:$B$52,2,FALSE),\"\")","v":""}]
[166728,"Партнер номер 1","1945-05-02","оплачен",3054,{"$f":"IFERROR(VLOOKUP(B260,'Комиссии партнеров'!$A$2:$B$52,2,FALSE),\"\")","v":0.05},152.70000000000002]
[166733,"Партнер номер 8","1945-05-02","не оплачен",1346,{"$f":"IFERROR(VLOOKUP(B261,'Комиссии партнеров'!$A$2:$B$52,2,FALSE),\"\")","v":0.03},40.379999999999995]
[166738,"Партнер номер 7","1945-05-02","не оплачен",6452,{"$f":"IFERROR(VLOOKUP(B262,'Комиссии партнеров'!$A$2:$B$52,2,FALSE),\"\")","v":0.05},322.60000000000002]
[166742,"","1945-05-02","оплачен",4804,{"$f":"IFERROR(VLOOKUP(B263,'Комиссии партнеров'!$A$2:$B$52,2,FALSE),\"\")","v":""}]
[166747,"Партнер номер 1","1945-05-02","не оплачен",2254,{"$f":"IFERROR(VLOOKUP(B264,'Комиссии партнеров'!$A$2:$B$52,2,FALSE),\"\")","v":0.05},112.7]
[166749,"Партнер номер 5","1945-05-02","оплачен",4736,{"$f":"IFERROR(VLOOKUP(B265,'Комиссии партнеров'!$A$2:$B$52,2,FALSE),\"\")","v":0.03},142.07999999999998]
[166751,"","1945-05-02","оплачен",1069,{"$f":"IFERROR(VLOOKUP(B266,'Комиссии партнеров'!$A$2:$B$52,2,FALSE),\"\")","v":""}]
[166753,"Партнер номер 1","1945-05-02","оплачен",2254,{"$f":"IFERROR(VLOOKUP(B267,'Комиссии партнеров'!$A$2:$B$52,2,FALSE),\"\")","v":0.05},112.7]
[166759,"","1945-05-02","не оплачен",5931,{"$f":"IFERROR(VLOOKUP(B268,'Комиссии партнеров'!$A$2:$B$52,2,FALSE),\"\")","v":""}]
[166760,"Партнер номер 1","1945-05-02","оплачен",2315,{"$f":"IFERROR(VLOOKUP(B269,'Комиссии партнеров'!$A$2:$B$52,2,FALSE),\"\")","v":0.05},115.75]
[166763,"","1945-05-02","оплачен",1057,{"$f":"IFERROR(VLOOKUP(B270,'Комиссии партнеров'!$A$2:$B$52,2,FALSE),\"\")","v":""}]
[166765,"Партнер номер 3","1945-05-02","не оплачен",2000,{"$f":"IFERROR(VLOOKUP(B271,'Комиссии партнеров'!$A$2:$B$52,2,FALSE),\"\")","v":0.05},100]
[166768,"","1945-05-02","оплачен",1021,{"$f":"IFERROR(VLOOKUP(B272,'Комиссии партнеров'!$A$2:$B$52,2,FALSE),\"\")","v":""}]
[166770,"","1945-05-02","оплачен",1333,{"$f":"IFERROR(VLOOKUP(B273,'Комиссии партнеров'!$A$2:$B$52,2,FALSE),\"\")","v":""}]
[166773,"","1945-05-02","оплачен",1526,{"$f":"IFERROR(VLOOKUP(B274,'Комиссии партнеров'!$A$2:$B$52,2,FALSE),\"\")","v":""}]
[166776,"Партнер номер 1","1945-05-02","оплачен",1234,{"$f":"IFERROR(VLOOKUP(B275,'Комиссии партнеров'!$A$2:$B$52,2,FALSE),\"\")","v":0.05},61.7]
[166779,"Партнер номер 4","1945-05-02","оплачен",5797,{"$f":"IFERROR(VLOOKUP(B276,'Комиссии партнеров'!$A$2:$B$52,2,FALSE),\"\")","v":0.04},231.88]
[166782,"Партнер номер 1","1945-05-02","не оплачен",272,{"$f":"IFERROR(VLOOKUP(B277,'Комиссии партнеров'!$A$2:$B$52,2,FALSE),\"\")","v":0.05},13.600000000000001]
[166785,"Партнер номер 5","1945-05-02","оплачен",654,{"$f":"IFERROR(VLOOKUP(B278,'Комиссии партнеров'!$A$2:$B$52,2,FALSE),\"\")","v":0.03},19.62]
[166790,"","1945-05-02","оплачен",1298,{"$f":"IFERROR(VLOOKUP(B279,'Комиссии партнеров'!$A$2:$B$52,2,FALSE),\"\")","v":""}]
[166792,"","1945-05-02","оплачен",1078,{"$f":"IFERROR(VLOOKUP(B280,'Комиссии партнеров'!$A$2:$B$52,2,FALSE),\"\")","v":""}]
[166797,"","1945-05-02","оплачен",2193,{"$f":"IFERROR(VLOOKUP(B281,'Комиссии партнеров'!$A$2:$B$52,2,FALSE),\"\")","v":""}]
[166799,"","1945-05-02","оплачен",5468,{"$f":"IFERROR(VLOOKUP(B282,'Комиссии партнеров'!$A$2:$B$52,2,FALSE),\"\")","v":""}]
[166802,"Партнер номер 1","1945-05-02","не оплачен",640,{"$f":"IFERROR(VLOOKUP(B283,'Комиссии партнеров'!$A$2:$B$52,2,FALSE),\"\")","v":0.05},32]
[166807,"Партнер номер 5","1945-05-02","оплачен",2228,{"$f":"IFERROR(VLOOKUP(B284,'Комиссии партнеров'!$A$2:$B$52,2,FALSE),\"\")","v":0.03},66.84]
[166812,"Партнер номер 7","1945-05-02","не оплачен",6394,{"$f":"IFERROR(VLOOKUP(B285,'Комиссии партнеров'!$A$2:$B$52,2,FALSE),\"\")","v":0.05},319.70000000000005]
[166815,"Партнер номер 1","1945-05-02","оплачен",3978,{"$f":"IFERROR(VLOOKUP(B286,'Комиссии партнеров'!$A$2:$B$52,2,FALSE),\"\")","v":0.05},198.9]
[166817,"Партнер номер 7","1945-05-02","не оплачен",6279,{"$f":"IFERROR(VLOOKUP(B287,'Комиссии партнеров'!$A$2:$B$52,2,FALSE),\"\")","v":0.05},313.95000000000005]
[166818,"Партнер номер 3","1945-05-02","оплачен",1645,{"$f":"IFERROR(VLOOKUP(B288,'Комиссии партнеров'!$A$2:$B$52,2,FALSE),\"\")","v":0.05},82.25]
[166820,"Партнер номер 7","1945-05-02","не оплачен",403,{"$f":"IFERROR(VLOOKUP(B289,'Комиссии партнеров'!$A$2:$B$52,2,FALSE),\"\")","v":0.05},20.150000000000002]
[166823,"Партнер номер 1","1945-05-02","не оплачен",4522,{"$f":"IFERROR(VLOOKUP(B290,'Комиссии партнеров'!$A$2:$B$52,2,FALSE),\"\")","v":0.05},226.10000000000002]
[166825,"Партнер номер 6","1945-05-02","оплачен",2187,{"$f":"IFERROR(VLOOKUP(B291,'Комиссии партнеров'!$A$2:$B$52,2,FALSE),\"\")","v":0.04},87.48]
[166829,"Партнер номер 7","1945-05-02","не оплачен",1172,{"$f":"IFERROR(VLOOKUP(B292,'Комиссии партнеров'!$A$2:$B$52,2,FALSE),\"\")","v":0.05},58.6]
[166830,"Партнер номер 1","1945-05-02","оплачен",1670,{"$f":"IFERROR(VLOOKUP(B293,'Комиссии партнеров'!$A$2:$B$52,2,FALSE),\"\")","v":0.05},83.5]
[166834,"Партнер номер 1","1945-05-02","оплачен",3339,{"$f":"IFERROR(VLOOKUP(B294,'Комиссии партнеров'!$A$2:$B$52,2,FALSE),\"\")","v":0.05},166.95000000000002]
[166837,"Партнер номер 18","1945-05-02","не оплачен",590,{"$f":"IFERROR(VLOOKUP(B295,'Комиссии партнеров'!$A$2:$B$52,2,FALSE),\"\")","v":0.03},17.7]
[166840,"Партнер номер 19","1945-05-02","не оплачен",1857,{"$f":"IFERROR(VLOOKUP(B296,'Комиссии партнеров'!$A$2:$B$52,2,FALSE),\"\")","v":0.05},92.850000000000009]
[166845,"","1945-05-02","оплачен",3960,{"$f":"IFERROR(VLOOKUP(B297,'Комиссии партнеров'!$A$2:$B$52,2,FALSE),\"\")","v":""}]
[166850,"Партнер номер 11","1945-05-02","не оплачен",641,{"$f":"IFERROR(VLOOKUP(B298,'Комиссии партнеров'!$A$2:$B$52,2,FALSE),\"\")","v":0.05},32.050000000000004]
[166852,"","1945-05-02","оплачен",4083,{"$f":"IFERROR(VLOOKUP(B299,'Комиссии партнеров'!$A$2:$B$52,2,FALSE),\"\")","v":""}]
[166856,"Партнер номер 4","1945-05-02","оплачен",1719,{"$f":"IFERROR(VLOOKUP(B300,'Комиссии партнеров'!$A$2:$B$52,2,FALSE),\"\")","v":0.04},68.760000000000005]
[166859,"","1945-05-02","оплачен",3298,{"$f":"IFERROR(VLOOKUP(B301,'Комиссии партнеров'!$A$2:$B$52,2,FALSE),\"\")","v":""}]
[166861,"Партнер номер 1","1945-05-02","не оплачен",2370,{"$f":"IFERROR(VLOOKUP(B302,'Комиссии партнеров'!$A$2:$B$52,2,FALSE),\"\")","v":0.05},118.5]
[166866,"Партнер номер 1","1945-05-02","не оплачен",2554,{"$f":"IFERROR(VLOOKUP(B303,'Комиссии партнеров'!$A$2:$B$52,2,FALSE),\"\")","v":0.05},127.7]
[166870,"Партнер номер 1","1945-05-02","не оплачен",1488,{"$f":"IFERROR(VLOOKUP(B304,'Комиссии партнеров'!$A$2:$B$52,2,FALSE),\"\")","v":0.05},74.400000000000006]
[166874,"Партнер номер 1","1945-05-02","не оплачен",1265,{"$f":"IFERROR(VLOOKUP(B305,'Комиссии партнеров'!$A$2:$B$52,2,FALSE),\"\")","v":0.05},63.25]
[166877,"","1945-05-02","оплачен",898,{"$f":"IFERROR(VLOOKUP(B306,'Комиссии партнеров'!$A$2:$B$52,2,FALSE),\"\")","v":""}]
[166882,"Партнер номер 1","1945-05-02","оплачен",2331,{"$f":"IFERROR(VLOOKUP(B307,'Комиссии партнеров'!$A$2:$B$52,2,FALSE),\"\")","v":0.05},116.55000000000001]
[166885,"Партнер номер 1","1945-05-02","не оплачен",787,{"$f":"IFERROR(VLOOKUP(B308,'Комиссии партнеров'!$A$2:$B$52,2,FALSE),\"\")","v":0.05},39.35]
[166888,"Партнер номер 5","1945-05-02","не оплачен",2166,{"$f":"IFERROR(VLOOKUP(B309,'Комиссии партнеров'!$A$2:$B$52,2,FALSE),\"\")","v":0.03},64.98]
[166891,"Партнер номер 7","1945-05-02","оплачен",1519,{"$f":"IFERROR(VLOOKUP(B310,'Комиссии партнеров'!$A$2:$B$52,2,FALSE),\"\")","v":0.05},75.95]
[166893,"Партнер номер 1","1945-05-02","оплачен",1312,{"$f":"IFERROR(VLOOKUP(B311,'Комиссии партнеров'!$A$2:$B$52,2,FALSE),\"\")","v":0.05},65.600000000000009]
[166898,"","1945-05-02","не оплачен",942,{"$f":"IFERROR(VLOOKUP(B312,'Комиссии партнеров'!$A$2:$B$52,2,FALSE),\"\")","v":""}]
[166902,"Партнер номер 3","1945-05-02","оплачен",1183,{"$f":"IFERROR(VLOOKUP(B313,'Комиссии партнеров'!$A$2:$B$52,2,FALSE),\"\")","v":0.05},59.150000000000006]
[166904,"Партнер номер 9","1945-05-02","оплачен",1708,{"$f":"IFERROR(VLOOKUP(B314,'Комиссии партнеров'!$A$2:$B$52,2,FALSE),\"\")","v":0.05},85.4]
[166906,"Партнер номер 8","1945-05-02","оплачен",1255,{"$f":"IFERROR(VLOOKUP(B315,'Комиссии партнеров'!$A$2:$B$52,2,FALSE),\"\")","v":0.03},37.65]
[166909,"","1945-05-02","оплачен",3197,{"$f":"IFERROR(VLOOKUP(B316,'Комиссии партнеров'!$A$2:$B$52,2,FALSE),\"\")","v":""}]
[166912,"","1945-05-02","оплачен",3188,{"$f":"IFERROR(VLOOKUP(B317,'Комиссии партнеров'!$A$2:$B$52,2,FALSE),\"\")","v":""}]
[166916,"Партнер номер 16","1945-05-02","не оплачен",2316,{"$f":"IFERROR(VLOOKUP(B318,'Комиссии партнеров'!$A$2:$B$52,2,FALSE),\"\")","v":0.05},115.80000000000001]
[166918,"","1945-05-02","оплачен",3833,{"$f":"IFERROR(VLOOKUP(B319,'Комиссии партнеров'!$A$2:$B$52,2,FALSE),\"\")","v":""}]
[166921,"","1945-05-02","оплачен",4433,{"$f":"IFERROR(VLOOKUP(B320,'Комиссии партнеров'!$A$2:$B$52,2,FALSE),\"\")","v":""}]
[166922,"Партнер номер 1","1945-05-02","оплачен",654,{"$f":"IFERROR(VLOOKUP(B321,'Комиссии партнеров'!$A$2:$B$52,2,FALSE),\"\")","v":0.05},32.700000000000003]
[166925,"","1945-05-02","не оплачен",2245,{"$f":"IFERROR(VLOOKUP(B322,'Комиссии партнеров'!$A$2:$B$52,2,FALSE),\"\")","v":""}]
[166930,"","1945-05-02","оплачен",3403,{"$f":"IFERROR(VLOOKUP(B323,'Комиссии партнеров'!$A$2:$B$52,2,FALSE),\"\")","v":""}]
[166936,"Партнер номер 16","1945-05-02","оплачен",2273,{"$f":"IFERROR(VLOOKUP(B324,'Комиссии партнеров'!$A$2:$B$52,2,FALSE),\"\")","v":0.05},113.65]
[166939,"","1945-05-02","оплачен",2706,{"$f":"IFERROR(VLOOKUP(B325,'Комиссии партнеров'!$A$2:$B$52,2,FALSE),\"\")","v":""}]
[166943,"Партнер номер 5","1945-05-02","оплачен",3148,{"$f":"IFERROR(VLOOKUP(B326,'Комиссии партнеров'!$A$2:$B$52,2,FALSE),\"\")","v":0.03},94.44]
[166945,"Партнер номер 20","1945-05-02","не оплачен",5411,{"$f":"IFERROR(VLOOKUP(B327,'Комиссии партнеров'!$A$2:$B$52,2,FALSE),\"\")","v":0.03},162.32999999999998]
[166948,"Партнер номер 1","1945-05-02","не оплачен",1539,{"$f":"IFERROR(VLOOKUP(B328,'Комиссии партнеров'!$A$2:$B$52,2,FALSE),\"\")","v":0.05},76.95]
[166954,"Партнер номер 11","1945-05-02","не оплачен",800,{"$f":"IFERROR(VLOOKUP(B329,'Комиссии партнеров'!$A$2:$B$52,2,FALSE),\"\")","v":0.05},40]
[166955,"","1945-05-02","оплачен",1627,{"$f":"IFERROR(VLOOKUP(B330,'Комиссии партнеров'!$A$2:$B$52,2,FALSE),\"\")","v":""}]
[166961,"","1945-05-02","оплачен",2060,{"$f":"IFERROR(VLOOKUP(B331,'Комиссии партнеров'!$A$2:$B$52,2,FALSE),\"\")","v":""}]
[166966,"","1945-05-02","не оплачен",2575,{"$f":"IFERROR(VLOOKUP(B332,'Комиссии партнеров'!$A$2:$B$52,2,FALSE),\"\")","v":""}]
[166968,"Партнер номер 1","1945-05-02","не оплачен",1207,{"$f":"IFERROR(VLOOKUP(B333,'Комиссии партнеров'!$A$2:$B$52,2,FALSE),\"\")","v":0.05},60.35]
[166972,"Партнер номер 21","1945-05-02","оплачен",1353,{"$f":"IFERROR(VLOOKUP(B334,'Комиссии партнеров'!$A$2:$B$52,2,FALSE),\"\")","v":0.05},67.650000000000006]
[166978,"Партнер номер 5","1945-05-02","оплачен",2626,{"$f":"IFERROR(VLOOKUP(B335,'Комиссии партнеров'!$A$2:$B$52,2,FALSE),\"\")","v":0.03},78.78]
[166983,"","1945-05-02","не оплачен",2111,{"$f":"IFERROR(VLOOKUP(B336,'Комиссии партнеров'!$A$2:$B$52,2,FALSE),\"\")","v":""}]
[166986,"","1945-05-02","не оплачен",2728,{"$f":"IFERROR(VLOOKUP(B337,'Комиссии партнеров'!$A$2:$B$52,2,FALSE),\"\")","v":""}]
[166991,"","1945-05-02","оплачен",2430,{"$f":"IFERROR(VLOOKUP(B338,'Комиссии партнеров'!$A$2:$B$52,2,FALSE),\"\")","v":""}]
[166994,"","1945-05-02","не оплачен",856,{"$f":"IFERROR(VLOOKUP(B339,'Комиссии партнеров'!$A$2:$B$52,2,FALSE),\"\")","v":""}]
[166996,"","1945-05-02","оплачен",2387,{"$f":"IFERROR(VLOOKUP(B340,'Комиссии партнеров'!$A$2:$B$52,2,FALSE),\"\")","v":""}]
[167000,"","1945-05-02","не оплачен",3622,{"$f":"IFERROR(VLOOKUP(B341,'Комиссии партнеров'!$A$2:$B$52,2,FALSE),\"\")","v":""}]
[167003,"","1945-05-02","не оплачен",2772,{"$f":"IFERROR(VLOOKUP(B342,'Комиссии партнеров'!$A$2:$B$52,2,FALSE),\"\")","v":""}]
[167005,"Партнер номер 1","1945-05-02","оплачен",4550,{"$f":"IFERROR(VLOOKUP(B343,'Комиссии партнеров'!$A$2:$B$52,2,FALSE),\"\")","v":0.05},227.5]
[167008,"","1945-05-02","оплачен",3730,{"$f":"IFERROR(VLOOKUP(B344,'Комиссии партнеров'!$A$2:$B$52,2,FALSE),\"\")","v":""}]
[167012,"","1945-05-02","оплачен",799,{"$f":"IFERROR(VLOOKUP(B345,'Комиссии партнеров'!$A$2:$B$52,2,FALSE),\"\")","v":""}]
[167016,"Партнер номер 1","1945-05-02","не оплачен",2203,{"$f":"IFERROR(VLOOKUP(B346,'Комиссии партнеров'!$A$2:$B$52,2,FALSE),\"\")","v":0.05},110.15]
[167018,"Партнер номер 8","1945-05-02","не оплачен",2222,{"$f":"IFERROR(VLOOKUP(B347,'Комиссии партнеров'!$A$2:$B$52,2,FALSE),\"\")","v":0.03},66.66]
[167020,"","1945-05-02","не оплачен",1773,{"$f":"IFERROR(VLOOKUP(B348,'Комиссии партнеров'!$A$2:$B$52,2,FALSE),\"\")","v":""}]
[167024,"Партнер номер 1","1945-05-02","не оплачен",2324,{"$f":"IFERROR(VLOOKUP(B349,'Комиссии партнеров'!$A$2:$B$52,2,FALSE),\"\")","v":0.05},116.2]
[167028,"","1945-05-02","оплачен",814,{"$f":"IFERROR(VLOOKUP(B350,'Комиссии партнеров'!$A$2:$B$52,2,FALSE),\"\")","v":""}]
[167033,"Партнер номер 1","1945-05-02","оплачен",2050,{"$f":"IFERROR(VLOOKUP(B351,'Комиссии партнеров'!$A$2:$B$52,2,FALSE),\"\")","v":0.05},102.5]
[167035,"Партнер номер 1","1945-05-02","оплачен",2203,{"$f":"IFERROR(VLOOKUP(B352,'Комиссии партнеров'!$A$2:$B$52,2,FALSE),\"\")","v":0.05},110.15]
[167039,"Партнер номер 1","1945-05-02","оплачен",2220,{"$f":"IFERROR(VLOOKUP(B353,'Комиссии партнеров'!$A$2:$B$52,2,FALSE),\"\")","v":0.05},111]
[167043,"","1945-05-02","оплачен",5588,{"$f":"IFERROR(VLOOKUP(B354,'Комиссии партнеров'!$A$2:$B$52,2,FALSE),\"\")","v":""}]
[167048,"","1945-05-02","оплачен",2754,{"$f":"IFERROR(VLOOKUP(B355,'Комиссии партнеров'!$A$2:$B$52,2,FALSE),\"\")","v":""}]
[167050,"Партнер номер 3","1945-05-02","не оплачен",4133,{"$f":"IFERROR(VLOOKUP(B356,'Комиссии партнеров'!$A$2:$B$52,2,FALSE),\"\")","v":0.05},206.65]
[167052,"Партнер номер 4","1945-05-02","не оплачен",1908,{"$f":"IFERROR(VLOOKUP(B357,'Комиссии партнеров'!$A$2:$B$52,2,FALSE),\"\")","v":0.04},76.320000000000007]
[167056,"Партнер номер 7","1945-05-02","не оплачен",942,{"$f":"IFERROR(VLOOKUP(B358,'Комиссии партнеров'!$A$2:$B$52,2,FALSE),\"\")","v":0.05},47.1]
[167060,"","1945-05-02","оплачен",4998,{"$f":"IFERROR(VLOOKUP(B359,'Комиссии партнеров'!$A$2:$B$52,2,FALSE),\"\")","v":""}]
[167062,"Партнер номер 4","1945-05-02","оплачен",5046,{"$f":"IFERROR(VLOOKUP(B360,'Комиссии партнеров'!$A$2:$B$52,2,FALSE),\"\")","v":0.04},201.84]
[167067,"","1945-05-02","оплачен",4725,{"$f":"IFERROR(VLOOKUP(B361,'Комиссии партнеров'!$A$2:$B$52,2,FALSE),\"\")","v":""}]
[167071,"","1945-05-02","не оплачен",2224,{"$f":"IFERROR(VLOOKUP(B362,'Комиссии партнеров'!$A$2:$B$52,2,FALSE),\"\")","v":""}]
[167073,"","1945-05-02","оплачен",1111,{"$f":"IFERROR(VLOOKUP(B363,'Комиссии партнеров'!$A$2:$B$52,2,FALSE),\"\")","v":""}]
[167075,"Партнер номер 1","1945-05-02","оплачен",983,{"$f":"IFERROR(VLOOKUP(B364,'Комиссии партнеров'!$A$2:$B$52,2,FALSE),\"\")","v":0.05},49.150000000000006]
[167078,"Партнер номер 1","1945-05-02","оплачен",3024,{"$f":"IFERROR(VLOOKUP(B365,'Комиссии партнеров'!$A$2:$B$52,2,FALSE),\"\")","v":0.05},151.20000000000002]
[167079,"Партнер номер 1","1945-05-02","оплачен",3216,{"$f":"IFERROR(VLOOKUP(B366,'Комиссии партнеров'!$A$2:$B$52,2,FALSE),\"\")","v":0.05},160.80000000000001]
[167084,"Партнер номер 3","1945-05-02","оплачен",3746,{"$f":"IFERROR(VLOOKUP(B367,'Комиссии партнеров'!$A$2:$B$52,2,FALSE),\"\")","v":0.05},187.3]
[167085,"","1945-05-02","не оплачен",1290,{"$f":"IFERROR(VLOOKUP(B368,'Комиссии партнеров'!$A$2:$B$52,2,FALSE),\"\")","v":""}]
[167090,"","1945-05-02","оплачен",2387,{"$f":"IFERROR(VLOOKUP(B369,'Комиссии партнеров'!$A$2:$B$52,2,FALSE),\"\")","v":""}]
[167094,"","1945-05-02","не оплачен",653,{"$f":"IFERROR(VLOOKUP(B370,'Комиссии партнеров'!$A$2:$B$52,2,FALSE),\"\")","v":""}]
[167097,"Партнер номер 1","1945-05-02","оплачен",7704,{"$f":"IFERROR(VLOOKUP(B371,'Комиссии партнеров'!$A$2:$B$52,2,FALSE),\"\")","v":0.05},385.20000000000005]
[167099,"Партнер номер 3","1945-05-02","не оплачен",1134,{"$f":"IFERROR(VLOOKUP(B372,'Комиссии партнеров'!$A$2:$B$52,2,FALSE),\"\")","v":0.05},56.7]
[167102,"Партнер номер 1","1945-05-02","оплачен",2077,{"$f":"IFERROR(VLOOKUP(B373,'Комиссии партнеров'!$A$2:$B$52,2,FALSE),\"\")","v":0.05},103.85000000000001]
[167107,"","1945-05-02","оплачен",3504,{"$f":"IFERROR(VLOOKUP(B374,'Комиссии партнеров'!$A$2:$B$52,2,FALSE),\"\")","v":""}]
[167110,"","1945-05-02","оплачен",3388,{"$f":"IFERROR(VLOOKUP(B375,'Комиссии партнеров'!$A$2:$B$52,2,FALSE),\"\")","v":""}]
[167113,"Партнер номер 11","1945-05-02","оплачен",934,{"$f":"IFERROR(VLOOKUP(B376,'Комиссии партнеров'!$A$2:$B$52,2,FALSE),\"\")","v":0.05},46.7]
[167118,"Партнер номер 1","1945-05-02","не оплачен",3548,{"$f":"IFERROR(VLOOKUP(B377,'Комиссии партнеров'!$A$2:$B$52,2,FALSE),\"\")","v":0.05},177.4]
[167122,"Партнер номер 11","1945-05-02","не оплачен",790,{"$f":"IFERROR(VLOOKUP(B378,'Комиссии партнеров'!$A$2:$B$52,2,FALSE),\"\")","v":0.05},39.5]
[167128,"","1945-05-02","не оплачен",2322,{"$f":"IFERROR(VLOOKUP(B379,'Комиссии партнеров'!$A$2:$B$52,2,FALSE),\"\")","v":""}]
[167130,"Партнер номер 22","1945-05-02","оплачен",1768,{"$f":"IFERROR(VLOOKUP(B380,'Комиссии партнеров'!$A$2:$B$52,2,FALSE),\"\")","v":0.05},88.4]
[167134,"","1945-05-02","оплачен",2835,{"$f":"IFERROR(VLOOKUP(B381,'Комиссии партнеров'!$A$2:$B$52,2,FALSE),\"\")","v":""}]
[167137,"Партнер номер 11","1945-05-02","оплачен",1391,{"$f":"IFERROR(VLOOKUP(B382,'Комиссии партнеров'!$A$2:$B$52,2,FALSE),\"\")","v":0.05},69.55]
[167139,"Партнер номер 1","1945-05-02","оплачен",2819,{"$f":"IFERROR(VLOOKUP(B383,'Комиссии партнеров'!$A$2:$B$52,2,FALSE),\"\")","v":0.05},140.95000000000002]
[167145,"Партнер номер 11","1945-05-02","оплачен",1921,{"$f":"IFERROR(VLOOKUP(B384,'Комиссии партнеров'!$A$2:$B$52,2,FALSE),\"\")","v":0.05},96.050000000000011]
[167149,"","1945-05-02","оплачен",1370,{"$f":"IFERROR(VLOOKUP(B385,'Комиссии партнеров'!$A$2:$B$52,2,FALSE),\"\")","v":""}]
[167152,"Партнер номер 3","1945-05-02","оплачен",1320,{"$f":"IFERROR(VLOOKUP(B386,'Комиссии партнеров'!$A$2:$B$52,2,FALSE),\"\")","v":0.05},66]
[167154,"","1945-05-02","не оплачен",790,{"$f":"IFERROR(VLOOKUP(B387,'Комиссии партнеров'!$A$2:$B$52,2,FALSE),\"\")","v":""}]
[167157,"Партнер номер 3","1945-05-02","не оплачен",1410,{"$f":"IFERROR(VLOOKUP(B388,'Комиссии партнеров'!$A$2:$B$52,2,FALSE),\"\")","v":0.05},70.5]
[167159,"","1945-05-02","не оплачен",7060,{"$f":"IFERROR(VLOOKUP(B389,'Комиссии партнеров'!$A$2:$B$52,2,FALSE),\"\")","v":""}]
[167163,"Партнер номер 1","1945-05-02","не оплачен",1979,{"$f":"IFERROR(VLOOKUP(B390,'Комиссии партнеров'!$A$2:$B$52,2,FALSE),\"\")","v":0.05},98.95]
[167169,"Партнер номер 11","1945-05-02","оплачен",2195,{"$f":"IFERROR(VLOOKUP(B391,'Комиссии партнеров'!$A$2:$B$52,2,FALSE),\"\")","v":0.05},109.75]
[167170,"Партнер номер 5","1945-05-02","оплачен",1680,{"$f":"IFERROR(VLOOKUP(B392,'Комиссии партнеров'!$A$2:$B$52,2,FALSE),\"\")","v":0.03},50.4]
[167173,"Партнер номер 7","1945-05-02","не оплачен",3803,{"$f":"IFERROR(VLOOKUP(B393,'Комиссии партнеров'!$A$2:$B$52,2,FALSE),\"\")","v":0.05},190.15]
[167178,"Партнер номер 1","1945-05-02","оплачен",1764,{"$f":"IFERROR(VLOOKUP(B394,'Комиссии партнеров'!$A$2:$B$52,2,FALSE),\"\")","v":0.05},88.2]
[167179,"Партнер номер 1","1945-05-02","не оплачен",1428,{"$f":"IFERROR(VLOOKUP(B395,'Комиссии партнеров'!$A$2:$B$52,2,FALSE),\"\")","v":0.05},71.400000000000006]
[167184,"","1945-05-02","оплачен",3877,{"$f":"IFERROR(VLOOKUP(B396,'Комиссии партнеров'!$A$2:$B$52,2,FALSE),\"\")","v":""}]
[167187,"Партнер номер 5","1945-05-02","оплачен",5541,{"$f":"IFERROR(VLOOKUP(B397,'Комиссии партнеров'!$A$2:$B$52,2,FALSE),\"\")","v":0.03},166.23]
[167192,"Партнер номер 11","1945-05-02","оплачен",1647,{"$f":"IFERROR(VLOOKUP(B398,'Комиссии партнеров'!$A$2:$B$52,2,FALSE),\"\")","v":0.05},82.350000000000009]
[167194,"Партнер номер 1","1945-05-02","не оплачен",868,{"$f":"IFERROR(VLOOKUP(B399,'Комиссии партнеров'!$A$2:$B$52,2,FALSE),\"\")","v":0.05},43.400000000000006]
[167196,"","1945-05-02","оплачен",2247,{"$f":"IFERROR(VLOOKUP(B400,'Комиссии партнеров'!$A$2:$B$52,2,FALSE),\"\")","v":""}]
[167198,"Партнер номер 9","1945-05-02","оплачен",5060,{"$f":"IFERROR(VLOOKUP(B401,'Комиссии партнеров'!$A$2:$B$52,2,FALSE),\"\")","v":0.05},253]
[167200,"","1945-05-02","оплачен",2330,{"$f":"IFERROR(VLOOKUP(B402,'Комиссии партнеров'!$A$2:$B$52,2,FALSE),\"\")","v":""}]
[167204,"","1945-05-02","оплачен",4721,{"$f":"IFERROR(VLOOKUP(B403,'Комиссии партнеров'!$A$2:$B$52,2,FALSE),\"\")","v":""}]
[167206,"","1945-05-02","не оплачен",3220,{"$f":"IFERROR(VLOOKUP(B404,'Комиссии партнеров'!$A$2:$B$52,2,FALSE),\"\")","v":""}]
[167210,"Партнер номер 5","1945-05-02","оплачен",4663,{"$f":"IFERROR(VLOOKUP(B405,'Комиссии партнеров'!$A$2:$B$52,2,FALSE),\"\")","v":0.03},139.88999999999999]
[167216,"","1945-05-02","не оплачен",1139,{"$f":"IFERROR(VLOOKUP(B406,'Комиссии партнеров'!$A$2:$B$52,2,FALSE),\"\")","v":""}]
[167217,"","1945-05-02","оплачен",3543,{"$f":"IFERROR(VLOOKUP(B407,'Комиссии партнеров'!$A$2:$B$52,2,FALSE),\"\")","v":""}]
[167218,"Партнер номер 11","1945-05-02","оплачен",1614,{"$f":"IFERROR(VLOOKUP(B408,'Комиссии партнеров'!$A$2:$B$52,2,FALSE),\"\")","v":0.05},80.7]
[167223,"Партнер номер 1","1945-05-02","оплачен",765,{"$f":"IFERROR(VLOOKUP(B409,'Комиссии партнеров'!$A$2:$B$52,2,FALSE),\"\")","v":0.05},38.25]
[167229,"Партнер номер 10","1945-05-02","не оплачен",2548,{"$f":"IFERROR(VLOOKUP(B410,'Комиссии партнеров'!$A$2:$B$52,2,FALSE),\"\")","v":0.04},101.92]
[167232,"","1945-05-02","оплачен",1931,{"$f":"IFERROR(VLOOKUP(B411,'Комиссии партнеров'!$A$2:$B$52,2,FALSE),\"\")","v":""}]
[167236,"Партнер номер 11","1945-05-02","не оплачен",801,{"$f":"IFERROR(VLOOKUP(B412,'Комиссии партнеров'!$A$2:$B$52,2,FALSE),\"\")","v":0.05},40.050000000000004]
[167237,"Партнер номер 1","1945-05-02","оплачен",3009,{"$f":"IFERROR(VLOOKUP(B413,'Комиссии партнеров'!$A$2:$B$52,2,FALSE),\"\")","v":0.05},150.45000000000002]
[167241,"Партнер номер 1","1945-05-02","оплачен",855,{"$f":"IFERROR(VLOOKUP(B414,'Комиссии партнеров'!$A$2:$B$52,2,FALSE),\"\")","v":0.05},42.75]
[167246,"Партнер номер 10","1945-05-02","оплачен",2548,{"$f":"IFERROR(VLOOKUP(B415,'Комиссии партнеров'!$A$2:$B$52,2,FALSE),\"\")","v":0.04},101.92]
[167248,"Партнер номер 7","1945-05-02","оплачен",2252,{"$f":"IFERROR(VLOOKUP(B416,'Комиссии партнеров'!$A$2:$B$52,2,FALSE),\"\")","v":0.05},112.60000000000001]
[167252,"","1945-05-02","не оплачен",2730,{"$f":"IFERROR(VLOOKUP(B417,'Комиссии партнеров'!$A$2:$B$52,2,FALSE),\"\")","v":""}]
[167256,"Партнер номер 1","1945-05-03","не оплачен",1247,{"$f":"IFERROR(VLOOKUP(B418,'Комиссии партнеров'!$A$2:$B$52,2,FALSE),\"\")","v":0.05},62.35]
[167260,"Партнер номер 23","1945-05-03","оплачен",2831,{"$f":"IFERROR(VLOOKUP(B419,'Комиссии партнеров'!$A$2:$B$52,2,FALSE),\"\")","v":0.05},141.55000000000001]
[167264,"","1945-05-03","оплачен",4655,{"$f":"IFERROR(VLOOKUP(B420,'Комиссии партнеров'!$A$2:$B$52,2,FALSE),\"\")","v":""}]
[167268,"","1945-05-03","не оплачен",3563,{"$f":"IFERROR(VLOOKUP(B421,'Комиссии партнеров'!$A$2:$B$52,2,FALSE),\"\")","v":""}]
[167272,"","1945-05-03","оплачен",3025,{"$f":"IFERROR(VLOOKUP(B422,'Комиссии партнеров'!$A$2:$B$52,2,FALSE),\"\")","v":""}]
[167275,"Партнер номер 11","1945-05-03","оплачен",7418,{"$f":"IFERROR(VLOOKUP(B423,'Комиссии партнеров'!$A$2:$B$52,2,FALSE),\"\")","v":0.05},370.90000000000003]
[167276,"Партнер номер 1","1945-05-03","оплачен",1247,{"$f":"IFERROR(VLOOKUP(B424,'Комиссии партнеров'!$A$2:$B$52,2,FALSE),\"\")","v":0.05},62.35]
[167278,"","1945-05-03","оплачен",2761,{"$f":"IFERROR(VLOOKUP(B425,'Комиссии партнеров'!$A$2:$B$52,2,FALSE),\"\")","v":""}]
[167280,"Партнер номер 10","1945-05-03","оплачен",2730,{"$f":"IFERROR(VLOOKUP(B426,'Комиссии партнеров'!$A$2:$B$52,2,FALSE),\"\")","v":0.04},109.2]
[167282,"","1945-05-03","оплачен",4311,{"$f":"IFERROR(VLOOKUP(B427,'Комиссии партнеров'!$A$2:$B$52,2,FALSE),\"\")","v":""}]
[167283,"Партнер номер 12","1945-05-03","не оплачен",2864,{"$f":"IFERROR(VLOOKUP(B428,'Комиссии партнеров'!$A$2:$B$52,2,FALSE),\"\")","v":0.03},85.92]
[167285,"Партнер номер 11","1945-05-03","оплачен",2615,{"$f":"IFERROR(VLOOKUP(B429,'Комиссии партнеров'!$A$2:$B$52,2,FALSE),\"\")","v":0.05},130.75]
[167288,"","1945-05-03","оплачен",2745,{"$f":"IFERROR(VLOOKUP(B430,'Комиссии партнеров'!$A$2:$B$52,2,FALSE),\"\")","v":""}]
[167294,"Партнер номер 4","1945-05-03","не оплачен",1639,{"$f":"IFERROR(VLOOKUP(B431,'Комиссии партнеров'!$A$2:$B$52,2,FALSE),\"\")","v":0.04},65.56]
[167297,"Партнер номер 2","1945-05-03","оплачен",3521,{"$f":"IFERROR(VLOOKUP(B432,'Комиссии партнеров'!$A$2:$B$52,2,FALSE),\"\")","v":0.04},140.84]
[167300,"Партнер номер 2","1945-05-03","не оплачен",1721,{"$f":"IFERROR(VLOOKUP(B433,'Комиссии партнеров'!$A$2:$B$52,2,FALSE),\"\")","v":0.04},68.84]
[167301,"Партнер номер 11","1945-05-03","не оплачен",3801,{"$f":"IFERROR(VLOOKUP(B434,'Комиссии партнеров'!$A$2:$B$52,2,FALSE),\"\")","v":0.05},190.05]
[167303,"Партнер номер 4","1945-05-03","не оплачен",2323,{"$f":"IFERROR(VLOOKUP(B435,'Комиссии партнеров'!$A$2:$B$52,2,FALSE),\"\")","v":0.04},92.92]
[167308,"Партнер номер 1","1945-05-03","оплачен",678,{"$f":"IFERROR(VLOOKUP(B436,'Комиссии партнеров'!$A$2:$B$52,2,FALSE),\"\")","v":0.05},33.9]
[167313,"Партнер номер 11","1945-05-03","не оплачен",2029,{"$f":"IFERROR(VLOOKUP(B437,'Комиссии партнеров'!$A$2:$B$52,2,FALSE),\"\")","v":0.05},101.45]
[167315,"","1945-05-03","оплачен",4062,{"$f":"IFERROR(VLOOKUP(B438,'Комиссии партнеров'!$A$2:$B$52,2,FALSE),\"\")","v":""}]
[167320,"Партнер номер 1","1945-05-03","не оплачен",1211,{"$f":"IFERROR(VLOOKUP(B439,'Комиссии партнеров'!$A$2:$B$52,2,FALSE),\"\")","v":0.05},60.550000000000004]
[167326,"","1945-05-03","оплачен",1544,{"$f":"IFERROR(VLOOKUP(B440,'Комиссии партнеров'!$A$2:$B$52,2,FALSE),\"\")","v":""}]
[167331,"Партнер номер 7","1945-05-03","не оплачен",942,{"$f":"IFERROR(VLOOKUP(B441,'Комиссии партнеров'!$A$2:$B$52,2,FALSE),\"\")","v":0.05},47.1]
[167335,"","1945-05-03","не оплачен",6823,{"$f":"IFERROR(VLOOKUP(B442,'Комиссии партнеров'!$A$2:$B$52,2,FALSE),\"\")","v":""}]
[167340,"Партнер номер 1","1945-05-03","не оплачен",4159,{"$f":"IFERROR(VLOOKUP(B443,'Комиссии партнеров'!$A$2:$B$52,2,FALSE),\"\")","v":0.05},207.95000000000002]
[167346,"Партнер номер 11","1945-05-03","оплачен",2096,{"$f":"IFERROR(VLOOKUP(B444,'Комиссии партнеров'!$A$2:$B$52,2,FALSE),\"\")","v":0.05},104.80000000000001]
[167350,"","1945-05-03","оплачен",5604,{"$f":"IFERROR(VLOOKUP(B445,'Комиссии партнеров'!$A$2:$B$52,2,FALSE),\"\")","v":""}]
[167355,"","1945-05-03","оплачен",2873,{"$f":"IFERROR(VLOOKUP(B446,'Комиссии партнеров'!$A$2:$B$52,2,FALSE),\"\")","v":""}]
[167359,"","1945-05-03","оплачен",2938,{"$f":"IFERROR(VLOOKUP(B447,'Комиссии партнеров'!$A$2:$B$52,2,FALSE),\"\")","v":""}]
[167364,"Партнер номер 11","1945-05-03","не оплачен",779,{"$f":"IFERROR(VLOOKUP(B448,'Комиссии партнеров'!$A$2:$B$52,2,FALSE),\"\")","v":0.05},38.950000000000003]
[167369,"","1945-05-03","оплачен",2321,{"$f":"IFERROR(VLOOKUP(B449,'Комиссии партнеров'!$A$2:$B$52,2,FALSE),\"\")","v":""}]
[167374,"Партнер номер 11","1945-05-03","оплачен",725,{"$f":"IFERROR(VLOOKUP(B450,'Комиссии партнеров'!$A$2:$B$52,2,FALSE),\"\")","v":0.05},36.25]
[167375,"Партнер номер 5","1945-05-03","оплачен",2118,{"$f":"IFERROR(VLOOKUP(B451,'Комиссии партнеров'!$A$2:$B$52,2,FALSE),\"\")","v":0.03},63.54]
[167378,"","1945-05-03","оплачен",2801,{"$f":"IFERROR(VLOOKUP(B452,'Комиссии партнеров'!$A$2:$B$52,2,FALSE),\"\")","v":""}]
[167381,"","1945-05-03","оплачен",3682,{"$f":"IFERROR(VLOOKUP(B453,'Комиссии партнеров'!$A$2:$B$52,2,FALSE),\"\")","v":""}]
[167385,"Партнер номер 11","1945-05-03","оплачен",1365,{"$f":"IFERROR(VLOOKUP(B454,'Комиссии партнеров'!$A$2:$B$52,2,FALSE),\"\")","v":0.05},68.25]
[167387,"","1945-05-03","оплачен",3620,{"$f":"IFERROR(VLOOKUP(B455,'Комиссии партнеров'!$A$2:$B$52,2,FALSE),\"\")","v":""}]
[167392,"","1945-05-03","оплачен",924,{"$f":"IFERROR(VLOOKUP(B456,'Комиссии партнеров'!$A$2:$B$52,2,FALSE),\"\")","v":""}]
[167395,"Партнер номер 5","1945-05-03","оплачен",1049,{"$f":"IFERROR(VLOOKUP(B457,'Комиссии партнеров'!$A$2:$B$52,2,FALSE),\"\")","v":0.03},31.47]
[167397,"","1945-05-03","оплачен",3086,{"$f":"IFERROR(VLOOKUP(B458,'Комиссии партнеров'!$A$2:$B$52,2,FALSE),\"\")","v":""}]
[167400,"Партнер номер 1","1945-05-03","оплачен",764,{"$f":"IFERROR(VLOOKUP(B459,'Комиссии партнеров'!$A$2:$B$52,2,FALSE),\"\")","v":0.05},38.200000000000003]
[167409,"Партнер номер 3","1945-05-03","оплачен",1898,{"$f":"IFERROR(VLOOKUP(B460,'Комиссии партнеров'!$A$2:$B$52,2,FALSE),\"\")","v":0.05},94.9]
[167415,"","1945-05-03","не оплачен",2175,{"$f":"IFERROR(VLOOKUP(B461,'Комиссии партнеров'!$A$2:$B$52,2,FALSE),\"\")","v":""}]
[167420,"","1945-05-03","не оплачен",1204,{"$f":"IFERROR(VLOOKUP(B462,'Комиссии партнеров'!$A$2:$B$52,2,FALSE),\"\")","v":""}]
[167425,"","1945-05-03","оплачен",2309,{"$f":"IFERROR(VLOOKUP(B463,'Комиссии партнеров'!$A$2:$B$52,2,FALSE),\"\")","v":""}]
[167430,"Партнер номер 1","1945-05-03","не оплачен",2230,{"$f":"IFERROR(VLOOKUP(B464,'Комиссии партнеров'!$A$2:$B$52,2,FALSE),\"\")","v":0.05},111.5]
[167432,"","1945-05-03","оплачен",1649,{"$f":"IFERROR(VLOOKUP(B465,'Комиссии партнеров'!$A$2:$B$52,2,FALSE),\"\")","v":""}]
[167435,"Партнер номер 7","1945-05-03","не оплачен",1268,{"$f":"IFERROR(VLOOKUP(B466,'Комиссии партнеров'!$A$2:$B$52,2,FALSE),\"\")","v":0.05},63.400000000000006]
[167440,"Партнер номер 23","1945-05-03","оплачен",1804,{"$f":"IFERROR(VLOOKUP(B467,'Комиссии партнеров'!$A$2:$B$52,2,FALSE),\"\")","v":0.05},90.2]
[167446,"Партнер номер 1","1945-05-03","оплачен",3155,{"$f":"IFERROR(VLOOKUP(B468,'Комиссии партнеров'!$A$2:$B$52,2,FALSE),\"\")","v":0.05},157.75]
[167449,"","1945-05-03","оплачен",2365,{"$f":"IFERROR(VLOOKUP(B469,'Комиссии партнеров'!$A$2:$B$52,2,FALSE),\"\")","v":""}]
[167451,"Партнер номер 1","1945-05-03","не оплачен",2230,{"$f":"IFERROR(VLOOKUP(B470,'Комиссии партнеров'!$A$2:$B$52,2,FALSE),\"\")","v":0.05},111.5]
[167455,"Партнер номер 3","1945-05-03","оплачен",813,{"$f":"IFERROR(VLOOKUP(B471,'Комиссии партнеров'!$A$2:$B$52,2,FALSE),\"\")","v":0.05},40.650000000000006]
[167458,"","1945-05-03","оплачен",2729,{"$f":"IFERROR(VLOOKUP(B472,'Комиссии партнеров'!$A$2:$B$52,2,FALSE),\"\")","v":""}]
[167463,"Партнер номер 1","1945-05-03","не оплачен",2366,{"$f":"IFERROR(VLOOKUP(B473,'Комиссии партнеров'!$A$2:$B$52,2,FALSE),\"\")","v":0.05},118.30000000000001]
[167464,"Партнер номер 1","1945-05-03","оплачен",3731,{"$f":"IFERROR(VLOOKUP(B474,'Комиссии партнеров'!$A$2:$B$52,2,FALSE),\"\")","v":0.05},186.55]
[167468,"","1945-05-03","оплачен",2291,{"$f":"IFERROR(VLOOKUP(B475,'Комиссии партнеров'!$A$2:$B$52,2,FALSE),\"\")","v":""}]
[167471,"Партнер номер 9","1945-05-03","оплачен",795,{"$f":"IFERROR(VLOOKUP(B476,'Комиссии партнеров'!$A$2:$B$52,2,FALSE),\"\")","v":0.05},39.75]
[167474,"Партнер номер 6","1945-05-03","не оплачен",1372,{"$f":"IFERROR(VLOOKUP(B477,'Комиссии партнеров'!$A$2:$B$52,2,FALSE),\"\")","v":0.04},54.88]
[167476,"Партнер номер 1","1945-05-03","оплачен",2372,{"$f":"IFERROR(VLOOKUP(B478,'Комиссии партнеров'!$A$2:$B$52,2,FALSE),\"\")","v":0.05},118.60000000000001]
[167480,"","1945-05-03","не оплачен",1804,{"$f":"IFERROR(VLOOKUP(B479,'Комиссии партнеров'!$A$2:$B$52,2,FALSE),\"\")","v":""}]
[167483,"","1945-05-03","не оплачен",2147,{"$f":"IFERROR(VLOOKUP(B480,'Комиссии партнеров'!$A$2:$B$52,2,FALSE),\"\")","v":""}]
[167493,"Партнер номер 7","1945-05-03","оплачен",1752,{"$f":"IFERROR(VLOOKUP(B481,'Комиссии партнеров'!$A$2:$B$52,2,FALSE),\"\")","v":0.05},87.600000000000009]
[167501,"Партнер номер 1","1945-05-03","не оплачен",1719,{"$f":"IFERROR(VLOOKUP(B482,'Комиссии партнеров'!$A$2:$B$52,2,FALSE),\"\")","v":0.05},85.95]
[167503,"","1945-05-03","оплачен",3408,{"$f":"IFERROR(VLOOKUP(B483,'Комиссии партнеров'!$A$2:$B$52,2,FALSE),\"\")","v":""}]
[167505,"Партнер номер 10","1945-05-03","не оплачен",2034,{"$f":"IFERROR(VLOOKUP(B484,'Комиссии партнеров'!$A$2:$B$52,2,FALSE),\"\")","v":0.04},81.36]
[167507,"Партнер номер 10","1945-05-03","оплачен",2034,{"$f":"IFERROR(VLOOKUP(B485,'Комиссии партнеров'!$A$2:$B$52,2,FALSE),\"\")","v":0.04},81.36]
[167511,"Партнер номер 1","1945-05-03","оплачен",3378,{"$f":"IFERROR(VLOOKUP(B486,'Комиссии партнеров'!$A$2:$B$52,2,FALSE),\"\")","v":0.05},168.9]
[167515,"Партнер номер 7","1945-05-03","не оплачен",1809,{"$f":"IFERROR(VLOOKUP(B487,'Комиссии партнеров'!$A$2:$B$52,2,FALSE),\"\")","v":0.05},90.45]
[167520,"Партнер номер 1","1945-05-03","оплачен",1492,{"$f":"IFERROR(VLOOKUP(B488,'Комиссии партнеров'!$A$2:$B$52,2,FALSE),\"\")","v":0.05},74.600000000000009]
[167524,"","1945-05-03","не оплачен",2072,{"$f":"IFERROR(VLOOKUP(B489,'Комиссии партнеров'!$A$2:$B$52,2,FALSE),\"\")","v":""}]
[167529,"","1945-05-03","оплачен",1181,{"$f":"IFERROR(VLOOKUP(B490,'Комиссии партнеров'!$A$2:$B$52,2,FALSE),\"\")","v":""}]
[167534,"Партнер номер 2","1945-05-03","оплачен",1911,{"$f":"IFERROR(VLOOKUP(B491,'Комиссии партнеров'!$A$2:$B$52,2,FALSE),\"\")","v":0.04},76.44]
[167537,"","1945-05-03","не оплачен",978,{"$f":"IFERROR(VLOOKUP(B492,'Комиссии партнеров'!$A$2:$B$52,2,FALSE),\"\")","v":""}]
[167541,"Партнер номер 1","1945-05-03","не оплачен",328,{"$f":"IFERROR(VLOOKUP(B493,'Комиссии партнеров'!$A$2:$B$52,2,FALSE),\"\")","v":0.05},16.400000000000002]
[167544,"Партнер номер 1","1945-05-03","оплачен",1768,{"$f":"IFERROR(VLOOKUP(B494,'Комиссии партнеров'!$A$2:$B$52,2,FALSE),\"\")","v":0.05},88.4]
[167545,"","1945-05-03","оплачен",1048,{"$f":"IFERROR(VLOOKUP(B495,'Комиссии партнеров'!$A$2:$B$52,2,FALSE),\"\")","v":""}]
[167547,"","1945-05-03","оплачен",1290,{"$f":"IFERROR(VLOOKUP(B496,'Комиссии партнеров'!$A$2:$B$52,2,FALSE),\"\")","v":""}]
[167552,"Партнер номер 3","1945-05-03","не оплачен",1452,{"$f":"IFERROR(VLOOKUP(B497,'Комиссии партнеров'!$A$2:$B$52,2,FALSE),\"\")","v":0.05},72.600000000000009]
[167556,"","1945-05-03","не оплачен",8079,{"$f":"IFERROR(VLOOKUP(B498,'Комиссии партнеров'!$A$2:$B$52,2,FALSE),\"\")","v":""}]
[167560,"Партнер номер 24","1945-05-03","оплачен",1393,{"$f":"IFERROR(VLOOKUP(B499,'Комиссии партнеров'!$A$2:$B$52,2,FALSE),\"\")","v":0.03},41.79]
[167561,"","1945-05-03","не оплачен",886,{"$f":"IFERROR(VLOOKUP(B500,'Комиссии партнеров'!$A$2:$B$52,2,FALSE),\"\")","v":""}]
[167565,"Партнер номер 1","1945-05-03","оплачен",1713,{"$f":"IFERROR(VLOOKUP(B501,'Комиссии партнеров'!$A$2:$B$52,2,FALSE),\"\")","v":0.05},85.65]
[167568,"","1945-05-03","оплачен",927,{"$f":"IFERROR(VLOOKUP(B502,'Комиссии партнеров'!$A$2:$B$52,2,FALSE),\"\")","v":""}]
[167570,"Партнер номер 1","1945-05-03","не оплачен",616,{"$f":"IFERROR(VLOOKUP(B503,'Комиссии партнеров'!$A$2:$B$52,2,FALSE),\"\")","v":0.05},30.8]
[167575,"","1945-05-03","оплачен",1550,{"$f":"IFERROR(VLOOKUP(B504,'Комиссии партнеров'!$A$2:$B$52,2,FALSE),\"\")","v":""}]
[167578,"","1945-05-03","оплачен",1847,{"$f":"IFERROR(VLOOKUP(B505,'Комиссии партнеров'!$A$2:$B$52,2,FALSE),\"\")","v":""}]
[167584,"Партнер номер 1","1945-05-03","не оплачен",3457,{"$f":"IFERROR(VLOOKUP(B506,'Комиссии партнеров'!$A$2:$B$52,2,FALSE),\"\")","v":0.05},172.85000000000002]
[167589,"","1945-05-03","оплачен",3974,{"$f":"IFERROR(VLOOKUP(B507,'Комиссии партнеров'!$A$2:$B$52,2,FALSE),\"\")","v":""}]
[167594,"Партнер номер 3","1945-05-03","не оплачен",781,{"$f":"IFERROR(VLOOKUP(B508,'Комиссии партнеров'!$A$2:$B$52,2,FALSE),\"\")","v":0.05},39.050000000000004]
[167599,"Партнер номер 11","1945-05-03","оплачен",2793,{"$f":"IFERROR(VLOOKUP(B509,'Комиссии партнеров'!$A$2:$B$52,2,FALSE),\"\")","v":0.05},139.65]
[167600,"","1945-05-03","оплачен",952,{"$f":"IFERROR(VLOOKUP(B510,'Комиссии партнеров'!$A$2:$B$52,2,FALSE),\"\")","v":""}]
[167602,"","1945-05-03","не оплачен",2673,{"$f":"IFERROR(VLOOKUP(B511,'Комиссии партнеров'!$A$2:$B$52,2,FALSE),\"\")","v":""}]
[167606,"","1945-05-03","не оплачен",4638,{"$f":"IFERROR(VLOOKUP(B512,'Комиссии партнеров'!$A$2:$B$52,2,FALSE),\"\")","v":""}]
[167612,"","1945-05-03","оплачен",3818,{"$f":"IFERROR(VLOOKUP(B513,'Комиссии партнеров'!$A$2:$B$52,2,FALSE),\"\")","v":""}]
[167617,"","1945-05-03","оплачен",338,{"$f":"IFERROR(VLOOKUP(B514,'Комиссии партнеров'!$A$2:$B$52,2,FALSE),\"\")","v":""}]
[167622,"","1945-05-03","оплачен",2391,{"$f":"IFERROR(VLOOKUP(B515,'Комиссии партнеров'!$A$2:$B$52,2,FALSE),\"\")","v":""}]
[167624,"Партнер номер 25","1945-05-03","не оплачен",7981,{"$f":"IFERROR(VLOOKUP(B516,'Комиссии партнеров'!$A$2:$B$52,2,FALSE),\"\")","v":0.05},399.05]
[167627,"Партнер номер 6","1945-05-03","не оплачен",2535,{"$f":"IFERROR(VLOOKUP(B517,'Комиссии партнеров'!$A$2:$B$52,2,FALSE),\"\")","v":0.04},101.4]
[167631,"","1945-05-03","оплачен",2137,{"$f":"IFERROR(VLOOKUP(B518,'Комиссии партнеров'!$A$2:$B$52,2,FALSE),\"\")","v":""}]
[167634,"","1945-05-03","оплачен",2797,{"$f":"IFERROR(VLOOKUP(B519,'Комиссии партнеров'!$A$2:$B$52,2,FALSE),\"\")","v":""}]
[167636,"Партнер номер 11","1945-05-03","оплачен",2823,{"$f":"IFERROR(VLOOKUP(B520,'Комиссии партнеров'!$A$2:$B$52,2,FALSE),\"\")","v":0.05},141.15]
[167643,"","1945-05-03","не оплачен",813,{"$f":"IFERROR(VLOOKUP(B521,'Комиссии партнеров'!$A$2:$B$52,2,FALSE),\"\")","v":""}]
[167646,"Партнер номер 1","1945-05-03","оплачен",660,{"$f":"IFERROR(VLOOKUP(B522,'Комиссии партнеров'!$A$2:$B$52,2,FALSE),\"\")","v":0.05},33]
[167649,"Партнер номер 1","1945-05-03","оплачен",2018,{"$f":"IFERROR(VLOOKUP(B523,'Комиссии партнеров'!$A$2:$B$52,2,FALSE),\"\")","v":0.05},100.9]
[167654,"","1945-05-03","оплачен",2296,{"$f":"IFERROR(VLOOKUP(B524,'Комиссии партнеров'!$A$2:$B$52,2,FALSE),\"\")","v":""}]
[167659,"","1945-05-03","не оплачен",864,{"$f":"IFERROR(VLOOKUP(B525,'Комиссии партнеров'!$A$2:$B$52,2,FALSE),\"\")","v":""}]
[167663,"","1945-05-03","оплачен",1654,{"$f":"IFERROR(VLOOKUP(B526,'Комиссии партнеров'!$A$2:$B$52,2,FALSE),\"\")","v":""}]
[167665,"Партнер номер 1","1945-05-03","не оплачен",6172,{"$f":"IFERROR(VLOOKUP(B527,'Комиссии партнеров'!$A$2:$B$52,2,FALSE),\"\")","v":0.05},308.60000000000002]
[167670,"Партнер номер 11","1945-05-03","не оплачен",613,{"$f":"IFERROR(VLOOKUP(B528,'Комиссии партнеров'!$A$2:$B$52,2,FALSE),\"\")","v":0.05},30.650000000000002]
[167672,"","1945-05-03","не оплачен",1484,{"$f":"IFERROR(VLOOKUP(B529,'Комиссии партнеров'!$A$2:$B$52,2,FALSE),\"\")","v":""}]
[167677,"","1945-05-03","оплачен",4284,{"$f":"IFERROR(VLOOKUP(B530,'Комиссии партнеров'!$A$2:$B$52,2,FALSE),\"\")","v":""}]
[167686,"","1945-05-03","не оплачен",1232,{"$f":"IFERROR(VLOOKUP(B531,'Комиссии партнеров'!$A$2:$B$52,2,FALSE),\"\")","v":""}]
[167690,"Партнер номер 5","1945-05-03","оплачен",1267,{"$f":"IFERROR(VLOOKUP(B532,'Комиссии партнеров'!$A$2:$B$52,2,FALSE),\"\")","v":0.03},38.01]
[167695,"","1945-05-03","не оплачен",2535,{"$f":"IFERROR(VLOOKUP(B533,'Комиссии партнеров'!$A$2:$B$52,2,FALSE),\"\")","v":""}]
[167699,"","1945-05-03","не оплачен",3070,{"$f":"IFERROR(VLOOKUP(B534,'Комиссии партнеров'!$A$2:$B$52,2,FALSE),\"\")","v":""}]
[167701,"","1945-05-03","оплачен",427,{"$f":"IFERROR(VLOOKUP(B535,'Комиссии партнеров'!$A$2:$B$52,2,FALSE),\"\")","v":""}]
[167711,"","1945-05-03","не оплачен",5869,{"$f":"IFERROR(VLOOKUP(B536,'Комиссии партнеров'!$A$2:$B$52,2,FALSE),\"\")","v":""}]
[167714,"","1945-05-03","оплачен",1572,{"$f":"IFERROR(VLOOKUP(B537,'Комиссии партнеров'!$A$2:$B$52,2,FALSE),\"\")","v":""}]
[167718,"","1945-05-03","не оплачен",3913,{"$f":"IFERROR(VLOOKUP(B538,'Комиссии партнеров'!$A$2:$B$52,2,FALSE),\"\")","v":""}]
[167720,"Партнер номер 1","1945-05-03","оплачен",2198,{"$f":"IFERROR(VLOOKUP(B539,'Комиссии партнеров'!$A$2:$B$52,2,FALSE),\"\")","v":0.05},109.9]
[167724,"Партнер номер 10","1945-05-03","оплачен",5516,{"$f":"IFERROR(VLOOKUP(B540,'Комиссии партнеров'!$A$2:$B$52,2,FALSE),\"\")","v":0.04},220.64000000000001]
[167729,"","1945-05-03","оплачен",2734,{"$f":"IFERROR(VLOOKUP(B541,'Комиссии партнеров'!$A$2:$B$52,2,FALSE),\"\")","v":""}]
[167731,"Партнер номер 3","1945-05-03","не оплачен",2061,{"$f":"IFERROR(VLOOKUP(B542,'Комиссии партнеров'!$A$2:$B$52,2,FALSE),\"\")","v":0.05},103.05000000000001]
[167736,"","1945-05-03","оплачен",1635,{"$f":"IFERROR(VLOOKUP(B543,'Комиссии партнеров'!$A$2:$B$52,2,FALSE),\"\")","v":""}]
[167741,"Партнер номер 5","1945-05-03","не оплачен",3674,{"$f":"IFERROR(VLOOKUP(B544,'Комиссии партнеров'!$A$2:$B$52,2,FALSE),\"\")","v":0.03},110.22]
[167744,"","1945-05-03","не оплачен",3165,{"$f":"IFERROR(VLOOKUP(B545,'Комиссии партнеров'!$A$2:$B$52,2,FALSE),\"\")","v":""}]
[167747,"Партнер номер 5","1945-05-03","оплачен",3674,{"$f":"IFERROR(VLOOKUP(B546,'Комиссии партнеров'!$A$2:$B$52,2,FALSE),\"\")","v":0.03},110.22]
[167750,"","1945-05-03","не оплачен",1153,{"$f":"IFERROR(VLOOKUP(B547,'Комиссии партнеров'!$A$2:$B$52,2,FALSE),\"\")","v":""}]
[167755,"","1945-05-03","оплачен",2101,{"$f":"IFERROR(VLOOKUP(B548,'Комиссии партнеров'!$A$2:$B$52,2,FALSE),\"\")","v":""}]
[167757,"","1945-05-03","оплачен",3087,{"$f":"IFERROR(VLOOKUP(B549,'Комиссии партнеров'!$A$2:$B$52,2,FALSE),\"\")","v":""}]
[167761,"Партнер номер 1","1945-05-03","не оплачен",758,{"$f":"IFERROR(VLOOKUP(B550,'Комиссии партнеров'!$A$2:$B$52,2,FALSE),\"\")","v":0.05},37.9]
[167767,"Партнер номер 11","1945-05-03","не оплачен",4167,{"$f":"IFERROR(VLOOKUP(B551,'Комиссии партнеров'!$A$2:$B$52,2,FALSE),\"\")","v":0.05},208.35000000000002]
[167772,"Партнер номер 1","1945-05-03","оплачен",2352,{"$f":"IFERROR(VLOOKUP(B552,'Комиссии партнеров'!$A$2:$B$52,2,FALSE),\"\")","v":0.05},117.60000000000001]
[167774,"Партнер номер 1","1945-05-03","не оплачен",1611,{"$f":"IFERROR(VLOOKUP(B553,'Комиссии партнеров'!$A$2:$B$52,2,FALSE),\"\")","v":0.05},80.550000000000011]
[167779,"","1945-05-03","не оплачен",1373,{"$f":"IFERROR(VLOOKUP(B554,'Комиссии партнеров'!$A$2:$B$52,2,FALSE),\"\")","v":""}]
[167785,"","1945-05-03","оплачен",2766,{"$f":"IFERROR(VLOOKUP(B555,'Комиссии партнеров'!$A$2:$B$52,2,FALSE),\"\")","v":""}]
[167787,"","1945-05-03","оплачен",1921,{"$f":"IFERROR(VLOOKUP(B556,'Комиссии партнеров'!$A$2:$B$52,2,FALSE),\"\")","v":""}]
[167790,"Партнер номер 1","1945-05-03","оплачен",3355,{"$f":"IFERROR(VLOOKUP(B557,'Комиссии партнеров'!$A$2:$B$52,2,FALSE),\"\")","v":0.05},167.75]
[167791,"Партнер номер 1","1945-05-03","не оплачен",1088,{"$f":"IFERROR(VLOOKUP(B558,'Комиссии партнеров'!$A$2:$B$52,2,FALSE),\"\")","v":0.05},54.400000000000006]
[167795,"Партнер номер 7","1945-05-03","оплачен",3284,{"$f":"IFERROR(VLOOKUP(B559,'Комиссии партнеров'!$A$2:$B$52,2,FALSE),\"\")","v":0.05},164.20000000000002]
[167800,"","1945-05-03","оплачен",3326,{"$f":"IFERROR(VLOOKUP(B560,'Комиссии партнеров'!$A$2:$B$52,2,FALSE),\"\")","v":""}]
[167802,"Партнер номер 1","1945-05-03","не оплачен",533,{"$f":"IFERROR(VLOOKUP(B561,'Комиссии партнеров'!$A$2:$B$52,2,FALSE),\"\")","v":0.05},26.650000000000002]
[167807,"","1945-05-03","оплачен",2433,{"$f":"IFERROR(VLOOKUP(B562,'Комиссии партнеров'!$A$2:$B$52,2,FALSE),\"\")","v":""}]
[167811,"Партнер номер 1","1945-05-03","не оплачен",533,{"$f":"IFERROR(VLOOKUP(B563,'Комиссии партнеров'!$A$2:$B$52,2,FALSE),\"\")","v":0.05},26.650000000000002]
[167813,"Партнер номер 1","1945-05-03","не оплачен",533,{"$f":"IFERROR(VLOOKUP(B564,'Комиссии партнеров'!$A$2:$B$52,2,FALSE),\"\")","v":0.05},26.650000000000002]
[167818,"Партнер номер 1","1945-05-03","не оплачен",533,{"$f":"IFERROR(VLOOKUP(B565,'Комиссии партнеров'!$A$2:$B$52,2,FALSE),\"\")","v":0.05},26.650000000000002]
[167821,"","1945-05-03","оплачен",1921,{"$f":"IFERROR(VLOOKUP(B566,'Комиссии партнеров'!$A$2:$B$52,2,FALSE),\"\")","v":""}]
[167823,"Партнер номер 1","1945-05-03","оплачен",533,{"$f":"IFERROR(VLOOKUP(B567,'Комиссии партнеров'!$A$2:$B$52,2,FALSE),\"\")","v":0.05},26.650000000000002]
[167828,"Партнер номер 1","1945-05-03","оплачен",843,{"$f":"IFERROR(VLOOKUP(B568,'Комиссии партнеров'!$A$2:$B$52,2,FALSE),\"\")","v":0.05},42.150000000000006]
[167830,"","1945-05-03","оплачен",1294,{"$f":"IFERROR(VLOOKUP(B569,'Комиссии партнеров'!$A$2:$B$52,2,FALSE),\"\")","v":""}]
[167833,"Партнер номер 25","1945-05-03","не оплачен",5113,{"$f":"IFERROR(VLOOKUP(B570,'Комиссии партнеров'!$A$2:$B$52,2,FALSE),\"\")","v":0.05},255.65]
[167838,"Партнер номер 11","1945-05-03","оплачен",1591,{"$f":"IFERROR(VLOOKUP(B571,'Комиссии партнеров'!$A$2:$B$52,2,FALSE),\"\")","v":0.05},79.550000000000011]
[167839,"Партнер номер 1","1945-05-03","не оплачен",533,{"$f":"IFERROR(VLOOKUP(B572,'Комиссии партнеров'!$A$2:$B$52,2,FALSE),\"\")","v":0.05},26.650000000000002]
[167844,"","1945-05-03","оплачен",3709,{"$f":"IFERROR(VLOOKUP(B573,'Комиссии партнеров'!$A$2:$B$52,2,FALSE),\"\")","v":""}]
[167847,"","1945-05-03","не оплачен",3167,{"$f":"IFERROR(VLOOKUP(B574,'Комиссии партнеров'!$A$2:$B$52,2,FALSE),\"\")","v":""}]
[167850,"","1945-05-03","не оплачен",4336,{"$f":"IFERROR(VLOOKUP(B575,'Комиссии партнеров'!$A$2:$B$52,2,FALSE),\"\")","v":""}]
[167856,"","1945-05-03","оплачен",2605,{"$f":"IFERROR(VLOOKUP(B576,'Комиссии партнеров'!$A$2:$B$52,2,FALSE),\"\")","v":""}]
[167858,"","1945-05-03","оплачен",2006,{"$f":"IFERROR(VLOOKUP(B577,'Комиссии партнеров'!$A$2:$B$52,2,FALSE),\"\")","v":""}]
[167860,"Партнер номер 1","1945-05-03","не оплачен",1318,{"$f":"IFERROR(VLOOKUP(B578,'Комиссии партнеров'!$A$2:$B$52,2,FALSE),\"\")","v":0.05},65.900000000000006]
[167863,"Партнер номер 5","1945-05-03","оплачен",1669,{"$f":"IFERROR(VLOOKUP(B579,'Комиссии партнеров'!$A$2:$B$52,2,FALSE),\"\")","v":0.03},50.07]
[167869,"","1945-05-03","не оплачен",577,{"$f":"IFERROR(VLOOKUP(B580,'Комиссии партнеров'!$A$2:$B$52,2,FALSE),\"\")","v":""}]
[167872,"","1945-05-03","оплачен",2311,{"$f":"IFERROR(VLOOKUP(B581,'Комиссии партнеров'!$A$2:$B$52,2,FALSE),\"\")","v":""}]
[167875,"Партнер номер 1","1945-05-03","оплачен",1318,{"$f":"IFERROR(VLOOKUP(B582,'Комиссии партнеров'!$A$2:$B$52,2,FALSE),\"\")","v":0.05},65.900000000000006]
[167877,"Партнер номер 6","1945-05-03","оплачен",1002,{"$f":"IFERROR(VLOOKUP(B583,'Комиссии партнеров'!$A$2:$B$52,2,FALSE),\"\")","v":0.04},40.08]
[167880,"","1945-05-03","оплачен",1221,{"$f":"IFERROR(VLOOKUP(B584,'Комиссии партнеров'!$A$2:$B$52,2,FALSE),\"\")","v":""}]
[167886,"","1945-05-03","оплачен",4447,{"$f":"IFERROR(VLOOKUP(B585,'Комиссии партнеров'!$A$2:$B$52,2,FALSE),\"\")","v":""}]
[167891,"","1945-05-03","не оплачен",2354,{"$f":"IFERROR(VLOOKUP(B586,'Комиссии партнеров'!$A$2:$B$52,2,FALSE),\"\")","v":""}]
[167896,"","1945-05-03","оплачен",432,{"$f":"IFERROR(VLOOKUP(B587,'Комиссии партнеров'!$A$2:$B$52,2,FALSE),\"\")","v":""}]
[167898,"Партнер номер 1","1945-05-03","не оплачен",831,{"$f":"IFERROR(VLOOKUP(B588,'Комиссии партнеров'!$A$2:$B$52,2,FALSE),\"\")","v":0.05},41.550000000000004]
[167900,"","1945-05-03","оплачен",2422,{"$f":"IFERROR(VLOOKUP(B589,'Комиссии партнеров'!$A$2:$B$52,2,FALSE),\"\")","v":""}]
[167904,"Партнер номер 5","1945-05-03","оплачен",1185,{"$f":"IFERROR(VLOOKUP(B590,'Комиссии партнеров'!$A$2:$B$52,2,FALSE),\"\")","v":0.03},35.549999999999997]
[167909,"","1945-05-03","оплачен",4068,{"$f":"IFERROR(VLOOKUP(B591,'Комиссии партнеров'!$A$2:$B$52,2,FALSE),\"\")","v":""}]
[167913,"","1945-05-03","не оплачен",2925,{"$f":"IFERROR(VLOOKUP(B592,'Комиссии партнеров'!$A$2:$B$52,2,FALSE),\"\")","v":""}]
[167915,"","1945-05-03","оплачен",1958,{"$f":"IFERROR(VLOOKUP(B593,'Комиссии партнеров'!$A$2:$B$52,2,FALSE),\"\")","v":""}]
[167919,"","1945-05-03","оплачен",4684,{"$f":"IFERROR(VLOOKUP(B594,'Комиссии партнеров'!$A$2:$B$52,2,FALSE),\"\")","v":""}]
[167921,"Партнер номер 10","1945-05-03","оплачен",5544,{"$f":"IFERROR(VLOOKUP(B595,'Комиссии партнеров'!$A$2:$B$52,2,FALSE),\"\")","v":0.04},221.76]
[167926,"Партнер номер 1","1945-05-03","оплачен",699,{"$f":"IFERROR(VLOOKUP(B596,'Комиссии партнеров'!$A$2:$B$52,2,FALSE),\"\")","v":0.05},34.950000000000003]
[167931,"Партнер номер 5","1945-05-03","не оплачен",2410,{"$f":"IFERROR(VLOOKUP(B597,'Комиссии партнеров'!$A$2:$B$52,2,FALSE),\"\")","v":0.03},72.3]
[167936,"Партнер номер 5","1945-05-03","не оплачен",2410,{"$f":"IFERROR(VLOOKUP(B598,'Комиссии партнеров'!$A$2:$B$52,2,FALSE),\"\")","v":0.03},72.3]
[167940,"Партнер номер 5","1945-05-03","не оплачен",2410,{"$f":"IFERROR(VLOOKUP(B599,'Комиссии партнеров'!$A$2:$B$52,2,FALSE),\"\")","v":0.03},72.3]
[167944,"","1945-05-03","оплачен",3149,{"$f":"IFERROR(VLOOKUP(B600,'Комиссии партнеров'!$A$2:$B$52,2,FALSE),\"\")","v":""}]
[167950,"","1945-05-03","оплачен",4468,{"$f":"IFERROR(VLOOKUP(B601,'Комиссии партнеров'!$A$2:$B$52,2,FALSE),\"\")","v":""}]
[167953,"","1945-05-03","оплачен",1966,{"$f":"IFERROR(VLOOKUP(B602,'Комиссии партнеров'!$A$2:$B$52,2,FALSE),\"\")","v":""}]
[167956,"Партнер номер 5","1945-05-03","оплачен",1641,{"$f":"IFERROR(VLOOKUP(B603,'Комиссии партнеров'!$A$2:$B$52,2,FALSE),\"\")","v":0.03},49.23]
[167962,"","1945-05-03","оплачен",3413,{"$f":"IFERROR(VLOOKUP(B604,'Комиссии партнеров'!$A$2:$B$52,2,FALSE),\"\")","v":""}]
[167965,"","1945-05-03","не оплачен",2581,{"$f":"IFERROR(VLOOKUP(B605,'Комиссии партнеров'!$A$2:$B$52,2,FALSE),\"\")","v":""}]
[167970,"","1945-05-03","оплачен",1815,{"$f":"IFERROR(VLOOKUP(B606,'Комиссии партнеров'!$A$2:$B$52,2,FALSE),\"\")","v":""}]
[167973,"Партнер номер 6","1945-05-03","не оплачен",3192,{"$f":"IFERROR(VLOOKUP(B607,'Комиссии партнеров'!$A$2:$B$52,2,FALSE),\"\")","v":0.04},127.68]
[167979,"","1945-05-03","оплачен",4151,{"$f":"IFERROR(VLOOKUP(B608,'Комиссии партнеров'!$A$2:$B$52,2,FALSE),\"\")","v":""}]
[167981,"Партнер номер 5","1945-05-04","оплачен",1336,{"$f":"IFERROR(VLOOKUP(B609,'Комиссии партнеров'!$A$2:$B$52,2,FALSE),\"\")","v":0.03},40.08]
[167984,"","1945-05-04","оплачен",1504,{"$f":"IFERROR(VLOOKUP(B610,'Комиссии партнеров'!$A$2:$B$52,2,FALSE),\"\")","v":""}]
[167986,"","1945-05-04","оплачен",5281,{"$f":"IFERROR(VLOOKUP(B611,'Комиссии партнеров'!$A$2:$B$52,2,FALSE),\"\")","v":""}]
[167991,"Партнер номер 1","1945-05-04","не оплачен",4395,{"$f":"IFERROR(VLOOKUP(B612,'Комиссии партнеров'!$A$2:$B$52,2,FALSE),\"\")","v":0.05},219.75]
[167993,"","1945-05-04","оплачен",2246,{"$f":"IFERROR(VLOOKUP(B613,'Комиссии партнеров'!$A$2:$B$52,2,FALSE),\"\")","v":""}]
[167997,"Партнер номер 1","1945-05-04","оплачен",2289,{"$f":"IFERROR(VLOOKUP(B614,'Комиссии партнеров'!$A$2:$B$52,2,FALSE),\"\")","v":0.05},114.45]
[168002,"","1945-05-04","не оплачен",1250,{"$f":"IFERROR(VLOOKUP(B615,'Комиссии партнеров'!$A$2:$B$52,2,FALSE),\"\")","v":""}]
[168003,"Партнер номер 1","1945-05-04","оплачен",1448,{"$f":"IFERROR(VLOOKUP(B616,'Комиссии партнеров'!$A$2:$B$52,2,FALSE),\"\")","v":0.05},72.400000000000006]
[168009,"","1945-05-04","оплачен",2831,{"$f":"IFERROR(VLOOKUP(B617,'Комиссии партнеров'!$A$2:$B$52,2,FALSE),\"\")","v":""}]
[168013,"","1945-05-04","оплачен",1786,{"$f":"IFERROR(VLOOKUP(B618,'Комиссии партнеров'!$A$2:$B$52,2,FALSE),\"\")","v":""}]
[168015,"Партнер номер 1","1945-05-04","оплачен",1854,{"$f":"IFERROR(VLOOKUP(B619,'Комиссии партнеров'!$A$2:$B$52,2,FALSE),\"\")","v":0.05},92.7]
[168019,"Партнер номер 21","1945-05-04","оплачен",939,{"$f":"IFERROR(VLOOKUP(B620,'Комиссии партнеров'!$A$2:$B$52,2,FALSE),\"\")","v":0.05},46.95]
[168021,"","1945-05-04","не оплачен",2641,{"$f":"IFERROR(VLOOKUP(B621,'Комиссии партнеров'!$A$2:$B$52,2,FALSE),\"\")","v":""}]
[168025,"Партнер номер 1","1945-05-04","оплачен",2403,{"$f":"IFERROR(VLOOKUP(B622,'Комиссии партнеров'!$A$2:$B$52,2,FALSE),\"\")","v":0.05},120.15]
[168026,"Партнер номер 7","1945-05-04","оплачен",5921,{"$f":"IFERROR(VLOOKUP(B623,'Комиссии партнеров'!$A$2:$B$52,2,FALSE),\"\")","v":0.05},296.05]
[168030,"","1945-05-04","оплачен",2067,{"$f":"IFERROR(VLOOKUP(B624,'Комиссии партнеров'!$A$2:$B$52,2,FALSE),\"\")","v":""}]
[168031,"Партнер номер 1","1945-05-04","не оплачен",3063,{"$f":"IFERROR(VLOOKUP(B625,'Комиссии партнеров'!$A$2:$B$52,2,FALSE),\"\")","v":0.05},153.15]
[168037,"Партнер номер 2","1945-05-04","не оплачен",3870,{"$f":"IFERROR(VLOOKUP(B626,'Комиссии партнеров'!$A$2:$B$52,2,FALSE),\"\")","v":0.04},154.80000000000001]
[168039,"","1945-05-04","оплачен",1929,{"$f":"IFERROR(VLOOKUP(B627,'Комиссии партнеров'!$A$2:$B$52,2,FALSE),\"\")","v":""}]
[168044,"Партнер номер 11","1945-05-04","не оплачен",2831,{"$f":"IFERROR(VLOOKUP(B628,'Комиссии партнеров'!$A$2:$B$52,2,FALSE),\"\")","v":0.05},141.55000000000001]
[168049,"Партнер номер 17","1945-05-04","оплачен",6837,{"$f":"IFERROR(VLOOKUP(B629,'Комиссии партнеров'!$A$2:$B$52,2,FALSE),\"\")","v":0.04},273.48]
[168052,"","1945-05-04","оплачен",1227,{"$f":"IFERROR(VLOOKUP(B630,'Комиссии партнеров'!$A$2:$B$52,2,FALSE),\"\")","v":""}]
[168053,"","1945-05-04","оплачен",3409,{"$f":"IFERROR(VLOOKUP(B631,'Комиссии партнеров'!$A$2:$B$52,2,FALSE),\"\")","v":""}]
[168059,"Партнер номер 11","1945-05-04","не оплачен",1806,{"$f":"IFERROR(VLOOKUP(B632,'Комиссии партнеров'!$A$2:$B$52,2,FALSE),\"\")","v":0.05},90.300000000000011]
[168061,"","1945-05-04","оплачен",2681,{"$f":"IFERROR(VLOOKUP(B633,'Комиссии партнеров'!$A$2:$B$52,2,FALSE),\"\")","v":""}]
[168065,"Партнер номер 11","1945-05-04","не оплачен",1878,{"$f":"IFERROR(VLOOKUP(B634,'Комиссии партнеров'!$A$2:$B$52,2,FALSE),\"\")","v":0.05},93.9]
[168068,"","1945-05-04","оплачен",4745,{"$f":"IFERROR(VLOOKUP(B635,'Комиссии партнеров'!$A$2:$B$52,2,FALSE),\"\")","v":""}]
[168072,"Партнер номер 26","1945-05-04","не оплачен",3257,{"$f":"IFERROR(VLOOKUP(B636,'Комиссии партнеров'!$A$2:$B$52,2,FALSE),\"\")","v":0.05},162.85000000000002]
[168076,"Партнер номер 1","1945-05-04","оплачен",1545,{"$f":"IFERROR(VLOOKUP(B637,'Комиссии партнеров'!$A$2:$B$52,2,FALSE),\"\")","v":0.05},77.25]
[168080,"","1945-05-04","оплачен",3825,{"$f":"IFERROR(VLOOKUP(B638,'Комиссии партнеров'!$A$2:$B$52,2,FALSE),\"\")","v":""}]
[168084,"","1945-05-04","оплачен",4587,{"$f":"IFERROR(VLOOKUP(B639,'Комиссии партнеров'!$A$2:$B$52,2,FALSE),\"\")","v":""}]
[168086,"Партнер номер 4","1945-05-04","оплачен",2333,{"$f":"IFERROR(VLOOKUP(B640,'Комиссии партнеров'!$A$2:$B$52,2,FALSE),\"\")","v":0.04},93.320000000000007]
[168091,"Партнер номер 11","1945-05-04","не оплачен",1674,{"$f":"IFERROR(VLOOKUP(B641,'Комиссии партнеров'!$A$2:$B$52,2,FALSE),\"\")","v":0.05},83.7]
[168094,"Партнер номер 7","1945-05-04","оплачен",5389,{"$f":"IFERROR(VLOOKUP(B642,'Комиссии партнеров'!$A$2:$B$52,2,FALSE),\"\")","v":0.05},269.45]
[168097,"Партнер номер 7","1945-05-04","оплачен",5389,{"$f":"IFERROR(VLOOKUP(B643,'Комиссии партнеров'!$A$2:$B$52,2,FALSE),\"\")","v":0.05},269.45]
[168100,"Партнер номер 5","1945-05-04","не оплачен",1163,{"$f":"IFERROR(VLOOKUP(B644,'Комиссии партнеров'!$A$2:$B$52,2,FALSE),\"\")","v":0.03},34.89]
[168103,"","1945-05-04","оплачен",3765,{"$f":"IFERROR(VLOOKUP(B645,'Комиссии партнеров'!$A$2:$B$52,2,FALSE),\"\")","v":""}]
[168107,"Партнер номер 1","1945-05-04","не оплачен",1409,{"$f":"IFERROR(VLOOKUP(B646,'Комиссии партнеров'!$A$2:$B$52,2,FALSE),\"\")","v":0.05},70.45]
[168117,"Партнер номер 1","1945-05-04","не оплачен",1724,{"$f":"IFERROR(VLOOKUP(B647,'Комиссии партнеров'!$A$2:$B$52,2,FALSE),\"\")","v":0.05},86.2]
[168121,"Партнер номер 1","1945-05-04","оплачен",1077,{"$f":"IFERROR(VLOOKUP(B648,'Комиссии партнеров'!$A$2:$B$52,2,FALSE),\"\")","v":0.05},53.85]
[168123,"Партнер номер 4","1945-05-04","не оплачен",2463,{"$f":"IFERROR(VLOOKUP(B649,'Комиссии партнеров'!$A$2:$B$52,2,FALSE),\"\")","v":0.04},98.52]
[168127,"Партнер номер 2","1945-05-04","не оплачен",3961,{"$f":"IFERROR(VLOOKUP(B650,'Комиссии партнеров'!$A$2:$B$52,2,FALSE),\"\")","v":0.04},158.44]
[168130,"Партнер номер 27","1945-05-04","не оплачен",2333,{"$f":"IFERROR(VLOOKUP(B651,'Комиссии партнеров'!$A$2:$B$52,2,FALSE),\"\")","v":0.04},93.320000000000007]
[168133,"","1945-05-04","оплачен",2587,{"$f":"IFERROR(VLOOKUP(B652,'Комиссии партнеров'!$A$2:$B$52,2,FALSE),\"\")","v":""}]
[168141,"","1945-05-04","оплачен",2312,{"$f":"IFERROR(VLOOKUP(B653,'Комиссии партнеров'!$A$2:$B$52,2,FALSE),\"\")","v":""}]
[168146,"","1945-05-04","оплачен",1690,{"$f":"IFERROR(VLOOKUP(B654,'Комиссии партнеров'!$A$2:$B$52,2,FALSE),\"\")","v":""}]
[168148,"Партнер номер 1","1945-05-04","оплачен",864,{"$f":"IFERROR(VLOOKUP(B655,'Комиссии партнеров'!$A$2:$B$52,2,FALSE),\"\")","v":0.05},43.2]
[168153,"Партнер номер 7","1945-05-04","оплачен",2057,{"$f":"IFERROR(VLOOKUP(B656,'Комиссии партнеров'!$A$2:$B$52,2,FALSE),\"\")","v":0.05},102.85000000000001]
[168159,"Партнер номер 8","1945-05-04","не оплачен",2340,{"$f":"IFERROR(VLOOKUP(B657,'Комиссии партнеров'!$A$2:$B$52,2,FALSE),\"\")","v":0.03},70.2]
[168162,"Партнер номер 4","1945-05-04","не оплачен",2463,{"$f":"IFERROR(VLOOKUP(B658,'Комиссии партнеров'!$A$2:$B$52,2,FALSE),\"\")","v":0.04},98.52]
[168167,"Партнер номер 2","1945-05-04","не оплачен",4999,{"$f":"IFERROR(VLOOKUP(B659,'Комиссии партнеров'!$A$2:$B$52,2,FALSE),\"\")","v":0.04},199.96]
[168171,"Партнер номер 11","1945-05-04","не оплачен",1437,{"$f":"IFERROR(VLOOKUP(B660,'Комиссии партнеров'!$A$2:$B$52,2,FALSE),\"\")","v":0.05},71.850000000000009]
[168175,"Партнер номер 5","1945-05-04","оплачен",4251,{"$f":"IFERROR(VLOOKUP(B661,'Комиссии партнеров'!$A$2:$B$52,2,FALSE),\"\")","v":0.03},127.53]
[168178,"Партнер номер 8","1945-05-04","не оплачен",4483,{"$f":"IFERROR(VLOOKUP(B662,'Комиссии партнеров'!$A$2:$B$52,2,FALSE),\"\")","v":0.03},134.49]
[168184,"Партнер номер 11","1945-05-04","оплачен",1437,{"$f":"IFERROR(VLOOKUP(B663,'Комиссии партнеров'!$A$2:$B$52,2,FALSE),\"\")","v":0.05},71.850000000000009]
[168188,"Партнер номер 1","1945-05-04","не оплачен",2122,{"$f":"IFERROR(VLOOKUP(B664,'Комиссии партнеров'!$A$2:$B$52,2,FALSE),\"\")","v":0.05},106.10000000000001]
[168193,"Партнер номер 1","1945-05-04","оплачен",1938,{"$f":"IFERROR(VLOOKUP(B665,'Комиссии партнеров'!$A$2:$B$52,2,FALSE),\"\")","v":0.05},96.9]
[168198,"","1945-05-04","не оплачен",12758,{"$f":"IFERROR(VLOOKUP(B666,'Комиссии партнеров'!$A$2:$B$52,2,FALSE),\"\")","v":""}]
[168199,"Партнер номер 5","1945-05-04","не оплачен",3517,{"$f":"IFERROR(VLOOKUP(B667,'Комиссии партнеров'!$A$2:$B$52,2,FALSE),\"\")","v":0.03},105.50999999999999]
[168205,"Партнер номер 1","1945-05-04","оплачен",2224,{"$f":"IFERROR(VLOOKUP(B668,'Комиссии партнеров'!$A$2:$B$52,2,FALSE),\"\")","v":0.05},111.2]
[168210,"","1945-05-04","оплачен",4641,{"$f":"IFERROR(VLOOKUP(B669,'Комиссии партнеров'!$A$2:$B$52,2,FALSE),\"\")","v":""}]
[168213,"","1945-05-04","оплачен",1278,{"$f":"IFERROR(VLOOKUP(B670,'Комиссии партнеров'!$A$2:$B$52,2,FALSE),\"\")","v":""}]
[168217,"","1945-05-04","оплачен",2663,{"$f":"IFERROR(VLOOKUP(B671,'Комиссии партнеров'!$A$2:$B$52,2,FALSE),\"\")","v":""}]
[168221,"Партнер номер 1","1945-05-04","оплачен",6463,{"$f":"IFERROR(VLOOKUP(B672,'Комиссии партнеров'!$A$2:$B$52,2,FALSE),\"\")","v":0.05},323.15000000000003]
[168227,"Партнер номер 1","1945-05-04","не оплачен",3019,{"$f":"IFERROR(VLOOKUP(B673,'Комиссии партнеров'!$A$2:$B$52,2,FALSE),\"\")","v":0.05},150.95000000000002]
[168228,"","1945-05-04","оплачен",4967,{"$f":"IFERROR(VLOOKUP(B674,'Комиссии партнеров'!$A$2:$B$52,2,FALSE),\"\")","v":""}]
[168234,"","1945-05-04","не оплачен",3245,{"$f":"IFERROR(VLOOKUP(B675,'Комиссии партнеров'!$A$2:$B$52,2,FALSE),\"\")","v":""}]
[168235,"Партнер номер 11","1945-05-04","оплачен",1891,{"$f":"IFERROR(VLOOKUP(B676,'Комиссии партнеров'!$A$2:$B$52,2,FALSE),\"\")","v":0.05},94.550000000000011]
[168237,"","1945-05-04","оплачен",3875,{"$f":"IFERROR(VLOOKUP(B677,'Комиссии партнеров'!$A$2:$B$52,2,FALSE),\"\")","v":""}]
[168241,"Партнер номер 5","1945-05-04","не оплачен",2672,{"$f":"IFERROR(VLOOKUP(B678,'Комиссии партнеров'!$A$2:$B$52,2,FALSE),\"\")","v":0.03},80.16]
[168244,"Партнер номер 11","1945-05-04","оплачен",2452,{"$f":"IFERROR(VLOOKUP(B679,'Комиссии партнеров'!$A$2:$B$52,2,FALSE),\"\")","v":0.05},122.60000000000001]
[168245,"Партнер номер 11","1945-05-04","не оплачен",2002,{"$f":"IFERROR(VLOOKUP(B680,'Комиссии партнеров'!$A$2:$B$52,2,FALSE),\"\")","v":0.05},100.10000000000001]
[168250,"","1945-05-04","оплачен",4549,{"$f":"IFERROR(VLOOKUP(B681,'Комиссии партнеров'!$A$2:$B$52,2,FALSE),\"\")","v":""}]
[168254,"","1945-05-04","оплачен",1213,{"$f":"IFERROR(VLOOKUP(B682,'Комиссии партнеров'!$A$2:$B$52,2,FALSE),\"\")","v":""}]
[168256,"","1945-05-04","оплачен",816,{"$f":"IFERROR(VLOOKUP(B683,'Комиссии партнеров'!$A$2:$B$52,2,FALSE),\"\")","v":""}]
[168259,"Партнер номер 1","1945-05-04","не оплачен",2352,{"$f":"IFERROR(VLOOKUP(B684,'Комиссии партнеров'!$A$2:$B$52,2,FALSE),\"\")","v":0.05},117.60000000000001]
[168261,"","1945-05-04","оплачен",3198,{"$f":"IFERROR(VLOOKUP(B685,'Комиссии партнеров'!$A$2:$B$52,2,FALSE),\"\")","v":""}]
[168264,"Партнер номер 1","1945-05-04","не оплачен",937,{"$f":"IFERROR(VLOOKUP(B686,'Комиссии партнеров'!$A$2:$B$52,2,FALSE),\"\")","v":0.05},46.85]
[168271,"","1945-05-04","оплачен",1293,{"$f":"IFERROR(VLOOKUP(B687,'Комиссии партнеров'!$A$2:$B$52,2,FALSE),\"\")","v":""}]
[168274,"Партнер номер 12","1945-05-04","оплачен",2033,{"$f":"IFERROR(VLOOKUP(B688,'Комиссии партнеров'!$A$2:$B$52,2,FALSE),\"\")","v":0.03},60.989999999999995]
[168278,"Партнер номер 1","1945-05-04","не оплачен",961,{"$f":"IFERROR(VLOOKUP(B689,'Комиссии партнеров'!$A$2:$B$52,2,FALSE),\"\")","v":0.05},48.050000000000004]
[168280,"","1945-05-04","оплачен",4384,{"$f":"IFERROR(VLOOKUP(B690,'Комиссии партнеров'!$A$2:$B$52,2,FALSE),\"\")","v":""}]
[168285,"","1945-05-04","оплачен",5424,{"$f":"IFERROR(VLOOKUP(B691,'Комиссии партнеров'!$A$2:$B$52,2,FALSE),\"\")","v":""}]
[168288,"","1945-05-04","не оплачен",2404,{"$f":"IFERROR(VLOOKUP(B692,'Комиссии партнеров'!$A$2:$B$52,2,FALSE),\"\")","v":""}]
[168292,"Партнер номер 1","1945-05-04","оплачен",2973,{"$f":"IFERROR(VLOOKUP(B693,'Комиссии партнеров'!$A$2:$B$52,2,FALSE),\"\")","v":0.05},148.65]
[168295,"Партнер номер 11","1945-05-04","не оплачен",1154,{"$f":"IFERROR(VLOOKUP(B694,'Комиссии партнеров'!$A$2:$B$52,2,FALSE),\"\")","v":0.05},57.7]
[168298,"","1945-05-04","не оплачен",1253,{"$f":"IFERROR(VLOOKUP(B695,'Комиссии партнеров'!$A$2:$B$52,2,FALSE),\"\")","v":""}]
[168300,"","1945-05-04","оплачен",2617,{"$f":"IFERROR(VLOOKUP(B696,'Комиссии партнеров'!$A$2:$B$52,2,FALSE),\"\")","v":""}]
[168301,"","1945-05-04","оплачен",3954,{"$f":"IFERROR(VLOOKUP(B697,'Комиссии партнеров'!$A$2:$B$52,2,FALSE),\"\")","v":""}]
[168304,"Партнер номер 1","1945-05-04","оплачен",4201,{"$f":"IFERROR(VLOOKUP(B698,'Комиссии партнеров'!$A$2:$B$52,2,FALSE),\"\")","v":0.05},210.05]
[168308,"Партнер номер 1","1945-05-04","оплачен",1752,{"$f":"IFERROR(VLOOKUP(B699,'Комиссии партнеров'!$A$2:$B$52,2,FALSE),\"\")","v":0.05},87.600000000000009]
[168311,"","1945-05-04","оплачен",1480,{"$f":"IFERROR(VLOOKUP(B700,'Комиссии партнеров'!$A$2:$B$52,2,FALSE),\"\")","v":""}]
[168314,"","1945-05-04","не оплачен",2089,{"$f":"IFERROR(VLOOKUP(B701,'Комиссии партнеров'!$A$2:$B$52,2,FALSE),\"\")","v":""}]
[168317,"Партнер номер 7","1945-05-04","оплачен",2124,{"$f":"IFERROR(VLOOKUP(B702,'Комиссии партнеров'!$A$2:$B$52,2,FALSE),\"\")","v":0.05},106.2]
[168319,"","1945-05-04","не оплачен",1836,{"$f":"IFERROR(VLOOKUP(B703,'Комиссии партнеров'!$A$2:$B$52,2,FALSE),\"\")","v":""}]
[168322,"Партнер номер 26","1945-05-04","оплачен",3999,{"$f":"IFERROR(VLOOKUP(B704,'Комиссии партнеров'!$A$2:$B$52,2,FALSE),\"\")","v":0.05},199.95000000000002]
[168326,"","1945-05-04","оплачен",1224,{"$f":"IFERROR(VLOOKUP(B705,'Комиссии партнеров'!$A$2:$B$52,2,FALSE),\"\")","v":""}]
[168328,"Партнер номер 7","1945-05-04","оплачен",3361,{"$f":"IFERROR(VLOOKUP(B706,'Комиссии партнеров'!$A$2:$B$52,2,FALSE),\"\")","v":0.05},168.05]
[168331,"Партнер номер 5","1945-05-04","не оплачен",4683,{"$f":"IFERROR(VLOOKUP(B707,'Комиссии партнеров'!$A$2:$B$52,2,FALSE),\"\")","v":0.03},140.48999999999998]
[168335,"Партнер номер 3","1945-05-04","не оплачен",858,{"$f":"IFERROR(VLOOKUP(B708,'Комиссии партнеров'!$A$2:$B$52,2,FALSE),\"\")","v":0.05},42.900000000000006]
[168339,"","1945-05-04","не оплачен",826,{"$f":"IFERROR(VLOOKUP(B709,'Комиссии партнеров'!$A$2:$B$52,2,FALSE),\"\")","v":""}]
[168345,"Партнер номер 5","1945-05-04","оплачен",4683,{"$f":"IFERROR(VLOOKUP(B710,'Комиссии партнеров'!$A$2:$B$52,2,FALSE),\"\")","v":0.03},140.48999999999998]
[168350,"Партнер номер 21","1945-05-04","оплачен",1239,{"$f":"IFERROR(VLOOKUP(B711,'Комиссии партнеров'!$A$2:$B$52,2,FALSE),\"\")","v":0.05},61.95]
[168352,"","1945-05-04","не оплачен",1964,{"$f":"IFERROR(VLOOKUP(B712,'Комиссии партнеров'!$A$2:$B$52,2,FALSE),\"\")","v":""}]
[168356,"Партнер номер 1","1945-05-04","оплачен",1500,{"$f":"IFERROR(VLOOKUP(B713,'Комиссии партнеров'!$A$2:$B$52,2,FALSE),\"\")","v":0.05},75]
[168359,"Партнер номер 11","1945-05-04","не оплачен",1364,{"$f":"IFERROR(VLOOKUP(B714,'Комиссии партнеров'!$A$2:$B$52,2,FALSE),\"\")","v":0.05},68.2]
[168363,"","1945-05-04","не оплачен",847,{"$f":"IFERROR(VLOOKUP(B715,'Комиссии партнеров'!$A$2:$B$52,2,FALSE),\"\")","v":""}]
[168365,"","1945-05-04","оплачен",2571,{"$f":"IFERROR(VLOOKUP(B716,'Комиссии партнеров'!$A$2:$B$52,2,FALSE),\"\")","v":""}]
[168370,"Партнер номер 11","1945-05-04","не оплачен",1824,{"$f":"IFERROR(VLOOKUP(B717,'Комиссии партнеров'!$A$2:$B$52,2,FALSE),\"\")","v":0.05},91.2]
[168373,"","1945-05-04","оплачен",5334,{"$f":"IFERROR(VLOOKUP(B718,'Комиссии партнеров'!$A$2:$B$52,2,FALSE),\"\")","v":""}]
[168376,"","1945-05-04","не оплачен",2107,{"$f":"IFERROR(VLOOKUP(B719,'Комиссии партнеров'!$A$2:$B$52,2,FALSE),\"\")","v":""}]
[168381,"","1945-05-04","оплачен",2388,{"$f":"IFERROR(VLOOKUP(B720,'Комиссии партнеров'!$A$2:$B$52,2,FALSE),\"\")","v":""}]
[168382,"","1945-05-04","не оплачен",2352,{"$f":"IFERROR(VLOOKUP(B721,'Комиссии партнеров'!$A$2:$B$52,2,FALSE),\"\")","v":""}]
[168385,"","1945-05-04","оплачен",2571,{"$f":"IFERROR(VLOOKUP(B722,'Комиссии партнеров'!$A$2:$B$52,2,FALSE),\"\")","v":""}]
[168387,"","1945-05-04","оплачен",1002,{"$f":"IFERROR(VLOOKUP(B723,'Комиссии партнеров'!$A$2:$B$52,2,FALSE),\"\")","v":""}]
[168389,"Партнер номер 11","1945-05-04","оплачен",1364,{"$f":"IFERROR(VLOOKUP(B724,'Комиссии партнеров'!$A$2:$B$52,2,FALSE),\"\")","v":0.05},68.2]
[168392,"Партнер номер 3","1945-05-04","не оплачен",2715,{"$f":"IFERROR(VLOOKUP(B725,'Комиссии партнеров'!$A$2:$B$52,2,FALSE),\"\")","v":0.05},135.75]
[168394,"Партнер номер 1","1945-05-04","оплачен",4045,{"$f":"IFERROR(VLOOKUP(B726,'Комиссии партнеров'!$A$2:$B$52,2,FALSE),\"\")","v":0.05},202.25]
[168398,"Партнер номер 7","1945-05-04","оплачен",1214,{"$f":"IFERROR(VLOOKUP(B727,'Комиссии партнеров'!$A$2:$B$52,2,FALSE),\"\")","v":0.05},60.7]
[168401,"","1945-05-04","оплачен",6267,{"$f":"IFERROR(VLOOKUP(B728,'Комиссии партнеров'!$A$2:$B$52,2,FALSE),\"\")","v":""}]
[168406,"","1945-05-04","оплачен",3736,{"$f":"IFERROR(VLOOKUP(B729,'Комиссии партнеров'!$A$2:$B$52,2,FALSE),\"\")","v":""}]
[168408,"","1945-05-04","не оплачен",2336,{"$f":"IFERROR(VLOOKUP(B730,'Комиссии партнеров'!$A$2:$B$52,2,FALSE),\"\")","v":""}]
[168413,"","1945-05-04","не оплачен",3126,{"$f":"IFERROR(VLOOKUP(B731,'Комиссии партнеров'!$A$2:$B$52,2,FALSE),\"\")","v":""}]
[168415,"Партнер номер 1","1945-05-04","не оплачен",719,{"$f":"IFERROR(VLOOKUP(B732,'Комиссии партнеров'!$A$2:$B$52,2,FALSE),\"\")","v":0.05},35.950000000000003]
[168416,"","1945-05-04","не оплачен",1727,{"$f":"IFERROR(VLOOKUP(B733,'Комиссии партнеров'!$A$2:$B$52,2,FALSE),\"\")","v":""}]
[168420,"Партнер номер 1","1945-05-04","не оплачен",2338,{"$f":"IFERROR(VLOOKUP(B734,'Комиссии партнеров'!$A$2:$B$52,2,FALSE),\"\")","v":0.05},116.9]
[168423,"","1945-05-04","не оплачен",4831,{"$f":"IFERROR(VLOOKUP(B735,'Комиссии партнеров'!$A$2:$B$52,2,FALSE),\"\")","v":""}]
[168424,"Партнер номер 5","1945-05-04","оплачен",1541,{"$f":"IFERROR(VLOOKUP(B736,'Комиссии партнеров'!$A$2:$B$52,2,FALSE),\"\")","v":0.03},46.23]
[168430,"","1945-05-04","оплачен",885,{"$f":"IFERROR(VLOOKUP(B737,'Комиссии партнеров'!$A$2:$B$52,2,FALSE),\"\")","v":""}]
[168434,"Партнер номер 5","1945-05-04","оплачен",5953,{"$f":"IFERROR(VLOOKUP(B738,'Комиссии партнеров'!$A$2:$B$52,2,FALSE),\"\")","v":0.03},178.59]
[168436,"","1945-05-04","оплачен",2015,{"$f":"IFERROR(VLOOKUP(B739,'Комиссии партнеров'!$A$2:$B$52,2,FALSE),\"\")","v":""}]
[168441,"Партнер номер 7","1945-05-04","оплачен",2155,{"$f":"IFERROR(VLOOKUP(B740,'Комиссии партнеров'!$A$2:$B$52,2,FALSE),\"\")","v":0.05},107.75]
[168443,"","1945-05-04","не оплачен",1299,{"$f":"IFERROR(VLOOKUP(B741,'Комиссии партнеров'!$A$2:$B$52,2,FALSE),\"\")","v":""}]
[168447,"","1945-05-04","оплачен",2606,{"$f":"IFERROR(VLOOKUP(B742,'Комиссии партнеров'!$A$2:$B$52,2,FALSE),\"\")","v":""}]
[168451,"Партнер номер 2","1945-05-04","не оплачен",7269,{"$f":"IFERROR(VLOOKUP(B743,'Комиссии партнеров'!$A$2:$B$52,2,FALSE),\"\")","v":0.04},290.76]
[168456,"","1945-05-04","не оплачен",2520,{"$f":"IFERROR(VLOOKUP(B744,'Комиссии партнеров'!$A$2:$B$52,2,FALSE),\"\")","v":""}]
[168459,"Партнер номер 1","1945-05-04","не оплачен",1233,{"$f":"IFERROR(VLOOKUP(B745,'Комиссии партнеров'!$A$2:$B$52,2,FALSE),\"\")","v":0.05},61.650000000000006]
[168463,"Партнер номер 17","1945-05-04","оплачен",2429,{"$f":"IFERROR(VLOOKUP(B746,'Комиссии партнеров'!$A$2:$B$52,2,FALSE),\"\")","v":0.04},97.16]
[168467,"Партнер номер 7","1945-05-04","не оплачен",950,{"$f":"IFERROR(VLOOKUP(B747,'Комиссии партнеров'!$A$2:$B$52,2,FALSE),\"\")","v":0.05},47.5]
[168473,"Партнер номер 3","1945-05-04","оплачен",1243,{"$f":"IFERROR(VLOOKUP(B748,'Комиссии партнеров'!$A$2:$B$52,2,FALSE),\"\")","v":0.05},62.150000000000006]
[168478,"Партнер номер 5","1945-05-04","оплачен",2354,{"$f":"IFERROR(VLOOKUP(B749,'Комиссии партнеров'!$A$2:$B$52,2,FALSE),\"\")","v":0.03},70.61999999999999]
[168483,"","1945-05-04","оплачен",2365,{"$f":"IFERROR(VLOOKUP(B750,'Комиссии партнеров'!$A$2:$B$52,2,FALSE),\"\")","v":""}]
[168487,"","1945-05-04","не оплачен",3002,{"$f":"IFERROR(VLOOKUP(B751,'Комиссии партнеров'!$A$2:$B$52,2,FALSE),\"\")","v":""}]
[168492,"","1945-05-04","оплачен",1524,{"$f":"IFERROR(VLOOKUP(B752,'Комиссии партнеров'!$A$2:$B$52,2,FALSE),\"\")","v":""}]
[168495,"","1945-05-04","оплачен",2187,{"$f":"IFERROR(VLOOKUP(B753,'Комиссии партнеров'!$A$2:$B$52,2,FALSE),\"\")","v":""}]
[168501,"","1945-05-04","оплачен",1019,{"$f":"IFERROR(VLOOKUP(B754,'Комиссии партнеров'!$A$2:$B$52,2,FALSE),\"\")","v":""}]
[168505,"","1945-05-04","оплачен",2158,{"$f":"IFERROR(VLOOKUP(B755,'Комиссии партнеров'!$A$2:$B$52,2,FALSE),\"\")","v":""}]
[168506,"","1945-05-04","оплачен",3314,{"$f":"IFERROR(VLOOKUP(B756,'Комиссии партнеров'!$A$2:$B$52,2,FALSE),\"\")","v":""}]
[168508,"Партнер номер 11","1945-05-04","оплачен",1174,{"$f":"IFERROR(VLOOKUP(B757,'Комиссии партнеров'!$A$2:$B$52,2,FALSE),\"\")","v":0.05},58.7]
[168510,"Партнер номер 11","1945-05-04","не оплачен",2500,{"$f":"IFERROR(VLOOKUP(B758,'Комиссии партнеров'!$A$2:$B$52,2,FALSE),\"\")","v":0.05},125]
[168513,"Партнер номер 11","1945-05-04","оплачен",2278,{"$f":"IFERROR(VLOOKUP(B759,'Комиссии партнеров'!$A$2:$B$52,2,FALSE),\"\")","v":0.05},113.9]
[168514,"Партнер номер 11","1945-05-04","оплачен",2500,{"$f":"IFERROR(VLOOKUP(B760,'Комиссии партнеров'!$A$2:$B$52,2,FALSE),\"\")","v":0.05},125]
[168517,"Партнер номер 1","1945-05-04","оплачен",2743,{"$f":"IFERROR(VLOOKUP(B761,'Комиссии партнеров'!$A$2:$B$52,2,FALSE),\"\")","v":0.05},137.15]
[168520,"","1945-05-04","оплачен",1920,{"$f":"IFERROR(VLOOKUP(B762,'Комиссии партнеров'!$A$2:$B$52,2,FALSE),\"\")","v":""}]
[168523,"Партнер номер 1","1945-05-04","оплачен",2313,{"$f":"IFERROR(VLOOKUP(B763,'Комиссии партнеров'!$A$2:$B$52,2,FALSE),\"\")","v":0.05},115.65]
[168527,"","1945-05-04","оплачен",6072,{"$f":"IFERROR(VLOOKUP(B764,'Комиссии партнеров'!$A$2:$B$52,2,FALSE),\"\")","v":""}]
[168531,"Партнер номер 2","1945-05-04","оплачен",7809,{"$f":"IFERROR(VLOOKUP(B765,'Комиссии партнеров'!$A$2:$B$52,2,FALSE),\"\")","v":0.04},312.36]
[168536,"Партнер номер 11","1945-05-04","не оплачен",1895,{"$f":"IFERROR(VLOOKUP(B766,'Комиссии партнеров'!$A$2:$B$52,2,FALSE),\"\")","v":0.05},94.75]
[168541,"Партнер номер 1","1945-05-04","не оплачен",2014,{"$f":"IFERROR(VLOOKUP(B767,'Комиссии партнеров'!$A$2:$B$52,2,FALSE),\"\")","v":0.05},100.7]
[168543,"Партнер номер 11","1945-05-04","не оплачен",1062,{"$f":"IFERROR(VLOOKUP(B768,'Комиссии партнеров'!$A$2:$B$52,2,FALSE),\"\")","v":0.05},53.1]
[168546,"","1945-05-04","оплачен",3517,{"$f":"IFERROR(VLOOKUP(B769,'Комиссии партнеров'!$A$2:$B$52,2,FALSE),\"\")","v":""}]
[168548,"Партнер номер 11","1945-05-04","не оплачен",1364,{"$f":"IFERROR(VLOOKUP(B770,'Комиссии партнеров'!$A$2:$B$52,2,FALSE),\"\")","v":0.05},68.2]
[168552,"","1945-05-04","оплачен",3228,{"$f":"IFERROR(VLOOKUP(B771,'Комиссии партнеров'!$A$2:$B$52,2,FALSE),\"\")","v":""}]
[168554,"Партнер номер 1","1945-05-04","оплачен",1057,{"$f":"IFERROR(VLOOKUP(B772,'Комиссии партнеров'!$A$2:$B$52,2,FALSE),\"\")","v":0.05},52.85]
[168556,"","1945-05-04","оплачен",3736,{"$f":"IFERROR(VLOOKUP(B773,'Комиссии партнеров'!$A$2:$B$52,2,FALSE),\"\")","v":""}]
[168559,"Партнер номер 1","1945-05-04","не оплачен",2231,{"$f":"IFERROR(VLOOKUP(B774,'Комиссии партнеров'!$A$2:$B$52,2,FALSE),\"\")","v":0.05},111.55000000000001]
[168563,"","1945-05-04","оплачен",3721,{"$f":"IFERROR(VLOOKUP(B775,'Комиссии партнеров'!$A$2:$B$52,2,FALSE),\"\")","v":""}]
[168567,"Партнер номер 7","1945-05-04","не оплачен",3317,{"$f":"IFERROR(VLOOKUP(B776,'Комиссии партнеров'!$A$2:$B$52,2,FALSE),\"\")","v":0.05},165.85000000000002]
[168572,"","1945-05-04","оплачен",5325,{"$f":"IFERROR(VLOOKUP(B777,'Комиссии партнеров'!$A$2:$B$52,2,FALSE),\"\")","v":""}]
[168577,"","1945-05-04","не оплачен",762,{"$f":"IFERROR(VLOOKUP(B778,'Комиссии партнеров'!$A$2:$B$52,2,FALSE),\"\")","v":""}]
[168583,"","1945-05-04","не оплачен",1396,{"$f":"IFERROR(VLOOKUP(B779,'Комиссии партнеров'!$A$2:$B$52,2,FALSE),\"\")","v":""}]
[168586,"Партнер номер 6","1945-05-04","не оплачен",1226,{"$f":"IFERROR(VLOOKUP(B780,'Комиссии партнеров'!$A$2:$B$52,2,FALSE),\"\")","v":0.04},49.04]
[168589,"Партнер номер 11","1945-05-04","оплачен",1154,{"$f":"IFERROR(VLOOKUP(B781,'Комиссии партнеров'!$A$2:$B$52,2,FALSE),\"\")","v":0.05},57.7]
[168591,"Партнер номер 1","1945-05-04","оплачен",3005,{"$f":"IFERROR(VLOOKUP(B782,'Комиссии партнеров'!$A$2:$B$52,2,FALSE),\"\")","v":0.05},150.25]
[168596,"","1945-05-04","оплачен",2225,{"$f":"IFERROR(VLOOKUP(B783,'Комиссии партнеров'!$A$2:$B$52,2,FALSE),\"\")","v":""}]
[168600,"Партнер номер 7","1945-05-04","оплачен",1873,{"$f":"IFERROR(VLOOKUP(B784,'Комиссии партнеров'!$A$2:$B$52,2,FALSE),\"\")","v":0.05},93.65]
[168602,"Партнер номер 11","1945-05-04","не оплачен",1591,{"$f":"IFERROR(VLOOKUP(B785,'Комиссии партнеров'!$A$2:$B$52,2,FALSE),\"\")","v":0.05},79.550000000000011]
[168605,"","1945-05-04","оплачен",4381,{"$f":"IFERROR(VLOOKUP(B786,'Комиссии партнеров'!$A$2:$B$52,2,FALSE),\"\")","v":""}]
[168609,"","1945-05-04","не оплачен",3678,{"$f":"IFERROR(VLOOKUP(B787,'Комиссии партнеров'!$A$2:$B$52,2,FALSE),\"\")","v":""}]
[168614,"","1945-05-04","оплачен",4679,{"$f":"IFERROR(VLOOKUP(B788,'Комиссии партнеров'!$A$2:$B$52,2,FALSE),\"\")","v":""}]
[168617,"","1945-05-04","не оплачен",1306,{"$f":"IFERROR(VLOOKUP(B789,'Комиссии партнеров'!$A$2:$B$52,2,FALSE),\"\")","v":""}]
[168619,"","1945-05-04","оплачен",2912,{"$f":"IFERROR(VLOOKUP(B790,'Комиссии партнеров'!$A$2:$B$52,2,FALSE),\"\")","v":""}]
[168624,"Партнер номер 3","1945-05-04","оплачен",4953,{"$f":"IFERROR(VLOOKUP(B791,'Комиссии партнеров'!$A$2:$B$52,2,FALSE),\"\")","v":0.05},247.65]
[168626,"","1945-05-04","не оплачен",3612,{"$f":"IFERROR(VLOOKUP(B792,'Комиссии партнеров'!$A$2:$B$52,2,FALSE),\"\")","v":""}]
[168631,"","1945-05-04","оплачен",3974,{"$f":"IFERROR(VLOOKUP(B793,'Комиссии партнеров'!$A$2:$B$52,2,FALSE),\"\")","v":""}]
[168634,"","1945-05-04","оплачен",1829,{"$f":"IFERROR(VLOOKUP(B794,'Комиссии партнеров'!$A$2:$B$52,2,FALSE),\"\")","v":""}]
[168636,"","1945-05-05","оплачен",3160,{"$f":"IFERROR(VLOOKUP(B795,'Комиссии партнеров'!$A$2:$B$52,2,FALSE),\"\")","v":""}]
[168639,"Партнер номер 1","1945-05-05","оплачен",1496,{"$f":"IFERROR(VLOOKUP(B796,'Комиссии партнеров'!$A$2:$B$52,2,FALSE),\"\")","v":0.05},74.8]
[168645,"Партнер номер 5","1945-05-05","не оплачен",4555,{"$f":"IFERROR(VLOOKUP(B797,'Комиссии партнеров'!$A$2:$B$52,2,FALSE),\"\")","v":0.03},136.65]
[168650,"","1945-05-05","оплачен",2631,{"$f":"IFERROR(VLOOKUP(B798,'Комиссии партнеров'!$A$2:$B$52,2,FALSE),\"\")","v":""}]
[168652,"","1945-05-05","оплачен",1686,{"$f":"IFERROR(VLOOKUP(B799,'Комиссии партнеров'!$A$2:$B$52,2,FALSE),\"\")","v":""}]
[168655,"Партнер номер 7","1945-05-05","не оплачен",3538,{"$f":"IFERROR(VLOOKUP(B800,'Комиссии партнеров'!$A$2:$B$52,2,FALSE),\"\")","v":0.05},176.9]
[168660,"Партнер номер 3","1945-05-05","оплачен",1195,{"$f":"IFERROR(VLOOKUP(B801,'Комиссии партнеров'!$A$2:$B$52,2,FALSE),\"\")","v":0.05},59.75]
[168663,"","1945-05-05","не оплачен",3160,{"$f":"IFERROR(VLOOKUP(B802,'Комиссии партнеров'!$A$2:$B$52,2,FALSE),\"\")","v":""}]
[168668,"","1945-05-05","оплачен",1401,{"$f":"IFERROR(VLOOKUP(B803,'Комиссии партнеров'!$A$2:$B$52,2,FALSE),\"\")","v":""}]
[168671,"","1945-05-05","не оплачен",3441,{"$f":"IFERROR(VLOOKUP(B804,'Комиссии партнеров'!$A$2:$B$52,2,FALSE),\"\")","v":""}]
[168676,"Партнер номер 5","1945-05-05","не оплачен",5519,{"$f":"IFERROR(VLOOKUP(B805,'Комиссии партнеров'!$A$2:$B$52,2,FALSE),\"\")","v":0.03},165.57]
[168678,"","1945-05-05","не оплачен",5202,{"$f":"IFERROR(VLOOKUP(B806,'Комиссии партнеров'!$A$2:$B$52,2,FALSE),\"\")","v":""}]
[168679,"Партнер номер 8","1945-05-05","не оплачен",1853,{"$f":"IFERROR(VLOOKUP(B807,'Комиссии партнеров'!$A$2:$B$52,2,FALSE),\"\")","v":0.03},55.589999999999996]
[168681,"","1945-05-05","не оплачен",2484,{"$f":"IFERROR(VLOOKUP(B808,'Комиссии партнеров'!$A$2:$B$52,2,FALSE),\"\")","v":""}]
[168684,"","1945-05-05","оплачен",1465,{"$f":"IFERROR(VLOOKUP(B809,'Комиссии партнеров'!$A$2:$B$52,2,FALSE),\"\")","v":""}]
[168687,"Партнер номер 9","1945-05-05","не оплачен",7718,{"$f":"IFERROR(VLOOKUP(B810,'Комиссии партнеров'!$A$2:$B$52,2,FALSE),\"\")","v":0.05},385.90000000000003]
[168693,"","1945-05-05","оплачен",2269,{"$f":"IFERROR(VLOOKUP(B811,'Комиссии партнеров'!$A$2:$B$52,2,FALSE),\"\")","v":""}]
[168695,"","1945-05-05","оплачен",4241,{"$f":"IFERROR(VLOOKUP(B812,'Комиссии партнеров'!$A$2:$B$52,2,FALSE),\"\")","v":""}]
[168699,"","1945-05-05","не оплачен",1221,{"$f":"IFERROR(VLOOKUP(B813,'Комиссии партнеров'!$A$2:$B$52,2,FALSE),\"\")","v":""}]
[168701,"","1945-05-05","не оплачен",2272,{"$f":"IFERROR(VLOOKUP(B814,'Комиссии партнеров'!$A$2:$B$52,2,FALSE),\"\")","v":""}]
[168704,"Партнер номер 5","1945-05-05","оплачен",4549,{"$f":"IFERROR(VLOOKUP(B815,'Комиссии партнеров'!$A$2:$B$52,2,FALSE),\"\")","v":0.03},136.47]
[168709,"","1945-05-05","не оплачен",2753,{"$f":"IFERROR(VLOOKUP(B816,'Комиссии партнеров'!$A$2:$B$52,2,FALSE),\"\")","v":""}]
[168711,"Партнер номер 1","1945-05-05","не оплачен",4581,{"$f":"IFERROR(VLOOKUP(B817,'Комиссии партнеров'!$A$2:$B$52,2,FALSE),\"\")","v":0.05},229.05]
[168715,"Партнер номер 5","1945-05-05","оплачен",3974,{"$f":"IFERROR(VLOOKUP(B818,'Комиссии партнеров'!$A$2:$B$52,2,FALSE),\"\")","v":0.03},119.22]
[168717,"","1945-05-05","оплачен",2753,{"$f":"IFERROR(VLOOKUP(B819,'Комиссии партнеров'!$A$2:$B$52,2,FALSE),\"\")","v":""}]
[168720,"","1945-05-05","не оплачен",989,{"$f":"IFERROR(VLOOKUP(B820,'Комиссии партнеров'!$A$2:$B$52,2,FALSE),\"\")","v":""}]
[168722,"","1945-05-05","оплачен",1307,{"$f":"IFERROR(VLOOKUP(B821,'Комиссии партнеров'!$A$2:$B$52,2,FALSE),\"\")","v":""}]
[168726,"","1945-05-05","не оплачен",4198,{"$f":"IFERROR(VLOOKUP(B822,'Комиссии партнеров'!$A$2:$B$52,2,FALSE),\"\")","v":""}]
[168731,"Партнер номер 1","1945-05-05","не оплачен",234,{"$f":"IFERROR(VLOOKUP(B823,'Комиссии партнеров'!$A$2:$B$52,2,FALSE),\"\")","v":0.05},11.700000000000001]
[168735,"Партнер номер 5","1945-05-05","не оплачен",2318,{"$f":"IFERROR(VLOOKUP(B824,'Комиссии партнеров'!$A$2:$B$52,2,FALSE),\"\")","v":0.03},69.539999999999992]
[168736,"","1945-05-05","не оплачен",5089,{"$f":"IFERROR(VLOOKUP(B825,'Комиссии партнеров'!$A$2:$B$52,2,FALSE),\"\")","v":""}]
[168738,"","1945-05-05","оплачен",2975,{"$f":"IFERROR(VLOOKUP(B826,'Комиссии партнеров'!$A$2:$B$52,2,FALSE),\"\")","v":""}]
[168741,"","1945-05-05","оплачен",2161,{"$f":"IFERROR(VLOOKUP(B827,'Комиссии партнеров'!$A$2:$B$52,2,FALSE),\"\")","v":""}]
[168746,"","1945-05-05","не оплачен",2485,{"$f":"IFERROR(VLOOKUP(B828,'Комиссии партнеров'!$A$2:$B$52,2,FALSE),\"\")","v":""}]
[168748,"Партнер номер 6","1945-05-05","не оплачен",2089,{"$f":"IFERROR(VLOOKUP(B829,'Комиссии партнеров'!$A$2:$B$52,2,FALSE),\"\")","v":0.04},83.56]
[168750,"Партнер номер 1","1945-05-05","оплачен",1945,{"$f":"IFERROR(VLOOKUP(B830,'Комиссии партнеров'!$A$2:$B$52,2,FALSE),\"\")","v":0.05},97.25]
[168755,"","1945-05-05","оплачен",2238,{"$f":"IFERROR(VLOOKUP(B831,'Комиссии партнеров'!$A$2:$B$52,2,FALSE),\"\")","v":""}]
[168757,"","1945-05-05","оплачен",2270,{"$f":"IFERROR(VLOOKUP(B832,'Комиссии партнеров'!$A$2:$B$52,2,FALSE),\"\")","v":""}]
[168761,"Партнер номер 10","1945-05-05","оплачен",2812,{"$f":"IFERROR(VLOOKUP(B833,'Комиссии партнеров'!$A$2:$B$52,2,FALSE),\"\")","v":0.04},112.48]
[168762,"","1945-05-05","оплачен",4591,{"$f":"IFERROR(VLOOKUP(B834,'Комиссии партнеров'!$A$2:$B$52,2,FALSE),\"\")","v":""}]
[168764,"","1945-05-05","оплачен",1157,{"$f":"IFERROR(VLOOKUP(B835,'Комиссии партнеров'!$A$2:$B$52,2,FALSE),\"\")","v":""}]
[168769,"","1945-05-05","оплачен",2632,{"$f":"IFERROR(VLOOKUP(B836,'Комиссии партнеров'!$A$2:$B$52,2,FALSE),\"\")","v":""}]
[168774,"","1945-05-05","оплачен",3556,{"$f":"IFERROR(VLOOKUP(B837,'Комиссии партнеров'!$A$2:$B$52,2,FALSE),\"\")","v":""}]
[168778,"","1945-05-05","оплачен",2410,{"$f":"IFERROR(VLOOKUP(B838,'Комиссии партнеров'!$A$2:$B$52,2,FALSE),\"\")","v":""}]
[168782,"","1945-05-05","не оплачен",1635,{"$f":"IFERROR(VLOOKUP(B839,'Комиссии партнеров'!$A$2:$B$52,2,FALSE),\"\")","v":""}]
[168786,"","1945-05-05","оплачен",1959,{"$f":"IFERROR(VLOOKUP(B840,'Комиссии партнеров'!$A$2:$B$52,2,FALSE),\"\")","v":""}]
[168789,"Партнер номер 5","1945-05-05","оплачен",1202,{"$f":"IFERROR(VLOOKUP(B841,'Комиссии партнеров'!$A$2:$B$52,2,FALSE),\"\")","v":0.03},36.059999999999995]
[168793,"","1945-05-05","не оплачен",1589,{"$f":"IFERROR(VLOOKUP(B842,'Комиссии партнеров'!$A$2:$B$52,2,FALSE),\"\")","v":""}]
[168795,"Партнер номер 1","1945-05-05","оплачен",2068,{"$f":"IFERROR(VLOOKUP(B843,'Комиссии партнеров'!$A$2:$B$52,2,FALSE),\"\")","v":0.05},103.4]
[168800,"Партнер номер 3","1945-05-05","оплачен",2285,{"$f":"IFERROR(VLOOKUP(B844,'Комиссии партнеров'!$A$2:$B$52,2,FALSE),\"\")","v":0.05},114.25]
[168803,"Партнер номер 1","1945-05-05","не оплачен",1239,{"$f":"IFERROR(VLOOKUP(B845,'Комиссии партнеров'!$A$2:$B$52,2,FALSE),\"\")","v":0.05},61.95]
[168806,"Партнер номер 1","1945-05-05","не оплачен",838,{"$f":"IFERROR(VLOOKUP(B846,'Комиссии партнеров'!$A$2:$B$52,2,FALSE),\"\")","v":0.05},41.900000000000006]
[168809,"","1945-05-05","оплачен",1960,{"$f":"IFERROR(VLOOKUP(B847,'Комиссии партнеров'!$A$2:$B$52,2,FALSE),\"\")","v":""}]
[168814,"Партнер номер 1","1945-05-05","не оплачен",995,{"$f":"IFERROR(VLOOKUP(B848,'Комиссии партнеров'!$A$2:$B$52,2,FALSE),\"\")","v":0.05},49.75]
[168816,"Партнер номер 1","1945-05-05","не оплачен",859,{"$f":"IFERROR(VLOOKUP(B849,'Комиссии партнеров'!$A$2:$B$52,2,FALSE),\"\")","v":0.05},42.95]
[168821,"","1945-05-05","не оплачен",838,{"$f":"IFERROR(VLOOKUP(B850,'Комиссии партнеров'!$A$2:$B$52,2,FALSE),\"\")","v":""}]
[168826,"Партнер номер 1","1945-05-05","не оплачен",838,{"$f":"IFERROR(VLOOKUP(B851,'Комиссии партнеров'!$A$2:$B$52,2,FALSE),\"\")","v":0.05},41.900000000000006]
[168829,"Партнер номер 1","1945-05-05","не оплачен",1271,{"$f":"IFERROR(VLOOKUP(B852,'Комиссии партнеров'!$A$2:$B$52,2,FALSE),\"\")","v":0.05},63.550000000000004]
[168832,"Партнер номер 1","1945-05-05","не оплачен",838,{"$f":"IFERROR(VLOOKUP(B853,'Комиссии партнеров'!$A$2:$B$52,2,FALSE),\"\")","v":0.05},41.900000000000006]
[168838,"Партнер номер 1","1945-05-05","не оплачен",838,{"$f":"IFERROR(VLOOKUP(B854,'Комиссии партнеров'!$A$2:$B$52,2,FALSE),\"\")","v":0.05},41.900000000000006]
[168843,"","1945-05-05","оплачен",4817,{"$f":"IFERROR(VLOOKUP(B855,'Комиссии партнеров'!$A$2:$B$52,2,FALSE),\"\")","v":""}]
[168848,"Партнер номер 1","1945-05-05","не оплачен",2170,{"$f":"IFERROR(VLOOKUP(B856,'Комиссии партнеров'!$A$2:$B$52,2,FALSE),\"\")","v":0.05},108.5]
[168850,"Партнер номер 1","1945-05-05","не оплачен",1321,{"$f":"IFERROR(VLOOKUP(B857,'Комиссии партнеров'!$A$2:$B$52,2,FALSE),\"\")","v":0.05},66.05]
[168851,"Партнер номер 1","1945-05-05","не оплачен",838,{"$f":"IFERROR(VLOOKUP(B858,'Комиссии партнеров'!$A$2:$B$52,2,FALSE),\"\")","v":0.05},41.900000000000006]
[168856,"Партнер номер 1","1945-05-05","не оплачен",838,{"$f":"IFERROR(VLOOKUP(B859,'Комиссии партнеров'!$A$2:$B$52,2,FALSE),\"\")","v":0.05},41.900000000000006]
[168860,"","1945-05-05","оплачен",1386,{"$f":"IFERROR(VLOOKUP(B860,'Комиссии партнеров'!$A$2:$B$52,2,FALSE),\"\")","v":""}]
[168862,"Партнер номер 1","1945-05-05","не оплачен",838,{"$f":"IFERROR(VLOOKUP(B861,'Комиссии партнеров'!$A$2:$B$52,2,FALSE),\"\")","v":0.05},41.900000000000006]
[168867,"","1945-05-05","оплачен",4715,{"$f":"IFERROR(VLOOKUP(B862,'Комиссии партнеров'!$A$2:$B$52,2,FALSE),\"\")","v":""}]
[168871,"","1945-05-05","не оплачен",1704,{"$f":"IFERROR(VLOOKUP(B863,'Комиссии партнеров'!$A$2:$B$52,2,FALSE),\"\")","v":""}]
[168872,"Партнер номер 1","1945-05-05","не оплачен",995,{"$f":"IFERROR(VLOOKUP(B864,'Комиссии партнеров'!$A$2:$B$52,2,FALSE),\"\")","v":0.05},49.75]
[168877,"Партнер номер 1","1945-05-05","не оплачен",859,{"$f":"IFERROR(VLOOKUP(B865,'Комиссии партнеров'!$A$2:$B$52,2,FALSE),\"\")","v":0.05},42.95]
[168879,"Партнер номер 1","1945-05-05","не оплачен",995,{"$f":"IFERROR(VLOOKUP(B866,'Комиссии партнеров'!$A$2:$B$52,2,FALSE),\"\")","v":0.05},49.75]
[168882,"","1945-05-05","оплачен",831,{"$f":"IFERROR(VLOOKUP(B867,'Комиссии партнеров'!$A$2:$B$52,2,FALSE),\"\")","v":""}]
[168883,"Партнер номер 1","1945-05-05","не оплачен",838,{"$f":"IFERROR(VLOOKUP(B868,'Комиссии партнеров'!$A$2:$B$52,2,FALSE),\"\")","v":0.05},41.900000000000006]
[168887,"Партнер номер 1","1945-05-05","не оплачен",1386,{"$f":"IFERROR(VLOOKUP(B869,'Комиссии партнеров'!$A$2:$B$52,2,FALSE),\"\")","v":0.05},69.3]
[168888,"Партнер номер 1","1945-05-05","не оплачен",838,{"$f":"IFERROR(VLOOKUP(B870,'Комиссии партнеров'!$A$2:$B$52,2,FALSE),\"\")","v":0.05},41.900000000000006]
[168893,"","1945-05-05","оплачен",1137,{"$f":"IFERROR(VLOOKUP(B871,'Комиссии партнеров'!$A$2:$B$52,2,FALSE),\"\")","v":""}]
[168895,"Партнер номер 1","1945-05-05","не оплачен",838,{"$f":"IFERROR(VLOOKUP(B872,'Комиссии партнеров'!$A$2:$B$52,2,FALSE),\"\")","v":0.05},41.900000000000006]
[168900,"Партнер номер 1","1945-05-05","не оплачен",1020,{"$f":"IFERROR(VLOOKUP(B873,'Комиссии партнеров'!$A$2:$B$52,2,FALSE),\"\")","v":0.05},51]
[168905,"Партнер номер 1","1945-05-05","не оплачен",838,{"$f":"IFERROR(VLOOKUP(B874,'Комиссии партнеров'!$A$2:$B$52,2,FALSE),\"\")","v":0.05},41.900000000000006]
[168906,"Партнер номер 1","1945-05-05","не оплачен",995,{"$f":"IFERROR(VLOOKUP(B875,'Комиссии партнеров'!$A$2:$B$52,2,FALSE),\"\")","v":0.05},49.75]
[168910,"Партнер номер 11","1945-05-05","не оплачен",1659,{"$f":"IFERROR(VLOOKUP(B876,'Комиссии партнеров'!$A$2:$B$52,2,FALSE),\"\")","v":0.05},82.95]
[168915,"Партнер номер 3","1945-05-05","оплачен",1952,{"$f":"IFERROR(VLOOKUP(B877,'Комиссии партнеров'!$A$2:$B$52,2,FALSE),\"\")","v":0.05},97.600000000000009]
[168919,"Партнер номер 1","1945-05-05","не оплачен",1020,{"$f":"IFERROR(VLOOKUP(B878,'Комиссии партнеров'!$A$2:$B$52,2,FALSE),\"\")","v":0.05},51]
[168922,"Партнер номер 1","1945-05-05","не оплачен",995,{"$f":"IFERROR(VLOOKUP(B879,'Комиссии партнеров'!$A$2:$B$52,2,FALSE),\"\")","v":0.05},49.75]
[168925,"Партнер номер 1","1945-05-05","не оплачен",1321,{"$f":"IFERROR(VLOOKUP(B880,'Комиссии партнеров'!$A$2:$B$52,2,FALSE),\"\")","v":0.05},66.05]
[168928,"Партнер номер 1","1945-05-05","не оплачен",838,{"$f":"IFERROR(VLOOKUP(B881,'Комиссии партнеров'!$A$2:$B$52,2,FALSE),\"\")","v":0.05},41.900000000000006]
[168931,"Партнер номер 1","1945-05-05","не оплачен",1617,{"$f":"IFERROR(VLOOKUP(B882,'Комиссии партнеров'!$A$2:$B$52,2,FALSE),\"\")","v":0.05},80.850000000000009]
[168933,"Партнер номер 1","1945-05-05","не оплачен",9074,{"$f":"IFERROR(VLOOKUP(B883,'Комиссии партнеров'!$A$2:$B$52,2,FALSE),\"\")","v":0.05},453.70000000000005]
[168938,"Партнер номер 1","1945-05-05","не оплачен",995,{"$f":"IFERROR(VLOOKUP(B884,'Комиссии партнеров'!$A$2:$B$52,2,FALSE),\"\")","v":0.05},49.75]
[168941,"Партнер номер 1","1945-05-05","не оплачен",838,{"$f":"IFERROR(VLOOKUP(B885,'Комиссии партнеров'!$A$2:$B$52,2,FALSE),\"\")","v":0.05},41.900000000000006]
[168945,"","1945-05-05","не оплачен",932,{"$f":"IFERROR(VLOOKUP(B886,'Комиссии партнеров'!$A$2:$B$52,2,FALSE),\"\")","v":""}]
[168950,"Партнер номер 1","1945-05-05","не оплачен",838,{"$f":"IFERROR(VLOOKUP(B887,'Комиссии партнеров'!$A$2:$B$52,2,FALSE),\"\")","v":0.05},41.900000000000006]
[168953,"Партнер номер 1","1945-05-05","оплачен",1323,{"$f":"IFERROR(VLOOKUP(B888,'Комиссии партнеров'!$A$2:$B$52,2,FALSE),\"\")","v":0.05},66.150000000000006]
[168958,"Партнер номер 1","1945-05-05","не оплачен",978,{"$f":"IFERROR(VLOOKUP(B889,'Комиссии партнеров'!$A$2:$B$52,2,FALSE),\"\")","v":0.05},48.900000000000006]
[168962,"Партнер номер 1","1945-05-05","оплачен",2415,{"$f":"IFERROR(VLOOKUP(B890,'Комиссии партнеров'!$A$2:$B$52,2,FALSE),\"\")","v":0.05},120.75]
[168965,"","1945-05-05","не оплачен",1553,{"$f":"IFERROR(VLOOKUP(B891,'Комиссии партнеров'!$A$2:$B$52,2,FALSE),\"\")","v":""}]
[168967,"Партнер номер 1","1945-05-05","не оплачен",875,{"$f":"IFERROR(VLOOKUP(B892,'Комиссии партнеров'!$A$2:$B$52,2,FALSE),\"\")","v":0.05},43.75]
[168971,"Партнер номер 1","1945-05-05","не оплачен",952,{"$f":"IFERROR(VLOOKUP(B893,'Комиссии партнеров'!$A$2:$B$52,2,FALSE),\"\")","v":0.05},47.6]
[168973,"Партнер номер 1","1945-05-05","не оплачен",1470,{"$f":"IFERROR(VLOOKUP(B894,'Комиссии партнеров'!$A$2:$B$52,2,FALSE),\"\")","v":0.05},73.5]
[168978,"Партнер номер 6","1945-05-05","не оплачен",838,{"$f":"IFERROR(VLOOKUP(B895,'Комиссии партнеров'!$A$2:$B$52,2,FALSE),\"\")","v":0.04},33.520000000000003]
[168983,"Партнер номер 1","1945-05-05","не оплачен",952,{"$f":"IFERROR(VLOOKUP(B896,'Комиссии партнеров'!$A$2:$B$52,2,FALSE),\"\")","v":0.05},47.6]
[168988,"Партнер номер 1","1945-05-05","оплачен",2308,{"$f":"IFERROR(VLOOKUP(B897,'Комиссии партнеров'!$A$2:$B$52,2,FALSE),\"\")","v":0.05},115.4]
[168990,"Партнер номер 1","1945-05-05","не оплачен",1028,{"$f":"IFERROR(VLOOKUP(B898,'Комиссии партнеров'!$A$2:$B$52,2,FALSE),\"\")","v":0.05},51.400000000000006]
[168995,"Партнер номер 1","1945-05-05","не оплачен",995,{"$f":"IFERROR(VLOOKUP(B899,'Комиссии партнеров'!$A$2:$B$52,2,FALSE),\"\")","v":0.05},49.75]
[169000,"Партнер номер 2","1945-05-05","не оплачен",2001,{"$f":"IFERROR(VLOOKUP(B900,'Комиссии партнеров'!$A$2:$B$52,2,FALSE),\"\")","v":0.04},80.040000000000006]
[169004,"Партнер номер 1","1945-05-05","оплачен",994,{"$f":"IFERROR(VLOOKUP(B901,'Комиссии партнеров'!$A$2:$B$52,2,FALSE),\"\")","v":0.05},49.7]
[169009,"Партнер номер 1","1945-05-05","не оплачен",897,{"$f":"IFERROR(VLOOKUP(B902,'Комиссии партнеров'!$A$2:$B$52,2,FALSE),\"\")","v":0.05},44.85]
[169014,"","1945-05-05","оплачен",1444,{"$f":"IFERROR(VLOOKUP(B903,'Комиссии партнеров'!$A$2:$B$52,2,FALSE),\"\")","v":""}]
[169015,"Партнер номер 3","1945-05-05","оплачен",1952,{"$f":"IFERROR(VLOOKUP(B904,'Комиссии партнеров'!$A$2:$B$52,2,FALSE),\"\")","v":0.05},97.600000000000009]
[169016,"Партнер номер 28","1945-05-05","не оплачен",8082,{"$f":"IFERROR(VLOOKUP(B905,'Комиссии партнеров'!$A$2:$B$52,2,FALSE),\"\")","v":0.05},404.1]
[169022,"Партнер номер 5","1945-05-05","не оплачен",2059,{"$f":"IFERROR(VLOOKUP(B906,'Комиссии партнеров'!$A$2:$B$52,2,FALSE),\"\")","v":0.03},61.769999999999996]
[169025,"","1945-05-05","оплачен",5074,{"$f":"IFERROR(VLOOKUP(B907,'Комиссии партнеров'!$A$2:$B$52,2,FALSE),\"\")","v":""}]
[169029,"Партнер номер 1","1945-05-05","не оплачен",2416,{"$f":"IFERROR(VLOOKUP(B908,'Комиссии партнеров'!$A$2:$B$52,2,FALSE),\"\")","v":0.05},120.80000000000001]
[169031,"","1945-05-05","оплачен",4350,{"$f":"IFERROR(VLOOKUP(B909,'Комиссии партнеров'!$A$2:$B$52,2,FALSE),\"\")","v":""}]
[169035,"","1945-05-05","не оплачен",2824,{"$f":"IFERROR(VLOOKUP(B910,'Комиссии партнеров'!$A$2:$B$52,2,FALSE),\"\")","v":""}]
[169039,"","1945-05-05","не оплачен",2824,{"$f":"IFERROR(VLOOKUP(B911,'Комиссии партнеров'!$A$2:$B$52,2,FALSE),\"\")","v":""}]
[169042,"","1945-05-05","оплачен",1013,{"$f":"IFERROR(VLOOKUP(B912,'Комиссии партнеров'!$A$2:$B$52,2,FALSE),\"\")","v":""}]
[169044,"","1945-05-05","оплачен",2524,{"$f":"IFERROR(VLOOKUP(B913,'Комиссии партнеров'!$A$2:$B$52,2,FALSE),\"\")","v":""}]
[169049,"","1945-05-05","не оплачен",1520,{"$f":"IFERROR(VLOOKUP(B914,'Комиссии партнеров'!$A$2:$B$52,2,FALSE),\"\")","v":""}]
[169051,"Партнер номер 11","1945-05-05","не оплачен",2734,{"$f":"IFERROR(VLOOKUP(B915,'Комиссии партнеров'!$A$2:$B$52,2,FALSE),\"\")","v":0.05},136.70000000000002]
[169055,"Партнер номер 7","1945-05-05","не оплачен",3769,{"$f":"IFERROR(VLOOKUP(B916,'Комиссии партнеров'!$A$2:$B$52,2,FALSE),\"\")","v":0.05},188.45000000000002]
[169056,"Партнер номер 5","1945-05-05","оплачен",1957,{"$f":"IFERROR(VLOOKUP(B917,'Комиссии партнеров'!$A$2:$B$52,2,FALSE),\"\")","v":0.03},58.71]
[169060,"Партнер номер 28","1945-05-05","не оплачен",2646,{"$f":"IFERROR(VLOOKUP(B918,'Комиссии партнеров'!$A$2:$B$52,2,FALSE),\"\")","v":0.05},132.30000000000001]
[169063,"Партнер номер 1","1945-05-05","не оплачен",5409,{"$f":"IFERROR(VLOOKUP(B919,'Комиссии партнеров'!$A$2:$B$52,2,FALSE),\"\")","v":0.05},270.45]
[169068,"Партнер номер 1","1945-05-05","не оплачен",1019,{"$f":"IFERROR(VLOOKUP(B920,'Комиссии партнеров'!$A$2:$B$52,2,FALSE),\"\")","v":0.05},50.95]
[169070,"Партнер номер 1","1945-05-05","оплачен",1251,{"$f":"IFERROR(VLOOKUP(B921,'Комиссии партнеров'!$A$2:$B$52,2,FALSE),\"\")","v":0.05},62.550000000000004]
[169074,"","1945-05-05","не оплачен",446,{"$f":"IFERROR(VLOOKUP(B922,'Комиссии партнеров'!$A$2:$B$52,2,FALSE),\"\")","v":""}]
[169076,"Партнер номер 1","1945-05-05","не оплачен",925,{"$f":"IFERROR(VLOOKUP(B923,'Комиссии партнеров'!$A$2:$B$52,2,FALSE),\"\")","v":0.05},46.25]
[169081,"","1945-05-05","оплачен",2327,{"$f":"IFERROR(VLOOKUP(B924,'Комиссии партнеров'!$A$2:$B$52,2,FALSE),\"\")","v":""}]
[169082,"","1945-05-05","не оплачен",2047,{"$f":"IFERROR(VLOOKUP(B925,'Комиссии партнеров'!$A$2:$B$52,2,FALSE),\"\")","v":""}]
[169085,"Партнер номер 3","1945-05-05","оплачен",2063,{"$f":"IFERROR(VLOOKUP(B926,'Комиссии партнеров'!$A$2:$B$52,2,FALSE),\"\")","v":0.05},103.15]
[169088,"Партнер номер 10","1945-05-05","оплачен",3239,{"$f":"IFERROR(VLOOKUP(B927,'Комиссии партнеров'!$A$2:$B$52,2,FALSE),\"\")","v":0.04},129.56]
[169092,"","1945-05-05","оплачен",1429,{"$f":"IFERROR(VLOOKUP(B928,'Комиссии партнеров'!$A$2:$B$52,2,FALSE),\"\")","v":""}]
[169095,"Партнер номер 11","1945-05-05","оплачен",1661,{"$f":"IFERROR(VLOOKUP(B929,'Комиссии партнеров'!$A$2:$B$52,2,FALSE),\"\")","v":0.05},83.050000000000011]
[169100,"Партнер номер 5","1945-05-05","оплачен",2037,{"$f":"IFERROR(VLOOKUP(B930,'Комиссии партнеров'!$A$2:$B$52,2,FALSE),\"\")","v":0.03},61.11]
[169102,"Партнер номер 1","1945-05-05","оплачен",1552,{"$f":"IFERROR(VLOOKUP(B931,'Комиссии партнеров'!$A$2:$B$52,2,FALSE),\"\")","v":0.05},77.600000000000009]
[169106,"","1945-05-05","оплачен",5814,{"$f":"IFERROR(VLOOKUP(B932,'Комиссии партнеров'!$A$2:$B$52,2,FALSE),\"\")","v":""}]
[169109,"","1945-05-05","оплачен",2818,{"$f":"IFERROR(VLOOKUP(B933,'Комиссии партнеров'!$A$2:$B$52,2,FALSE),\"\")","v":""}]
[169112,"","1945-05-05","оплачен",3606,{"$f":"IFERROR(VLOOKUP(B934,'Комиссии партнеров'!$A$2:$B$52,2,FALSE),\"\")","v":""}]
[169114,"","1945-05-05","оплачен",3404,{"$f":"IFERROR(VLOOKUP(B935,'Комиссии партнеров'!$A$2:$B$52,2,FALSE),\"\")","v":""}]
[169117,"Партнер номер 1","1945-05-05","не оплачен",394,{"$f":"IFERROR(VLOOKUP(B936,'Комиссии партнеров'!$A$2:$B$52,2,FALSE),\"\")","v":0.05},19.700000000000003]
[169122,"","1945-05-05","не оплачен",2400,{"$f":"IFERROR(VLOOKUP(B937,'Комиссии партнеров'!$A$2:$B$52,2,FALSE),\"\")","v":""}]
[169124,"","1945-05-05","не оплачен",2454,{"$f":"IFERROR(VLOOKUP(B938,'Комиссии партнеров'!$A$2:$B$52,2,FALSE),\"\")","v":""}]
[169127,"","1945-05-05","оплачен",2434,{"$f":"IFERROR(VLOOKUP(B939,'Комиссии партнеров'!$A$2:$B$52,2,FALSE),\"\")","v":""}]
[169128,"Партнер номер 7","1945-05-05","оплачен",884,{"$f":"IFERROR(VLOOKUP(B940,'Комиссии партнеров'!$A$2:$B$52,2,FALSE),\"\")","v":0.05},44.2]
[169132,"Партнер номер 7","1945-05-05","не оплачен",999,{"$f":"IFERROR(VLOOKUP(B941,'Комиссии партнеров'!$A$2:$B$52,2,FALSE),\"\")","v":0.05},49.95]
[169135,"","1945-05-05","не оплачен",2259,{"$f":"IFERROR(VLOOKUP(B942,'Комиссии партнеров'!$A$2:$B$52,2,FALSE),\"\")","v":""}]
[169138,"Партнер номер 28","1945-05-05","оплачен",2189,{"$f":"IFERROR(VLOOKUP(B943,'Комиссии партнеров'!$A$2:$B$52,2,FALSE),\"\")","v":0.05},109.45]
[169140,"Партнер номер 1","1945-05-05","оплачен",1008,{"$f":"IFERROR(VLOOKUP(B944,'Комиссии партнеров'!$A$2:$B$52,2,FALSE),\"\")","v":0.05},50.400000000000006]
[169142,"Партнер номер 5","1945-05-05","оплачен",6404,{"$f":"IFERROR(VLOOKUP(B945,'Комиссии партнеров'!$A$2:$B$52,2,FALSE),\"\")","v":0.03},192.12]
[169145,"Партнер номер 5","1945-05-05","оплачен",1179,{"$f":"IFERROR(VLOOKUP(B946,'Комиссии партнеров'!$A$2:$B$52,2,FALSE),\"\")","v":0.03},35.369999999999997]
[169147,"","1945-05-05","не оплачен",3380,{"$f":"IFERROR(VLOOKUP(B947,'Комиссии партнеров'!$A$2:$B$52,2,FALSE),\"\")","v":""}]
[169153,"Партнер номер 1","1945-05-05","не оплачен",477,{"$f":"IFERROR(VLOOKUP(B948,'Комиссии партнеров'!$A$2:$B$52,2,FALSE),\"\")","v":0.05},23.85]
[169156,"Партнер номер 5","1945-05-05","не оплачен",1658,{"$f":"IFERROR(VLOOKUP(B949,'Комиссии партнеров'!$A$2:$B$52,2,FALSE),\"\")","v":0.03},49.739999999999995]
[169159,"Партнер номер 3","1945-05-05","оплачен",850,{"$f":"IFERROR(VLOOKUP(B950,'Комиссии партнеров'!$A$2:$B$52,2,FALSE),\"\")","v":0.05},42.5]
[169161,"","1945-05-05","оплачен",2199,{"$f":"IFERROR(VLOOKUP(B951,'Комиссии партнеров'!$A$2:$B$52,2,FALSE),\"\")","v":""}]
[169163,"","1945-05-05","оплачен",3041,{"$f":"IFERROR(VLOOKUP(B952,'Комиссии партнеров'!$A$2:$B$52,2,FALSE),\"\")","v":""}]
[169166,"Партнер номер 1","1945-05-05","оплачен",1313,{"$f":"IFERROR(VLOOKUP(B953,'Комиссии партнеров'!$A$2:$B$52,2,FALSE),\"\")","v":0.05},65.650000000000006]
[169170,"","1945-05-05","не оплачен",2002,{"$f":"IFERROR(VLOOKUP(B954,'Комиссии партнеров'!$A$2:$B$52,2,FALSE),\"\")","v":""}]
[169174,"","1945-05-05","оплачен",2105,{"$f":"IFERROR(VLOOKUP(B955,'Комиссии партнеров'!$A$2:$B$52,2,FALSE),\"\")","v":""}]
[169175,"Партнер номер 1","1945-05-05","оплачен",1128,{"$f":"IFERROR(VLOOKUP(B956,'Комиссии партнеров'!$A$2:$B$52,2,FALSE),\"\")","v":0.05},56.400000000000006]
[169178,"Партнер номер 3","1945-05-05","не оплачен",498,{"$f":"IFERROR(VLOOKUP(B957,'Комиссии партнеров'!$A$2:$B$52,2,FALSE),\"\")","v":0.05},24.900000000000002]
[169182,"Партнер номер 3","1945-05-05","оплачен",5989,{"$f":"IFERROR(VLOOKUP(B958,'Комиссии партнеров'!$A$2:$B$52,2,FALSE),\"\")","v":0.05},299.45]
[169184,"Партнер номер 5","1945-05-05","оплачен",2325,{"$f":"IFERROR(VLOOKUP(B959,'Комиссии партнеров'!$A$2:$B$52,2,FALSE),\"\")","v":0.03},69.75]
[169188,"","1945-05-05","оплачен",2955,{"$f":"IFERROR(VLOOKUP(B960,'Комиссии партнеров'!$A$2:$B$52,2,FALSE),\"\")","v":""}]
[169191,"Партнер номер 11","1945-05-05","не оплачен",2370,{"$f":"IFERROR(VLOOKUP(B961,'Комиссии партнеров'!$A$2:$B$52,2,FALSE),\"\")","v":0.05},118.5]
[169193,"Партнер номер 21","1945-05-05","не оплачен",1457,{"$f":"IFERROR(VLOOKUP(B962,'Комиссии партнеров'!$A$2:$B$52,2,FALSE),\"\")","v":0.05},72.850000000000009]
[169195,"","1945-05-05","оплачен",999,{"$f":"IFERROR(VLOOKUP(B963,'Комиссии партнеров'!$A$2:$B$52,2,FALSE),\"\")","v":""}]
[169196,"","1945-05-05","оплачен",1347,{"$f":"IFERROR(VLOOKUP(B964,'Комиссии партнеров'!$A$2:$B$52,2,FALSE),\"\")","v":""}]
[169198,"Партнер номер 1","1945-05-05","оплачен",2389,{"$f":"IFERROR(VLOOKUP(B965,'Комиссии партнеров'!$A$2:$B$52,2,FALSE),\"\")","v":0.05},119.45]
[169201,"Партнер номер 1","1945-05-05","не оплачен",2981,{"$f":"IFERROR(VLOOKUP(B966,'Комиссии партнеров'!$A$2:$B$52,2,FALSE),\"\")","v":0.05},149.05000000000001]
[169205,"","1945-05-05","оплачен",2058,{"$f":"IFERROR(VLOOKUP(B967,'Комиссии партнеров'!$A$2:$B$52,2,FALSE),\"\")","v":""}]
[169208,"Партнер номер 1","1945-05-05","не оплачен",1034,{"$f":"IFERROR(VLOOKUP(B968,'Комиссии партнеров'!$A$2:$B$52,2,FALSE),\"\")","v":0.05},51.7]
[169211,"","1945-05-05","оплачен",3458,{"$f":"IFERROR(VLOOKUP(B969,'Комиссии партнеров'!$A$2:$B$52,2,FALSE),\"\")","v":""}]
[169213,"Партнер номер 29","1945-05-05","оплачен",2508,{"$f":"IFERROR(VLOOKUP(B970,'Комиссии партнеров'!$A$2:$B$52,2,FALSE),\"\")","v":0.05},125.4]
[169218,"","1945-05-05","оплачен",2074,{"$f":"IFERROR(VLOOKUP(B971,'Комиссии партнеров'!$A$2:$B$52,2,FALSE),\"\")","v":""}]
[169222,"Партнер номер 1","1945-05-05","не оплачен",2033,{"$f":"IFERROR(VLOOKUP(B972,'Комиссии партнеров'!$A$2:$B$52,2,FALSE),\"\")","v":0.05},101.65]
[169227,"Партнер номер 3","1945-05-05","не оплачен",1508,{"$f":"IFERROR(VLOOKUP(B973,'Комиссии партнеров'!$A$2:$B$52,2,FALSE),\"\")","v":0.05},75.400000000000006]
[169231,"Партнер номер 1","1945-05-05","не оплачен",1944,{"$f":"IFERROR(VLOOKUP(B974,'Комиссии партнеров'!$A$2:$B$52,2,FALSE),\"\")","v":0.05},97.2]
[169233,"","1945-05-05","оплачен",2879,{"$f":"IFERROR(VLOOKUP(B975,'Комиссии партнеров'!$A$2:$B$52,2,FALSE),\"\")","v":""}]
[169237,"Партнер номер 6","1945-05-05","не оплачен",1129,{"$f":"IFERROR(VLOOKUP(B976,'Комиссии партнеров'!$A$2:$B$52,2,FALSE),\"\")","v":0.04},45.160000000000004]
[169242,"Партнер номер 1","1945-05-05","не оплачен",1267,{"$f":"IFERROR(VLOOKUP(B977,'Комиссии партнеров'!$A$2:$B$52,2,FALSE),\"\")","v":0.05},63.35]
[169246,"Партнер номер 7","1945-05-05","оплачен",2358,{"$f":"IFERROR(VLOOKUP(B978,'Комиссии партнеров'!$A$2:$B$52,2,FALSE),\"\")","v":0.05},117.9]
[169252,"Партнер номер 7","1945-05-05","оплачен",2890,{"$f":"IFERROR(VLOOKUP(B979,'Комиссии партнеров'!$A$2:$B$52,2,FALSE),\"\")","v":0.05},144.5]
[169254,"Партнер номер 1","1945-05-05","не оплачен",498,{"$f":"IFERROR(VLOOKUP(B980,'Комиссии партнеров'!$A$2:$B$52,2,FALSE),\"\")","v":0.05},24.900000000000002]
[169256,"","1945-05-05","оплачен",1623,{"$f":"IFERROR(VLOOKUP(B981,'Комиссии партнеров'!$A$2:$B$52,2,FALSE),\"\")","v":""}]
[169261,"Партнер номер 1","1945-05-05","оплачен",1164,{"$f":"IFERROR(VLOOKUP(B982,'Комиссии партнеров'!$A$2:$B$52,2,FALSE),\"\")","v":0.05},58.2]
[169266,"Партнер номер 5","1945-05-05","оплачен",1606,{"$f":"IFERROR(VLOOKUP(B983,'Комиссии партнеров'!$A$2:$B$52,2,FALSE),\"\")","v":0.03},48.18]
[169270,"Партнер номер 5","1945-05-05","оплачен",2108,{"$f":"IFERROR(VLOOKUP(B984,'Комиссии партнеров'!$A$2:$B$52,2,FALSE),\"\")","v":0.03},63.239999999999995]
[169273,"Партнер номер 1","1945-05-05","не оплачен",498,{"$f":"IFERROR(VLOOKUP(B985,'Комиссии партнеров'!$A$2:$B$52,2,FALSE),\"\")","v":0.05},24.900000000000002]
[169278,"Партнер номер 11","1945-05-05","не оплачен",821,{"$f":"IFERROR(VLOOKUP(B986,'Комиссии партнеров'!$A$2:$B$52,2,FALSE),\"\")","v":0.05},41.050000000000004]
[169282,"Партнер номер 5","1945-05-05","оплачен",7314,{"$f":"IFERROR(VLOOKUP(B987,'Комиссии партнеров'!$A$2:$B$52,2,FALSE),\"\")","v":0.03},219.42]
[169284,"Партнер номер 1","1945-05-05","не оплачен",1184,{"$f":"IFERROR(VLOOKUP(B988,'Комиссии партнеров'!$A$2:$B$52,2,FALSE),\"\")","v":0.05},59.2]
[169288,"","1945-05-05","не оплачен",2372,{"$f":"IFERROR(VLOOKUP(B989,'Комиссии партнеров'!$A$2:$B$52,2,FALSE),\"\")","v":""}]
[169293,"Партнер номер 1","1945-05-05","не оплачен",2404,{"$f":"IFERROR(VLOOKUP(B990,'Комиссии партнеров'!$A$2:$B$52,2,FALSE),\"\")","v":0.05},120.2]
[169295,"","1945-05-05","оплачен",4184,{"$f":"IFERROR(VLOOKUP(B991,'Комиссии партнеров'!$A$2:$B$52,2,FALSE),\"\")","v":""}]
[169298,"","1945-05-05","не оплачен",2195,{"$f":"IFERROR(VLOOKUP(B992,'Комиссии партнеров'!$A$2:$B$52,2,FALSE),\"\")","v":""}]
[169303,"","1945-05-05","не оплачен",2518,{"$f":"IFERROR(VLOOKUP(B993,'Комиссии партнеров'!$A$2:$B$52,2,FALSE),\"\")","v":""}]
[169305,"","1945-05-06","оплачен",5738,{"$f":"IFERROR(VLOOKUP(B994,'Комиссии партнеров'!$A$2:$B$52,2,FALSE),\"\")","v":""}]
[169310,"","1945-05-06","не оплачен",2926,{"$f":"IFERROR(VLOOKUP(B995,'Комиссии партнеров'!$A$2:$B$52,2,FALSE),\"\")","v":""}]
[169315,"Партнер номер 1","1945-05-06","оплачен",623,{"$f":"IFERROR(VLOOKUP(B996,'Комиссии партнеров'!$A$2:$B$52,2,FALSE),\"\")","v":0.05},31.150000000000002]
[169318,"Партнер номер 5","1945-05-06","не оплачен",4262,{"$f":"IFERROR(VLOOKUP(B997,'Комиссии партнеров'!$A$2:$B$52,2,FALSE),\"\")","v":0.03},127.86]
[169323,"Партнер номер 5","1945-05-06","не оплачен",1893,{"$f":"IFERROR(VLOOKUP(B998,'Комиссии партнеров'!$A$2:$B$52,2,FALSE),\"\")","v":0.03},56.79]
[169328,"Партнер номер 3","1945-05-06","оплачен",3405,{"$f":"IFERROR(VLOOKUP(B999,'Комиссии партнеров'!$A$2:$B$52,2,FALSE),\"\")","v":0.05},170.25]
[169330,"Партнер номер 1","1945-05-06","не оплачен",446,{"$f":"IFERROR(VLOOKUP(B1000,'Комиссии партнеров'!$A$2:$B$52,2,FALSE),\"\")","v":0.05},22.3]
[169334,"Партнер номер 1","1945-05-06","оплачен",446,{"$f":"IFERROR(VLOOKUP(B1001,'Комиссии партнеров'!$A$2:$B$52,2,FALSE),\"\")","v":0.05},22.3]
[169339,"","1945-05-06","оплачен",2616,{"$f":"IFERROR(VLOOKUP(B1002,'Комиссии партнеров'!$A$2:$B$52,2,FALSE),\"\")","v":""}]
[169344,"Партнер номер 5","1945-05-06","не оплачен",781,{"$f":"IFERROR(VLOOKUP(B1003,'Комиссии партнеров'!$A$2:$B$52,2,FALSE),\"\")","v":0.03},23.43]
[169346,"Партнер номер 5","1945-05-06","не оплачен",3435,{"$f":"IFERROR(VLOOKUP(B1004,'Комиссии партнеров'!$A$2:$B$52,2,FALSE),\"\")","v":0.03},103.05]
[169351,"Партнер номер 1","1945-05-06","оплачен",3423,{"$f":"IFERROR(VLOOKUP(B1005,'Комиссии партнеров'!$A$2:$B$52,2,FALSE),\"\")","v":0.05},171.15]
[169356,"","1945-05-06","оплачен",1951,{"$f":"IFERROR(VLOOKUP(B1006,'Комиссии партнеров'!$A$2:$B$52,2,FALSE),\"\")","v":""}]
[169360,"Партнер номер 6","1945-05-06","оплачен",1095,{"$f":"IFERROR(VLOOKUP(B1007,'Комиссии партнеров'!$A$2:$B$52,2,FALSE),\"\")","v":0.04},43.800000000000004]
[169362,"Партнер номер 21","1945-05-06","оплачен",2529,{"$f":"IFERROR(VLOOKUP(B1008,'Комиссии партнеров'!$A$2:$B$52,2,FALSE),\"\")","v":0.05},126.45]
[169367,"","1945-05-06","оплачен",1765,{"$f":"IFERROR(VLOOKUP(B1009,'Комиссии партнеров'!$A$2:$B$52,2,FALSE),\"\")","v":""}]
[169373,"Партнер номер 1","1945-05-06","не оплачен",2923,{"$f":"IFERROR(VLOOKUP(B1010,'Комиссии партнеров'!$A$2:$B$52,2,FALSE),\"\")","v":0.05},146.15]
[169376,"","1945-05-06","оплачен",4541,{"$f":"IFERROR(VLOOKUP(B1011,'Комиссии партнеров'!$A$2:$B$52,2,FALSE),\"\")","v":""}]
[169378,"","1945-05-06","не оплачен",3797,{"$f":"IFERROR(VLOOKUP(B1012,'Комиссии партнеров'!$A$2:$B$52,2,FALSE),\"\")","v":""}]
[169381,"Партнер номер 1","1945-05-06","не оплачен",446,{"$f":"IFERROR(VLOOKUP(B1013,'Комиссии партнеров'!$A$2:$B$52,2,FALSE),\"\")","v":0.05},22.3]
[169382,"Партнер номер 1","1945-05-06","не оплачен",654,{"$f":"IFERROR(VLOOKUP(B1014,'Комиссии партнеров'!$A$2:$B$52,2,FALSE),\"\")","v":0.05},32.700000000000003]
[169384,"Партнер номер 1","1945-05-06","оплачен",4873,{"$f":"IFERROR(VLOOKUP(B1015,'Комиссии партнеров'!$A$2:$B$52,2,FALSE),\"\")","v":0.05},243.65]
[169386,"","1945-05-06","оплачен",3752,{"$f":"IFERROR(VLOOKUP(B1016,'Комиссии партнеров'!$A$2:$B$52,2,FALSE),\"\")","v":""}]
[169390,"","1945-05-06","оплачен",2349,{"$f":"IFERROR(VLOOKUP(B1017,'Комиссии партнеров'!$A$2:$B$52,2,FALSE),\"\")","v":""}]
[169392,"Партнер номер 7","1945-05-06","не оплачен",2044,{"$f":"IFERROR(VLOOKUP(B1018,'Комиссии партнеров'!$A$2:$B$52,2,FALSE),\"\")","v":0.05},102.2]
[169395,"","1945-05-06","оплачен",2206,{"$f":"IFERROR(VLOOKUP(B1019,'Комиссии партнеров'!$A$2:$B$52,2,FALSE),\"\")","v":""}]
[169400,"Партнер номер 2","1945-05-06","не оплачен",2196,{"$f":"IFERROR(VLOOKUP(B1020,'Комиссии партнеров'!$A$2:$B$52,2,FALSE),\"\")","v":0.04},87.84]
[169405,"","1945-05-06","не оплачен",4724,{"$f":"IFERROR(VLOOKUP(B1021,'Комиссии партнеров'!$A$2:$B$52,2,FALSE),\"\")","v":""}]
[169411,"Партнер номер 11","1945-05-06","не оплачен",1032,{"$f":"IFERROR(VLOOKUP(B1022,'Комиссии партнеров'!$A$2:$B$52,2,FALSE),\"\")","v":0.05},51.6]
[169415,"","1945-05-06","оплачен",1155,{"$f":"IFERROR(VLOOKUP(B1023,'Комиссии партнеров'!$A$2:$B$52,2,FALSE),\"\")","v":""}]
[169419,"Партнер номер 1","1945-05-06","не оплачен",4062,{"$f":"IFERROR(VLOOKUP(B1024,'Комиссии партнеров'!$A$2:$B$52,2,FALSE),\"\")","v":0.05},203.10000000000002]
[169421,"Партнер номер 11","1945-05-06","оплачен",1606,{"$f":"IFERROR(VLOOKUP(B1025,'Комиссии партнеров'!$A$2:$B$52,2,FALSE),\"\")","v":0.05},80.300000000000011]
[169424,"","1945-05-06","не оплачен",1641,{"$f":"IFERROR(VLOOKUP(B1026,'Комиссии партнеров'!$A$2:$B$52,2,FALSE),\"\")","v":""}]
[169428,"Партнер номер 7","1945-05-06","оплачен",2550,{"$f":"IFERROR(VLOOKUP(B1027,'Комиссии партнеров'!$A$2:$B$52,2,FALSE),\"\")","v":0.05},127.5]
[169431,"","1945-05-06","не оплачен",2664,{"$f":"IFERROR(VLOOKUP(B1028,'Комиссии партнеров'!$A$2:$B$52,2,FALSE),\"\")","v":""}]
[169436,"Партнер номер 1","1945-05-06","оплачен",3454,{"$f":"IFERROR(VLOOKUP(B1029,'Комиссии партнеров'!$A$2:$B$52,2,FALSE),\"\")","v":0.05},172.70000000000002]
[169441,"Партнер номер 1","1945-05-06","оплачен",498,{"$f":"IFERROR(VLOOKUP(B1030,'Комиссии партнеров'!$A$2:$B$52,2,FALSE),\"\")","v":0.05},24.900000000000002]
[169444,"","1945-05-06","оплачен",10941,{"$f":"IFERROR(VLOOKUP(B1031,'Комиссии партнеров'!$A$2:$B$52,2,FALSE),\"\")","v":""}]
[169446,"Партнер номер 11","1945-05-06","не оплачен",1146,{"$f":"IFERROR(VLOOKUP(B1032,'Комиссии партнеров'!$A$2:$B$52,2,FALSE),\"\")","v":0.05},57.300000000000004]
[169450,"Партнер номер 1","1945-05-06","оплачен",681,{"$f":"IFERROR(VLOOKUP(B1033,'Комиссии партнеров'!$A$2:$B$52,2,FALSE),\"\")","v":0.05},34.050000000000004]
[169456,"Партнер номер 1","1945-05-06","оплачен",2292,{"$f":"IFERROR(VLOOKUP(B1034,'Комиссии партнеров'!$A$2:$B$52,2,FALSE),\"\")","v":0.05},114.60000000000001]
[169459,"","1945-05-06","не оплачен",3877,{"$f":"IFERROR(VLOOKUP(B1035,'Комиссии партнеров'!$A$2:$B$52,2,FALSE),\"\")","v":""}]
[169463,"Партнер номер 30","1945-05-06","оплачен",5892,{"$f":"IFERROR(VLOOKUP(B1036,'Комиссии партнеров'!$A$2:$B$52,2,FALSE),\"\")","v":0.05},294.60000000000002]
[169467,"Партнер номер 1","1945-05-06","оплачен",738,{"$f":"IFERROR(VLOOKUP(B1037,'Комиссии партнеров'!$A$2:$B$52,2,FALSE),\"\")","v":0.05},36.9]
[169470,"Партнер номер 11","1945-05-06","не оплачен",1063,{"$f":"IFERROR(VLOOKUP(B1038,'Комиссии партнеров'!$A$2:$B$52,2,FALSE),\"\")","v":0.05},53.150000000000006]
[169473,"","1945-05-06","оплачен",931,{"$f":"IFERROR(VLOOKUP(B1039,'Комиссии партнеров'!$A$2:$B$52,2,FALSE),\"\")","v":""}]
[169478,"Партнер номер 1","1945-05-06","не оплачен",1129,{"$f":"IFERROR(VLOOKUP(B1040,'Комиссии партнеров'!$A$2:$B$52,2,FALSE),\"\")","v":0.05},56.45]
[169484,"Партнер номер 1","1945-05-06","оплачен",4062,{"$f":"IFERROR(VLOOKUP(B1041,'Комиссии партнеров'!$A$2:$B$52,2,FALSE),\"\")","v":0.05},203.10000000000002]
[169486,"Партнер номер 1","1945-05-06","оплачен",1358,{"$f":"IFERROR(VLOOKUP(B1042,'Комиссии партнеров'!$A$2:$B$52,2,FALSE),\"\")","v":0.05},67.900000000000006]
[169490,"Партнер номер 1","1945-05-06","оплачен",2450,{"$f":"IFERROR(VLOOKUP(B1043,'Комиссии партнеров'!$A$2:$B$52,2,FALSE),\"\")","v":0.05},122.5]
[169495,"Партнер номер 1","1945-05-06","оплачен",1835,{"$f":"IFERROR(VLOOKUP(B1044,'Комиссии партнеров'!$A$2:$B$52,2,FALSE),\"\")","v":0.05},91.75]
[169497,"Партнер номер 1","1945-05-06","не оплачен",477,{"$f":"IFERROR(VLOOKUP(B1045,'Комиссии партнеров'!$A$2:$B$52,2,FALSE),\"\")","v":0.05},23.85]
[169499,"Партнер номер 1","1945-05-06","оплачен",1230,{"$f":"IFERROR(VLOOKUP(B1046,'Комиссии партнеров'!$A$2:$B$52,2,FALSE),\"\")","v":0.05},61.5]
[169503,"","1945-05-06","не оплачен",2048,{"$f":"IFERROR(VLOOKUP(B1047,'Комиссии партнеров'!$A$2:$B$52,2,FALSE),\"\")","v":""}]
[169507,"Партнер номер 1","1945-05-06","не оплачен",905,{"$f":"IFERROR(VLOOKUP(B1048,'Комиссии партнеров'!$A$2:$B$52,2,FALSE),\"\")","v":0.05},45.25]
[169512,"Партнер номер 1","1945-05-06","не оплачен",2113,{"$f":"IFERROR(VLOOKUP(B1049,'Комиссии партнеров'!$A$2:$B$52,2,FALSE),\"\")","v":0.05},105.65]
[169517,"","1945-05-06","оплачен",1465,{"$f":"IFERROR(VLOOKUP(B1050,'Комиссии партнеров'!$A$2:$B$52,2,FALSE),\"\")","v":""}]
[169521,"","1945-05-06","оплачен",1734,{"$f":"IFERROR(VLOOKUP(B1051,'Комиссии партнеров'!$A$2:$B$52,2,FALSE),\"\")","v":""}]
[169523,"Партнер номер 1","1945-05-06","оплачен",1340,{"$f":"IFERROR(VLOOKUP(B1052,'Комиссии партнеров'!$A$2:$B$52,2,FALSE),\"\")","v":0.05},67]
[169527,"","1945-05-06","оплачен",3877,{"$f":"IFERROR(VLOOKUP(B1053,'Комиссии партнеров'!$A$2:$B$52,2,FALSE),\"\")","v":""}]
[169530,"","1945-05-06","оплачен",1394,{"$f":"IFERROR(VLOOKUP(B1054,'Комиссии партнеров'!$A$2:$B$52,2,FALSE),\"\")","v":""}]
[169535,"Партнер номер 2","1945-05-06","не оплачен",1329,{"$f":"IFERROR(VLOOKUP(B1055,'Комиссии партнеров'!$A$2:$B$52,2,FALSE),\"\")","v":0.04},53.160000000000004]
[169537,"","1945-05-06","оплачен",2116,{"$f":"IFERROR(VLOOKUP(B1056,'Комиссии партнеров'!$A$2:$B$52,2,FALSE),\"\")","v":""}]
[169539,"","1945-05-06","не оплачен",808,{"$f":"IFERROR(VLOOKUP(B1057,'Комиссии партнеров'!$A$2:$B$52,2,FALSE),\"\")","v":""}]
[169543,"Партнер номер 11","1945-05-06","не оплачен",1016,{"$f":"IFERROR(VLOOKUP(B1058,'Комиссии партнеров'!$A$2:$B$52,2,FALSE),\"\")","v":0.05},50.800000000000004]
[169547,"Партнер номер 5","1945-05-06","оплачен",4110,{"$f":"IFERROR(VLOOKUP(B1059,'Комиссии партнеров'!$A$2:$B$52,2,FALSE),\"\")","v":0.03},123.3]
[169550,"","1945-05-06","не оплачен",7000,{"$f":"IFERROR(VLOOKUP(B1060,'Комиссии партнеров'!$A$2:$B$52,2,FALSE),\"\")","v":""}]
[169555,"","1945-05-06","не оплачен",1896,{"$f":"IFERROR(VLOOKUP(B1061,'Комиссии партнеров'!$A$2:$B$52,2,FALSE),\"\")","v":""}]
[169559,"Партнер номер 11","1945-05-06","не оплачен",2258,{"$f":"IFERROR(VLOOKUP(B1062,'Комиссии партнеров'!$A$2:$B$52,2,FALSE),\"\")","v":0.05},112.9]
[169562,"","1945-05-06","оплачен",808,{"$f":"IFERROR(VLOOKUP(B1063,'Комиссии партнеров'!$A$2:$B$52,2,FALSE),\"\")","v":""}]
[169566,"","1945-05-06","оплачен",2381,{"$f":"IFERROR(VLOOKUP(B1064,'Комиссии партнеров'!$A$2:$B$52,2,FALSE),\"\")","v":""}]
[169572,"Партнер номер 5","1945-05-06","оплачен",5760,{"$f":"IFERROR(VLOOKUP(B1065,'Комиссии партнеров'!$A$2:$B$52,2,FALSE),\"\")","v":0.03},172.79999999999998]
[169576,"Партнер номер 1","1945-05-06","не оплачен",604,{"$f":"IFERROR(VLOOKUP(B1066,'Комиссии партнеров'!$A$2:$B$52,2,FALSE),\"\")","v":0.05},30.200000000000003]
[169580,"Партнер номер 1","1945-05-06","не оплачен",3213,{"$f":"IFERROR(VLOOKUP(B1067,'Комиссии партнеров'!$A$2:$B$52,2,FALSE),\"\")","v":0.05},160.65]
[169582,"Партнер номер 31","1945-05-06","оплачен",2352,{"$f":"IFERROR(VLOOKUP(B1068,'Комиссии партнеров'!$A$2:$B$52,2,FALSE),\"\")","v":0.03},70.56]
[169587,"","1945-05-06","оплачен",1761,{"$f":"IFERROR(VLOOKUP(B1069,'Комиссии партнеров'!$A$2:$B$52,2,FALSE),\"\")","v":""}]
[169590,"Партнер номер 13","1945-05-06","не оплачен",1841,{"$f":"IFERROR(VLOOKUP(B1070,'Комиссии партнеров'!$A$2:$B$52,2,FALSE),\"\")","v":0.05},92.050000000000011]
[169594,"","1945-05-06","не оплачен",4941,{"$f":"IFERROR(VLOOKUP(B1071,'Комиссии партнеров'!$A$2:$B$52,2,FALSE),\"\")","v":""}]
[169596,"","1945-05-06","не оплачен",4941,{"$f":"IFERROR(VLOOKUP(B1072,'Комиссии партнеров'!$A$2:$B$52,2,FALSE),\"\")","v":""}]
[169599,"Партнер номер 11","1945-05-06","оплачен",1755,{"$f":"IFERROR(VLOOKUP(B1073,'Комиссии партнеров'!$A$2:$B$52,2,FALSE),\"\")","v":0.05},87.75]
[169601,"","1945-05-06","оплачен",1173,{"$f":"IFERROR(VLOOKUP(B1074,'Комиссии партнеров'!$A$2:$B$52,2,FALSE),\"\")","v":""}]
[169603,"Партнер номер 7","1945-05-06","оплачен",1393,{"$f":"IFERROR(VLOOKUP(B1075,'Комиссии партнеров'!$A$2:$B$52,2,FALSE),\"\")","v":0.05},69.650000000000006]
[169605,"Партнер номер 2","1945-05-06","не оплачен",5469,{"$f":"IFERROR(VLOOKUP(B1076,'Комиссии партнеров'!$A$2:$B$52,2,FALSE),\"\")","v":0.04},218.76]
[169609,"Партнер номер 7","1945-05-06","оплачен",5397,{"$f":"IFERROR(VLOOKUP(B1077,'Комиссии партнеров'!$A$2:$B$52,2,FALSE),\"\")","v":0.05},269.85000000000002]
[169614,"","1945-05-06","оплачен",1768,{"$f":"IFERROR(VLOOKUP(B1078,'Комиссии партнеров'!$A$2:$B$52,2,FALSE),\"\")","v":""}]
[169618,"Партнер номер 1","1945-05-06","не оплачен",3215,{"$f":"IFERROR(VLOOKUP(B1079,'Комиссии партнеров'!$A$2:$B$52,2,FALSE),\"\")","v":0.05},160.75]
[169624,"","1945-05-06","оплачен",1128,{"$f":"IFERROR(VLOOKUP(B1080,'Комиссии партнеров'!$A$2:$B$52,2,FALSE),\"\")","v":""}]
[169626,"Партнер номер 3","1945-05-06","оплачен",820,{"$f":"IFERROR(VLOOKUP(B1081,'Комиссии партнеров'!$A$2:$B$52,2,FALSE),\"\")","v":0.05},41]
[169631,"Партнер номер 2","1945-05-06","оплачен",4448,{"$f":"IFERROR(VLOOKUP(B1082,'Комиссии партнеров'!$A$2:$B$52,2,FALSE),\"\")","v":0.04},177.92000000000002]
[169634,"","1945-05-06","оплачен",1709,{"$f":"IFERROR(VLOOKUP(B1083,'Комиссии партнеров'!$A$2:$B$52,2,FALSE),\"\")","v":""}]
[169637,"Партнер номер 3","1945-05-06","оплачен",785,{"$f":"IFERROR(VLOOKUP(B1084,'Комиссии партнеров'!$A$2:$B$52,2,FALSE),\"\")","v":0.05},39.25]
[169639,"","1945-05-06","оплачен",2201,{"$f":"IFERROR(VLOOKUP(B1085,'Комиссии партнеров'!$A$2:$B$52,2,FALSE),\"\")","v":""}]
[169642,"","1945-05-06","оплачен",2479,{"$f":"IFERROR(VLOOKUP(B1086,'Комиссии партнеров'!$A$2:$B$52,2,FALSE),\"\")","v":""}]
[169648,"Партнер номер 1","1945-05-06","не оплачен",559,{"$f":"IFERROR(VLOOKUP(B1087,'Комиссии партнеров'!$A$2:$B$52,2,FALSE),\"\")","v":0.05},27.950000000000003]
[169651,"","1945-05-06","оплачен",1066,{"$f":"IFERROR(VLOOKUP(B1088,'Комиссии партнеров'!$A$2:$B$52,2,FALSE),\"\")","v":""}]
[169654,"Партнер номер 1","1945-05-06","оплачен",4364,{"$f":"IFERROR(VLOOKUP(B1089,'Комиссии партнеров'!$A$2:$B$52,2,FALSE),\"\")","v":0.05},218.20000000000002]
[169656,"","1945-05-06","оплачен",1359,{"$f":"IFERROR(VLOOKUP(B1090,'Комиссии партнеров'!$A$2:$B$52,2,FALSE),\"\")","v":""}]
[169658,"Партнер номер 1","1945-05-06","оплачен",2501,{"$f":"IFERROR(VLOOKUP(B1091,'Комиссии партнеров'!$A$2:$B$52,2,FALSE),\"\")","v":0.05},125.05000000000001]
[169661,"","1945-05-06","оплачен",2010,{"$f":"IFERROR(VLOOKUP(B1092,'Комиссии партнеров'!$A$2:$B$52,2,FALSE),\"\")","v":""}]
[169663,"Партнер номер 1","1945-05-06","не оплачен",1770,{"$f":"IFERROR(VLOOKUP(B1093,'Комиссии партнеров'!$A$2:$B$52,2,FALSE),\"\")","v":0.05},88.5]
[169667,"Партнер номер 1","1945-05-06","оплачен",590,{"$f":"IFERROR(VLOOKUP(B1094,'Комиссии партнеров'!$A$2:$B$52,2,FALSE),\"\")","v":0.05},29.5]
[169670,"Партнер номер 1","1945-05-06","не оплачен",769,{"$f":"IFERROR(VLOOKUP(B1095,'Комиссии партнеров'!$A$2:$B$52,2,FALSE),\"\")","v":0.05},38.450000000000003]
[169675,"Партнер номер 1","1945-05-06","не оплачен",341,{"$f":"IFERROR(VLOOKUP(B1096,'Комиссии партнеров'!$A$2:$B$52,2,FALSE),\"\")","v":0.05},17.05]
[169677,"","1945-05-06","не оплачен",2512,{"$f":"IFERROR(VLOOKUP(B1097,'Комиссии партнеров'!$A$2:$B$52,2,FALSE),\"\")","v":""}]
[169682,"","1945-05-06","не оплачен",2438,{"$f":"IFERROR(VLOOKUP(B1098,'Комиссии партнеров'!$A$2:$B$52,2,FALSE),\"\")","v":""}]
[169685,"Партнер номер 11","1945-05-06","не оплачен",1593,{"$f":"IFERROR(VLOOKUP(B1099,'Комиссии партнеров'!$A$2:$B$52,2,FALSE),\"\")","v":0.05},79.650000000000006]
[169690,"","1945-05-06","не оплачен",1750,{"$f":"IFERROR(VLOOKUP(B1100,'Комиссии партнеров'!$A$2:$B$52,2,FALSE),\"\")","v":""}]
[169695,"","1945-05-06","оплачен",2763,{"$f":"IFERROR(VLOOKUP(B1101,'Комиссии партнеров'!$A$2:$B$52,2,FALSE),\"\")","v":""}]
[169699,"","1945-05-06","не оплачен",1847,{"$f":"IFERROR(VLOOKUP(B1102,'Комиссии партнеров'!$A$2:$B$52,2,FALSE),\"\")","v":""}]
[169704,"","1945-05-06","оплачен",4833,{"$f":"IFERROR(VLOOKUP(B1103,'Комиссии партнеров'!$A$2:$B$52,2,FALSE),\"\")","v":""}]
[169706,"","1945-05-06","оплачен",2585,{"$f":"IFERROR(VLOOKUP(B1104,'Комиссии партнеров'!$A$2:$B$52,2,FALSE),\"\")","v":""}]
[169709,"Партнер номер 1","1945-05-06","не оплачен",2816,{"$f":"IFERROR(VLOOKUP(B1105,'Комиссии партнеров'!$A$2:$B$52,2,FALSE),\"\")","v":0.05},140.80000000000001]
[169712,"","1945-05-06","не оплачен",2015,{"$f":"IFERROR(VLOOKUP(B1106,'Комиссии партнеров'!$A$2:$B$52,2,FALSE),\"\")","v":""}]
[169716,"","1945-05-06","не оплачен",1242,{"$f":"IFERROR(VLOOKUP(B1107,'Комиссии партнеров'!$A$2:$B$52,2,FALSE),\"\")","v":""}]
[169718,"Партнер номер 7","1945-05-06","оплачен",2583,{"$f":"IFERROR(VLOOKUP(B1108,'Комиссии партнеров'!$A$2:$B$52,2,FALSE),\"\")","v":0.05},129.15]
[169720,"Партнер номер 5","1945-05-06","оплачен",5822,{"$f":"IFERROR(VLOOKUP(B1109,'Комиссии партнеров'!$A$2:$B$52,2,FALSE),\"\")","v":0.03},174.66]
[169722,"Партнер номер 11","1945-05-06","не оплачен",1697,{"$f":"IFERROR(VLOOKUP(B1110,'Комиссии партнеров'!$A$2:$B$52,2,FALSE),\"\")","v":0.05},84.850000000000009]
[169727,"","1945-05-06","оплачен",1255,{"$f":"IFERROR(VLOOKUP(B1111,'Комиссии партнеров'!$A$2:$B$52,2,FALSE),\"\")","v":""}]
[169732,"","1945-05-06","не оплачен",2883,{"$f":"IFERROR(VLOOKUP(B1112,'Комиссии партнеров'!$A$2:$B$52,2,FALSE),\"\")","v":""}]
[169737,"Партнер номер 2","1945-05-06","оплачен",2681,{"$f":"IFERROR(VLOOKUP(B1113,'Комиссии партнеров'!$A$2:$B$52,2,FALSE),\"\")","v":0.04},107.24000000000001]
[169738,"Партнер номер 11","1945-05-06","оплачен",1809,{"$f":"IFERROR(VLOOKUP(B1114,'Комиссии партнеров'!$A$2:$B$52,2,FALSE),\"\")","v":0.05},90.45]
[169743,"","1945-05-06","оплачен",1741,{"$f":"IFERROR(VLOOKUP(B1115,'Комиссии партнеров'!$A$2:$B$52,2,FALSE),\"\")","v":""}]
[169745,"Партнер номер 1","1945-05-06","не оплачен",2046,{"$f":"IFERROR(VLOOKUP(B1116,'Комиссии партнеров'!$A$2:$B$52,2,FALSE),\"\")","v":0.05},102.30000000000001]
[169747,"","1945-05-06","оплачен",2782,{"$f":"IFERROR(VLOOKUP(B1117,'Комиссии партнеров'!$A$2:$B$52,2,FALSE),\"\")","v":""}]
[169751,"","1945-05-06","оплачен",1910,{"$f":"IFERROR(VLOOKUP(B1118,'Комиссии партнеров'!$A$2:$B$52,2,FALSE),\"\")","v":""}]
[169753,"Партнер номер 7","1945-05-06","не оплачен",2929,{"$f":"IFERROR(VLOOKUP(B1119,'Комиссии партнеров'!$A$2:$B$52,2,FALSE),\"\")","v":0.05},146.45000000000002]
[169755,"Партнер номер 1","1945-05-06","оплачен",1306,{"$f":"IFERROR(VLOOKUP(B1120,'Комиссии партнеров'!$A$2:$B$52,2,FALSE),\"\")","v":0.05},65.3]
[169758,"Партнер номер 11","1945-05-06","не оплачен",2217,{"$f":"IFERROR(VLOOKUP(B1121,'Комиссии партнеров'!$A$2:$B$52,2,FALSE),\"\")","v":0.05},110.85000000000001]
[169763,"","1945-05-06","оплачен",4618,{"$f":"IFERROR(VLOOKUP(B1122,'Комиссии партнеров'!$A$2:$B$52,2,FALSE),\"\")","v":""}]
[169768,"Партнер номер 3","1945-05-06","не оплачен",446,{"$f":"IFERROR(VLOOKUP(B1123,'Комиссии партнеров'!$A$2:$B$52,2,FALSE),\"\")","v":0.05},22.3]
[169770,"","1945-05-06","не оплачен",1849,{"$f":"IFERROR(VLOOKUP(B1124,'Комиссии партнеров'!$A$2:$B$52,2,FALSE),\"\")","v":""}]
[169773,"","1945-05-07","оплачен",3995,{"$f":"IFERROR(VLOOKUP(B1125,'Комиссии партнеров'!$A$2:$B$52,2,FALSE),\"\")","v":""}]
[169775,"","1945-05-07","оплачен",4370,{"$f":"IFERROR(VLOOKUP(B1126,'Комиссии партнеров'!$A$2:$B$52,2,FALSE),\"\")","v":""}]
[169778,"Партнер номер 1","1945-05-07","оплачен",772,{"$f":"IFERROR(VLOOKUP(B1127,'Комиссии партнеров'!$A$2:$B$52,2,FALSE),\"\")","v":0.05},38.6]
[169783,"","1945-05-07","оплачен",3714,{"$f":"IFERROR(VLOOKUP(B1128,'Комиссии партнеров'!$A$2:$B$52,2,FALSE),\"\")","v":""}]
[169787,"Партнер номер 1","1945-05-07","не оплачен",1119,{"$f":"IFERROR(VLOOKUP(B1129,'Комиссии партнеров'!$A$2:$B$52,2,FALSE),\"\")","v":0.05},55.95]
[169791,"Партнер номер 32","1945-05-07","не оплачен",2749,{"$f":"IFERROR(VLOOKUP(B1130,'Комиссии партнеров'!$A$2:$B$52,2,FALSE),\"\")","v":0.05},137.45000000000002]
[169794,"Партнер номер 3","1945-05-07","оплачен",8080,{"$f":"IFERROR(VLOOKUP(B1131,'Комиссии партнеров'!$A$2:$B$52,2,FALSE),\"\")","v":0.05},404]
[169798,"","1945-05-07","оплачен",1328,{"$f":"IFERROR(VLOOKUP(B1132,'Комиссии партнеров'!$A$2:$B$52,2,FALSE),\"\")","v":""}]
[169801,"Партнер номер 1","1945-05-07","оплачен",2187,{"$f":"IFERROR(VLOOKUP(B1133,'Комиссии партнеров'!$A$2:$B$52,2,FALSE),\"\")","v":0.05},109.35000000000001]
[169806,"Партнер номер 32","1945-05-07","оплачен",2818,{"$f":"IFERROR(VLOOKUP(B1134,'Комиссии партнеров'!$A$2:$B$52,2,FALSE),\"\")","v":0.05},140.9]
[169810,"","1945-05-07","оплачен",1329,{"$f":"IFERROR(VLOOKUP(B1135,'Комиссии партнеров'!$A$2:$B$52,2,FALSE),\"\")","v":""}]
[169814,"","1945-05-07","не оплачен",1022,{"$f":"IFERROR(VLOOKUP(B1136,'Комиссии партнеров'!$A$2:$B$52,2,FALSE),\"\")","v":""}]
[169816,"Партнер номер 10","1945-05-07","оплачен",2009,{"$f":"IFERROR(VLOOKUP(B1137,'Комиссии партнеров'!$A$2:$B$52,2,FALSE),\"\")","v":0.04},80.36]
[169821,"Партнер номер 17","1945-05-07","оплачен",4924,{"$f":"IFERROR(VLOOKUP(B1138,'Комиссии партнеров'!$A$2:$B$52,2,FALSE),\"\")","v":0.04},196.96]
[169824,"Партнер номер 1","1945-05-07","не оплачен",731,{"$f":"IFERROR(VLOOKUP(B1139,'Комиссии партнеров'!$A$2:$B$52,2,FALSE),\"\")","v":0.05},36.550000000000004]
[169829,"Партнер номер 11","1945-05-07","оплачен",371,{"$f":"IFERROR(VLOOKUP(B1140,'Комиссии партнеров'!$A$2:$B$52,2,FALSE),\"\")","v":0.05},18.55]
[169834,"Партнер номер 11","1945-05-07","оплачен",1649,{"$f":"IFERROR(VLOOKUP(B1141,'Комиссии партнеров'!$A$2:$B$52,2,FALSE),\"\")","v":0.05},82.45]
[169838,"Партнер номер 3","1945-05-07","не оплачен",2993,{"$f":"IFERROR(VLOOKUP(B1142,'Комиссии партнеров'!$A$2:$B$52,2,FALSE),\"\")","v":0.05},149.65]
[169844,"","1945-05-07","не оплачен",3924,{"$f":"IFERROR(VLOOKUP(B1143,'Комиссии партнеров'!$A$2:$B$52,2,FALSE),\"\")","v":""}]
[169847,"Партнер номер 1","1945-05-07","не оплачен",2782,{"$f":"IFERROR(VLOOKUP(B1144,'Комиссии партнеров'!$A$2:$B$52,2,FALSE),\"\")","v":0.05},139.1]
[169850,"Партнер номер 1","1945-05-07","не оплачен",638,{"$f":"IFERROR(VLOOKUP(B1145,'Комиссии партнеров'!$A$2:$B$52,2,FALSE),\"\")","v":0.05},31.900000000000002]
[169852,"Партнер номер 11","1945-05-07","оплачен",1349,{"$f":"IFERROR(VLOOKUP(B1146,'Комиссии партнеров'!$A$2:$B$52,2,FALSE),\"\")","v":0.05},67.45]
[169856,"Партнер номер 6","1945-05-07","не оплачен",695,{"$f":"IFERROR(VLOOKUP(B1147,'Комиссии партнеров'!$A$2:$B$52,2,FALSE),\"\")","v":0.04},27.8]
[169860,"Партнер номер 5","1945-05-07","оплачен",8836,{"$f":"IFERROR(VLOOKUP(B1148,'Комиссии партнеров'!$A$2:$B$52,2,FALSE),\"\")","v":0.03},265.08]
[169862,"","1945-05-07","не оплачен",3152,{"$f":"IFERROR(VLOOKUP(B1149,'Комиссии партнеров'!$A$2:$B$52,2,FALSE),\"\")","v":""}]
[169865,"","1945-05-07","оплачен",3521,{"$f":"IFERROR(VLOOKUP(B1150,'Комиссии партнеров'!$A$2:$B$52,2,FALSE),\"\")","v":""}]
[169869,"","1945-05-07","оплачен",1255,{"$f":"IFERROR(VLOOKUP(B1151,'Комиссии партнеров'!$A$2:$B$52,2,FALSE),\"\")","v":""}]
[169871,"","1945-05-07","не оплачен",2296,{"$f":"IFERROR(VLOOKUP(B1152,'Комиссии партнеров'!$A$2:$B$52,2,FALSE),\"\")","v":""}]
[169877,"Партнер номер 1","1945-05-07","не оплачен",2113,{"$f":"IFERROR(VLOOKUP(B1153,'Комиссии партнеров'!$A$2:$B$52,2,FALSE),\"\")","v":0.05},105.65]
[169880,"","1945-05-07","не оплачен",1361,{"$f":"IFERROR(VLOOKUP(B1154,'Комиссии партнеров'!$A$2:$B$52,2,FALSE),\"\")","v":""}]
[169883,"","1945-05-07","оплачен",1975,{"$f":"IFERROR(VLOOKUP(B1155,'Комиссии партнеров'!$A$2:$B$52,2,FALSE),\"\")","v":""}]
[169885,"","1945-05-07","оплачен",2257,{"$f":"IFERROR(VLOOKUP(B1156,'Комиссии партнеров'!$A$2:$B$52,2,FALSE),\"\")","v":""}]
[169889,"","1945-05-07","не оплачен",1335,{"$f":"IFERROR(VLOOKUP(B1157,'Комиссии партнеров'!$A$2:$B$52,2,FALSE),\"\")","v":""}]
[169892,"Партнер номер 3","1945-05-07","не оплачен",4838,{"$f":"IFERROR(VLOOKUP(B1158,'Комиссии партнеров'!$A$2:$B$52,2,FALSE),\"\")","v":0.05},241.9]
[169897,"","1945-05-07","оплачен",1900,{"$f":"IFERROR(VLOOKUP(B1159,'Комиссии партнеров'!$A$2:$B$52,2,FALSE),\"\")","v":""}]
[169900,"","1945-05-07","оплачен",1432,{"$f":"IFERROR(VLOOKUP(B1160,'Комиссии партнеров'!$A$2:$B$52,2,FALSE),\"\")","v":""}]
[169904,"","1945-05-07","оплачен",1890,{"$f":"IFERROR(VLOOKUP(B1161,'Комиссии партнеров'!$A$2:$B$52,2,FALSE),\"\")","v":""}]
[169908,"","1945-05-07","оплачен",2740,{"$f":"IFERROR(VLOOKUP(B1162,'Комиссии партнеров'!$A$2:$B$52,2,FALSE),\"\")","v":""}]
[169912,"Партнер номер 1","1945-05-07","не оплачен",2335,{"$f":"IFERROR(VLOOKUP(B1163,'Комиссии партнеров'!$A$2:$B$52,2,FALSE),\"\")","v":0.05},116.75]
[169914,"Партнер номер 3","1945-05-07","оплачен",975,{"$f":"IFERROR(VLOOKUP(B1164,'Комиссии партнеров'!$A$2:$B$52,2,FALSE),\"\")","v":0.05},48.75]
[169918,"","1945-05-07","оплачен",1402,{"$f":"IFERROR(VLOOKUP(B1165,'Комиссии партнеров'!$A$2:$B$52,2,FALSE),\"\")","v":""}]
[169920,"","1945-05-07","не оплачен",2379,{"$f":"IFERROR(VLOOKUP(B1166,'Комиссии партнеров'!$A$2:$B$52,2,FALSE),\"\")","v":""}]
[169926,"Партнер номер 1","1945-05-07","не оплачен",1469,{"$f":"IFERROR(VLOOKUP(B1167,'Комиссии партнеров'!$A$2:$B$52,2,FALSE),\"\")","v":0.05},73.45]
[169928,"Партнер номер 1","1945-05-07","не оплачен",1887,{"$f":"IFERROR(VLOOKUP(B1168,'Комиссии партнеров'!$A$2:$B$52,2,FALSE),\"\")","v":0.05},94.350000000000009]
[169931,"Партнер номер 1","1945-05-07","не оплачен",1887,{"$f":"IFERROR(VLOOKUP(B1169,'Комиссии партнеров'!$A$2:$B$52,2,FALSE),\"\")","v":0.05},94.350000000000009]
[169932,"Партнер номер 1","1945-05-07","оплачен",643,{"$f":"IFERROR(VLOOKUP(B1170,'Комиссии партнеров'!$A$2:$B$52,2,FALSE),\"\")","v":0.05},32.15]
[169935,"Партнер номер 3","1945-05-07","не оплачен",777,{"$f":"IFERROR(VLOOKUP(B1171,'Комиссии партнеров'!$A$2:$B$52,2,FALSE),\"\")","v":0.05},38.85]
[169940,"","1945-05-07","оплачен",8601,{"$f":"IFERROR(VLOOKUP(B1172,'Комиссии партнеров'!$A$2:$B$52,2,FALSE),\"\")","v":""}]
[169942,"","1945-05-07","оплачен",1799,{"$f":"IFERROR(VLOOKUP(B1173,'Комиссии партнеров'!$A$2:$B$52,2,FALSE),\"\")","v":""}]
[169947,"Партнер номер 5","1945-05-07","не оплачен",2056,{"$f":"IFERROR(VLOOKUP(B1174,'Комиссии партнеров'!$A$2:$B$52,2,FALSE),\"\")","v":0.03},61.68]
[169948,"","1945-05-07","оплачен",1913,{"$f":"IFERROR(VLOOKUP(B1175,'Комиссии партнеров'!$A$2:$B$52,2,FALSE),\"\")","v":""}]
[169953,"","1945-05-07","не оплачен",1188,{"$f":"IFERROR(VLOOKUP(B1176,'Комиссии партнеров'!$A$2:$B$52,2,FALSE),\"\")","v":""}]
[169957,"Партнер номер 1","1945-05-07","оплачен",2192,{"$f":"IFERROR(VLOOKUP(B1177,'Комиссии партнеров'!$A$2:$B$52,2,FALSE),\"\")","v":0.05},109.60000000000001]
[169959,"Партнер номер 28","1945-05-07","оплачен",4521,{"$f":"IFERROR(VLOOKUP(B1178,'Комиссии партнеров'!$A$2:$B$52,2,FALSE),\"\")","v":0.05},226.05]
[169960,"Партнер номер 1","1945-05-07","не оплачен",1118,{"$f":"IFERROR(VLOOKUP(B1179,'Комиссии партнеров'!$A$2:$B$52,2,FALSE),\"\")","v":0.05},55.900000000000006]
[169964,"Партнер номер 3","1945-05-07","оплачен",1170,{"$f":"IFERROR(VLOOKUP(B1180,'Комиссии партнеров'!$A$2:$B$52,2,FALSE),\"\")","v":0.05},58.5]
[169967,"Партнер номер 1","1945-05-07","оплачен",651,{"$f":"IFERROR(VLOOKUP(B1181,'Комиссии партнеров'!$A$2:$B$52,2,FALSE),\"\")","v":0.05},32.550000000000004]
[169970,"","1945-05-07","оплачен",2258,{"$f":"IFERROR(VLOOKUP(B1182,'Комиссии партнеров'!$A$2:$B$52,2,FALSE),\"\")","v":""}]
[169972,"","1945-05-07","оплачен",2293,{"$f":"IFERROR(VLOOKUP(B1183,'Комиссии партнеров'!$A$2:$B$52,2,FALSE),\"\")","v":""}]
[169976,"Партнер номер 5","1945-05-07","не оплачен",1321,{"$f":"IFERROR(VLOOKUP(B1184,'Комиссии партнеров'!$A$2:$B$52,2,FALSE),\"\")","v":0.03},39.629999999999995]
[169978,"Партнер номер 1","1945-05-07","оплачен",2448,{"$f":"IFERROR(VLOOKUP(B1185,'Комиссии партнеров'!$A$2:$B$52,2,FALSE),\"\")","v":0.05},122.4]
[169980,"","1945-05-07","не оплачен",1993,{"$f":"IFERROR(VLOOKUP(B1186,'Комиссии партнеров'!$A$2:$B$52,2,FALSE),\"\")","v":""}]
[169985,"Партнер номер 3","1945-05-07","оплачен",1038,{"$f":"IFERROR(VLOOKUP(B1187,'Комиссии партнеров'!$A$2:$B$52,2,FALSE),\"\")","v":0.05},51.900000000000006]
[169988,"","1945-05-07","оплачен",1733,{"$f":"IFERROR(VLOOKUP(B1188,'Комиссии партнеров'!$A$2:$B$52,2,FALSE),\"\")","v":""}]
[169992,"","1945-05-07","не оплачен",2378,{"$f":"IFERROR(VLOOKUP(B1189,'Комиссии партнеров'!$A$2:$B$52,2,FALSE),\"\")","v":""}]
[169998,"Партнер номер 33","1945-05-07","оплачен",795,{"$f":"IFERROR(VLOOKUP(B1190,'Комиссии партнеров'!$A$2:$B$52,2,FALSE),\"\")","v":0.05},39.75]
[170000,"","1945-05-07","оплачен",2131,{"$f":"IFERROR(VLOOKUP(B1191,'Комиссии партнеров'!$A$2:$B$52,2,FALSE),\"\")","v":""}]
[170002,"Партнер номер 21","1945-05-07","оплачен",827,{"$f":"IFERROR(VLOOKUP(B1192,'Комиссии партнеров'!$A$2:$B$52,2,FALSE),\"\")","v":0.05},41.35]
[170005,"Партнер номер 23","1945-05-07","не оплачен",2427,{"$f":"IFERROR(VLOOKUP(B1193,'Комиссии партнеров'!$A$2:$B$52,2,FALSE),\"\")","v":0.05},121.35000000000001]
[170007,"Партнер номер 1","1945-05-07","не оплачен",681,{"$f":"IFERROR(VLOOKUP(B1194,'Комиссии партнеров'!$A$2:$B$52,2,FALSE),\"\")","v":0.05},34.050000000000004]
[170010,"","1945-05-07","оплачен",1402,{"$f":"IFERROR(VLOOKUP(B1195,'Комиссии партнеров'!$A$2:$B$52,2,FALSE),\"\")","v":""}]
[170015,"","1945-05-07","оплачен",2887,{"$f":"IFERROR(VLOOKUP(B1196,'Комиссии партнеров'!$A$2:$B$52,2,FALSE),\"\")","v":""}]
[170020,"","1945-05-07","оплачен",2111,{"$f":"IFERROR(VLOOKUP(B1197,'Комиссии партнеров'!$A$2:$B$52,2,FALSE),\"\")","v":""}]
[170024,"","1945-05-07","оплачен",1787,{"$f":"IFERROR(VLOOKUP(B1198,'Комиссии партнеров'!$A$2:$B$52,2,FALSE),\"\")","v":""}]
[170026,"Партнер номер 1","1945-05-07","не оплачен",3227,{"$f":"IFERROR(VLOOKUP(B1199,'Комиссии партнеров'!$A$2:$B$52,2,FALSE),\"\")","v":0.05},161.35000000000002]
[170032,"","1945-05-07","не оплачен",847,{"$f":"IFERROR(VLOOKUP(B1200,'Комиссии партнеров'!$A$2:$B$52,2,FALSE),\"\")","v":""}]
[170035,"","1945-05-07","не оплачен",1044,{"$f":"IFERROR(VLOOKUP(B1201,'Комиссии партнеров'!$A$2:$B$52,2,FALSE),\"\")","v":""}]
[170038,"","1945-05-07","оплачен",1542,{"$f":"IFERROR(VLOOKUP(B1202,'Комиссии партнеров'!$A$2:$B$52,2,FALSE),\"\")","v":""}]
[170041,"Партнер номер 2","1945-05-07","оплачен",2713,{"$f":"IFERROR(VLOOKUP(B1203,'Комиссии партнеров'!$A$2:$B$52,2,FALSE),\"\")","v":0.04},108.52]
[170045,"Партнер номер 1","1945-05-07","не оплачен",1582,{"$f":"IFERROR(VLOOKUP(B1204,'Комиссии партнеров'!$A$2:$B$52,2,FALSE),\"\")","v":0.05},79.100000000000009]
[170049,"Партнер номер 1","1945-05-07","не оплачен",5409,{"$f":"IFERROR(VLOOKUP(B1205,'Комиссии партнеров'!$A$2:$B$52,2,FALSE),\"\")","v":0.05},270.45]
[170051,"Партнер номер 11","1945-05-07","не оплачен",788,{"$f":"IFERROR(VLOOKUP(B1206,'Комиссии партнеров'!$A$2:$B$52,2,FALSE),\"\")","v":0.05},39.400000000000006]
[170056,"","1945-05-07","оплачен",2968,{"$f":"IFERROR(VLOOKUP(B1207,'Комиссии партнеров'!$A$2:$B$52,2,FALSE),\"\")","v":""}]
[170057,"","1945-05-07","оплачен",1379,{"$f":"IFERROR(VLOOKUP(B1208,'Комиссии партнеров'!$A$2:$B$52,2,FALSE),\"\")","v":""}]
[170061,"","1945-05-07","не оплачен",788,{"$f":"IFERROR(VLOOKUP(B1209,'Комиссии партнеров'!$A$2:$B$52,2,FALSE),\"\")","v":""}]
[170064,"","1945-05-07","оплачен",1177,{"$f":"IFERROR(VLOOKUP(B1210,'Комиссии партнеров'!$A$2:$B$52,2,FALSE),\"\")","v":""}]
[170065,"","1945-05-07","оплачен",1995,{"$f":"IFERROR(VLOOKUP(B1211,'Комиссии партнеров'!$A$2:$B$52,2,FALSE),\"\")","v":""}]
[170069,"Партнер номер 1","1945-05-07","не оплачен",1099,{"$f":"IFERROR(VLOOKUP(B1212,'Комиссии партнеров'!$A$2:$B$52,2,FALSE),\"\")","v":0.05},54.95]
[170073,"","1945-05-07","оплачен",836,{"$f":"IFERROR(VLOOKUP(B1213,'Комиссии партнеров'!$A$2:$B$52,2,FALSE),\"\")","v":""}]
[170078,"","1945-05-07","оплачен",4349,{"$f":"IFERROR(VLOOKUP(B1214,'Комиссии партнеров'!$A$2:$B$52,2,FALSE),\"\")","v":""}]
[170084,"Партнер номер 3","1945-05-07","не оплачен",1838,{"$f":"IFERROR(VLOOKUP(B1215,'Комиссии партнеров'!$A$2:$B$52,2,FALSE),\"\")","v":0.05},91.9]
[170086,"","1945-05-07","оплачен",1953,{"$f":"IFERROR(VLOOKUP(B1216,'Комиссии партнеров'!$A$2:$B$52,2,FALSE),\"\")","v":""}]
[170091,"Партнер номер 1","1945-05-07","не оплачен",834,{"$f":"IFERROR(VLOOKUP(B1217,'Комиссии партнеров'!$A$2:$B$52,2,FALSE),\"\")","v":0.05},41.7]
[170095,"","1945-05-07","не оплачен",3916,{"$f":"IFERROR(VLOOKUP(B1218,'Комиссии партнеров'!$A$2:$B$52,2,FALSE),\"\")","v":""}]
[170099,"Партнер номер 28","1945-05-07","оплачен",2042,{"$f":"IFERROR(VLOOKUP(B1219,'Комиссии партнеров'!$A$2:$B$52,2,FALSE),\"\")","v":0.05},102.10000000000001]
[170103,"","1945-05-07","не оплачен",2475,{"$f":"IFERROR(VLOOKUP(B1220,'Комиссии партнеров'!$A$2:$B$52,2,FALSE),\"\")","v":""}]
[170108,"Партнер номер 1","1945-05-07","оплачен",1553,{"$f":"IFERROR(VLOOKUP(B1221,'Комиссии партнеров'!$A$2:$B$52,2,FALSE),\"\")","v":0.05},77.650000000000006]
[170113,"Партнер номер 1","1945-05-07","не оплачен",4421,{"$f":"IFERROR(VLOOKUP(B1222,'Комиссии партнеров'!$A$2:$B$52,2,FALSE),\"\")","v":0.05},221.05]
[170115,"Партнер номер 1","1945-05-07","оплачен",1398,{"$f":"IFERROR(VLOOKUP(B1223,'Комиссии партнеров'!$A$2:$B$52,2,FALSE),\"\")","v":0.05},69.900000000000006]
[170119,"","1945-05-07","оплачен",1786,{"$f":"IFERROR(VLOOKUP(B1224,'Комиссии партнеров'!$A$2:$B$52,2,FALSE),\"\")","v":""}]
[170121,"","1945-05-07","оплачен",1332,{"$f":"IFERROR(VLOOKUP(B1225,'Комиссии партнеров'!$A$2:$B$52,2,FALSE),\"\")","v":""}]
[170125,"","1945-05-07","оплачен",1894,{"$f":"IFERROR(VLOOKUP(B1226,'Комиссии партнеров'!$A$2:$B$52,2,FALSE),\"\")","v":""}]
[170128,"","1945-05-07","оплачен",1845,{"$f":"IFERROR(VLOOKUP(B1227,'Комиссии партнеров'!$A$2:$B$52,2,FALSE),\"\")","v":""}]
[170130,"Партнер номер 7","1945-05-07","оплачен",1017,{"$f":"IFERROR(VLOOKUP(B1228,'Комиссии партнеров'!$A$2:$B$52,2,FALSE),\"\")","v":0.05},50.85]
[170132,"","1945-05-07","оплачен",1804,{"$f":"IFERROR(VLOOKUP(B1229,'Комиссии партнеров'!$A$2:$B$52,2,FALSE),\"\")","v":""}]
[170136,"Партнер номер 1","1945-05-07","не оплачен",3685,{"$f":"IFERROR(VLOOKUP(B1230,'Комиссии партнеров'!$A$2:$B$52,2,FALSE),\"\")","v":0.05},184.25]
[170138,"","1945-05-07","не оплачен",637,{"$f":"IFERROR(VLOOKUP(B1231,'Комиссии партнеров'!$A$2:$B$52,2,FALSE),\"\")","v":""}]
[170143,"","1945-05-07","оплачен",988,{"$f":"IFERROR(VLOOKUP(B1232,'Комиссии партнеров'!$A$2:$B$52,2,FALSE),\"\")","v":""}]
[170149,"Партнер номер 1","1945-05-07","не оплачен",819,{"$f":"IFERROR(VLOOKUP(B1233,'Комиссии партнеров'!$A$2:$B$52,2,FALSE),\"\")","v":0.05},40.950000000000003]
[170152,"","1945-05-07","оплачен",1228,{"$f":"IFERROR(VLOOKUP(B1234,'Комиссии партнеров'!$A$2:$B$52,2,FALSE),\"\")","v":""}]
[170156,"Партнер номер 1","1945-05-07","не оплачен",3034,{"$f":"IFERROR(VLOOKUP(B1235,'Комиссии партнеров'!$A$2:$B$52,2,FALSE),\"\")","v":0.05},151.70000000000002]
[170160,"Партнер номер 1","1945-05-07","оплачен",651,{"$f":"IFERROR(VLOOKUP(B1236,'Комиссии партнеров'!$A$2:$B$52,2,FALSE),\"\")","v":0.05},32.550000000000004]
[170165,"Партнер номер 7","1945-05-07","оплачен",697,{"$f":"IFERROR(VLOOKUP(B1237,'Комиссии партнеров'!$A$2:$B$52,2,FALSE),\"\")","v":0.05},34.85]
[170169,"","1945-05-07","оплачен",3384,{"$f":"IFERROR(VLOOKUP(B1238,'Комиссии партнеров'!$A$2:$B$52,2,FALSE),\"\")","v":""}]
[170173,"","1945-05-07","оплачен",890,{"$f":"IFERROR(VLOOKUP(B1239,'Комиссии партнеров'!$A$2:$B$52,2,FALSE),\"\")","v":""}]
[170174,"Партнер номер 1","1945-05-07","не оплачен",1513,{"$f":"IFERROR(VLOOKUP(B1240,'Комиссии партнеров'!$A$2:$B$52,2,FALSE),\"\")","v":0.05},75.650000000000006]
[170178,"Партнер номер 1","1945-05-07","не оплачен",1698,{"$f":"IFERROR(VLOOKUP(B1241,'Комиссии партнеров'!$A$2:$B$52,2,FALSE),\"\")","v":0.05},84.9]
[170180,"","1945-05-07","оплачен",1572,{"$f":"IFERROR(VLOOKUP(B1242,'Комиссии партнеров'!$A$2:$B$52,2,FALSE),\"\")","v":""}]
[170184,"Партнер номер 1","1945-05-07","не оплачен",2959,{"$f":"IFERROR(VLOOKUP(B1243,'Комиссии партнеров'!$A$2:$B$52,2,FALSE),\"\")","v":0.05},147.95000000000002]
[170189,"Партнер номер 17","1945-05-07","оплачен",3824,{"$f":"IFERROR(VLOOKUP(B1244,'Комиссии партнеров'!$A$2:$B$52,2,FALSE),\"\")","v":0.04},152.96]
[170190,"Партнер номер 1","1945-05-07","не оплачен",1014,{"$f":"IFERROR(VLOOKUP(B1245,'Комиссии партнеров'!$A$2:$B$52,2,FALSE),\"\")","v":0.05},50.7]
[170195,"Партнер номер 17","1945-05-07","оплачен",2293,{"$f":"IFERROR(VLOOKUP(B1246,'Комиссии партнеров'!$A$2:$B$52,2,FALSE),\"\")","v":0.04},91.72]
[170197,"Партнер номер 11","1945-05-07","оплачен",1409,{"$f":"IFERROR(VLOOKUP(B1247,'Комиссии партнеров'!$A$2:$B$52,2,FALSE),\"\")","v":0.05},70.45]
[170202,"Партнер номер 17","1945-05-07","оплачен",2856,{"$f":"IFERROR(VLOOKUP(B1248,'Комиссии партнеров'!$A$2:$B$52,2,FALSE),\"\")","v":0.04},114.24000000000001]
[170207,"Партнер номер 1","1945-05-07","не оплачен",881,{"$f":"IFERROR(VLOOKUP(B1249,'Комиссии партнеров'!$A$2:$B$52,2,FALSE),\"\")","v":0.05},44.050000000000004]
[170212,"Партнер номер 2","1945-05-07","не оплачен",1514,{"$f":"IFERROR(VLOOKUP(B1250,'Комиссии партнеров'!$A$2:$B$52,2,FALSE),\"\")","v":0.04},60.56]
[170213,"","1945-05-07","оплачен",3032,{"$f":"IFERROR(VLOOKUP(B1251,'Комиссии партнеров'!$A$2:$B$52,2,FALSE),\"\")","v":""}]
[170217,"","1945-05-07","оплачен",9878,{"$f":"IFERROR(VLOOKUP(B1252,'Комиссии партнеров'!$A$2:$B$52,2,FALSE),\"\")","v":""}]
[170220,"Партнер номер 1","1945-05-07","не оплачен",1781,{"$f":"IFERROR(VLOOKUP(B1253,'Комиссии партнеров'!$A$2:$B$52,2,FALSE),\"\")","v":0.05},89.050000000000011]
[170223,"","1945-05-07","не оплачен",2942,{"$f":"IFERROR(VLOOKUP(B1254,'Комиссии партнеров'!$A$2:$B$52,2,FALSE),\"\")","v":""}]
[170227,"Партнер номер 5","1945-05-07","не оплачен",10504,{"$f":"IFERROR(VLOOKUP(B1255,'Комиссии партнеров'!$A$2:$B$52,2,FALSE),\"\")","v":0.03},315.12]
[170229,"","1945-05-07","не оплачен",4545,{"$f":"IFERROR(VLOOKUP(B1256,'Комиссии партнеров'!$A$2:$B$52,2,FALSE),\"\")","v":""}]
[170233,"","1945-05-07","оплачен",1278,{"$f":"IFERROR(VLOOKUP(B1257,'Комиссии партнеров'!$A$2:$B$52,2,FALSE),\"\")","v":""}]
[170237,"Партнер номер 1","1945-05-07","оплачен",1918,{"$f":"IFERROR(VLOOKUP(B1258,'Комиссии партнеров'!$A$2:$B$52,2,FALSE),\"\")","v":0.05},95.9]
[170242,"Партнер номер 3","1945-05-07","не оплачен",1697,{"$f":"IFERROR(VLOOKUP(B1259,'Комиссии партнеров'!$A$2:$B$52,2,FALSE),\"\")","v":0.05},84.850000000000009]
[170247,"","1945-05-07","оплачен",1434,{"$f":"IFERROR(VLOOKUP(B1260,'Комиссии партнеров'!$A$2:$B$52,2,FALSE),\"\")","v":""}]
[170249,"Партнер номер 3","1945-05-07","не оплачен",1697,{"$f":"IFERROR(VLOOKUP(B1261,'Комиссии партнеров'!$A$2:$B$52,2,FALSE),\"\")","v":0.05},84.850000000000009]
[170252,"","1945-05-07","не оплачен",2236,{"$f":"IFERROR(VLOOKUP(B1262,'Комиссии партнеров'!$A$2:$B$52,2,FALSE),\"\")","v":""}]
[170258,"","1945-05-07","не оплачен",587,{"$f":"IFERROR(VLOOKUP(B1263,'Комиссии партнеров'!$A$2:$B$52,2,FALSE),\"\")","v":""}]
[170261,"Партнер номер 3","1945-05-07","оплачен",1865,{"$f":"IFERROR(VLOOKUP(B1264,'Комиссии партнеров'!$A$2:$B$52,2,FALSE),\"\")","v":0.05},93.25]
[170265,"","1945-05-07","оплачен",1521,{"$f":"IFERROR(VLOOKUP(B1265,'Комиссии партнеров'!$A$2:$B$52,2,FALSE),\"\")","v":""}]
[170267,"","1945-05-07","не оплачен",812,{"$f":"IFERROR(VLOOKUP(B1266,'Комиссии партнеров'!$A$2:$B$52,2,FALSE),\"\")","v":""}]
[170269,"Партнер номер 3","1945-05-07","не оплачен",4131,{"$f":"IFERROR(VLOOKUP(B1267,'Комиссии партнеров'!$A$2:$B$52,2,FALSE),\"\")","v":0.05},206.55]
[170270,"Партнер номер 1","1945-05-07","оплачен",623,{"$f":"IFERROR(VLOOKUP(B1268,'Комиссии партнеров'!$A$2:$B$52,2,FALSE),\"\")","v":0.05},31.150000000000002]
[170273,"Партнер номер 11","1945-05-07","не оплачен",3526,{"$f":"IFERROR(VLOOKUP(B1269,'Комиссии партнеров'!$A$2:$B$52,2,FALSE),\"\")","v":0.05},176.3]
[170279,"Партнер номер 1","1945-05-07","не оплачен",2318,{"$f":"IFERROR(VLOOKUP(B1270,'Комиссии партнеров'!$A$2:$B$52,2,FALSE),\"\")","v":0.05},115.9]
[170284,"","1945-05-07","оплачен",3999,{"$f":"IFERROR(VLOOKUP(B1271,'Комиссии партнеров'!$A$2:$B$52,2,FALSE),\"\")","v":""}]
[170289,"","1945-05-07","оплачен",4059,{"$f":"IFERROR(VLOOKUP(B1272,'Комиссии партнеров'!$A$2:$B$52,2,FALSE),\"\")","v":""}]
[170291,"Партнер номер 1","1945-05-07","не оплачен",2732,{"$f":"IFERROR(VLOOKUP(B1273,'Комиссии партнеров'!$A$2:$B$52,2,FALSE),\"\")","v":0.05},136.6]
[170296,"","1945-05-07","оплачен",4063,{"$f":"IFERROR(VLOOKUP(B1274,'Комиссии партнеров'!$A$2:$B$52,2,FALSE),\"\")","v":""}]
[170297,"","1945-05-07","не оплачен",2942,{"$f":"IFERROR(VLOOKUP(B1275,'Комиссии партнеров'!$A$2:$B$52,2,FALSE),\"\")","v":""}]
[170300,"Партнер номер 1","1945-05-07","не оплачен",2449,{"$f":"IFERROR(VLOOKUP(B1276,'Комиссии партнеров'!$A$2:$B$52,2,FALSE),\"\")","v":0.05},122.45]
[170303,"Партнер номер 5","1945-05-07","не оплачен",1189,{"$f":"IFERROR(VLOOKUP(B1277,'Комиссии партнеров'!$A$2:$B$52,2,FALSE),\"\")","v":0.03},35.67]
[170306,"","1945-05-07","оплачен",1565,{"$f":"IFERROR(VLOOKUP(B1278,'Комиссии партнеров'!$A$2:$B$52,2,FALSE),\"\")","v":""}]
[170308,"","1945-05-07","не оплачен",4796,{"$f":"IFERROR(VLOOKUP(B1279,'Комиссии партнеров'!$A$2:$B$52,2,FALSE),\"\")","v":""}]
[170312,"","1945-05-07","оплачен",1576,{"$f":"IFERROR(VLOOKUP(B1280,'Комиссии партнеров'!$A$2:$B$52,2,FALSE),\"\")","v":""}]
[170316,"Партнер номер 7","1945-05-07","оплачен",942,{"$f":"IFERROR(VLOOKUP(B1281,'Комиссии партнеров'!$A$2:$B$52,2,FALSE),\"\")","v":0.05},47.1]
[170318,"Партнер номер 1","1945-05-07","оплачен",2036,{"$f":"IFERROR(VLOOKUP(B1282,'Комиссии партнеров'!$A$2:$B$52,2,FALSE),\"\")","v":0.05},101.80000000000001]
[170321,"","1945-05-07","оплачен",2395,{"$f":"IFERROR(VLOOKUP(B1283,'Комиссии партнеров'!$A$2:$B$52,2,FALSE),\"\")","v":""}]
[170325,"","1945-05-07","оплачен",4796,{"$f":"IFERROR(VLOOKUP(B1284,'Комиссии партнеров'!$A$2:$B$52,2,FALSE),\"\")","v":""}]
[170330,"","1945-05-07","оплачен",2033,{"$f":"IFERROR(VLOOKUP(B1285,'Комиссии партнеров'!$A$2:$B$52,2,FALSE),\"\")","v":""}]
[170335,"","1945-05-07","не оплачен",4134,{"$f":"IFERROR(VLOOKUP(B1286,'Комиссии партнеров'!$A$2:$B$52,2,FALSE),\"\")","v":""}]
[170338,"Партнер номер 1","1945-05-07","не оплачен",1342,{"$f":"IFERROR(VLOOKUP(B1287,'Комиссии партнеров'!$A$2:$B$52,2,FALSE),\"\")","v":0.05},67.100000000000009]
[170340,"Партнер номер 11","1945-05-07","оплачен",1840,{"$f":"IFERROR(VLOOKUP(B1288,'Комиссии партнеров'!$A$2:$B$52,2,FALSE),\"\")","v":0.05},92]
[170344,"Партнер номер 3","1945-05-07","оплачен",3026,{"$f":"IFERROR(VLOOKUP(B1289,'Комиссии партнеров'!$A$2:$B$52,2,FALSE),\"\")","v":0.05},151.30000000000001]
[170348,"","1945-05-07","не оплачен",1843,{"$f":"IFERROR(VLOOKUP(B1290,'Комиссии партнеров'!$A$2:$B$52,2,FALSE),\"\")","v":""}]
[170353,"Партнер номер 5","1945-05-07","оплачен",1301,{"$f":"IFERROR(VLOOKUP(B1291,'Комиссии партнеров'!$A$2:$B$52,2,FALSE),\"\")","v":0.03},39.03]
[170358,"Партнер номер 17","1945-05-07","оплачен",5800,{"$f":"IFERROR(VLOOKUP(B1292,'Комиссии партнеров'!$A$2:$B$52,2,FALSE),\"\")","v":0.04},232]
[170364,"Партнер номер 2","1945-05-07","не оплачен",1927,{"$f":"IFERROR(VLOOKUP(B1293,'Комиссии партнеров'!$A$2:$B$52,2,FALSE),\"\")","v":0.04},77.08]
[170366,"Партнер номер 1","1945-05-07","не оплачен",2661,{"$f":"IFERROR(VLOOKUP(B1294,'Комиссии партнеров'!$A$2:$B$52,2,FALSE),\"\")","v":0.05},133.05000000000001]
[170371,"Партнер номер 7","1945-05-07","оплачен",1158,{"$f":"IFERROR(VLOOKUP(B1295,'Комиссии партнеров'!$A$2:$B$52,2,FALSE),\"\")","v":0.05},57.900000000000006]
[170372,"","1945-05-07","оплачен",4134,{"$f":"IFERROR(VLOOKUP(B1296,'Комиссии партнеров'!$A$2:$B$52,2,FALSE),\"\")","v":""}]
[170378,"","1945-05-07","не оплачен",2408,{"$f":"IFERROR(VLOOKUP(B1297,'Комиссии партнеров'!$A$2:$B$52,2,FALSE),\"\")","v":""}]
[170382,"","1945-05-07","оплачен",1105,{"$f":"IFERROR(VLOOKUP(B1298,'Комиссии партнеров'!$A$2:$B$52,2,FALSE),\"\")","v":""}]
[170386,"","1945-05-07","оплачен",2366,{"$f":"IFERROR(VLOOKUP(B1299,'Комиссии партнеров'!$A$2:$B$52,2,FALSE),\"\")","v":""}]
[170389,"Партнер номер 17","1945-05-07","оплачен",2098,{"$f":"IFERROR(VLOOKUP(B1300,'Комиссии партнеров'!$A$2:$B$52,2,FALSE),\"\")","v":0.04},83.92]
[170394,"Партнер номер 6","1945-05-07","оплачен",1146,{"$f":"IFERROR(VLOOKUP(B1301,'Комиссии партнеров'!$A$2:$B$52,2,FALSE),\"\")","v":0.04},45.84]
[170399,"","1945-05-07","оплачен",1892,{"$f":"IFERROR(VLOOKUP(B1302,'Комиссии партнеров'!$A$2:$B$52,2,FALSE),\"\")","v":""}]
[170404,"","1945-05-07","оплачен",3513,{"$f":"IFERROR(VLOOKUP(B1303,'Комиссии партнеров'!$A$2:$B$52,2,FALSE),\"\")","v":""}]
[170407,"Партнер номер 1","1945-05-07","оплачен",2400,{"$f":"IFERROR(VLOOKUP(B1304,'Комиссии партнеров'!$A$2:$B$52,2,FALSE),\"\")","v":0.05},120]
[170412,"Партнер номер 7","1945-05-07","оплачен",4086,{"$f":"IFERROR(VLOOKUP(B1305,'Комиссии партнеров'!$A$2:$B$52,2,FALSE),\"\")","v":0.05},204.3]
[170415,"Партнер номер 11","1945-05-07","не оплачен",1364,{"$f":"IFERROR(VLOOKUP(B1306,'Комиссии партнеров'!$A$2:$B$52,2,FALSE),\"\")","v":0.05},68.2]
[170420,"","1945-05-07","оплачен",1162,{"$f":"IFERROR(VLOOKUP(B1307,'Комиссии партнеров'!$A$2:$B$52,2,FALSE),\"\")","v":""}]
[170425,"","1945-05-07","оплачен",1691,{"$f":"IFERROR(VLOOKUP(B1308,'Комиссии партнеров'!$A$2:$B$52,2,FALSE),\"\")","v":""}]
[170428,"","1945-05-07","оплачен",1469,{"$f":"IFERROR(VLOOKUP(B1309,'Комиссии партнеров'!$A$2:$B$52,2,FALSE),\"\")","v":""}]
[170431,"Партнер номер 11","1945-05-07","не оплачен",2017,{"$f":"IFERROR(VLOOKUP(B1310,'Комиссии партнеров'!$A$2:$B$52,2,FALSE),\"\")","v":0.05},100.85000000000001]
[170435,"Партнер номер 3","1945-05-07","оплачен",1269,{"$f":"IFERROR(VLOOKUP(B1311,'Комиссии партнеров'!$A$2:$B$52,2,FALSE),\"\")","v":0.05},63.45]
[170439,"","1945-05-07","оплачен",2560,{"$f":"IFERROR(VLOOKUP(B1312,'Комиссии партнеров'!$A$2:$B$52,2,FALSE),\"\")","v":""}]
[170441,"Партнер номер 1","1945-05-07","не оплачен",1545,{"$f":"IFERROR(VLOOKUP(B1313,'Комиссии партнеров'!$A$2:$B$52,2,FALSE),\"\")","v":0.05},77.25]
[170444,"Партнер номер 7","1945-05-07","оплачен",4999,{"$f":"IFERROR(VLOOKUP(B1314,'Комиссии партнеров'!$A$2:$B$52,2,FALSE),\"\")","v":0.05},249.95000000000002]
[170448,"Партнер номер 1","1945-05-07","не оплачен",996,{"$f":"IFERROR(VLOOKUP(B1315,'Комиссии партнеров'!$A$2:$B$52,2,FALSE),\"\")","v":0.05},49.800000000000004]
[170451,"Партнер номер 1","1945-05-07","не оплачен",2898,{"$f":"IFERROR(VLOOKUP(B1316,'Комиссии партнеров'!$A$2:$B$52,2,FALSE),\"\")","v":0.05},144.9]
[170454,"Партнер номер 6","1945-05-07","оплачен",2249,{"$f":"IFERROR(VLOOKUP(B1317,'Комиссии партнеров'!$A$2:$B$52,2,FALSE),\"\")","v":0.04},89.960000000000008]
[170459,"","1945-05-07","оплачен",3158,{"$f":"IFERROR(VLOOKUP(B1318,'Комиссии партнеров'!$A$2:$B$52,2,FALSE),\"\")","v":""}]
[170462,"Партнер номер 7","1945-05-07","оплачен",1185,{"$f":"IFERROR(VLOOKUP(B1319,'Комиссии партнеров'!$A$2:$B$52,2,FALSE),\"\")","v":0.05},59.25]
[170466,"Партнер номер 11","1945-05-07","оплачен",1870,{"$f":"IFERROR(VLOOKUP(B1320,'Комиссии партнеров'!$A$2:$B$52,2,FALSE),\"\")","v":0.05},93.5]
[170469,"Партнер номер 9","1945-05-07","оплачен",4944,{"$f":"IFERROR(VLOOKUP(B1321,'Комиссии партнеров'!$A$2:$B$52,2,FALSE),\"\")","v":0.05},247.20000000000002]
[170473,"","1945-05-07","не оплачен",1054,{"$f":"IFERROR(VLOOKUP(B1322,'Комиссии партнеров'!$A$2:$B$52,2,FALSE),\"\")","v":""}]
[170476,"Партнер номер 6","1945-05-07","оплачен",2249,{"$f":"IFERROR(VLOOKUP(B1323,'Комиссии партнеров'!$A$2:$B$52,2,FALSE),\"\")","v":0.04},89.960000000000008]
[170479,"Партнер номер 7","1945-05-07","оплачен",2293,{"$f":"IFERROR(VLOOKUP(B1324,'Комиссии партнеров'!$A$2:$B$52,2,FALSE),\"\")","v":0.05},114.65]
[170485,"Партнер номер 1","1945-05-07","оплачен",2058,{"$f":"IFERROR(VLOOKUP(B1325,'Комиссии партнеров'!$A$2:$B$52,2,FALSE),\"\")","v":0.05},102.9]
[170489,"","1945-05-07","оплачен",2989,{"$f":"IFERROR(VLOOKUP(B1326,'Комиссии партнеров'!$A$2:$B$52,2,FALSE),\"\")","v":""}]
[170493,"","1945-05-07","оплачен",2367,{"$f":"IFERROR(VLOOKUP(B1327,'Комиссии партнеров'!$A$2:$B$52,2,FALSE),\"\")","v":""}]
[170496,"","1945-05-07","оплачен",1477,{"$f":"IFERROR(VLOOKUP(B1328,'Комиссии партнеров'!$A$2:$B$52,2,FALSE),\"\")","v":""}]
[170501,"","1945-05-07","оплачен",2952,{"$f":"IFERROR(VLOOKUP(B1329,'Комиссии партнеров'!$A$2:$B$52,2,FALSE),\"\")","v":""}]
[170504,"Партнер номер 1","1945-05-07","не оплачен",1742,{"$f":"IFERROR(VLOOKUP(B1330,'Комиссии партнеров'!$A$2:$B$52,2,FALSE),\"\")","v":0.05},87.100000000000009]
[170507,"Партнер номер 34","1945-05-07","оплачен",4511,{"$f":"IFERROR(VLOOKUP(B1331,'Комиссии партнеров'!$A$2:$B$52,2,FALSE),\"\")","v":0.05},225.55]
[170511,"Партнер номер 10","1945-05-07","оплачен",1169,{"$f":"IFERROR(VLOOKUP(B1332,'Комиссии партнеров'!$A$2:$B$52,2,FALSE),\"\")","v":0.04},46.76]
[170515,"","1945-05-07","не оплачен",2495,{"$f":"IFERROR(VLOOKUP(B1333,'Комиссии партнеров'!$A$2:$B$52,2,FALSE),\"\")","v":""}]
[170516,"","1945-05-07","оплачен",2896,{"$f":"IFERROR(VLOOKUP(B1334,'Комиссии партнеров'!$A$2:$B$52,2,FALSE),\"\")","v":""}]
[170519,"Партнер номер 28","1945-05-07","оплачен",2095,{"$f":"IFERROR(VLOOKUP(B1335,'Комиссии партнеров'!$A$2:$B$52,2,FALSE),\"\")","v":0.05},104.75]
[170522,"","1945-05-07","не оплачен",4149,{"$f":"IFERROR(VLOOKUP(B1336,'Комиссии партнеров'!$A$2:$B$52,2,FALSE),\"\")","v":""}]
[170527,"","1945-05-07","оплачен",1801,{"$f":"IFERROR(VLOOKUP(B1337,'Комиссии партнеров'!$A$2:$B$52,2,FALSE),\"\")","v":""}]
[170529,"","1945-05-07","не оплачен",2580,{"$f":"IFERROR(VLOOKUP(B1338,'Комиссии партнеров'!$A$2:$B$52,2,FALSE),\"\")","v":""}]
[170532,"","1945-05-08","оплачен",4154,{"$f":"IFERROR(VLOOKUP(B1339,'Комиссии партнеров'!$A$2:$B$52,2,FALSE),\"\")","v":""}]
[170537,"Партнер номер 1","1945-05-08","оплачен",2924,{"$f":"IFERROR(VLOOKUP(B1340,'Комиссии партнеров'!$A$2:$B$52,2,FALSE),\"\")","v":0.05},146.20000000000002]
[170540,"Партнер номер 3","1945-05-08","оплачен",2399,{"$f":"IFERROR(VLOOKUP(B1341,'Комиссии партнеров'!$A$2:$B$52,2,FALSE),\"\")","v":0.05},119.95]
[170542,"","1945-05-08","оплачен",1196,{"$f":"IFERROR(VLOOKUP(B1342,'Комиссии партнеров'!$A$2:$B$52,2,FALSE),\"\")","v":""}]
[170544,"Партнер номер 3","1945-05-08","оплачен",1089,{"$f":"IFERROR(VLOOKUP(B1343,'Комиссии партнеров'!$A$2:$B$52,2,FALSE),\"\")","v":0.05},54.45]
[170546,"","1945-05-08","не оплачен",610,{"$f":"IFERROR(VLOOKUP(B1344,'Комиссии партнеров'!$A$2:$B$52,2,FALSE),\"\")","v":""}]
[170551,"Партнер номер 6","1945-05-08","оплачен",4486,{"$f":"IFERROR(VLOOKUP(B1345,'Комиссии партнеров'!$A$2:$B$52,2,FALSE),\"\")","v":0.04},179.44]
[170553,"","1945-05-08","оплачен",917,{"$f":"IFERROR(VLOOKUP(B1346,'Комиссии партнеров'!$A$2:$B$52,2,FALSE),\"\")","v":""}]
[170558,"","1945-05-08","оплачен",3039,{"$f":"IFERROR(VLOOKUP(B1347,'Комиссии партнеров'!$A$2:$B$52,2,FALSE),\"\")","v":""}]
[170561,"","1945-05-08","оплачен",5962,{"$f":"IFERROR(VLOOKUP(B1348,'Комиссии партнеров'!$A$2:$B$52,2,FALSE),\"\")","v":""}]
[170562,"","1945-05-08","оплачен",7184,{"$f":"IFERROR(VLOOKUP(B1349,'Комиссии партнеров'!$A$2:$B$52,2,FALSE),\"\")","v":""}]
[170565,"Партнер номер 1","1945-05-08","не оплачен",651,{"$f":"IFERROR(VLOOKUP(B1350,'Комиссии партнеров'!$A$2:$B$52,2,FALSE),\"\")","v":0.05},32.550000000000004]
[170566,"Партнер номер 1","1945-05-08","не оплачен",2236,{"$f":"IFERROR(VLOOKUP(B1351,'Комиссии партнеров'!$A$2:$B$52,2,FALSE),\"\")","v":0.05},111.80000000000001]
[170570,"Партнер номер 5","1945-05-08","оплачен",4979,{"$f":"IFERROR(VLOOKUP(B1352,'Комиссии партнеров'!$A$2:$B$52,2,FALSE),\"\")","v":0.03},149.37]
[170571,"","1945-05-08","не оплачен",1801,{"$f":"IFERROR(VLOOKUP(B1353,'Комиссии партнеров'!$A$2:$B$52,2,FALSE),\"\")","v":""}]
[170574,"","1945-05-08","не оплачен",945,{"$f":"IFERROR(VLOOKUP(B1354,'Комиссии партнеров'!$A$2:$B$52,2,FALSE),\"\")","v":""}]
[170580,"","1945-05-08","оплачен",826,{"$f":"IFERROR(VLOOKUP(B1355,'Комиссии партнеров'!$A$2:$B$52,2,FALSE),\"\")","v":""}]
[170585,"","1945-05-08","не оплачен",2715,{"$f":"IFERROR(VLOOKUP(B1356,'Комиссии партнеров'!$A$2:$B$52,2,FALSE),\"\")","v":""}]
[170591,"","1945-05-08","не оплачен",1150,{"$f":"IFERROR(VLOOKUP(B1357,'Комиссии партнеров'!$A$2:$B$52,2,FALSE),\"\")","v":""}]
[170594,"Партнер номер 11","1945-05-08","не оплачен",1385,{"$f":"IFERROR(VLOOKUP(B1358,'Комиссии партнеров'!$A$2:$B$52,2,FALSE),\"\")","v":0.05},69.25]
[170599,"","1945-05-08","оплачен",2450,{"$f":"IFERROR(VLOOKUP(B1359,'Комиссии партнеров'!$A$2:$B$52,2,FALSE),\"\")","v":""}]
[170601,"","1945-05-08","оплачен",2700,{"$f":"IFERROR(VLOOKUP(B1360,'Комиссии партнеров'!$A$2:$B$52,2,FALSE),\"\")","v":""}]
[170605,"Партнер номер 1","1945-05-08","не оплачен",2075,{"$f":"IFERROR(VLOOKUP(B1361,'Комиссии партнеров'!$A$2:$B$52,2,FALSE),\"\")","v":0.05},103.75]
[170610,"","1945-05-08","не оплачен",2322,{"$f":"IFERROR(VLOOKUP(B1362,'Комиссии партнеров'!$A$2:$B$52,2,FALSE),\"\")","v":""}]
[170612,"","1945-05-08","оплачен",1328,{"$f":"IFERROR(VLOOKUP(B1363,'Комиссии партнеров'!$A$2:$B$52,2,FALSE),\"\")","v":""}]
[170615,"","1945-05-08","оплачен",1908,{"$f":"IFERROR(VLOOKUP(B1364,'Комиссии партнеров'!$A$2:$B$52,2,FALSE),\"\")","v":""}]
[170618,"Партнер номер 1","1945-05-08","оплачен",1541,{"$f":"IFERROR(VLOOKUP(B1365,'Комиссии партнеров'!$A$2:$B$52,2,FALSE),\"\")","v":0.05},77.050000000000011]
[170620,"","1945-05-08","оплачен",3108,{"$f":"IFERROR(VLOOKUP(B1366,'Комиссии партнеров'!$A$2:$B$52,2,FALSE),\"\")","v":""}]
[170628,"","1945-05-08","не оплачен",1839,{"$f":"IFERROR(VLOOKUP(B1367,'Комиссии партнеров'!$A$2:$B$52,2,FALSE),\"\")","v":""}]
[170632,"","1945-05-08","оплачен",2184,{"$f":"IFERROR(VLOOKUP(B1368,'Комиссии партнеров'!$A$2:$B$52,2,FALSE),\"\")","v":""}]
[170638,"","1945-05-08","оплачен",2231,{"$f":"IFERROR(VLOOKUP(B1369,'Комиссии партнеров'!$A$2:$B$52,2,FALSE),\"\")","v":""}]
[170642,"","1945-05-08","оплачен",2136,{"$f":"IFERROR(VLOOKUP(B1370,'Комиссии партнеров'!$A$2:$B$52,2,FALSE),\"\")","v":""}]
[170654,"Партнер номер 1","1945-05-08","оплачен",4371,{"$f":"IFERROR(VLOOKUP(B1371,'Комиссии партнеров'!$A$2:$B$52,2,FALSE),\"\")","v":0.05},218.55]
[170657,"","1945-05-08","оплачен",2421,{"$f":"IFERROR(VLOOKUP(B1372,'Комиссии партнеров'!$A$2:$B$52,2,FALSE),\"\")","v":""}]
[170663,"Партнер номер 11","1945-05-08","не оплачен",1342,{"$f":"IFERROR(VLOOKUP(B1373,'Комиссии партнеров'!$A$2:$B$52,2,FALSE),\"\")","v":0.05},67.100000000000009]
[170665,"Партнер номер 10","1945-05-08","оплачен",2480,{"$f":"IFERROR(VLOOKUP(B1374,'Комиссии партнеров'!$A$2:$B$52,2,FALSE),\"\")","v":0.04},99.2]
[170668,"Партнер номер 11","1945-05-08","не оплачен",622,{"$f":"IFERROR(VLOOKUP(B1375,'Комиссии партнеров'!$A$2:$B$52,2,FALSE),\"\")","v":0.05},31.1]
[170673,"Партнер номер 1","1945-05-08","оплачен",6403,{"$f":"IFERROR(VLOOKUP(B1376,'Комиссии партнеров'!$A$2:$B$52,2,FALSE),\"\")","v":0.05},320.15000000000003]
[170677,"Партнер номер 5","1945-05-08","оплачен",1494,{"$f":"IFERROR(VLOOKUP(B1377,'Комиссии партнеров'!$A$2:$B$52,2,FALSE),\"\")","v":0.03},44.82]
[170682,"","1945-05-08","не оплачен",2297,{"$f":"IFERROR(VLOOKUP(B1378,'Комиссии партнеров'!$A$2:$B$52,2,FALSE),\"\")","v":""}]
[170684,"","1945-05-08","не оплачен",4589,{"$f":"IFERROR(VLOOKUP(B1379,'Комиссии партнеров'!$A$2:$B$52,2,FALSE),\"\")","v":""}]
[170685,"Партнер номер 5","1945-05-08","оплачен",3060,{"$f":"IFERROR(VLOOKUP(B1380,'Комиссии партнеров'!$A$2:$B$52,2,FALSE),\"\")","v":0.03},91.8]
[170688,"","1945-05-08","оплачен",3062,{"$f":"IFERROR(VLOOKUP(B1381,'Комиссии партнеров'!$A$2:$B$52,2,FALSE),\"\")","v":""}]
[170693,"","1945-05-08","не оплачен",2813,{"$f":"IFERROR(VLOOKUP(B1382,'Комиссии партнеров'!$A$2:$B$52,2,FALSE),\"\")","v":""}]
[170696,"Партнер номер 4","1945-05-08","не оплачен",1537,{"$f":"IFERROR(VLOOKUP(B1383,'Комиссии партнеров'!$A$2:$B$52,2,FALSE),\"\")","v":0.04},61.480000000000004]
[170700,"Партнер номер 10","1945-05-08","оплачен",2813,{"$f":"IFERROR(VLOOKUP(B1384,'Комиссии партнеров'!$A$2:$B$52,2,FALSE),\"\")","v":0.04},112.52]
[170702,"Партнер номер 11","1945-05-08","не оплачен",622,{"$f":"IFERROR(VLOOKUP(B1385,'Комиссии партнеров'!$A$2:$B$52,2,FALSE),\"\")","v":0.05},31.1]
[170707,"Партнер номер 1","1945-05-08","оплачен",778,{"$f":"IFERROR(VLOOKUP(B1386,'Комиссии партнеров'!$A$2:$B$52,2,FALSE),\"\")","v":0.05},38.900000000000006]
[170711,"Партнер номер 11","1945-05-08","не оплачен",886,{"$f":"IFERROR(VLOOKUP(B1387,'Комиссии партнеров'!$A$2:$B$52,2,FALSE),\"\")","v":0.05},44.300000000000004]
[170713,"Партнер номер 7","1945-05-08","оплачен",693,{"$f":"IFERROR(VLOOKUP(B1388,'Комиссии партнеров'!$A$2:$B$52,2,FALSE),\"\")","v":0.05},34.65]
[170717,"","1945-05-08","оплачен",2186,{"$f":"IFERROR(VLOOKUP(B1389,'Комиссии партнеров'!$A$2:$B$52,2,FALSE),\"\")","v":""}]
[170719,"","1945-05-08","оплачен",588,{"$f":"IFERROR(VLOOKUP(B1390,'Комиссии партнеров'!$A$2:$B$52,2,FALSE),\"\")","v":""}]
[170724,"","1945-05-08","оплачен",1536,{"$f":"IFERROR(VLOOKUP(B1391,'Комиссии партнеров'!$A$2:$B$52,2,FALSE),\"\")","v":""}]
[170727,"","1945-05-08","оплачен",2559,{"$f":"IFERROR(VLOOKUP(B1392,'Комиссии партнеров'!$A$2:$B$52,2,FALSE),\"\")","v":""}]
[170729,"","1945-05-08","не оплачен",2962,{"$f":"IFERROR(VLOOKUP(B1393,'Комиссии партнеров'!$A$2:$B$52,2,FALSE),\"\")","v":""}]
[170734,"","1945-05-08","оплачен",1854,{"$f":"IFERROR(VLOOKUP(B1394,'Комиссии партнеров'!$A$2:$B$52,2,FALSE),\"\")","v":""}]
[170737,"","1945-05-08","оплачен",3310,{"$f":"IFERROR(VLOOKUP(B1395,'Комиссии партнеров'!$A$2:$B$52,2,FALSE),\"\")","v":""}]
[170741,"Партнер номер 1","1945-05-08","не оплачен",651,{"$f":"IFERROR(VLOOKUP(B1396,'Комиссии партнеров'!$A$2:$B$52,2,FALSE),\"\")","v":0.05},32.550000000000004]
[170745,"Партнер номер 5","1945-05-08","не оплачен",1944,{"$f":"IFERROR(VLOOKUP(B1397,'Комиссии партнеров'!$A$2:$B$52,2,FALSE),\"\")","v":0.03},58.32]
[170748,"Партнер номер 1","1945-05-08","не оплачен",1283,{"$f":"IFERROR(VLOOKUP(B1398,'Комиссии партнеров'!$A$2:$B$52,2,FALSE),\"\")","v":0.05},64.150000000000006]
[170751,"","1945-05-08","оплачен",1237,{"$f":"IFERROR(VLOOKUP(B1399,'Комиссии партнеров'!$A$2:$B$52,2,FALSE),\"\")","v":""}]
[170758,"Партнер номер 1","1945-05-08","оплачен",2697,{"$f":"IFERROR(VLOOKUP(B1400,'Комиссии партнеров'!$A$2:$B$52,2,FALSE),\"\")","v":0.05},134.85]
[170760,"Партнер номер 1","1945-05-08","оплачен",3129,{"$f":"IFERROR(VLOOKUP(B1401,'Комиссии партнеров'!$A$2:$B$52,2,FALSE),\"\")","v":0.05},156.45000000000002]
[170774,"","1945-05-08","не оплачен",3688,{"$f":"IFERROR(VLOOKUP(B1402,'Комиссии партнеров'!$A$2:$B$52,2,FALSE),\"\")","v":""}]
[170779,"Партнер номер 1","1945-05-08","не оплачен",613,{"$f":"IFERROR(VLOOKUP(B1403,'Комиссии партнеров'!$A$2:$B$52,2,FALSE),\"\")","v":0.05},30.650000000000002]
[170781,"Партнер номер 5","1945-05-08","не оплачен",2805,{"$f":"IFERROR(VLOOKUP(B1404,'Комиссии партнеров'!$A$2:$B$52,2,FALSE),\"\")","v":0.03},84.149999999999991]
[170785,"","1945-05-08","оплачен",2341,{"$f":"IFERROR(VLOOKUP(B1405,'Комиссии партнеров'!$A$2:$B$52,2,FALSE),\"\")","v":""}]
[170788,"","1945-05-08","оплачен",2745,{"$f":"IFERROR(VLOOKUP(B1406,'Комиссии партнеров'!$A$2:$B$52,2,FALSE),\"\")","v":""}]
[170792,"Партнер номер 11","1945-05-08","оплачен",1331,{"$f":"IFERROR(VLOOKUP(B1407,'Комиссии партнеров'!$A$2:$B$52,2,FALSE),\"\")","v":0.05},66.55]
[170794,"","1945-05-08","оплачен",3116,{"$f":"IFERROR(VLOOKUP(B1408,'Комиссии партнеров'!$A$2:$B$52,2,FALSE),\"\")","v":""}]
[170799,"","1945-05-08","не оплачен",2605,{"$f":"IFERROR(VLOOKUP(B1409,'Комиссии партнеров'!$A$2:$B$52,2,FALSE),\"\")","v":""}]
[170803,"","1945-05-08","оплачен",1877,{"$f":"IFERROR(VLOOKUP(B1410,'Комиссии партнеров'!$A$2:$B$52,2,FALSE),\"\")","v":""}]
[170806,"","1945-05-08","не оплачен",2641,{"$f":"IFERROR(VLOOKUP(B1411,'Комиссии партнеров'!$A$2:$B$52,2,FALSE),\"\")","v":""}]
[170809,"","1945-05-08","оплачен",2356,{"$f":"IFERROR(VLOOKUP(B1412,'Комиссии партнеров'!$A$2:$B$52,2,FALSE),\"\")","v":""}]
[170811,"Партнер номер 1","1945-05-08","оплачен",1368,{"$f":"IFERROR(VLOOKUP(B1413,'Комиссии партнеров'!$A$2:$B$52,2,FALSE),\"\")","v":0.05},68.400000000000006]
[170814,"Партнер номер 7","1945-05-08","оплачен",3016,{"$f":"IFERROR(VLOOKUP(B1414,'Комиссии партнеров'!$A$2:$B$52,2,FALSE),\"\")","v":0.05},150.80000000000001]
[170818,"Партнер номер 1","1945-05-08","оплачен",1776,{"$f":"IFERROR(VLOOKUP(B1415,'Комиссии партнеров'!$A$2:$B$52,2,FALSE),\"\")","v":0.05},88.800000000000011]
[170823,"Партнер номер 4","1945-05-08","не оплачен",2689,{"$f":"IFERROR(VLOOKUP(B1416,'Комиссии партнеров'!$A$2:$B$52,2,FALSE),\"\")","v":0.04},107.56]
[170827,"Партнер номер 1","1945-05-08","не оплачен",1518,{"$f":"IFERROR(VLOOKUP(B1417,'Комиссии партнеров'!$A$2:$B$52,2,FALSE),\"\")","v":0.05},75.900000000000006]
[170836,"Партнер номер 1","1945-05-08","не оплачен",670,{"$f":"IFERROR(VLOOKUP(B1418,'Комиссии партнеров'!$A$2:$B$52,2,FALSE),\"\")","v":0.05},33.5]
[170838,"","1945-05-08","оплачен",1782,{"$f":"IFERROR(VLOOKUP(B1419,'Комиссии партнеров'!$A$2:$B$52,2,FALSE),\"\")","v":""}]
[170844,"Партнер номер 1","1945-05-08","оплачен",2295,{"$f":"IFERROR(VLOOKUP(B1420,'Комиссии партнеров'!$A$2:$B$52,2,FALSE),\"\")","v":0.05},114.75]
[170846,"Партнер номер 1","1945-05-08","не оплачен",1310,{"$f":"IFERROR(VLOOKUP(B1421,'Комиссии партнеров'!$A$2:$B$52,2,FALSE),\"\")","v":0.05},65.5]
[170849,"","1945-05-08","оплачен",891,{"$f":"IFERROR(VLOOKUP(B1422,'Комиссии партнеров'!$A$2:$B$52,2,FALSE),\"\")","v":""}]
[170853,"Партнер номер 35","1945-05-08","оплачен",3724,{"$f":"IFERROR(VLOOKUP(B1423,'Комиссии партнеров'!$A$2:$B$52,2,FALSE),\"\")","v":0.04},148.96]
[170859,"","1945-05-08","не оплачен",3399,{"$f":"IFERROR(VLOOKUP(B1424,'Комиссии партнеров'!$A$2:$B$52,2,FALSE),\"\")","v":""}]
[170864,"","1945-05-08","оплачен",4679,{"$f":"IFERROR(VLOOKUP(B1425,'Комиссии партнеров'!$A$2:$B$52,2,FALSE),\"\")","v":""}]
[170866,"","1945-05-08","оплачен",1695,{"$f":"IFERROR(VLOOKUP(B1426,'Комиссии партнеров'!$A$2:$B$52,2,FALSE),\"\")","v":""}]
[170874,"","1945-05-08","оплачен",1585,{"$f":"IFERROR(VLOOKUP(B1427,'Комиссии партнеров'!$A$2:$B$52,2,FALSE),\"\")","v":""}]
[170879,"Партнер номер 3","1945-05-08","не оплачен",1115,{"$f":"IFERROR(VLOOKUP(B1428,'Комиссии партнеров'!$A$2:$B$52,2,FALSE),\"\")","v":0.05},55.75]
[170883,"Партнер номер 1","1945-05-08","оплачен",2156,{"$f":"IFERROR(VLOOKUP(B1429,'Комиссии партнеров'!$A$2:$B$52,2,FALSE),\"\")","v":0.05},107.80000000000001]
[170889,"Партнер номер 5","1945-05-08","оплачен",8720,{"$f":"IFERROR(VLOOKUP(B1430,'Комиссии партнеров'!$A$2:$B$52,2,FALSE),\"\")","v":0.03},261.59999999999997]
[170893,"Партнер номер 5","1945-05-08","не оплачен",5191,{"$f":"IFERROR(VLOOKUP(B1431,'Комиссии партнеров'!$A$2:$B$52,2,FALSE),\"\")","v":0.03},155.72999999999999]
[170894,"Партнер номер 1","1945-05-08","не оплачен",391,{"$f":"IFERROR(VLOOKUP(B1432,'Комиссии партнеров'!$A$2:$B$52,2,FALSE),\"\")","v":0.05},19.55]
[170899,"Партнер номер 3","1945-05-08","оплачен",1239,{"$f":"IFERROR(VLOOKUP(B1433,'Комиссии партнеров'!$A$2:$B$52,2,FALSE),\"\")","v":0.05},61.95]
[170901,"","1945-05-08","не оплачен",730,{"$f":"IFERROR(VLOOKUP(B1434,'Комиссии партнеров'!$A$2:$B$52,2,FALSE),\"\")","v":""}]
[170903,"","1945-05-08","оплачен",1753,{"$f":"IFERROR(VLOOKUP(B1435,'Комиссии партнеров'!$A$2:$B$52,2,FALSE),\"\")","v":""}]
[170908,"","1945-05-08","оплачен",6137,{"$f":"IFERROR(VLOOKUP(B1436,'Комиссии партнеров'!$A$2:$B$52,2,FALSE),\"\")","v":""}]
[170914,"","1945-05-08","не оплачен",10935,{"$f":"IFERROR(VLOOKUP(B1437,'Комиссии партнеров'!$A$2:$B$52,2,FALSE),\"\")","v":""}]
[170916,"","1945-05-08","не оплачен",1808,{"$f":"IFERROR(VLOOKUP(B1438,'Комиссии партнеров'!$A$2:$B$52,2,FALSE),\"\")","v":""}]
[170921,"Партнер номер 28","1945-05-08","оплачен",2550,{"$f":"IFERROR(VLOOKUP(B1439,'Комиссии партнеров'!$A$2:$B$52,2,FALSE),\"\")","v":0.05},127.5]
[170925,"Партнер номер 11","1945-05-08","оплачен",1061,{"$f":"IFERROR(VLOOKUP(B1440,'Комиссии партнеров'!$A$2:$B$52,2,FALSE),\"\")","v":0.05},53.050000000000004]
[170930,"Партнер номер 5","1945-05-08","не оплачен",2268,{"$f":"IFERROR(VLOOKUP(B1441,'Комиссии партнеров'!$A$2:$B$52,2,FALSE),\"\")","v":0.03},68.039999999999992]
[170935,"","1945-05-08","оплачен",2468,{"$f":"IFERROR(VLOOKUP(B1442,'Комиссии партнеров'!$A$2:$B$52,2,FALSE),\"\")","v":""}]
[170939,"","1945-05-08","оплачен",3824,{"$f":"IFERROR(VLOOKUP(B1443,'Комиссии партнеров'!$A$2:$B$52,2,FALSE),\"\")","v":""}]
[170942,"","1945-05-08","не оплачен",1675,{"$f":"IFERROR(VLOOKUP(B1444,'Комиссии партнеров'!$A$2:$B$52,2,FALSE),\"\")","v":""}]
[170946,"","1945-05-08","оплачен",2976,{"$f":"IFERROR(VLOOKUP(B1445,'Комиссии партнеров'!$A$2:$B$52,2,FALSE),\"\")","v":""}]
[170948,"","1945-05-08","оплачен",1020,{"$f":"IFERROR(VLOOKUP(B1446,'Комиссии партнеров'!$A$2:$B$52,2,FALSE),\"\")","v":""}]
[170953,"","1945-05-08","оплачен",1756,{"$f":"IFERROR(VLOOKUP(B1447,'Комиссии партнеров'!$A$2:$B$52,2,FALSE),\"\")","v":""}]
[170955,"Партнер номер 1","1945-05-08","не оплачен",666,{"$f":"IFERROR(VLOOKUP(B1448,'Комиссии партнеров'!$A$2:$B$52,2,FALSE),\"\")","v":0.05},33.300000000000004]
[170958,"","1945-05-08","оплачен",2235,{"$f":"IFERROR(VLOOKUP(B1449,'Комиссии партнеров'!$A$2:$B$52,2,FALSE),\"\")","v":""}]
[170960,"","1945-05-08","не оплачен",2611,{"$f":"IFERROR(VLOOKUP(B1450,'Комиссии партнеров'!$A$2:$B$52,2,FALSE),\"\")","v":""}]
[170962,"","1945-05-08","оплачен",1051,{"$f":"IFERROR(VLOOKUP(B1451,'Комиссии партнеров'!$A$2:$B$52,2,FALSE),\"\")","v":""}]
[170967,"Партнер номер 1","1945-05-08","не оплачен",2452,{"$f":"IFERROR(VLOOKUP(B1452,'Комиссии партнеров'!$A$2:$B$52,2,FALSE),\"\")","v":0.05},122.60000000000001]
[170969,"","1945-05-08","не оплачен",2820,{"$f":"IFERROR(VLOOKUP(B1453,'Комиссии партнеров'!$A$2:$B$52,2,FALSE),\"\")","v":""}]
[170975,"Партнер номер 1","1945-05-08","не оплачен",1549,{"$f":"IFERROR(VLOOKUP(B1454,'Комиссии партнеров'!$A$2:$B$52,2,FALSE),\"\")","v":0.05},77.45]
[170977,"Партнер номер 30","1945-05-08","оплачен",1856,{"$f":"IFERROR(VLOOKUP(B1455,'Комиссии партнеров'!$A$2:$B$52,2,FALSE),\"\")","v":0.05},92.800000000000011]
[170981,"Партнер номер 1","1945-05-08","не оплачен",2263,{"$f":"IFERROR(VLOOKUP(B1456,'Комиссии партнеров'!$A$2:$B$52,2,FALSE),\"\")","v":0.05},113.15]
[170984,"Партнер номер 11","1945-05-08","оплачен",1122,{"$f":"IFERROR(VLOOKUP(B1457,'Комиссии партнеров'!$A$2:$B$52,2,FALSE),\"\")","v":0.05},56.1]
[170989,"","1945-05-08","оплачен",1675,{"$f":"IFERROR(VLOOKUP(B1458,'Комиссии партнеров'!$A$2:$B$52,2,FALSE),\"\")","v":""}]
[170994,"Партнер номер 1","1945-05-08","оплачен",637,{"$f":"IFERROR(VLOOKUP(B1459,'Комиссии партнеров'!$A$2:$B$52,2,FALSE),\"\")","v":0.05},31.85]
[170999,"Партнер номер 11","1945-05-08","оплачен",1554,{"$f":"IFERROR(VLOOKUP(B1460,'Комиссии партнеров'!$A$2:$B$52,2,FALSE),\"\")","v":0.05},77.7]
[171002,"","1945-05-08","оплачен",2261,{"$f":"IFERROR(VLOOKUP(B1461,'Комиссии партнеров'!$A$2:$B$52,2,FALSE),\"\")","v":""}]
[171007,"","1945-05-08","оплачен",2931,{"$f":"IFERROR(VLOOKUP(B1462,'Комиссии партнеров'!$A$2:$B$52,2,FALSE),\"\")","v":""}]
[171012,"","1945-05-08","оплачен",1834,{"$f":"IFERROR(VLOOKUP(B1463,'Комиссии партнеров'!$A$2:$B$52,2,FALSE),\"\")","v":""}]
[171013,"Партнер номер 3","1945-05-08","оплачен",2117,{"$f":"IFERROR(VLOOKUP(B1464,'Комиссии партнеров'!$A$2:$B$52,2,FALSE),\"\")","v":0.05},105.85000000000001]
[171016,"Партнер номер 1","1945-05-08","не оплачен",1688,{"$f":"IFERROR(VLOOKUP(B1465,'Комиссии партнеров'!$A$2:$B$52,2,FALSE),\"\")","v":0.05},84.4]
[171021,"Партнер номер 1","1945-05-08","оплачен",1688,{"$f":"IFERROR(VLOOKUP(B1466,'Комиссии партнеров'!$A$2:$B$52,2,FALSE),\"\")","v":0.05},84.4]
[171023,"","1945-05-08","оплачен",2842,{"$f":"IFERROR(VLOOKUP(B1467,'Комиссии партнеров'!$A$2:$B$52,2,FALSE),\"\")","v":""}]
[171027,"Партнер номер 11","1945-05-08","не оплачен",1733,{"$f":"IFERROR(VLOOKUP(B1468,'Комиссии партнеров'!$A$2:$B$52,2,FALSE),\"\")","v":0.05},86.65]
[171030,"","1945-05-08","оплачен",2134,{"$f":"IFERROR(VLOOKUP(B1469,'Комиссии партнеров'!$A$2:$B$52,2,FALSE),\"\")","v":""}]
[171033,"Партнер номер 1","1945-05-08","не оплачен",2743,{"$f":"IFERROR(VLOOKUP(B1470,'Комиссии партнеров'!$A$2:$B$52,2,FALSE),\"\")","v":0.05},137.15]
[171036,"","1945-05-08","оплачен",1621,{"$f":"IFERROR(VLOOKUP(B1471,'Комиссии партнеров'!$A$2:$B$52,2,FALSE),\"\")","v":""}]
[171039,"Партнер номер 5","1945-05-08","не оплачен",1905,{"$f":"IFERROR(VLOOKUP(B1472,'Комиссии партнеров'!$A$2:$B$52,2,FALSE),\"\")","v":0.03},57.15]
[171041,"","1945-05-08","не оплачен",1074,{"$f":"IFERROR(VLOOKUP(B1473,'Комиссии партнеров'!$A$2:$B$52,2,FALSE),\"\")","v":""}]
[171043,"","1945-05-08","оплачен",3250,{"$f":"IFERROR(VLOOKUP(B1474,'Комиссии партнеров'!$A$2:$B$52,2,FALSE),\"\")","v":""}]
[171046,"","1945-05-08","оплачен",9542,{"$f":"IFERROR(VLOOKUP(B1475,'Комиссии партнеров'!$A$2:$B$52,2,FALSE),\"\")","v":""}]
[171050,"Партнер номер 1","1945-05-08","не оплачен",732,{"$f":"IFERROR(VLOOKUP(B1476,'Комиссии партнеров'!$A$2:$B$52,2,FALSE),\"\")","v":0.05},36.6]
[171052,"Партнер номер 3","1945-05-08","оплачен",2625,{"$f":"IFERROR(VLOOKUP(B1477,'Комиссии партнеров'!$A$2:$B$52,2,FALSE),\"\")","v":0.05},131.25]
[171054,"Партнер номер 1","1945-05-08","не оплачен",2743,{"$f":"IFERROR(VLOOKUP(B1478,'Комиссии партнеров'!$A$2:$B$52,2,FALSE),\"\")","v":0.05},137.15]
[171059,"","1945-05-08","оплачен",9117,{"$f":"IFERROR(VLOOKUP(B1479,'Комиссии партнеров'!$A$2:$B$52,2,FALSE),\"\")","v":""}]
[171061,"Партнер номер 7","1945-05-08","оплачен",2412,{"$f":"IFERROR(VLOOKUP(B1480,'Комиссии партнеров'!$A$2:$B$52,2,FALSE),\"\")","v":0.05},120.60000000000001]
[171064,"","1945-05-08","не оплачен",1890,{"$f":"IFERROR(VLOOKUP(B1481,'Комиссии партнеров'!$A$2:$B$52,2,FALSE),\"\")","v":""}]
[171067,"Партнер номер 29","1945-05-08","не оплачен",2862,{"$f":"IFERROR(VLOOKUP(B1482,'Комиссии партнеров'!$A$2:$B$52,2,FALSE),\"\")","v":0.05},143.1]
[171068,"Партнер номер 1","1945-05-08","оплачен",1624,{"$f":"IFERROR(VLOOKUP(B1483,'Комиссии партнеров'!$A$2:$B$52,2,FALSE),\"\")","v":0.05},81.2]
[171074,"Партнер номер 11","1945-05-08","оплачен",826,{"$f":"IFERROR(VLOOKUP(B1484,'Комиссии партнеров'!$A$2:$B$52,2,FALSE),\"\")","v":0.05},41.300000000000004]
[171075,"Партнер номер 21","1945-05-08","оплачен",1798,{"$f":"IFERROR(VLOOKUP(B1485,'Комиссии партнеров'!$A$2:$B$52,2,FALSE),\"\")","v":0.05},89.9]
[171080,"Партнер номер 11","1945-05-08","оплачен",2320,{"$f":"IFERROR(VLOOKUP(B1486,'Комиссии партнеров'!$A$2:$B$52,2,FALSE),\"\")","v":0.05},116]
[171082,"","1945-05-08","оплачен",986,{"$f":"IFERROR(VLOOKUP(B1487,'Комиссии партнеров'!$A$2:$B$52,2,FALSE),\"\")","v":""}]
[171084,"Партнер номер 1","1945-05-08","не оплачен",1356,{"$f":"IFERROR(VLOOKUP(B1488,'Комиссии партнеров'!$A$2:$B$52,2,FALSE),\"\")","v":0.05},67.8]
[171087,"Партнер номер 11","1945-05-08","оплачен",1309,{"$f":"IFERROR(VLOOKUP(B1489,'Комиссии партнеров'!$A$2:$B$52,2,FALSE),\"\")","v":0.05},65.45]
[171092,"Партнер номер 7","1945-05-08","оплачен",1061,{"$f":"IFERROR(VLOOKUP(B1490,'Комиссии партнеров'!$A$2:$B$52,2,FALSE),\"\")","v":0.05},53.050000000000004]
[171096,"","1945-05-08","не оплачен",2194,{"$f":"IFERROR(VLOOKUP(B1491,'Комиссии партнеров'!$A$2:$B$52,2,FALSE),\"\")","v":""}]
[171100,"","1945-05-08","оплачен",2100,{"$f":"IFERROR(VLOOKUP(B1492,'Комиссии партнеров'!$A$2:$B$52,2,FALSE),\"\")","v":""}]
[171103,"","1945-05-08","не оплачен",1150,{"$f":"IFERROR(VLOOKUP(B1493,'Комиссии партнеров'!$A$2:$B$52,2,FALSE),\"\")","v":""}]
[171106,"","1945-05-08","оплачен",1074,{"$f":"IFERROR(VLOOKUP(B1494,'Комиссии партнеров'!$A$2:$B$52,2,FALSE),\"\")","v":""}]
[171109,"Партнер номер 1","1945-05-08","не оплачен",1732,{"$f":"IFERROR(VLOOKUP(B1495,'Комиссии партнеров'!$A$2:$B$52,2,FALSE),\"\")","v":0.05},86.600000000000009]
[171112,"","1945-05-08","не оплачен",1500,{"$f":"IFERROR(VLOOKUP(B1496,'Комиссии партнеров'!$A$2:$B$52,2,FALSE),\"\")","v":""}]
[171117,"Партнер номер 5","1945-05-08","оплачен",1246,{"$f":"IFERROR(VLOOKUP(B1497,'Комиссии партнеров'!$A$2:$B$52,2,FALSE),\"\")","v":0.03},37.379999999999995]
[171122,"","1945-05-08","оплачен",1657,{"$f":"IFERROR(VLOOKUP(B1498,'Комиссии партнеров'!$A$2:$B$52,2,FALSE),\"\")","v":""}]
[171127,"","1945-05-08","оплачен",5390,{"$f":"IFERROR(VLOOKUP(B1499,'Комиссии партнеров'!$A$2:$B$52,2,FALSE),\"\")","v":""}]
[171131,"","1945-05-08","не оплачен",2272,{"$f":"IFERROR(VLOOKUP(B1500,'Комиссии партнеров'!$A$2:$B$52,2,FALSE),\"\")","v":""}]
[171133,"","1945-05-08","оплачен",2263,{"$f":"IFERROR(VLOOKUP(B1501,'Комиссии партнеров'!$A$2:$B$52,2,FALSE),\"\")","v":""}]
[171138,"Партнер номер 3","1945-05-08","оплачен",2862,{"$f":"IFERROR(VLOOKUP(B1502,'Комиссии партнеров'!$A$2:$B$52,2,FALSE),\"\")","v":0.05},143.1]
[171142,"Партнер номер 5","1945-05-08","оплачен",1314,{"$f":"IFERROR(VLOOKUP(B1503,'Комиссии партнеров'!$A$2:$B$52,2,FALSE),\"\")","v":0.03},39.42]
[171146,"","1945-05-08","не оплачен",3996,{"$f":"IFERROR(VLOOKUP(B1504,'Комиссии партнеров'!$A$2:$B$52,2,FALSE),\"\")","v":""}]
[171150,"","1945-05-08","не оплачен",2229,{"$f":"IFERROR(VLOOKUP(B1505,'Комиссии партнеров'!$A$2:$B$52,2,FALSE),\"\")","v":""}]
[171154,"Партнер номер 3","1945-05-08","не оплачен",5456,{"$f":"IFERROR(VLOOKUP(B1506,'Комиссии партнеров'!$A$2:$B$52,2,FALSE),\"\")","v":0.05},272.8]
[171159,"","1945-05-08","оплачен",2607,{"$f":"IFERROR(VLOOKUP(B1507,'Комиссии партнеров'!$A$2:$B$52,2,FALSE),\"\")","v":""}]
[171162,"Партнер номер 3","1945-05-08","оплачен",4822,{"$f":"IFERROR(VLOOKUP(B1508,'Комиссии партнеров'!$A$2:$B$52,2,FALSE),\"\")","v":0.05},241.10000000000002]
[171164,"Партнер номер 2","1945-05-08","не оплачен",1684,{"$f":"IFERROR(VLOOKUP(B1509,'Комиссии партнеров'!$A$2:$B$52,2,FALSE),\"\")","v":0.04},67.36]
[171167,"Партнер номер 3","1945-05-08","оплачен",486,{"$f":"IFERROR(VLOOKUP(B1510,'Комиссии партнеров'!$A$2:$B$52,2,FALSE),\"\")","v":0.05},24.3]
[171172,"Партнер номер 1","1945-05-08","оплачен",2201,{"$f":"IFERROR(VLOOKUP(B1511,'Комиссии партнеров'!$A$2:$B$52,2,FALSE),\"\")","v":0.05},110.05000000000001]
[171176,"Партнер номер 1","1945-05-08","не оплачен",1849,{"$f":"IFERROR(VLOOKUP(B1512,'Комиссии партнеров'!$A$2:$B$52,2,FALSE),\"\")","v":0.05},92.45]
[171179,"Партнер номер 9","1945-05-08","оплачен",4140,{"$f":"IFERROR(VLOOKUP(B1513,'Комиссии партнеров'!$A$2:$B$52,2,FALSE),\"\")","v":0.05},207]
[171183,"Партнер номер 1","1945-05-08","оплачен",2293,{"$f":"IFERROR(VLOOKUP(B1514,'Комиссии партнеров'!$A$2:$B$52,2,FALSE),\"\")","v":0.05},114.65]
[171188,"Партнер номер 9","1945-05-08","не оплачен",4140,{"$f":"IFERROR(VLOOKUP(B1515,'Комиссии партнеров'!$A$2:$B$52,2,FALSE),\"\")","v":0.05},207]
[171190,"Партнер номер 28","1945-05-08","не оплачен",1233,{"$f":"IFERROR(VLOOKUP(B1516,'Комиссии партнеров'!$A$2:$B$52,2,FALSE),\"\")","v":0.05},61.650000000000006]
[171193,"","1945-05-08","оплачен",4629,{"$f":"IFERROR(VLOOKUP(B1517,'Комиссии партнеров'!$A$2:$B$52,2,FALSE),\"\")","v":""}]
[171194,"","1945-05-08","не оплачен",3632,{"$f":"IFERROR(VLOOKUP(B1518,'Комиссии партнеров'!$A$2:$B$52,2,FALSE),\"\")","v":""}]
[171196,"Партнер номер 28","1945-05-08","оплачен",915,{"$f":"IFERROR(VLOOKUP(B1519,'Комиссии партнеров'!$A$2:$B$52,2,FALSE),\"\")","v":0.05},45.75]
[171202,"","1945-05-08","оплачен",1095,{"$f":"IFERROR(VLOOKUP(B1520,'Комиссии партнеров'!$A$2:$B$52,2,FALSE),\"\")","v":""}]
[171207,"","1945-05-08","оплачен",3003,{"$f":"IFERROR(VLOOKUP(B1521,'Комиссии партнеров'!$A$2:$B$52,2,FALSE),\"\")","v":""}]
[171210,"","1945-05-08","не оплачен",2371,{"$f":"IFERROR(VLOOKUP(B1522,'Комиссии партнеров'!$A$2:$B$52,2,FALSE),\"\")","v":""}]
[171211,"","1945-05-08","оплачен",2535,{"$f":"IFERROR(VLOOKUP(B1523,'Комиссии партнеров'!$A$2:$B$52,2,FALSE),\"\")","v":""}]
[171214,"Партнер номер 5","1945-05-08","оплачен",3087,{"$f":"IFERROR(VLOOKUP(B1524,'Комиссии партнеров'!$A$2:$B$52,2,FALSE),\"\")","v":0.03},92.61]
[171217,"","1945-05-08","оплачен",3139,{"$f":"IFERROR(VLOOKUP(B1525,'Комиссии партнеров'!$A$2:$B$52,2,FALSE),\"\")","v":""}]
[171218,"","1945-05-08","оплачен",2345,{"$f":"IFERROR(VLOOKUP(B1526,'Комиссии партнеров'!$A$2:$B$52,2,FALSE),\"\")","v":""}]
[171223,"Партнер номер 1","1945-05-08","оплачен",4854,{"$f":"IFERROR(VLOOKUP(B1527,'Комиссии партнеров'!$A$2:$B$52,2,FALSE),\"\")","v":0.05},242.70000000000002]
[171225,"","1945-05-08","оплачен",4240,{"$f":"IFERROR(VLOOKUP(B1528,'Комиссии партнеров'!$A$2:$B$52,2,FALSE),\"\")","v":""}]
[171227,"","1945-05-09","оплачен",3164,{"$f":"IFERROR(VLOOKUP(B1529,'Комиссии партнеров'!$A$2:$B$52,2,FALSE),\"\")","v":""}]
[171230,"","1945-05-09","оплачен",4568,{"$f":"IFERROR(VLOOKUP(B1530,'Комиссии партнеров'!$A$2:$B$52,2,FALSE),\"\")","v":""}]
[171235,"Партнер номер 1","1945-05-09","не оплачен",3708,{"$f":"IFERROR(VLOOKUP(B1531,'Комиссии партнеров'!$A$2:$B$52,2,FALSE),\"\")","v":0.05},185.4]
[171239,"","1945-05-09","оплачен",4476,{"$f":"IFERROR(VLOOKUP(B1532,'Комиссии партнеров'!$A$2:$B$52,2,FALSE),\"\")","v":""}]
[171242,"","1945-05-09","не оплачен",4629,{"$f":"IFERROR(VLOOKUP(B1533,'Комиссии партнеров'!$A$2:$B$52,2,FALSE),\"\")","v":""}]
[171246,"Партнер номер 3","1945-05-09","не оплачен",1156,{"$f":"IFERROR(VLOOKUP(B1534,'Комиссии партнеров'!$A$2:$B$52,2,FALSE),\"\")","v":0.05},57.800000000000004]
[171249,"Партнер номер 5","1945-05-09","не оплачен",4521,{"$f":"IFERROR(VLOOKUP(B1535,'Комиссии партнеров'!$A$2:$B$52,2,FALSE),\"\")","v":0.03},135.63]
[171255,"Партнер номер 1","1945-05-09","оплачен",1222,{"$f":"IFERROR(VLOOKUP(B1536,'Комиссии партнеров'!$A$2:$B$52,2,FALSE),\"\")","v":0.05},61.1]
[171259,"Партнер номер 3","1945-05-09","не оплачен",1962,{"$f":"IFERROR(VLOOKUP(B1537,'Комиссии партнеров'!$A$2:$B$52,2,FALSE),\"\")","v":0.05},98.100000000000009]
[171262,"Партнер номер 1","1945-05-09","не оплачен",3841,{"$f":"IFERROR(VLOOKUP(B1538,'Комиссии партнеров'!$A$2:$B$52,2,FALSE),\"\")","v":0.05},192.05]
[171264,"Партнер номер 9","1945-05-09","оплачен",1345,{"$f":"IFERROR(VLOOKUP(B1539,'Комиссии партнеров'!$A$2:$B$52,2,FALSE),\"\")","v":0.05},67.25]
[171266,"Партнер номер 1","1945-05-09","не оплачен",1314,{"$f":"IFERROR(VLOOKUP(B1540,'Комиссии партнеров'!$A$2:$B$52,2,FALSE),\"\")","v":0.05},65.7]
[171271,"Партнер номер 4","1945-05-09","оплачен",1125,{"$f":"IFERROR(VLOOKUP(B1541,'Комиссии партнеров'!$A$2:$B$52,2,FALSE),\"\")","v":0.04},45]
[171276,"Партнер номер 36","1945-05-09","не оплачен",2657,{"$f":"IFERROR(VLOOKUP(B1542,'Комиссии партнеров'!$A$2:$B$52,2,FALSE),\"\")","v":0.05},132.85]
[171278,"","1945-05-09","оплачен",2467,{"$f":"IFERROR(VLOOKUP(B1543,'Комиссии партнеров'!$A$2:$B$52,2,FALSE),\"\")","v":""}]
[171279,"","1945-05-09","оплачен",2084,{"$f":"IFERROR(VLOOKUP(B1544,'Комиссии партнеров'!$A$2:$B$52,2,FALSE),\"\")","v":""}]
[171281,"Партнер номер 1","1945-05-09","оплачен",3643,{"$f":"IFERROR(VLOOKUP(B1545,'Комиссии партнеров'!$A$2:$B$52,2,FALSE),\"\")","v":0.05},182.15]
[171284,"","1945-05-09","оплачен",2162,{"$f":"IFERROR(VLOOKUP(B1546,'Комиссии партнеров'!$A$2:$B$52,2,FALSE),\"\")","v":""}]
[171286,"Партнер номер 7","1945-05-09","не оплачен",1536,{"$f":"IFERROR(VLOOKUP(B1547,'Комиссии партнеров'!$A$2:$B$52,2,FALSE),\"\")","v":0.05},76.800000000000011]
[171291,"","1945-05-09","не оплачен",961,{"$f":"IFERROR(VLOOKUP(B1548,'Комиссии партнеров'!$A$2:$B$52,2,FALSE),\"\")","v":""}]
[171296,"","1945-05-09","не оплачен",2862,{"$f":"IFERROR(VLOOKUP(B1549,'Комиссии партнеров'!$A$2:$B$52,2,FALSE),\"\")","v":""}]
[171300,"Партнер номер 11","1945-05-09","не оплачен",1407,{"$f":"IFERROR(VLOOKUP(B1550,'Комиссии партнеров'!$A$2:$B$52,2,FALSE),\"\")","v":0.05},70.350000000000009]
[171304,"Партнер номер 3","1945-05-09","не оплачен",532,{"$f":"IFERROR(VLOOKUP(B1551,'Комиссии партнеров'!$A$2:$B$52,2,FALSE),\"\")","v":0.05},26.6]
[171308,"","1945-05-09","оплачен",2341,{"$f":"IFERROR(VLOOKUP(B1552,'Комиссии партнеров'!$A$2:$B$52,2,FALSE),\"\")","v":""}]
[171310,"","1945-05-09","не оплачен",386,{"$f":"IFERROR(VLOOKUP(B1553,'Комиссии партнеров'!$A$2:$B$52,2,FALSE),\"\")","v":""}]
[171314,"Партнер номер 1","1945-05-09","оплачен",2041,{"$f":"IFERROR(VLOOKUP(B1554,'Комиссии партнеров'!$A$2:$B$52,2,FALSE),\"\")","v":0.05},102.05000000000001]
[171317,"Партнер номер 1","1945-05-09","оплачен",2670,{"$f":"IFERROR(VLOOKUP(B1555,'Комиссии партнеров'!$A$2:$B$52,2,FALSE),\"\")","v":0.05},133.5]
[171320,"Партнер номер 10","1945-05-09","оплачен",1344,{"$f":"IFERROR(VLOOKUP(B1556,'Комиссии партнеров'!$A$2:$B$52,2,FALSE),\"\")","v":0.04},53.76]
[171323,"Партнер номер 5","1945-05-09","оплачен",1122,{"$f":"IFERROR(VLOOKUP(B1557,'Комиссии партнеров'!$A$2:$B$52,2,FALSE),\"\")","v":0.03},33.659999999999997]
[171325,"","1945-05-09","не оплачен",1696,{"$f":"IFERROR(VLOOKUP(B1558,'Комиссии партнеров'!$A$2:$B$52,2,FALSE),\"\")","v":""}]
[171327,"Партнер номер 28","1945-05-09","не оплачен",942,{"$f":"IFERROR(VLOOKUP(B1559,'Комиссии партнеров'!$A$2:$B$52,2,FALSE),\"\")","v":0.05},47.1]
[171332,"","1945-05-09","оплачен",6712,{"$f":"IFERROR(VLOOKUP(B1560,'Комиссии партнеров'!$A$2:$B$52,2,FALSE),\"\")","v":""}]
[171337,"Партнер номер 11","1945-05-09","оплачен",1592,{"$f":"IFERROR(VLOOKUP(B1561,'Комиссии партнеров'!$A$2:$B$52,2,FALSE),\"\")","v":0.05},79.600000000000009]
[171339,"Партнер номер 1","1945-05-09","оплачен",4666,{"$f":"IFERROR(VLOOKUP(B1562,'Комиссии партнеров'!$A$2:$B$52,2,FALSE),\"\")","v":0.05},233.3]
[171340,"Партнер номер 11","1945-05-09","оплачен",950,{"$f":"IFERROR(VLOOKUP(B1563,'Комиссии партнеров'!$A$2:$B$52,2,FALSE),\"\")","v":0.05},47.5]
[171346,"","1945-05-09","оплачен",2372,{"$f":"IFERROR(VLOOKUP(B1564,'Комиссии партнеров'!$A$2:$B$52,2,FALSE),\"\")","v":""}]
[171351,"Партнер номер 5","1945-05-09","оплачен",1561,{"$f":"IFERROR(VLOOKUP(B1565,'Комиссии партнеров'!$A$2:$B$52,2,FALSE),\"\")","v":0.03},46.83]
[171356,"","1945-05-09","не оплачен",2327,{"$f":"IFERROR(VLOOKUP(B1566,'Комиссии партнеров'!$A$2:$B$52,2,FALSE),\"\")","v":""}]
[171358,"Партнер номер 11","1945-05-09","не оплачен",1839,{"$f":"IFERROR(VLOOKUP(B1567,'Комиссии партнеров'!$A$2:$B$52,2,FALSE),\"\")","v":0.05},91.95]
[171361,"Партнер номер 7","1945-05-09","не оплачен",4784,{"$f":"IFERROR(VLOOKUP(B1568,'Комиссии партнеров'!$A$2:$B$52,2,FALSE),\"\")","v":0.05},239.20000000000002]
[171363,"Партнер номер 1","1945-05-09","не оплачен",2134,{"$f":"IFERROR(VLOOKUP(B1569,'Комиссии партнеров'!$A$2:$B$52,2,FALSE),\"\")","v":0.05},106.7]
[171365,"Партнер номер 1","1945-05-09","не оплачен",892,{"$f":"IFERROR(VLOOKUP(B1570,'Комиссии партнеров'!$A$2:$B$52,2,FALSE),\"\")","v":0.05},44.6]
[171368,"","1945-05-09","оплачен",5254,{"$f":"IFERROR(VLOOKUP(B1571,'Комиссии партнеров'!$A$2:$B$52,2,FALSE),\"\")","v":""}]
[171371,"","1945-05-09","оплачен",5067,{"$f":"IFERROR(VLOOKUP(B1572,'Комиссии партнеров'!$A$2:$B$52,2,FALSE),\"\")","v":""}]
[171373,"Партнер номер 7","1945-05-09","оплачен",2472,{"$f":"IFERROR(VLOOKUP(B1573,'Комиссии партнеров'!$A$2:$B$52,2,FALSE),\"\")","v":0.05},123.60000000000001]
[171376,"","1945-05-09","оплачен",3023,{"$f":"IFERROR(VLOOKUP(B1574,'Комиссии партнеров'!$A$2:$B$52,2,FALSE),\"\")","v":""}]
[171381,"","1945-05-09","оплачен",573,{"$f":"IFERROR(VLOOKUP(B1575,'Комиссии партнеров'!$A$2:$B$52,2,FALSE),\"\")","v":""}]
[171385,"","1945-05-09","не оплачен",1623,{"$f":"IFERROR(VLOOKUP(B1576,'Комиссии партнеров'!$A$2:$B$52,2,FALSE),\"\")","v":""}]
[171388,"Партнер номер 1","1945-05-09","не оплачен",575,{"$f":"IFERROR(VLOOKUP(B1577,'Комиссии партнеров'!$A$2:$B$52,2,FALSE),\"\")","v":0.05},28.75]
[171391,"Партнер номер 4","1945-05-09","не оплачен",750,{"$f":"IFERROR(VLOOKUP(B1578,'Комиссии партнеров'!$A$2:$B$52,2,FALSE),\"\")","v":0.04},30]
[171395,"","1945-05-09","оплачен",4433,{"$f":"IFERROR(VLOOKUP(B1579,'Комиссии партнеров'!$A$2:$B$52,2,FALSE),\"\")","v":""}]
[171398,"Партнер номер 2","1945-05-09","не оплачен",646,{"$f":"IFERROR(VLOOKUP(B1580,'Комиссии партнеров'!$A$2:$B$52,2,FALSE),\"\")","v":0.04},25.84]
[171402,"","1945-05-09","оплачен",2310,{"$f":"IFERROR(VLOOKUP(B1581,'Комиссии партнеров'!$A$2:$B$52,2,FALSE),\"\")","v":""}]
[171407,"","1945-05-09","оплачен",411,{"$f":"IFERROR(VLOOKUP(B1582,'Комиссии партнеров'!$A$2:$B$52,2,FALSE),\"\")","v":""}]
[171419,"Партнер номер 3","1945-05-09","оплачен",1624,{"$f":"IFERROR(VLOOKUP(B1583,'Комиссии партнеров'!$A$2:$B$52,2,FALSE),\"\")","v":0.05},81.2]
[171424,"","1945-05-09","оплачен",2979,{"$f":"IFERROR(VLOOKUP(B1584,'Комиссии партнеров'!$A$2:$B$52,2,FALSE),\"\")","v":""}]
[171427,"","1945-05-09","оплачен",2140,{"$f":"IFERROR(VLOOKUP(B1585,'Комиссии партнеров'!$A$2:$B$52,2,FALSE),\"\")","v":""}]
[171429,"","1945-05-09","оплачен",2508,{"$f":"IFERROR(VLOOKUP(B1586,'Комиссии партнеров'!$A$2:$B$52,2,FALSE),\"\")","v":""}]
[171432,"Партнер номер 11","1945-05-09","не оплачен",1263,{"$f":"IFERROR(VLOOKUP(B1587,'Комиссии партнеров'!$A$2:$B$52,2,FALSE),\"\")","v":0.05},63.150000000000006]
[171442,"","1945-05-09","оплачен",2545,{"$f":"IFERROR(VLOOKUP(B1588,'Комиссии партнеров'!$A$2:$B$52,2,FALSE),\"\")","v":""}]
[171445,"Партнер номер 5","1945-05-09","оплачен",2595,{"$f":"IFERROR(VLOOKUP(B1589,'Комиссии партнеров'!$A$2:$B$52,2,FALSE),\"\")","v":0.03},77.849999999999994]
[171451,"","1945-05-09","оплачен",3239,{"$f":"IFERROR(VLOOKUP(B1590,'Комиссии партнеров'!$A$2:$B$52,2,FALSE),\"\")","v":""}]
[171452,"","1945-05-09","не оплачен",1076,{"$f":"IFERROR(VLOOKUP(B1591,'Комиссии партнеров'!$A$2:$B$52,2,FALSE),\"\")","v":""}]
[171457,"","1945-05-09","не оплачен",1590,{"$f":"IFERROR(VLOOKUP(B1592,'Комиссии партнеров'!$A$2:$B$52,2,FALSE),\"\")","v":""}]
[171462,"","1945-05-09","оплачен",2260,{"$f":"IFERROR(VLOOKUP(B1593,'Комиссии партнеров'!$A$2:$B$52,2,FALSE),\"\")","v":""}]
[171465,"","1945-05-09","оплачен",2545,{"$f":"IFERROR(VLOOKUP(B1594,'Комиссии партнеров'!$A$2:$B$52,2,FALSE),\"\")","v":""}]
[171468,"","1945-05-09","оплачен",5181,{"$f":"IFERROR(VLOOKUP(B1595,'Комиссии партнеров'!$A$2:$B$52,2,FALSE),\"\")","v":""}]
[171473,"Партнер номер 28","1945-05-09","не оплачен",5956,{"$f":"IFERROR(VLOOKUP(B1596,'Комиссии партнеров'!$A$2:$B$52,2,FALSE),\"\")","v":0.05},297.8]
[171476,"","1945-05-09","оплачен",1445,{"$f":"IFERROR(VLOOKUP(B1597,'Комиссии партнеров'!$A$2:$B$52,2,FALSE),\"\")","v":""}]
[171480,"Партнер номер 1","1945-05-09","оплачен",3708,{"$f":"IFERROR(VLOOKUP(B1598,'Комиссии партнеров'!$A$2:$B$52,2,FALSE),\"\")","v":0.05},185.4]
[171483,"","1945-05-09","оплачен",4130,{"$f":"IFERROR(VLOOKUP(B1599,'Комиссии партнеров'!$A$2:$B$52,2,FALSE),\"\")","v":""}]
[171488,"","1945-05-09","оплачен",1235,{"$f":"IFERROR(VLOOKUP(B1600,'Комиссии партнеров'!$A$2:$B$52,2,FALSE),\"\")","v":""}]
[171491,"Партнер номер 1","1945-05-09","оплачен",2389,{"$f":"IFERROR(VLOOKUP(B1601,'Комиссии партнеров'!$A$2:$B$52,2,FALSE),\"\")","v":0.05},119.45]
[171494,"","1945-05-09","оплачен",2821,{"$f":"IFERROR(VLOOKUP(B1602,'Комиссии партнеров'!$A$2:$B$52,2,FALSE),\"\")","v":""}]
[171498,"","1945-05-09","не оплачен",960,{"$f":"IFERROR(VLOOKUP(B1603,'Комиссии партнеров'!$A$2:$B$52,2,FALSE),\"\")","v":""}]
[171502,"","1945-05-09","оплачен",2083,{"$f":"IFERROR(VLOOKUP(B1604,'Комиссии партнеров'!$A$2:$B$52,2,FALSE),\"\")","v":""}]
[171507,"Партнер номер 5","1945-05-09","не оплачен",3479,{"$f":"IFERROR(VLOOKUP(B1605,'Комиссии партнеров'!$A$2:$B$52,2,FALSE),\"\")","v":0.03},104.36999999999999]
[171511,"Партнер номер 1","1945-05-09","не оплачен",615,{"$f":"IFERROR(VLOOKUP(B1606,'Комиссии партнеров'!$A$2:$B$52,2,FALSE),\"\")","v":0.05},30.75]
[171520,"","1945-05-09","не оплачен",3198,{"$f":"IFERROR(VLOOKUP(B1607,'Комиссии партнеров'!$A$2:$B$52,2,FALSE),\"\")","v":""}]
[171522,"","1945-05-09","оплачен",2735,{"$f":"IFERROR(VLOOKUP(B1608,'Комиссии партнеров'!$A$2:$B$52,2,FALSE),\"\")","v":""}]
[171529,"","1945-05-09","оплачен",5239,{"$f":"IFERROR(VLOOKUP(B1609,'Комиссии партнеров'!$A$2:$B$52,2,FALSE),\"\")","v":""}]
[171534,"","1945-05-09","оплачен",1736,{"$f":"IFERROR(VLOOKUP(B1610,'Комиссии партнеров'!$A$2:$B$52,2,FALSE),\"\")","v":""}]
[171537,"","1945-05-09","оплачен",2770,{"$f":"IFERROR(VLOOKUP(B1611,'Комиссии партнеров'!$A$2:$B$52,2,FALSE),\"\")","v":""}]
[171542,"","1945-05-09","оплачен",700,{"$f":"IFERROR(VLOOKUP(B1612,'Комиссии партнеров'!$A$2:$B$52,2,FALSE),\"\")","v":""}]
[171547,"","1945-05-09","оплачен",2277,{"$f":"IFERROR(VLOOKUP(B1613,'Комиссии партнеров'!$A$2:$B$52,2,FALSE),\"\")","v":""}]
[171558,"","1945-05-09","оплачен",1367,{"$f":"IFERROR(VLOOKUP(B1614,'Комиссии партнеров'!$A$2:$B$52,2,FALSE),\"\")","v":""}]
[171560,"Партнер номер 1","1945-05-09","не оплачен",2954,{"$f":"IFERROR(VLOOKUP(B1615,'Комиссии партнеров'!$A$2:$B$52,2,FALSE),\"\")","v":0.05},147.70000000000002]
[171565,"Партнер номер 11","1945-05-09","оплачен",1971,{"$f":"IFERROR(VLOOKUP(B1616,'Комиссии партнеров'!$A$2:$B$52,2,FALSE),\"\")","v":0.05},98.550000000000011]
[171567,"Партнер номер 11","1945-05-09","оплачен",1171,{"$f":"IFERROR(VLOOKUP(B1617,'Комиссии партнеров'!$A$2:$B$52,2,FALSE),\"\")","v":0.05},58.550000000000004]
[171570,"","1945-05-09","оплачен",3381,{"$f":"IFERROR(VLOOKUP(B1618,'Комиссии партнеров'!$A$2:$B$52,2,FALSE),\"\")","v":""}]
[171574,"","1945-05-09","оплачен",1222,{"$f":"IFERROR(VLOOKUP(B1619,'Комиссии партнеров'!$A$2:$B$52,2,FALSE),\"\")","v":""}]
[171576,"","1945-05-09","оплачен",3381,{"$f":"IFERROR(VLOOKUP(B1620,'Комиссии партнеров'!$A$2:$B$52,2,FALSE),\"\")","v":""}]
[171586,"Партнер номер 11","1945-05-09","не оплачен",1246,{"$f":"IFERROR(VLOOKUP(B1621,'Комиссии партнеров'!$A$2:$B$52,2,FALSE),\"\")","v":0.05},62.300000000000004]
[171594,"","1945-05-09","оплачен",3622,{"$f":"IFERROR(VLOOKUP(B1622,'Комиссии партнеров'!$A$2:$B$52,2,FALSE),\"\")","v":""}]
[171597,"Партнер номер 11","1945-05-09","не оплачен",1338,{"$f":"IFERROR(VLOOKUP(B1623,'Комиссии партнеров'!$A$2:$B$52,2,FALSE),\"\")","v":0.05},66.900000000000006]
[171600,"Партнер номер 11","1945-05-09","не оплачен",1313,{"$f":"IFERROR(VLOOKUP(B1624,'Комиссии партнеров'!$A$2:$B$52,2,FALSE),\"\")","v":0.05},65.650000000000006]
[171607,"Партнер номер 11","1945-05-09","оплачен",984,{"$f":"IFERROR(VLOOKUP(B1625,'Комиссии партнеров'!$A$2:$B$52,2,FALSE),\"\")","v":0.05},49.2]
[171612,"","1945-05-09","оплачен",2392,{"$f":"IFERROR(VLOOKUP(B1626,'Комиссии партнеров'!$A$2:$B$52,2,FALSE),\"\")","v":""}]
[171620,"","1945-05-09","оплачен",1784,{"$f":"IFERROR(VLOOKUP(B1627,'Комиссии партнеров'!$A$2:$B$52,2,FALSE),\"\")","v":""}]
[171624,"Партнер номер 1","1945-05-09","оплачен",1160,{"$f":"IFERROR(VLOOKUP(B1628,'Комиссии партнеров'!$A$2:$B$52,2,FALSE),\"\")","v":0.05},58]
[171626,"Партнер номер 2","1945-05-09","не оплачен",2715,{"$f":"IFERROR(VLOOKUP(B1629,'Комиссии партнеров'!$A$2:$B$52,2,FALSE),\"\")","v":0.04},108.60000000000001]
[171629,"","1945-05-09","оплачен",3144,{"$f":"IFERROR(VLOOKUP(B1630,'Комиссии партнеров'!$A$2:$B$52,2,FALSE),\"\")","v":""}]
[171631,"","1945-05-09","оплачен",3340,{"$f":"IFERROR(VLOOKUP(B1631,'Комиссии партнеров'!$A$2:$B$52,2,FALSE),\"\")","v":""}]
[171635,"","1945-05-09","оплачен",2392,{"$f":"IFERROR(VLOOKUP(B1632,'Комиссии партнеров'!$A$2:$B$52,2,FALSE),\"\")","v":""}]
[171644,"","1945-05-09","оплачен",6473,{"$f":"IFERROR(VLOOKUP(B1633,'Комиссии партнеров'!$A$2:$B$52,2,FALSE),\"\")","v":""}]
[171647,"Партнер номер 1","1945-05-09","не оплачен",2023,{"$f":"IFERROR(VLOOKUP(B1634,'Комиссии партнеров'!$A$2:$B$52,2,FALSE),\"\")","v":0.05},101.15]
[171649,"","1945-05-09","оплачен",3002,{"$f":"IFERROR(VLOOKUP(B1635,'Комиссии партнеров'!$A$2:$B$52,2,FALSE),\"\")","v":""}]
[171654,"","1945-05-09","не оплачен",3418,{"$f":"IFERROR(VLOOKUP(B1636,'Комиссии партнеров'!$A$2:$B$52,2,FALSE),\"\")","v":""}]
[171669,"","1945-05-09","оплачен",2969,{"$f":"IFERROR(VLOOKUP(B1637,'Комиссии партнеров'!$A$2:$B$52,2,FALSE),\"\")","v":""}]
[171675,"Партнер номер 1","1945-05-09","оплачен",414,{"$f":"IFERROR(VLOOKUP(B1638,'Комиссии партнеров'!$A$2:$B$52,2,FALSE),\"\")","v":0.05},20.700000000000003]
[171678,"Партнер номер 1","1945-05-09","не оплачен",4028,{"$f":"IFERROR(VLOOKUP(B1639,'Комиссии партнеров'!$A$2:$B$52,2,FALSE),\"\")","v":0.05},201.4]
[171682,"Партнер номер 7","1945-05-09","оплачен",1800,{"$f":"IFERROR(VLOOKUP(B1640,'Комиссии партнеров'!$A$2:$B$52,2,FALSE),\"\")","v":0.05},90]
[171684,"","1945-05-09","оплачен",1951,{"$f":"IFERROR(VLOOKUP(B1641,'Комиссии партнеров'!$A$2:$B$52,2,FALSE),\"\")","v":""}]
[171688,"","1945-05-09","оплачен",2479,{"$f":"IFERROR(VLOOKUP(B1642,'Комиссии партнеров'!$A$2:$B$52,2,FALSE),\"\")","v":""}]
[171693,"Партнер номер 1","1945-05-09","оплачен",2468,{"$f":"IFERROR(VLOOKUP(B1643,'Комиссии партнеров'!$A$2:$B$52,2,FALSE),\"\")","v":0.05},123.4]
[171697,"Партнер номер 1","1945-05-09","не оплачен",1904,{"$f":"IFERROR(VLOOKUP(B1644,'Комиссии партнеров'!$A$2:$B$52,2,FALSE),\"\")","v":0.05},95.2]
[171700,"Партнер номер 1","1945-05-09","оплачен",965,{"$f":"IFERROR(VLOOKUP(B1645,'Комиссии партнеров'!$A$2:$B$52,2,FALSE),\"\")","v":0.05},48.25]
[171705,"Партнер номер 5","1945-05-09","оплачен",2311,{"$f":"IFERROR(VLOOKUP(B1646,'Комиссии партнеров'!$A$2:$B$52,2,FALSE),\"\")","v":0.03},69.33]
[171707,"","1945-05-09","не оплачен",945,{"$f":"IFERROR(VLOOKUP(B1647,'Комиссии партнеров'!$A$2:$B$52,2,FALSE),\"\")","v":""}]
[171712,"","1945-05-09","оплачен",4136,{"$f":"IFERROR(VLOOKUP(B1648,'Комиссии партнеров'!$A$2:$B$52,2,FALSE),\"\")","v":""}]
[171717,"Партнер номер 1","1945-05-09","оплачен",1838,{"$f":"IFERROR(VLOOKUP(B1649,'Комиссии партнеров'!$A$2:$B$52,2,FALSE),\"\")","v":0.05},91.9]
[171721,"","1945-05-09","не оплачен",879,{"$f":"IFERROR(VLOOKUP(B1650,'Комиссии партнеров'!$A$2:$B$52,2,FALSE),\"\")","v":""}]
[171723,"Партнер номер 1","1945-05-09","оплачен",3645,{"$f":"IFERROR(VLOOKUP(B1651,'Комиссии партнеров'!$A$2:$B$52,2,FALSE),\"\")","v":0.05},182.25]
[171726,"Партнер номер 1","1945-05-09","оплачен",2776,{"$f":"IFERROR(VLOOKUP(B1652,'Комиссии партнеров'!$A$2:$B$52,2,FALSE),\"\")","v":0.05},138.80000000000001]
[171728,"","1945-05-09","не оплачен",1319,{"$f":"IFERROR(VLOOKUP(B1653,'Комиссии партнеров'!$A$2:$B$52,2,FALSE),\"\")","v":""}]
[171732,"","1945-05-09","не оплачен",1570,{"$f":"IFERROR(VLOOKUP(B1654,'Комиссии партнеров'!$A$2:$B$52,2,FALSE),\"\")","v":""}]
[171736,"","1945-05-09","не оплачен",1860,{"$f":"IFERROR(VLOOKUP(B1655,'Комиссии партнеров'!$A$2:$B$52,2,FALSE),\"\")","v":""}]
[171741,"","1945-05-09","оплачен",7635,{"$f":"IFERROR(VLOOKUP(B1656,'Комиссии партнеров'!$A$2:$B$52,2,FALSE),\"\")","v":""}]
[171746,"Партнер номер 1","1945-05-09","оплачен",1072,{"$f":"IFERROR(VLOOKUP(B1657,'Комиссии партнеров'!$A$2:$B$52,2,FALSE),\"\")","v":0.05},53.6]
[171748,"","1945-05-09","не оплачен",1836,{"$f":"IFERROR(VLOOKUP(B1658,'Комиссии партнеров'!$A$2:$B$52,2,FALSE),\"\")","v":""}]
[171750,"","1945-05-09","не оплачен",2724,{"$f":"IFERROR(VLOOKUP(B1659,'Комиссии партнеров'!$A$2:$B$52,2,FALSE),\"\")","v":""}]
[171753,"","1945-05-09","не оплачен",1861,{"$f":"IFERROR(VLOOKUP(B1660,'Комиссии партнеров'!$A$2:$B$52,2,FALSE),\"\")","v":""}]
[171756,"Партнер номер 10","1945-05-09","оплачен",6223,{"$f":"IFERROR(VLOOKUP(B1661,'Комиссии партнеров'!$A$2:$B$52,2,FALSE),\"\")","v":0.04},248.92000000000002]
[171760,"Партнер номер 8","1945-05-09","не оплачен",1475,{"$f":"IFERROR(VLOOKUP(B1662,'Комиссии партнеров'!$A$2:$B$52,2,FALSE),\"\")","v":0.03},44.25]
[171763,"","1945-05-09","оплачен",2603,{"$f":"IFERROR(VLOOKUP(B1663,'Комиссии партнеров'!$A$2:$B$52,2,FALSE),\"\")","v":""}]
[171768,"Партнер номер 11","1945-05-09","не оплачен",1091,{"$f":"IFERROR(VLOOKUP(B1664,'Комиссии партнеров'!$A$2:$B$52,2,FALSE),\"\")","v":0.05},54.550000000000004]
[171773,"","1945-05-09","не оплачен",1621,{"$f":"IFERROR(VLOOKUP(B1665,'Комиссии партнеров'!$A$2:$B$52,2,FALSE),\"\")","v":""}]
[171777,"","1945-05-09","оплачен",1363,{"$f":"IFERROR(VLOOKUP(B1666,'Комиссии партнеров'!$A$2:$B$52,2,FALSE),\"\")","v":""}]
[171783,"Партнер номер 37","1945-05-09","оплачен",1525,{"$f":"IFERROR(VLOOKUP(B1667,'Комиссии партнеров'!$A$2:$B$52,2,FALSE),\"\")","v":0.05},76.25]
[171786,"","1945-05-09","оплачен",1631,{"$f":"IFERROR(VLOOKUP(B1668,'Комиссии партнеров'!$A$2:$B$52,2,FALSE),\"\")","v":""}]
[171788,"","1945-05-09","оплачен",1907,{"$f":"IFERROR(VLOOKUP(B1669,'Комиссии партнеров'!$A$2:$B$52,2,FALSE),\"\")","v":""}]
[171791,"","1945-05-09","не оплачен",633,{"$f":"IFERROR(VLOOKUP(B1670,'Комиссии партнеров'!$A$2:$B$52,2,FALSE),\"\")","v":""}]
[171793,"Партнер номер 5","1945-05-09","оплачен",917,{"$f":"IFERROR(VLOOKUP(B1671,'Комиссии партнеров'!$A$2:$B$52,2,FALSE),\"\")","v":0.03},27.509999999999998]
[171799,"Партнер номер 1","1945-05-09","не оплачен",1337,{"$f":"IFERROR(VLOOKUP(B1672,'Комиссии партнеров'!$A$2:$B$52,2,FALSE),\"\")","v":0.05},66.850000000000009]
[171801,"Партнер номер 7","1945-05-09","оплачен",7982,{"$f":"IFERROR(VLOOKUP(B1673,'Комиссии партнеров'!$A$2:$B$52,2,FALSE),\"\")","v":0.05},399.1]
[171804,"Партнер номер 5","1945-05-09","оплачен",917,{"$f":"IFERROR(VLOOKUP(B1674,'Комиссии партнеров'!$A$2:$B$52,2,FALSE),\"\")","v":0.03},27.509999999999998]
[171807,"Партнер номер 1","1945-05-09","оплачен",2351,{"$f":"IFERROR(VLOOKUP(B1675,'Комиссии партнеров'!$A$2:$B$52,2,FALSE),\"\")","v":0.05},117.55000000000001]
[171810,"Партнер номер 3","1945-05-09","оплачен",1816,{"$f":"IFERROR(VLOOKUP(B1676,'Комиссии партнеров'!$A$2:$B$52,2,FALSE),\"\")","v":0.05},90.800000000000011]
[171812,"Партнер номер 1","1945-05-09","не оплачен",1883,{"$f":"IFERROR(VLOOKUP(B1677,'Комиссии партнеров'!$A$2:$B$52,2,FALSE),\"\")","v":0.05},94.15]
[171814,"Партнер номер 6","1945-05-09","оплачен",1187,{"$f":"IFERROR(VLOOKUP(B1678,'Комиссии партнеров'!$A$2:$B$52,2,FALSE),\"\")","v":0.04},47.480000000000004]
[171816,"Партнер номер 1","1945-05-09","оплачен",1184,{"$f":"IFERROR(VLOOKUP(B1679,'Комиссии партнеров'!$A$2:$B$52,2,FALSE),\"\")","v":0.05},59.2]
[171820,"","1945-05-09","оплачен",2383,{"$f":"IFERROR(VLOOKUP(B1680,'Комиссии партнеров'!$A$2:$B$52,2,FALSE),\"\")","v":""}]
[171822,"","1945-05-09","оплачен",1439,{"$f":"IFERROR(VLOOKUP(B1681,'Комиссии партнеров'!$A$2:$B$52,2,FALSE),\"\")","v":""}]
[171824,"","1945-05-09","оплачен",2143,{"$f":"IFERROR(VLOOKUP(B1682,'Комиссии партнеров'!$A$2:$B$52,2,FALSE),\"\")","v":""}]
[171825,"Партнер номер 8","1945-05-09","не оплачен",1335,{"$f":"IFERROR(VLOOKUP(B1683,'Комиссии партнеров'!$A$2:$B$52,2,FALSE),\"\")","v":0.03},40.049999999999997]
[171828,"Партнер номер 11","1945-05-09","не оплачен",681,{"$f":"IFERROR(VLOOKUP(B1684,'Комиссии партнеров'!$A$2:$B$52,2,FALSE),\"\")","v":0.05},34.050000000000004]
[171834,"Партнер номер 3","1945-05-09","не оплачен",2706,{"$f":"IFERROR(VLOOKUP(B1685,'Комиссии партнеров'!$A$2:$B$52,2,FALSE),\"\")","v":0.05},135.30000000000001]
[171839,"","1945-05-09","оплачен",8804,{"$f":"IFERROR(VLOOKUP(B1686,'Комиссии партнеров'!$A$2:$B$52,2,FALSE),\"\")","v":""}]
[171845,"Партнер номер 1","1945-05-09","оплачен",1821,{"$f":"IFERROR(VLOOKUP(B1687,'Комиссии партнеров'!$A$2:$B$52,2,FALSE),\"\")","v":0.05},91.050000000000011]
[171850,"Партнер номер 3","1945-05-09","не оплачен",1067,{"$f":"IFERROR(VLOOKUP(B1688,'Комиссии партнеров'!$A$2:$B$52,2,FALSE),\"\")","v":0.05},53.35]
[171852,"","1945-05-09","оплачен",3860,{"$f":"IFERROR(VLOOKUP(B1689,'Комиссии партнеров'!$A$2:$B$52,2,FALSE),\"\")","v":""}]
[171855,"Партнер номер 3","1945-05-09","оплачен",1288,{"$f":"IFERROR(VLOOKUP(B1690,'Комиссии партнеров'!$A$2:$B$52,2,FALSE),\"\")","v":0.05},64.400000000000006]
[171856,"","1945-05-09","оплачен",2857,{"$f":"IFERROR(VLOOKUP(B1691,'Комиссии партнеров'!$A$2:$B$52,2,FALSE),\"\")","v":""}]
[171858,"","1945-05-09","оплачен",1029,{"$f":"IFERROR(VLOOKUP(B1692,'Комиссии партнеров'!$A$2:$B$52,2,FALSE),\"\")","v":""}]
[171860,"","1945-05-09","не оплачен",1747,{"$f":"IFERROR(VLOOKUP(B1693,'Комиссии партнеров'!$A$2:$B$52,2,FALSE),\"\")","v":""}]
[171862,"Партнер номер 7","1945-05-09","не оплачен",2229,{"$f":"IFERROR(VLOOKUP(B1694,'Комиссии партнеров'!$A$2:$B$52,2,FALSE),\"\")","v":0.05},111.45]
[171865,"","1945-05-09","оплачен",3306,{"$f":"IFERROR(VLOOKUP(B1695,'Комиссии партнеров'!$A$2:$B$52,2,FALSE),\"\")","v":""}]
[171868,"Партнер номер 28","1945-05-09","оплачен",1135,{"$f":"IFERROR(VLOOKUP(B1696,'Комиссии партнеров'!$A$2:$B$52,2,FALSE),\"\")","v":0.05},56.75]
[171870,"","1945-05-09","оплачен",2840,{"$f":"IFERROR(VLOOKUP(B1697,'Комиссии партнеров'!$A$2:$B$52,2,FALSE),\"\")","v":""}]
[171873,"Партнер номер 6","1945-05-09","не оплачен",2474,{"$f":"IFERROR(VLOOKUP(B1698,'Комиссии партнеров'!$A$2:$B$52,2,FALSE),\"\")","v":0.04},98.960000000000008]
[171876,"","1945-05-09","не оплачен",1359,{"$f":"IFERROR(VLOOKUP(B1699,'Комиссии партнеров'!$A$2:$B$52,2,FALSE),\"\")","v":""}]
[171882,"","1945-05-09","оплачен",3934,{"$f":"IFERROR(VLOOKUP(B1700,'Комиссии партнеров'!$A$2:$B$52,2,FALSE),\"\")","v":""}]
[171887,"","1945-05-09","оплачен",2208,{"$f":"IFERROR(VLOOKUP(B1701,'Комиссии партнеров'!$A$2:$B$52,2,FALSE),\"\")","v":""}]
[171892,"Партнер номер 11","1945-05-09","оплачен",1856,{"$f":"IFERROR(VLOOKUP(B1702,'Комиссии партнеров'!$A$2:$B$52,2,FALSE),\"\")","v":0.05},92.800000000000011]
[171896,"Партнер номер 10","1945-05-09","оплачен",2504,{"$f":"IFERROR(VLOOKUP(B1703,'Комиссии партнеров'!$A$2:$B$52,2,FALSE),\"\")","v":0.04},100.16]
[171898,"","1945-05-09","не оплачен",2896,{"$f":"IFERROR(VLOOKUP(B1704,'Комиссии партнеров'!$A$2:$B$52,2,FALSE),\"\")","v":""}]
[171901,"","1945-05-09","оплачен",2605,{"$f":"IFERROR(VLOOKUP(B1705,'Комиссии партнеров'!$A$2:$B$52,2,FALSE),\"\")","v":""}]
[171903,"","1945-05-09","оплачен",2200,{"$f":"IFERROR(VLOOKUP(B1706,'Комиссии партнеров'!$A$2:$B$52,2,FALSE),\"\")","v":""}]
[171908,"Партнер номер 11","1945-05-09","не оплачен",976,{"$f":"IFERROR(VLOOKUP(B1707,'Комиссии партнеров'!$A$2:$B$52,2,FALSE),\"\")","v":0.05},48.800000000000004]
[171911,"","1945-05-10","не оплачен",3718,{"$f":"IFERROR(VLOOKUP(B1708,'Комиссии партнеров'!$A$2:$B$52,2,FALSE),\"\")","v":""}]
[171914,"Партнер номер 10","1945-05-10","не оплачен",2871,{"$f":"IFERROR(VLOOKUP(B1709,'Комиссии партнеров'!$A$2:$B$52,2,FALSE),\"\")","v":0.04},114.84]
[171916,"","1945-05-10","оплачен",4928,{"$f":"IFERROR(VLOOKUP(B1710,'Комиссии партнеров'!$A$2:$B$52,2,FALSE),\"\")","v":""}]
[171918,"","1945-05-10","оплачен",3835,{"$f":"IFERROR(VLOOKUP(B1711,'Комиссии партнеров'!$A$2:$B$52,2,FALSE),\"\")","v":""}]
[171922,"Партнер номер 1","1945-05-10","не оплачен",4387,{"$f":"IFERROR(VLOOKUP(B1712,'Комиссии партнеров'!$A$2:$B$52,2,FALSE),\"\")","v":0.05},219.35000000000002]
[171925,"","1945-05-10","оплачен",4013,{"$f":"IFERROR(VLOOKUP(B1713,'Комиссии партнеров'!$A$2:$B$52,2,FALSE),\"\")","v":""}]
[171928,"","1945-05-10","оплачен",3718,{"$f":"IFERROR(VLOOKUP(B1714,'Комиссии партнеров'!$A$2:$B$52,2,FALSE),\"\")","v":""}]
[171930,"Партнер номер 10","1945-05-10","оплачен",2871,{"$f":"IFERROR(VLOOKUP(B1715,'Комиссии партнеров'!$A$2:$B$52,2,FALSE),\"\")","v":0.04},114.84]
[171933,"Партнер номер 28","1945-05-10","оплачен",4779,{"$f":"IFERROR(VLOOKUP(B1716,'Комиссии партнеров'!$A$2:$B$52,2,FALSE),\"\")","v":0.05},238.95000000000002]
[171938,"","1945-05-10","оплачен",2107,{"$f":"IFERROR(VLOOKUP(B1717,'Комиссии партнеров'!$A$2:$B$52,2,FALSE),\"\")","v":""}]
[171939,"Партнер номер 1","1945-05-10","не оплачен",836,{"$f":"IFERROR(VLOOKUP(B1718,'Комиссии партнеров'!$A$2:$B$52,2,FALSE),\"\")","v":0.05},41.800000000000004]
[171942,"","1945-05-10","оплачен",1649,{"$f":"IFERROR(VLOOKUP(B1719,'Комиссии партнеров'!$A$2:$B$52,2,FALSE),\"\")","v":""}]
[171946,"","1945-05-10","оплачен",6026,{"$f":"IFERROR(VLOOKUP(B1720,'Комиссии партнеров'!$A$2:$B$52,2,FALSE),\"\")","v":""}]
[171948,"","1945-05-10","оплачен",3015,{"$f":"IFERROR(VLOOKUP(B1721,'Комиссии партнеров'!$A$2:$B$52,2,FALSE),\"\")","v":""}]
[171954,"","1945-05-10","оплачен",4057,{"$f":"IFERROR(VLOOKUP(B1722,'Комиссии партнеров'!$A$2:$B$52,2,FALSE),\"\")","v":""}]
[171959,"","1945-05-10","оплачен",1021,{"$f":"IFERROR(VLOOKUP(B1723,'Комиссии партнеров'!$A$2:$B$52,2,FALSE),\"\")","v":""}]
[171964,"Партнер номер 1","1945-05-10","не оплачен",3057,{"$f":"IFERROR(VLOOKUP(B1724,'Комиссии партнеров'!$A$2:$B$52,2,FALSE),\"\")","v":0.05},152.85]
[171969,"Партнер номер 1","1945-05-10","оплачен",2856,{"$f":"IFERROR(VLOOKUP(B1725,'Комиссии партнеров'!$A$2:$B$52,2,FALSE),\"\")","v":0.05},142.80000000000001]
[171974,"Партнер номер 5","1945-05-10","не оплачен",2666,{"$f":"IFERROR(VLOOKUP(B1726,'Комиссии партнеров'!$A$2:$B$52,2,FALSE),\"\")","v":0.03},79.98]
[171979,"","1945-05-10","не оплачен",1299,{"$f":"IFERROR(VLOOKUP(B1727,'Комиссии партнеров'!$A$2:$B$52,2,FALSE),\"\")","v":""}]
[171983,"Партнер номер 1","1945-05-10","не оплачен",2180,{"$f":"IFERROR(VLOOKUP(B1728,'Комиссии партнеров'!$A$2:$B$52,2,FALSE),\"\")","v":0.05},109]
[171988,"Партнер номер 2","1945-05-10","не оплачен",3327,{"$f":"IFERROR(VLOOKUP(B1729,'Комиссии партнеров'!$A$2:$B$52,2,FALSE),\"\")","v":0.04},133.08000000000001]
[171991,"","1945-05-10","оплачен",2776,{"$f":"IFERROR(VLOOKUP(B1730,'Комиссии партнеров'!$A$2:$B$52,2,FALSE),\"\")","v":""}]
[171993,"","1945-05-10","оплачен",3060,{"$f":"IFERROR(VLOOKUP(B1731,'Комиссии партнеров'!$A$2:$B$52,2,FALSE),\"\")","v":""}]
[171999,"","1945-05-10","оплачен",2581,{"$f":"IFERROR(VLOOKUP(B1732,'Комиссии партнеров'!$A$2:$B$52,2,FALSE),\"\")","v":""}]
[172003,"Партнер номер 1","1945-05-10","оплачен",1543,{"$f":"IFERROR(VLOOKUP(B1733,'Комиссии партнеров'!$A$2:$B$52,2,FALSE),\"\")","v":0.05},77.150000000000006]
[172006,"","1945-05-10","не оплачен",1116,{"$f":"IFERROR(VLOOKUP(B1734,'Комиссии партнеров'!$A$2:$B$52,2,FALSE),\"\")","v":""}]
[172011,"Партнер номер 1","1945-05-10","оплачен",1107,{"$f":"IFERROR(VLOOKUP(B1735,'Комиссии партнеров'!$A$2:$B$52,2,FALSE),\"\")","v":0.05},55.35]
[172013,"","1945-05-10","оплачен",4581,{"$f":"IFERROR(VLOOKUP(B1736,'Комиссии партнеров'!$A$2:$B$52,2,FALSE),\"\")","v":""}]
[172018,"","1945-05-10","не оплачен",4222,{"$f":"IFERROR(VLOOKUP(B1737,'Комиссии партнеров'!$A$2:$B$52,2,FALSE),\"\")","v":""}]
[172023,"","1945-05-10","не оплачен",2209,{"$f":"IFERROR(VLOOKUP(B1738,'Комиссии партнеров'!$A$2:$B$52,2,FALSE),\"\")","v":""}]
[172024,"Партнер номер 5","1945-05-10","оплачен",1798,{"$f":"IFERROR(VLOOKUP(B1739,'Комиссии партнеров'!$A$2:$B$52,2,FALSE),\"\")","v":0.03},53.94]
[172029,"","1945-05-10","оплачен",2577,{"$f":"IFERROR(VLOOKUP(B1740,'Комиссии партнеров'!$A$2:$B$52,2,FALSE),\"\")","v":""}]
[172033,"Партнер номер 1","1945-05-10","оплачен",3399,{"$f":"IFERROR(VLOOKUP(B1741,'Комиссии партнеров'!$A$2:$B$52,2,FALSE),\"\")","v":0.05},169.95000000000002]
[172035,"Партнер номер 5","1945-05-10","не оплачен",2383,{"$f":"IFERROR(VLOOKUP(B1742,'Комиссии партнеров'!$A$2:$B$52,2,FALSE),\"\")","v":0.03},71.489999999999995]
[172039,"","1945-05-10","оплачен",4733,{"$f":"IFERROR(VLOOKUP(B1743,'Комиссии партнеров'!$A$2:$B$52,2,FALSE),\"\")","v":""}]
[172041,"","1945-05-10","оплачен",1695,{"$f":"IFERROR(VLOOKUP(B1744,'Комиссии партнеров'!$A$2:$B$52,2,FALSE),\"\")","v":""}]
[172043,"","1945-05-10","оплачен",2252,{"$f":"IFERROR(VLOOKUP(B1745,'Комиссии партнеров'!$A$2:$B$52,2,FALSE),\"\")","v":""}]
[172046,"Партнер номер 1","1945-05-10","оплачен",2879,{"$f":"IFERROR(VLOOKUP(B1746,'Комиссии партнеров'!$A$2:$B$52,2,FALSE),\"\")","v":0.05},143.95000000000002]
[172050,"Партнер номер 28","1945-05-10","оплачен",9080,{"$f":"IFERROR(VLOOKUP(B1747,'Комиссии партнеров'!$A$2:$B$52,2,FALSE),\"\")","v":0.05},454]
[172054,"","1945-05-10","не оплачен",2284,{"$f":"IFERROR(VLOOKUP(B1748,'Комиссии партнеров'!$A$2:$B$52,2,FALSE),\"\")","v":""}]
[172056,"Партнер номер 4","1945-05-10","оплачен",1842,{"$f":"IFERROR(VLOOKUP(B1749,'Комиссии партнеров'!$A$2:$B$52,2,FALSE),\"\")","v":0.04},73.680000000000007]
[172058,"","1945-05-10","оплачен",2061,{"$f":"IFERROR(VLOOKUP(B1750,'Комиссии партнеров'!$A$2:$B$52,2,FALSE),\"\")","v":""}]
[172061,"","1945-05-10","оплачен",2523,{"$f":"IFERROR(VLOOKUP(B1751,'Комиссии партнеров'!$A$2:$B$52,2,FALSE),\"\")","v":""}]
[172067,"","1945-05-10","оплачен",2861,{"$f":"IFERROR(VLOOKUP(B1752,'Комиссии партнеров'!$A$2:$B$52,2,FALSE),\"\")","v":""}]
[172068,"","1945-05-10","оплачен",4573,{"$f":"IFERROR(VLOOKUP(B1753,'Комиссии партнеров'!$A$2:$B$52,2,FALSE),\"\")","v":""}]
[172072,"Партнер номер 7","1945-05-10","оплачен",1596,{"$f":"IFERROR(VLOOKUP(B1754,'Комиссии партнеров'!$A$2:$B$52,2,FALSE),\"\")","v":0.05},79.800000000000011]
[172075,"","1945-05-10","оплачен",2513,{"$f":"IFERROR(VLOOKUP(B1755,'Комиссии партнеров'!$A$2:$B$52,2,FALSE),\"\")","v":""}]
[172078,"Партнер номер 10","1945-05-10","оплачен",1294,{"$f":"IFERROR(VLOOKUP(B1756,'Комиссии партнеров'!$A$2:$B$52,2,FALSE),\"\")","v":0.04},51.76]
[172083,"","1945-05-10","оплачен",1618,{"$f":"IFERROR(VLOOKUP(B1757,'Комиссии партнеров'!$A$2:$B$52,2,FALSE),\"\")","v":""}]
[172088,"","1945-05-10","оплачен",1587,{"$f":"IFERROR(VLOOKUP(B1758,'Комиссии партнеров'!$A$2:$B$52,2,FALSE),\"\")","v":""}]
[172092,"Партнер номер 7","1945-05-10","не оплачен",469,{"$f":"IFERROR(VLOOKUP(B1759,'Комиссии партнеров'!$A$2:$B$52,2,FALSE),\"\")","v":0.05},23.450000000000003]
[172096,"Партнер номер 11","1945-05-10","не оплачен",929,{"$f":"IFERROR(VLOOKUP(B1760,'Комиссии партнеров'!$A$2:$B$52,2,FALSE),\"\")","v":0.05},46.45]
[172099,"Партнер номер 5","1945-05-10","оплачен",3780,{"$f":"IFERROR(VLOOKUP(B1761,'Комиссии партнеров'!$A$2:$B$52,2,FALSE),\"\")","v":0.03},113.39999999999999]
[172103,"Партнер номер 7","1945-05-10","не оплачен",508,{"$f":"IFERROR(VLOOKUP(B1762,'Комиссии партнеров'!$A$2:$B$52,2,FALSE),\"\")","v":0.05},25.400000000000002]
[172108,"Партнер номер 7","1945-05-10","не оплачен",508,{"$f":"IFERROR(VLOOKUP(B1763,'Комиссии партнеров'!$A$2:$B$52,2,FALSE),\"\")","v":0.05},25.400000000000002]
[172111,"","1945-05-10","оплачен",1411,{"$f":"IFERROR(VLOOKUP(B1764,'Комиссии партнеров'!$A$2:$B$52,2,FALSE),\"\")","v":""}]
[172114,"","1945-05-10","не оплачен",672,{"$f":"IFERROR(VLOOKUP(B1765,'Комиссии партнеров'!$A$2:$B$52,2,FALSE),\"\")","v":""}]
[172117,"Партнер номер 1","1945-05-10","не оплачен",700,{"$f":"IFERROR(VLOOKUP(B1766,'Комиссии партнеров'!$A$2:$B$52,2,FALSE),\"\")","v":0.05},35]
[172119,"","1945-05-10","не оплачен",9543,{"$f":"IFERROR(VLOOKUP(B1767,'Комиссии партнеров'!$A$2:$B$52,2,FALSE),\"\")","v":""}]
[172121,"","1945-05-10","не оплачен",763,{"$f":"IFERROR(VLOOKUP(B1768,'Комиссии партнеров'!$A$2:$B$52,2,FALSE),\"\")","v":""}]
[172127,"Партнер номер 7","1945-05-10","не оплачен",4711,{"$f":"IFERROR(VLOOKUP(B1769,'Комиссии партнеров'!$A$2:$B$52,2,FALSE),\"\")","v":0.05},235.55]
[172130,"Партнер номер 7","1945-05-10","оплачен",4711,{"$f":"IFERROR(VLOOKUP(B1770,'Комиссии партнеров'!$A$2:$B$52,2,FALSE),\"\")","v":0.05},235.55]
[172135,"Партнер номер 5","1945-05-10","оплачен",2469,{"$f":"IFERROR(VLOOKUP(B1771,'Комиссии партнеров'!$A$2:$B$52,2,FALSE),\"\")","v":0.03},74.069999999999993]
[172138,"","1945-05-10","не оплачен",887,{"$f":"IFERROR(VLOOKUP(B1772,'Комиссии партнеров'!$A$2:$B$52,2,FALSE),\"\")","v":""}]
[172140,"Партнер номер 1","1945-05-10","оплачен",3156,{"$f":"IFERROR(VLOOKUP(B1773,'Комиссии партнеров'!$A$2:$B$52,2,FALSE),\"\")","v":0.05},157.80000000000001]
[172146,"Партнер номер 1","1945-05-10","оплачен",1844,{"$f":"IFERROR(VLOOKUP(B1774,'Комиссии партнеров'!$A$2:$B$52,2,FALSE),\"\")","v":0.05},92.2]
[172148,"Партнер номер 38","1945-05-10","не оплачен",1871,{"$f":"IFERROR(VLOOKUP(B1775,'Комиссии партнеров'!$A$2:$B$52,2,FALSE),\"\")","v":0.03},56.129999999999995]
[172153,"Партнер номер 1","1945-05-10","не оплачен",1944,{"$f":"IFERROR(VLOOKUP(B1776,'Комиссии партнеров'!$A$2:$B$52,2,FALSE),\"\")","v":0.05},97.2]
[172157,"","1945-05-10","оплачен",975,{"$f":"IFERROR(VLOOKUP(B1777,'Комиссии партнеров'!$A$2:$B$52,2,FALSE),\"\")","v":""}]
[172162,"","1945-05-10","не оплачен",2436,{"$f":"IFERROR(VLOOKUP(B1778,'Комиссии партнеров'!$A$2:$B$52,2,FALSE),\"\")","v":""}]
[172165,"Партнер номер 12","1945-05-10","не оплачен",5840,{"$f":"IFERROR(VLOOKUP(B1779,'Комиссии партнеров'!$A$2:$B$52,2,FALSE),\"\")","v":0.03},175.2]
[172170,"","1945-05-10","не оплачен",3088,{"$f":"IFERROR(VLOOKUP(B1780,'Комиссии партнеров'!$A$2:$B$52,2,FALSE),\"\")","v":""}]
[172175,"Партнер номер 1","1945-05-10","оплачен",1542,{"$f":"IFERROR(VLOOKUP(B1781,'Комиссии партнеров'!$A$2:$B$52,2,FALSE),\"\")","v":0.05},77.100000000000009]
[172180,"Партнер номер 7","1945-05-10","оплачен",2290,{"$f":"IFERROR(VLOOKUP(B1782,'Комиссии партнеров'!$A$2:$B$52,2,FALSE),\"\")","v":0.05},114.5]
[172183,"","1945-05-10","оплачен",3013,{"$f":"IFERROR(VLOOKUP(B1783,'Комиссии партнеров'!$A$2:$B$52,2,FALSE),\"\")","v":""}]
[172185,"","1945-05-10","не оплачен",812,{"$f":"IFERROR(VLOOKUP(B1784,'Комиссии партнеров'!$A$2:$B$52,2,FALSE),\"\")","v":""}]
[172187,"","1945-05-10","оплачен",812,{"$f":"IFERROR(VLOOKUP(B1785,'Комиссии партнеров'!$A$2:$B$52,2,FALSE),\"\")","v":""}]
[172192,"Партнер номер 39","1945-05-10","оплачен",1662,{"$f":"IFERROR(VLOOKUP(B1786,'Комиссии партнеров'!$A$2:$B$52,2,FALSE),\"\")","v":0.05},83.100000000000009]
[172197,"Партнер номер 11","1945-05-10","оплачен",2526,{"$f":"IFERROR(VLOOKUP(B1787,'Комиссии партнеров'!$A$2:$B$52,2,FALSE),\"\")","v":0.05},126.30000000000001]
[172200,"Партнер номер 2","1945-05-10","не оплачен",3104,{"$f":"IFERROR(VLOOKUP(B1788,'Комиссии партнеров'!$A$2:$B$52,2,FALSE),\"\")","v":0.04},124.16]
[172208,"","1945-05-10","не оплачен",2526,{"$f":"IFERROR(VLOOKUP(B1789,'Комиссии партнеров'!$A$2:$B$52,2,FALSE),\"\")","v":""}]
[172213,"","1945-05-10","оплачен",1404,{"$f":"IFERROR(VLOOKUP(B1790,'Комиссии партнеров'!$A$2:$B$52,2,FALSE),\"\")","v":""}]
[172214,"","1945-05-10","оплачен",3398,{"$f":"IFERROR(VLOOKUP(B1791,'Комиссии партнеров'!$A$2:$B$52,2,FALSE),\"\")","v":""}]
[172218,"Партнер номер 1","1945-05-10","не оплачен",3452,{"$f":"IFERROR(VLOOKUP(B1792,'Комиссии партнеров'!$A$2:$B$52,2,FALSE),\"\")","v":0.05},172.60000000000002]
[172220,"Партнер номер 1","1945-05-10","не оплачен",1364,{"$f":"IFERROR(VLOOKUP(B1793,'Комиссии партнеров'!$A$2:$B$52,2,FALSE),\"\")","v":0.05},68.2]
[172224,"Партнер номер 7","1945-05-10","не оплачен",2851,{"$f":"IFERROR(VLOOKUP(B1794,'Комиссии партнеров'!$A$2:$B$52,2,FALSE),\"\")","v":0.05},142.55000000000001]
[172229,"Партнер номер 7","1945-05-10","оплачен",1596,{"$f":"IFERROR(VLOOKUP(B1795,'Комиссии партнеров'!$A$2:$B$52,2,FALSE),\"\")","v":0.05},79.800000000000011]
[172234,"","1945-05-10","оплачен",1000,{"$f":"IFERROR(VLOOKUP(B1796,'Комиссии партнеров'!$A$2:$B$52,2,FALSE),\"\")","v":""}]
[172237,"","1945-05-10","оплачен",1596,{"$f":"IFERROR(VLOOKUP(B1797,'Комиссии партнеров'!$A$2:$B$52,2,FALSE),\"\")","v":""}]
[172239,"Партнер номер 1","1945-05-10","оплачен",3452,{"$f":"IFERROR(VLOOKUP(B1798,'Комиссии партнеров'!$A$2:$B$52,2,FALSE),\"\")","v":0.05},172.60000000000002]
[172243,"Партнер номер 11","1945-05-10","оплачен",3098,{"$f":"IFERROR(VLOOKUP(B1799,'Комиссии партнеров'!$A$2:$B$52,2,FALSE),\"\")","v":0.05},154.9]
[172244,"Партнер номер 11","1945-05-10","оплачен",1948,{"$f":"IFERROR(VLOOKUP(B1800,'Комиссии партнеров'!$A$2:$B$52,2,FALSE),\"\")","v":0.05},97.4]
[172246,"Партнер номер 7","1945-05-10","не оплачен",1281,{"$f":"IFERROR(VLOOKUP(B1801,'Комиссии партнеров'!$A$2:$B$52,2,FALSE),\"\")","v":0.05},64.05]
[172251,"","1945-05-10","оплачен",1068,{"$f":"IFERROR(VLOOKUP(B1802,'Комиссии партнеров'!$A$2:$B$52,2,FALSE),\"\")","v":""}]
[172255,"Партнер номер 1","1945-05-10","не оплачен",1169,{"$f":"IFERROR(VLOOKUP(B1803,'Комиссии партнеров'!$A$2:$B$52,2,FALSE),\"\")","v":0.05},58.45]
[172258,"","1945-05-10","не оплачен",2028,{"$f":"IFERROR(VLOOKUP(B1804,'Комиссии партнеров'!$A$2:$B$52,2,FALSE),\"\")","v":""}]
[172261,"","1945-05-10","не оплачен",7163,{"$f":"IFERROR(VLOOKUP(B1805,'Комиссии партнеров'!$A$2:$B$52,2,FALSE),\"\")","v":""}]
[172266,"","1945-05-10","оплачен",2199,{"$f":"IFERROR(VLOOKUP(B1806,'Комиссии партнеров'!$A$2:$B$52,2,FALSE),\"\")","v":""}]
[172269,"","1945-05-10","не оплачен",1503,{"$f":"IFERROR(VLOOKUP(B1807,'Комиссии партнеров'!$A$2:$B$52,2,FALSE),\"\")","v":""}]
[172273,"Партнер номер 1","1945-05-10","не оплачен",973,{"$f":"IFERROR(VLOOKUP(B1808,'Комиссии партнеров'!$A$2:$B$52,2,FALSE),\"\")","v":0.05},48.650000000000006]
[172277,"Партнер номер 25","1945-05-10","оплачен",3036,{"$f":"IFERROR(VLOOKUP(B1809,'Комиссии партнеров'!$A$2:$B$52,2,FALSE),\"\")","v":0.05},151.80000000000001]
[172281,"Партнер номер 1","1945-05-10","не оплачен",671,{"$f":"IFERROR(VLOOKUP(B1810,'Комиссии партнеров'!$A$2:$B$52,2,FALSE),\"\")","v":0.05},33.550000000000004]
[172285,"","1945-05-10","оплачен",4764,{"$f":"IFERROR(VLOOKUP(B1811,'Комиссии партнеров'!$A$2:$B$52,2,FALSE),\"\")","v":""}]
[172288,"Партнер номер 11","1945-05-10","не оплачен",2187,{"$f":"IFERROR(VLOOKUP(B1812,'Комиссии партнеров'!$A$2:$B$52,2,FALSE),\"\")","v":0.05},109.35000000000001]
[172293,"","1945-05-10","оплачен",2415,{"$f":"IFERROR(VLOOKUP(B1813,'Комиссии партнеров'!$A$2:$B$52,2,FALSE),\"\")","v":""}]
[172294,"Партнер номер 11","1945-05-10","оплачен",1052,{"$f":"IFERROR(VLOOKUP(B1814,'Комиссии партнеров'!$A$2:$B$52,2,FALSE),\"\")","v":0.05},52.6]
[172296,"","1945-05-10","оплачен",1902,{"$f":"IFERROR(VLOOKUP(B1815,'Комиссии партнеров'!$A$2:$B$52,2,FALSE),\"\")","v":""}]
[172301,"Партнер номер 3","1945-05-10","оплачен",771,{"$f":"IFERROR(VLOOKUP(B1816,'Комиссии партнеров'!$A$2:$B$52,2,FALSE),\"\")","v":0.05},38.550000000000004]
[172306,"","1945-05-10","не оплачен",1036,{"$f":"IFERROR(VLOOKUP(B1817,'Комиссии партнеров'!$A$2:$B$52,2,FALSE),\"\")","v":""}]
[172310,"","1945-05-10","не оплачен",2373,{"$f":"IFERROR(VLOOKUP(B1818,'Комиссии партнеров'!$A$2:$B$52,2,FALSE),\"\")","v":""}]
[172314,"Партнер номер 1","1945-05-10","не оплачен",559,{"$f":"IFERROR(VLOOKUP(B1819,'Комиссии партнеров'!$A$2:$B$52,2,FALSE),\"\")","v":0.05},27.950000000000003]
[172318,"Партнер номер 28","1945-05-10","не оплачен",1912,{"$f":"IFERROR(VLOOKUP(B1820,'Комиссии партнеров'!$A$2:$B$52,2,FALSE),\"\")","v":0.05},95.600000000000009]
[172322,"Партнер номер 11","1945-05-10","не оплачен",2953,{"$f":"IFERROR(VLOOKUP(B1821,'Комиссии партнеров'!$A$2:$B$52,2,FALSE),\"\")","v":0.05},147.65]
[172327,"","1945-05-10","оплачен",1036,{"$f":"IFERROR(VLOOKUP(B1822,'Комиссии партнеров'!$A$2:$B$52,2,FALSE),\"\")","v":""}]
[172329,"","1945-05-10","оплачен",4065,{"$f":"IFERROR(VLOOKUP(B1823,'Комиссии партнеров'!$A$2:$B$52,2,FALSE),\"\")","v":""}]
[172332,"","1945-05-10","не оплачен",3051,{"$f":"IFERROR(VLOOKUP(B1824,'Комиссии партнеров'!$A$2:$B$52,2,FALSE),\"\")","v":""}]
[172337,"Партнер номер 1","1945-05-10","оплачен",1507,{"$f":"IFERROR(VLOOKUP(B1825,'Комиссии партнеров'!$A$2:$B$52,2,FALSE),\"\")","v":0.05},75.350000000000009]
[172342,"Партнер номер 11","1945-05-10","оплачен",1476,{"$f":"IFERROR(VLOOKUP(B1826,'Комиссии партнеров'!$A$2:$B$52,2,FALSE),\"\")","v":0.05},73.8]
[172343,"","1945-05-10","оплачен",2045,{"$f":"IFERROR(VLOOKUP(B1827,'Комиссии партнеров'!$A$2:$B$52,2,FALSE),\"\")","v":""}]
[172349,"Партнер номер 1","1945-05-10","оплачен",945,{"$f":"IFERROR(VLOOKUP(B1828,'Комиссии партнеров'!$A$2:$B$52,2,FALSE),\"\")","v":0.05},47.25]
[172353,"Партнер номер 1","1945-05-10","не оплачен",3961,{"$f":"IFERROR(VLOOKUP(B1829,'Комиссии партнеров'!$A$2:$B$52,2,FALSE),\"\")","v":0.05},198.05]
[172358,"","1945-05-10","не оплачен",4231,{"$f":"IFERROR(VLOOKUP(B1830,'Комиссии партнеров'!$A$2:$B$52,2,FALSE),\"\")","v":""}]
[172363,"","1945-05-10","оплачен",3051,{"$f":"IFERROR(VLOOKUP(B1831,'Комиссии партнеров'!$A$2:$B$52,2,FALSE),\"\")","v":""}]
[172366,"","1945-05-10","оплачен",4984,{"$f":"IFERROR(VLOOKUP(B1832,'Комиссии партнеров'!$A$2:$B$52,2,FALSE),\"\")","v":""}]
[172371,"","1945-05-10","оплачен",3051,{"$f":"IFERROR(VLOOKUP(B1833,'Комиссии партнеров'!$A$2:$B$52,2,FALSE),\"\")","v":""}]
[172373,"Партнер номер 40","1945-05-10","оплачен",2039,{"$f":"IFERROR(VLOOKUP(B1834,'Комиссии партнеров'!$A$2:$B$52,2,FALSE),\"\")","v":0.05},101.95]
[172379,"Партнер номер 11","1945-05-10","не оплачен",1000,{"$f":"IFERROR(VLOOKUP(B1835,'Комиссии партнеров'!$A$2:$B$52,2,FALSE),\"\")","v":0.05},50]
[172384,"Партнер номер 41","1945-05-10","оплачен",3169,{"$f":"IFERROR(VLOOKUP(B1836,'Комиссии партнеров'!$A$2:$B$52,2,FALSE),\"\")","v":0.05},158.45000000000002]
[172387,"","1945-05-10","оплачен",2968,{"$f":"IFERROR(VLOOKUP(B1837,'Комиссии партнеров'!$A$2:$B$52,2,FALSE),\"\")","v":""}]
[172391,"Партнер номер 1","1945-05-10","оплачен",1854,{"$f":"IFERROR(VLOOKUP(B1838,'Комиссии партнеров'!$A$2:$B$52,2,FALSE),\"\")","v":0.05},92.7]
[172396,"","1945-05-10","не оплачен",5231,{"$f":"IFERROR(VLOOKUP(B1839,'Комиссии партнеров'!$A$2:$B$52,2,FALSE),\"\")","v":""}]
[172402,"","1945-05-10","оплачен",967,{"$f":"IFERROR(VLOOKUP(B1840,'Комиссии партнеров'!$A$2:$B$52,2,FALSE),\"\")","v":""}]
[172405,"","1945-05-10","оплачен",1855,{"$f":"IFERROR(VLOOKUP(B1841,'Комиссии партнеров'!$A$2:$B$52,2,FALSE),\"\")","v":""}]
[172407,"Партнер номер 6","1945-05-10","оплачен",1438,{"$f":"IFERROR(VLOOKUP(B1842,'Комиссии партнеров'!$A$2:$B$52,2,FALSE),\"\")","v":0.04},57.52]
[172408,"Партнер номер 1","1945-05-10","оплачен",590,{"$f":"IFERROR(VLOOKUP(B1843,'Комиссии партнеров'!$A$2:$B$52,2,FALSE),\"\")","v":0.05},29.5]
[172414,"","1945-05-10","оплачен",2096,{"$f":"IFERROR(VLOOKUP(B1844,'Комиссии партнеров'!$A$2:$B$52,2,FALSE),\"\")","v":""}]
[172416,"","1945-05-10","оплачен",1467,{"$f":"IFERROR(VLOOKUP(B1845,'Комиссии партнеров'!$A$2:$B$52,2,FALSE),\"\")","v":""}]
[172419,"","1945-05-10","оплачен",5231,{"$f":"IFERROR(VLOOKUP(B1846,'Комиссии партнеров'!$A$2:$B$52,2,FALSE),\"\")","v":""}]
[172422,"","1945-05-10","оплачен",732,{"$f":"IFERROR(VLOOKUP(B1847,'Комиссии партнеров'!$A$2:$B$52,2,FALSE),\"\")","v":""}]
[172426,"Партнер номер 3","1945-05-10","не оплачен",794,{"$f":"IFERROR(VLOOKUP(B1848,'Комиссии партнеров'!$A$2:$B$52,2,FALSE),\"\")","v":0.05},39.700000000000003]
[172430,"Партнер номер 3","1945-05-10","оплачен",763,{"$f":"IFERROR(VLOOKUP(B1849,'Комиссии партнеров'!$A$2:$B$52,2,FALSE),\"\")","v":0.05},38.15]
[172434,"Партнер номер 11","1945-05-10","оплачен",1602,{"$f":"IFERROR(VLOOKUP(B1850,'Комиссии партнеров'!$A$2:$B$52,2,FALSE),\"\")","v":0.05},80.100000000000009]
[172437,"Партнер номер 7","1945-05-10","оплачен",3061,{"$f":"IFERROR(VLOOKUP(B1851,'Комиссии партнеров'!$A$2:$B$52,2,FALSE),\"\")","v":0.05},153.05000000000001]
[172439,"","1945-05-10","оплачен",1384,{"$f":"IFERROR(VLOOKUP(B1852,'Комиссии партнеров'!$A$2:$B$52,2,FALSE),\"\")","v":""}]
[172444,"","1945-05-10","не оплачен",2390,{"$f":"IFERROR(VLOOKUP(B1853,'Комиссии партнеров'!$A$2:$B$52,2,FALSE),\"\")","v":""}]
[172449,"","1945-05-10","оплачен",1454,{"$f":"IFERROR(VLOOKUP(B1854,'Комиссии партнеров'!$A$2:$B$52,2,FALSE),\"\")","v":""}]
[172452,"","1945-05-10","оплачен",688,{"$f":"IFERROR(VLOOKUP(B1855,'Комиссии партнеров'!$A$2:$B$52,2,FALSE),\"\")","v":""}]
[172457,"Партнер номер 7","1945-05-10","не оплачен",2085,{"$f":"IFERROR(VLOOKUP(B1856,'Комиссии партнеров'!$A$2:$B$52,2,FALSE),\"\")","v":0.05},104.25]
[172461,"","1945-05-10","оплачен",3146,{"$f":"IFERROR(VLOOKUP(B1857,'Комиссии партнеров'!$A$2:$B$52,2,FALSE),\"\")","v":""}]
[172462,"","1945-05-10","оплачен",1207,{"$f":"IFERROR(VLOOKUP(B1858,'Комиссии партнеров'!$A$2:$B$52,2,FALSE),\"\")","v":""}]
[172464,"Партнер номер 7","1945-05-10","оплачен",2085,{"$f":"IFERROR(VLOOKUP(B1859,'Комиссии партнеров'!$A$2:$B$52,2,FALSE),\"\")","v":0.05},104.25]
[172465,"Партнер номер 4","1945-05-10","оплачен",2303,{"$f":"IFERROR(VLOOKUP(B1860,'Комиссии партнеров'!$A$2:$B$52,2,FALSE),\"\")","v":0.04},92.12]
[172467,"Партнер номер 11","1945-05-10","оплачен",1324,{"$f":"IFERROR(VLOOKUP(B1861,'Комиссии партнеров'!$A$2:$B$52,2,FALSE),\"\")","v":0.05},66.2]
[172472,"","1945-05-10","оплачен",2173,{"$f":"IFERROR(VLOOKUP(B1862,'Комиссии партнеров'!$A$2:$B$52,2,FALSE),\"\")","v":""}]
[172478,"Партнер номер 11","1945-05-10","оплачен",1397,{"$f":"IFERROR(VLOOKUP(B1863,'Комиссии партнеров'!$A$2:$B$52,2,FALSE),\"\")","v":0.05},69.850000000000009]
[172483,"","1945-05-10","оплачен",3543,{"$f":"IFERROR(VLOOKUP(B1864,'Комиссии партнеров'!$A$2:$B$52,2,FALSE),\"\")","v":""}]
[172485,"","1945-05-10","оплачен",1748,{"$f":"IFERROR(VLOOKUP(B1865,'Комиссии партнеров'!$A$2:$B$52,2,FALSE),\"\")","v":""}]
[172489,"","1945-05-10","оплачен",1583,{"$f":"IFERROR(VLOOKUP(B1866,'Комиссии партнеров'!$A$2:$B$52,2,FALSE),\"\")","v":""}]
[172491,"Партнер номер 1","1945-05-10","не оплачен",3615,{"$f":"IFERROR(VLOOKUP(B1867,'Комиссии партнеров'!$A$2:$B$52,2,FALSE),\"\")","v":0.05},180.75]
[172495,"","1945-05-10","оплачен",2381,{"$f":"IFERROR(VLOOKUP(B1868,'Комиссии партнеров'!$A$2:$B$52,2,FALSE),\"\")","v":""}]
[172498,"","1945-05-10","оплачен",3721,{"$f":"IFERROR(VLOOKUP(B1869,'Комиссии партнеров'!$A$2:$B$52,2,FALSE),\"\")","v":""}]
[172502,"Партнер номер 1","1945-05-10","не оплачен",1121,{"$f":"IFERROR(VLOOKUP(B1870,'Комиссии партнеров'!$A$2:$B$52,2,FALSE),\"\")","v":0.05},56.050000000000004]
[172506,"Партнер номер 7","1945-05-10","оплачен",1948,{"$f":"IFERROR(VLOOKUP(B1871,'Комиссии партнеров'!$A$2:$B$52,2,FALSE),\"\")","v":0.05},97.4]
[172508,"Партнер номер 5","1945-05-10","оплачен",1735,{"$f":"IFERROR(VLOOKUP(B1872,'Комиссии партнеров'!$A$2:$B$52,2,FALSE),\"\")","v":0.03},52.05]
[172512,"Партнер номер 9","1945-05-10","не оплачен",972,{"$f":"IFERROR(VLOOKUP(B1873,'Комиссии партнеров'!$A$2:$B$52,2,FALSE),\"\")","v":0.05},48.6]
[172517,"Партнер номер 1","1945-05-10","оплачен",1739,{"$f":"IFERROR(VLOOKUP(B1874,'Комиссии партнеров'!$A$2:$B$52,2,FALSE),\"\")","v":0.05},86.95]
[172519,"Партнер номер 7","1945-05-10","оплачен",2216,{"$f":"IFERROR(VLOOKUP(B1875,'Комиссии партнеров'!$A$2:$B$52,2,FALSE),\"\")","v":0.05},110.80000000000001]
[172525,"Партнер номер 1","1945-05-10","оплачен",2711,{"$f":"IFERROR(VLOOKUP(B1876,'Комиссии партнеров'!$A$2:$B$52,2,FALSE),\"\")","v":0.05},135.55000000000001]
[172529,"","1945-05-10","оплачен",3226,{"$f":"IFERROR(VLOOKUP(B1877,'Комиссии партнеров'!$A$2:$B$52,2,FALSE),\"\")","v":""}]
[172531,"Партнер номер 11","1945-05-10","не оплачен",1861,{"$f":"IFERROR(VLOOKUP(B1878,'Комиссии партнеров'!$A$2:$B$52,2,FALSE),\"\")","v":0.05},93.050000000000011]
[172532,"Партнер номер 7","1945-05-10","оплачен",2316,{"$f":"IFERROR(VLOOKUP(B1879,'Комиссии партнеров'!$A$2:$B$52,2,FALSE),\"\")","v":0.05},115.80000000000001]
[172538,"","1945-05-10","оплачен",2399,{"$f":"IFERROR(VLOOKUP(B1880,'Комиссии партнеров'!$A$2:$B$52,2,FALSE),\"\")","v":""}]
[172542,"","1945-05-10","не оплачен",1299,{"$f":"IFERROR(VLOOKUP(B1881,'Комиссии партнеров'!$A$2:$B$52,2,FALSE),\"\")","v":""}]
[172548,"Партнер номер 1","1945-05-10","не оплачен",2202,{"$f":"IFERROR(VLOOKUP(B1882,'Комиссии партнеров'!$A$2:$B$52,2,FALSE),\"\")","v":0.05},110.10000000000001]
[172550,"","1945-05-10","оплачен",1179,{"$f":"IFERROR(VLOOKUP(B1883,'Комиссии партнеров'!$A$2:$B$52,2,FALSE),\"\")","v":""}]
[172553,"","1945-05-10","оплачен",2146,{"$f":"IFERROR(VLOOKUP(B1884,'Комиссии партнеров'!$A$2:$B$52,2,FALSE),\"\")","v":""}]
[172557,"","1945-05-10","оплачен",912,{"$f":"IFERROR(VLOOKUP(B1885,'Комиссии партнеров'!$A$2:$B$52,2,FALSE),\"\")","v":""}]
[172559,"","1945-05-10","не оплачен",1868,{"$f":"IFERROR(VLOOKUP(B1886,'Комиссии партнеров'!$A$2:$B$52,2,FALSE),\"\")","v":""}]
[172561,"Партнер номер 1","1945-05-10","оплачен",1587,{"$f":"IFERROR(VLOOKUP(B1887,'Комиссии партнеров'!$A$2:$B$52,2,FALSE),\"\")","v":0.05},79.350000000000009]
[172567,"Партнер номер 1","1945-05-10","оплачен",807,{"$f":"IFERROR(VLOOKUP(B1888,'Комиссии партнеров'!$A$2:$B$52,2,FALSE),\"\")","v":0.05},40.35]
[172571,"Партнер номер 11","1945-05-10","оплачен",1573,{"$f":"IFERROR(VLOOKUP(B1889,'Комиссии партнеров'!$A$2:$B$52,2,FALSE),\"\")","v":0.05},78.650000000000006]
[172576,"Партнер номер 1","1945-05-10","не оплачен",1094,{"$f":"IFERROR(VLOOKUP(B1890,'Комиссии партнеров'!$A$2:$B$52,2,FALSE),\"\")","v":0.05},54.7]
[172578,"","1945-05-10","не оплачен",1986,{"$f":"IFERROR(VLOOKUP(B1891,'Комиссии партнеров'!$A$2:$B$52,2,FALSE),\"\")","v":""}]
[172580,"","1945-05-10","оплачен",8095,{"$f":"IFERROR(VLOOKUP(B1892,'Комиссии партнеров'!$A$2:$B$52,2,FALSE),\"\")","v":""}]
[172586,"","1945-05-10","оплачен",1040,{"$f":"IFERROR(VLOOKUP(B1893,'Комиссии партнеров'!$A$2:$B$52,2,FALSE),\"\")","v":""}]
[172587,"","1945-05-10","оплачен",1302,{"$f":"IFERROR(VLOOKUP(B1894,'Комиссии партнеров'!$A$2:$B$52,2,FALSE),\"\")","v":""}]
[172591,"","1945-05-10","оплачен",7964,{"$f":"IFERROR(VLOOKUP(B1895,'Комиссии партнеров'!$A$2:$B$52,2,FALSE),\"\")","v":""}]
[172593,"","1945-05-10","оплачен",1613,{"$f":"IFERROR(VLOOKUP(B1896,'Комиссии партнеров'!$A$2:$B$52,2,FALSE),\"\")","v":""}]
[172597,"","1945-05-10","оплачен",6389,{"$f":"IFERROR(VLOOKUP(B1897,'Комиссии партнеров'!$A$2:$B$52,2,FALSE),\"\")","v":""}]
[172599,"","1945-05-10","оплачен",837,{"$f":"IFERROR(VLOOKUP(B1898,'Комиссии партнеров'!$A$2:$B$52,2,FALSE),\"\")","v":""}]
[172600,"Партнер номер 21","1945-05-10","не оплачен",1963,{"$f":"IFERROR(VLOOKUP(B1899,'Комиссии партнеров'!$A$2:$B$52,2,FALSE),\"\")","v":0.05},98.15]
[172605,"Партнер номер 1","1945-05-10","оплачен",1040,{"$f":"IFERROR(VLOOKUP(B1900,'Комиссии партнеров'!$A$2:$B$52,2,FALSE),\"\")","v":0.05},52]
[172607,"","1945-05-10","оплачен",567,{"$f":"IFERROR(VLOOKUP(B1901,'Комиссии партнеров'!$A$2:$B$52,2,FALSE),\"\")","v":""}]
[172609,"Партнер номер 9","1945-05-10","оплачен",1646,{"$f":"IFERROR(VLOOKUP(B1902,'Комиссии партнеров'!$A$2:$B$52,2,FALSE),\"\")","v":0.05},82.300000000000011]
[172615,"Партнер номер 1","1945-05-10","не оплачен",1534,{"$f":"IFERROR(VLOOKUP(B1903,'Комиссии партнеров'!$A$2:$B$52,2,FALSE),\"\")","v":0.05},76.7]
[172620,"","1945-05-10","оплачен",2810,{"$f":"IFERROR(VLOOKUP(B1904,'Комиссии партнеров'!$A$2:$B$52,2,FALSE),\"\")","v":""}]
[172622,"Партнер номер 1","1945-05-10","не оплачен",1585,{"$f":"IFERROR(VLOOKUP(B1905,'Комиссии партнеров'!$A$2:$B$52,2,FALSE),\"\")","v":0.05},79.25]
[172627,"","1945-05-10","оплачен",1747,{"$f":"IFERROR(VLOOKUP(B1906,'Комиссии партнеров'!$A$2:$B$52,2,FALSE),\"\")","v":""}]
[172631,"Партнер номер 1","1945-05-10","оплачен",809,{"$f":"IFERROR(VLOOKUP(B1907,'Комиссии партнеров'!$A$2:$B$52,2,FALSE),\"\")","v":0.05},40.450000000000003]
[172632,"Партнер номер 7","1945-05-10","оплачен",970,{"$f":"IFERROR(VLOOKUP(B1908,'Комиссии партнеров'!$A$2:$B$52,2,FALSE),\"\")","v":0.05},48.5]
[172635,"","1945-05-10","оплачен",1765,{"$f":"IFERROR(VLOOKUP(B1909,'Комиссии партнеров'!$A$2:$B$52,2,FALSE),\"\")","v":""}]
[172638,"Партнер номер 1","1945-05-10","не оплачен",2452,{"$f":"IFERROR(VLOOKUP(B1910,'Комиссии партнеров'!$A$2:$B$52,2,FALSE),\"\")","v":0.05},122.60000000000001]
[172639,"","1945-05-10","оплачен",785,{"$f":"IFERROR(VLOOKUP(B1911,'Комиссии партнеров'!$A$2:$B$52,2,FALSE),\"\")","v":""}]
[172642,"Партнер номер 1","1945-05-10","оплачен",1565,{"$f":"IFERROR(VLOOKUP(B1912,'Комиссии партнеров'!$A$2:$B$52,2,FALSE),\"\")","v":0.05},78.25]
[172646,"Партнер номер 1","1945-05-10","не оплачен",2060,{"$f":"IFERROR(VLOOKUP(B1913,'Комиссии партнеров'!$A$2:$B$52,2,FALSE),\"\")","v":0.05},103]
[172648,"Партнер номер 3","1945-05-10","оплачен",1589,{"$f":"IFERROR(VLOOKUP(B1914,'Комиссии партнеров'!$A$2:$B$52,2,FALSE),\"\")","v":0.05},79.45]
[172650,"Партнер номер 1","1945-05-10","не оплачен",4446,{"$f":"IFERROR(VLOOKUP(B1915,'Комиссии партнеров'!$A$2:$B$52,2,FALSE),\"\")","v":0.05},222.3]
[172655,"Партнер номер 7","1945-05-10","оплачен",2070,{"$f":"IFERROR(VLOOKUP(B1916,'Комиссии партнеров'!$A$2:$B$52,2,FALSE),\"\")","v":0.05},103.5]
[172658,"Партнер номер 1","1945-05-10","оплачен",1534,{"$f":"IFERROR(VLOOKUP(B1917,'Комиссии партнеров'!$A$2:$B$52,2,FALSE),\"\")","v":0.05},76.7]
[172662,"","1945-05-10","оплачен",3375,{"$f":"IFERROR(VLOOKUP(B1918,'Комиссии партнеров'!$A$2:$B$52,2,FALSE),\"\")","v":""}]
[172668,"","1945-05-10","оплачен",3215,{"$f":"IFERROR(VLOOKUP(B1919,'Комиссии партнеров'!$A$2:$B$52,2,FALSE),\"\")","v":""}]
[172673,"","1945-05-10","оплачен",2832,{"$f":"IFERROR(VLOOKUP(B1920,'Комиссии партнеров'!$A$2:$B$52,2,FALSE),\"\")","v":""}]
[172675,"Партнер номер 5","1945-05-10","не оплачен",4330,{"$f":"IFERROR(VLOOKUP(B1921,'Комиссии партнеров'!$A$2:$B$52,2,FALSE),\"\")","v":0.03},129.9]
[172677,"Партнер номер 1","1945-05-11","оплачен",4842,{"$f":"IFERROR(VLOOKUP(B1922,'Комиссии партнеров'!$A$2:$B$52,2,FALSE),\"\")","v":0.05},242.10000000000002]
[172680,"Партнер номер 3","1945-05-11","оплачен",2281,{"$f":"IFERROR(VLOOKUP(B1923,'Комиссии партнеров'!$A$2:$B$52,2,FALSE),\"\")","v":0.05},114.05000000000001]
[172684,"","1945-05-11","оплачен",2832,{"$f":"IFERROR(VLOOKUP(B1924,'Комиссии партнеров'!$A$2:$B$52,2,FALSE),\"\")","v":""}]
[172687,"Партнер номер 1","1945-05-11","не оплачен",2396,{"$f":"IFERROR(VLOOKUP(B1925,'Комиссии партнеров'!$A$2:$B$52,2,FALSE),\"\")","v":0.05},119.80000000000001]
[172693,"Партнер номер 1","1945-05-11","оплачен",2396,{"$f":"IFERROR(VLOOKUP(B1926,'Комиссии партнеров'!$A$2:$B$52,2,FALSE),\"\")","v":0.05},119.80000000000001]
[172696,"Партнер номер 1","1945-05-11","не оплачен",1389,{"$f":"IFERROR(VLOOKUP(B1927,'Комиссии партнеров'!$A$2:$B$52,2,FALSE),\"\")","v":0.05},69.45]
[172700,"Партнер номер 3","1945-05-11","оплачен",2568,{"$f":"IFERROR(VLOOKUP(B1928,'Комиссии партнеров'!$A$2:$B$52,2,FALSE),\"\")","v":0.05},128.4]
[172704,"","1945-05-11","оплачен",2815,{"$f":"IFERROR(VLOOKUP(B1929,'Комиссии партнеров'!$A$2:$B$52,2,FALSE),\"\")","v":""}]
[172705,"Партнер номер 1","1945-05-11","не оплачен",1297,{"$f":"IFERROR(VLOOKUP(B1930,'Комиссии партнеров'!$A$2:$B$52,2,FALSE),\"\")","v":0.05},64.850000000000009]
[172711,"Партнер номер 1","1945-05-11","оплачен",1119,{"$f":"IFERROR(VLOOKUP(B1931,'Комиссии партнеров'!$A$2:$B$52,2,FALSE),\"\")","v":0.05},55.95]
[172714,"","1945-05-11","не оплачен",2728,{"$f":"IFERROR(VLOOKUP(B1932,'Комиссии партнеров'!$A$2:$B$52,2,FALSE),\"\")","v":""}]
[172717,"","1945-05-11","оплачен",2728,{"$f":"IFERROR(VLOOKUP(B1933,'Комиссии партнеров'!$A$2:$B$52,2,FALSE),\"\")","v":""}]
[172721,"Партнер номер 21","1945-05-11","оплачен",2163,{"$f":"IFERROR(VLOOKUP(B1934,'Комиссии партнеров'!$A$2:$B$52,2,FALSE),\"\")","v":0.05},108.15]
[172723,"","1945-05-11","не оплачен",4384,{"$f":"IFERROR(VLOOKUP(B1935,'Комиссии партнеров'!$A$2:$B$52,2,FALSE),\"\")","v":""}]
[172726,"Партнер номер 11","1945-05-11","оплачен",2206,{"$f":"IFERROR(VLOOKUP(B1936,'Комиссии партнеров'!$A$2:$B$52,2,FALSE),\"\")","v":0.05},110.30000000000001]
[172729,"Партнер номер 3","1945-05-11","не оплачен",1839,{"$f":"IFERROR(VLOOKUP(B1937,'Комиссии партнеров'!$A$2:$B$52,2,FALSE),\"\")","v":0.05},91.95]
[172730,"Партнер номер 3","1945-05-11","оплачен",1347,{"$f":"IFERROR(VLOOKUP(B1938,'Комиссии партнеров'!$A$2:$B$52,2,FALSE),\"\")","v":0.05},67.350000000000009]
[172733,"","1945-05-11","не оплачен",2091,{"$f":"IFERROR(VLOOKUP(B1939,'Комиссии партнеров'!$A$2:$B$52,2,FALSE),\"\")","v":""}]
[172736,"","1945-05-11","не оплачен",1126,{"$f":"IFERROR(VLOOKUP(B1940,'Комиссии партнеров'!$A$2:$B$52,2,FALSE),\"\")","v":""}]
[172740,"","1945-05-11","оплачен",897,{"$f":"IFERROR(VLOOKUP(B1941,'Комиссии партнеров'!$A$2:$B$52,2,FALSE),\"\")","v":""}]
[172745,"","1945-05-11","оплачен",3037,{"$f":"IFERROR(VLOOKUP(B1942,'Комиссии партнеров'!$A$2:$B$52,2,FALSE),\"\")","v":""}]
[172746,"","1945-05-11","оплачен",1126,{"$f":"IFERROR(VLOOKUP(B1943,'Комиссии партнеров'!$A$2:$B$52,2,FALSE),\"\")","v":""}]
[172749,"Партнер номер 5","1945-05-11","оплачен",1473,{"$f":"IFERROR(VLOOKUP(B1944,'Комиссии партнеров'!$A$2:$B$52,2,FALSE),\"\")","v":0.03},44.19]
[172753,"","1945-05-11","оплачен",2445,{"$f":"IFERROR(VLOOKUP(B1945,'Комиссии партнеров'!$A$2:$B$52,2,FALSE),\"\")","v":""}]
[172758,"","1945-05-11","не оплачен",2383,{"$f":"IFERROR(VLOOKUP(B1946,'Комиссии партнеров'!$A$2:$B$52,2,FALSE),\"\")","v":""}]
[172768,"Партнер номер 5","1945-05-11","оплачен",7567,{"$f":"IFERROR(VLOOKUP(B1947,'Комиссии партнеров'!$A$2:$B$52,2,FALSE),\"\")","v":0.03},227.01]
[172772,"","1945-05-11","оплачен",2995,{"$f":"IFERROR(VLOOKUP(B1948,'Комиссии партнеров'!$A$2:$B$52,2,FALSE),\"\")","v":""}]
[172777,"Партнер номер 16","1945-05-11","не оплачен",3283,{"$f":"IFERROR(VLOOKUP(B1949,'Комиссии партнеров'!$A$2:$B$52,2,FALSE),\"\")","v":0.05},164.15]
[172780,"","1945-05-11","оплачен",2875,{"$f":"IFERROR(VLOOKUP(B1950,'Комиссии партнеров'!$A$2:$B$52,2,FALSE),\"\")","v":""}]
[172782,"Партнер номер 16","1945-05-11","не оплачен",2765,{"$f":"IFERROR(VLOOKUP(B1951,'Комиссии партнеров'!$A$2:$B$52,2,FALSE),\"\")","v":0.05},138.25]
[172787,"","1945-05-11","оплачен",1732,{"$f":"IFERROR(VLOOKUP(B1952,'Комиссии партнеров'!$A$2:$B$52,2,FALSE),\"\")","v":""}]
[172790,"","1945-05-11","оплачен",2269,{"$f":"IFERROR(VLOOKUP(B1953,'Комиссии партнеров'!$A$2:$B$52,2,FALSE),\"\")","v":""}]
[172795,"","1945-05-11","оплачен",3453,{"$f":"IFERROR(VLOOKUP(B1954,'Комиссии партнеров'!$A$2:$B$52,2,FALSE),\"\")","v":""}]
[172797,"","1945-05-11","не оплачен",2635,{"$f":"IFERROR(VLOOKUP(B1955,'Комиссии партнеров'!$A$2:$B$52,2,FALSE),\"\")","v":""}]
[172802,"Партнер номер 6","1945-05-11","оплачен",1394,{"$f":"IFERROR(VLOOKUP(B1956,'Комиссии партнеров'!$A$2:$B$52,2,FALSE),\"\")","v":0.04},55.76]
[172804,"","1945-05-11","оплачен",2653,{"$f":"IFERROR(VLOOKUP(B1957,'Комиссии партнеров'!$A$2:$B$52,2,FALSE),\"\")","v":""}]
[172806,"","1945-05-11","оплачен",2503,{"$f":"IFERROR(VLOOKUP(B1958,'Комиссии партнеров'!$A$2:$B$52,2,FALSE),\"\")","v":""}]
[172808,"","1945-05-11","не оплачен",1555,{"$f":"IFERROR(VLOOKUP(B1959,'Комиссии партнеров'!$A$2:$B$52,2,FALSE),\"\")","v":""}]
[172812,"","1945-05-11","не оплачен",1599,{"$f":"IFERROR(VLOOKUP(B1960,'Комиссии партнеров'!$A$2:$B$52,2,FALSE),\"\")","v":""}]
[172817,"Партнер номер 1","1945-05-11","не оплачен",1047,{"$f":"IFERROR(VLOOKUP(B1961,'Комиссии партнеров'!$A$2:$B$52,2,FALSE),\"\")","v":0.05},52.35]
[172822,"Партнер номер 7","1945-05-11","не оплачен",604,{"$f":"IFERROR(VLOOKUP(B1962,'Комиссии партнеров'!$A$2:$B$52,2,FALSE),\"\")","v":0.05},30.200000000000003]
[172823,"","1945-05-11","оплачен",7982,{"$f":"IFERROR(VLOOKUP(B1963,'Комиссии партнеров'!$A$2:$B$52,2,FALSE),\"\")","v":""}]
[172825,"","1945-05-11","не оплачен",2188,{"$f":"IFERROR(VLOOKUP(B1964,'Комиссии партнеров'!$A$2:$B$52,2,FALSE),\"\")","v":""}]
[172829,"Партнер номер 7","1945-05-11","оплачен",734,{"$f":"IFERROR(VLOOKUP(B1965,'Комиссии партнеров'!$A$2:$B$52,2,FALSE),\"\")","v":0.05},36.700000000000003]
[172834,"Партнер номер 1","1945-05-11","оплачен",1599,{"$f":"IFERROR(VLOOKUP(B1966,'Комиссии партнеров'!$A$2:$B$52,2,FALSE),\"\")","v":0.05},79.95]
[172836,"Партнер номер 1","1945-05-11","не оплачен",2087,{"$f":"IFERROR(VLOOKUP(B1967,'Комиссии партнеров'!$A$2:$B$52,2,FALSE),\"\")","v":0.05},104.35000000000001]
[172840,"Партнер номер 7","1945-05-11","не оплачен",604,{"$f":"IFERROR(VLOOKUP(B1968,'Комиссии партнеров'!$A$2:$B$52,2,FALSE),\"\")","v":0.05},30.200000000000003]
[172841,"Партнер номер 1","1945-05-11","не оплачен",1843,{"$f":"IFERROR(VLOOKUP(B1969,'Комиссии партнеров'!$A$2:$B$52,2,FALSE),\"\")","v":0.05},92.15]
[172845,"Партнер номер 1","1945-05-11","оплачен",2352,{"$f":"IFERROR(VLOOKUP(B1970,'Комиссии партнеров'!$A$2:$B$52,2,FALSE),\"\")","v":0.05},117.60000000000001]
[172849,"Партнер номер 1","1945-05-11","оплачен",1199,{"$f":"IFERROR(VLOOKUP(B1971,'Комиссии партнеров'!$A$2:$B$52,2,FALSE),\"\")","v":0.05},59.95]
[172854,"","1945-05-11","оплачен",1692,{"$f":"IFERROR(VLOOKUP(B1972,'Комиссии партнеров'!$A$2:$B$52,2,FALSE),\"\")","v":""}]
[172857,"Партнер номер 1","1945-05-11","оплачен",1483,{"$f":"IFERROR(VLOOKUP(B1973,'Комиссии партнеров'!$A$2:$B$52,2,FALSE),\"\")","v":0.05},74.150000000000006]
[172859,"Партнер номер 1","1945-05-11","оплачен",232,{"$f":"IFERROR(VLOOKUP(B1974,'Комиссии партнеров'!$A$2:$B$52,2,FALSE),\"\")","v":0.05},11.600000000000001]
[172863,"","1945-05-11","не оплачен",2565,{"$f":"IFERROR(VLOOKUP(B1975,'Комиссии партнеров'!$A$2:$B$52,2,FALSE),\"\")","v":""}]
[172865,"Партнер номер 3","1945-05-11","не оплачен",2306,{"$f":"IFERROR(VLOOKUP(B1976,'Комиссии партнеров'!$A$2:$B$52,2,FALSE),\"\")","v":0.05},115.30000000000001]
[172868,"","1945-05-11","не оплачен",2187,{"$f":"IFERROR(VLOOKUP(B1977,'Комиссии партнеров'!$A$2:$B$52,2,FALSE),\"\")","v":""}]
[172870,"","1945-05-11","оплачен",1256,{"$f":"IFERROR(VLOOKUP(B1978,'Комиссии партнеров'!$A$2:$B$52,2,FALSE),\"\")","v":""}]
[172874,"","1945-05-11","оплачен",1958,{"$f":"IFERROR(VLOOKUP(B1979,'Комиссии партнеров'!$A$2:$B$52,2,FALSE),\"\")","v":""}]
[172876,"Партнер номер 1","1945-05-11","оплачен",1572,{"$f":"IFERROR(VLOOKUP(B1980,'Комиссии партнеров'!$A$2:$B$52,2,FALSE),\"\")","v":0.05},78.600000000000009]
[172881,"","1945-05-11","оплачен",1312,{"$f":"IFERROR(VLOOKUP(B1981,'Комиссии партнеров'!$A$2:$B$52,2,FALSE),\"\")","v":""}]
[172889,"","1945-05-11","оплачен",3666,{"$f":"IFERROR(VLOOKUP(B1982,'Комиссии партнеров'!$A$2:$B$52,2,FALSE),\"\")","v":""}]
[172892,"","1945-05-11","оплачен",1338,{"$f":"IFERROR(VLOOKUP(B1983,'Комиссии партнеров'!$A$2:$B$52,2,FALSE),\"\")","v":""}]
[172899,"Партнер номер 1","1945-05-11","не оплачен",831,{"$f":"IFERROR(VLOOKUP(B1984,'Комиссии партнеров'!$A$2:$B$52,2,FALSE),\"\")","v":0.05},41.550000000000004]
[172904,"Партнер номер 11","1945-05-11","не оплачен",1503,{"$f":"IFERROR(VLOOKUP(B1985,'Комиссии партнеров'!$A$2:$B$52,2,FALSE),\"\")","v":0.05},75.150000000000006]
[172906,"","1945-05-11","оплачен",1548,{"$f":"IFERROR(VLOOKUP(B1986,'Комиссии партнеров'!$A$2:$B$52,2,FALSE),\"\")","v":""}]
[172908,"","1945-05-11","не оплачен",1844,{"$f":"IFERROR(VLOOKUP(B1987,'Комиссии партнеров'!$A$2:$B$52,2,FALSE),\"\")","v":""}]
[172910,"Партнер номер 3","1945-05-11","не оплачен",1271,{"$f":"IFERROR(VLOOKUP(B1988,'Комиссии партнеров'!$A$2:$B$52,2,FALSE),\"\")","v":0.05},63.550000000000004]
[172915,"","1945-05-11","не оплачен",1004,{"$f":"IFERROR(VLOOKUP(B1989,'Комиссии партнеров'!$A$2:$B$52,2,FALSE),\"\")","v":""}]
[172919,"","1945-05-11","оплачен",2156,{"$f":"IFERROR(VLOOKUP(B1990,'Комиссии партнеров'!$A$2:$B$52,2,FALSE),\"\")","v":""}]
[172922,"Партнер номер 10","1945-05-11","оплачен",2261,{"$f":"IFERROR(VLOOKUP(B1991,'Комиссии партнеров'!$A$2:$B$52,2,FALSE),\"\")","v":0.04},90.44]
[172928,"","1945-05-11","оплачен",3252,{"$f":"IFERROR(VLOOKUP(B1992,'Комиссии партнеров'!$A$2:$B$52,2,FALSE),\"\")","v":""}]
[172932,"Партнер номер 1","1945-05-11","не оплачен",763,{"$f":"IFERROR(VLOOKUP(B1993,'Комиссии партнеров'!$A$2:$B$52,2,FALSE),\"\")","v":0.05},38.15]
[172937,"Партнер номер 1","1945-05-11","оплачен",1297,{"$f":"IFERROR(VLOOKUP(B1994,'Комиссии партнеров'!$A$2:$B$52,2,FALSE),\"\")","v":0.05},64.850000000000009]
[172940,"Партнер номер 1","1945-05-11","оплачен",1162,{"$f":"IFERROR(VLOOKUP(B1995,'Комиссии партнеров'!$A$2:$B$52,2,FALSE),\"\")","v":0.05},58.1]
[172946,"","1945-05-11","оплачен",2329,{"$f":"IFERROR(VLOOKUP(B1996,'Комиссии партнеров'!$A$2:$B$52,2,FALSE),\"\")","v":""}]
[172950,"Партнер номер 1","1945-05-11","не оплачен",831,{"$f":"IFERROR(VLOOKUP(B1997,'Комиссии партнеров'!$A$2:$B$52,2,FALSE),\"\")","v":0.05},41.550000000000004]
[172953,"","1945-05-11","оплачен",3385,{"$f":"IFERROR(VLOOKUP(B1998,'Комиссии партнеров'!$A$2:$B$52,2,FALSE),\"\")","v":""}]
[172955,"","1945-05-11","оплачен",1236,{"$f":"IFERROR(VLOOKUP(B1999,'Комиссии партнеров'!$A$2:$B$52,2,FALSE),\"\")","v":""}]
[172961,"","1945-05-11","оплачен",3743,{"$f":"IFERROR(VLOOKUP(B2000,'Комиссии партнеров'!$A$2:$B$52,2,FALSE),\"\")","v":""}]
[172966,"","1945-05-11","не оплачен",678,{"$f":"IFERROR(VLOOKUP(B2001,'Комиссии партнеров'!$A$2:$B$52,2,FALSE),\"\")","v":""}]
[172969,"Партнер номер 1","1945-05-11","не оплачен",2241,{"$f":"IFERROR(VLOOKUP(B2002,'Комиссии партнеров'!$A$2:$B$52,2,FALSE),\"\")","v":0.05},112.05000000000001]
[172974,"Партнер номер 1","1945-05-11","не оплачен",2926,{"$f":"IFERROR(VLOOKUP(B2003,'Комиссии партнеров'!$A$2:$B$52,2,FALSE),\"\")","v":0.05},146.30000000000001]
[172977,"Партнер номер 6","1945-05-11","оплачен",1732,{"$f":"IFERROR(VLOOKUP(B2004,'Комиссии партнеров'!$A$2:$B$52,2,FALSE),\"\")","v":0.04},69.28]
[172980,"","1945-05-11","оплачен",2551,{"$f":"IFERROR(VLOOKUP(B2005,'Комиссии партнеров'!$A$2:$B$52,2,FALSE),\"\")","v":""}]
[172985,"","1945-05-11","не оплачен",1467,{"$f":"IFERROR(VLOOKUP(B2006,'Комиссии партнеров'!$A$2:$B$52,2,FALSE),\"\")","v":""}]
[172987,"","1945-05-11","оплачен",1480,{"$f":"IFERROR(VLOOKUP(B2007,'Комиссии партнеров'!$A$2:$B$52,2,FALSE),\"\")","v":""}]
[172992,"Партнер номер 1","1945-05-11","не оплачен",4205,{"$f":"IFERROR(VLOOKUP(B2008,'Комиссии партнеров'!$A$2:$B$52,2,FALSE),\"\")","v":0.05},210.25]
[172993,"","1945-05-11","не оплачен",3285,{"$f":"IFERROR(VLOOKUP(B2009,'Комиссии партнеров'!$A$2:$B$52,2,FALSE),\"\")","v":""}]
[172999,"Партнер номер 3","1945-05-11","оплачен",2210,{"$f":"IFERROR(VLOOKUP(B2010,'Комиссии партнеров'!$A$2:$B$52,2,FALSE),\"\")","v":0.05},110.5]
[173003,"","1945-05-11","оплачен",1484,{"$f":"IFERROR(VLOOKUP(B2011,'Комиссии партнеров'!$A$2:$B$52,2,FALSE),\"\")","v":""}]
[173007,"","1945-05-11","оплачен",7049,{"$f":"IFERROR(VLOOKUP(B2012,'Комиссии партнеров'!$A$2:$B$52,2,FALSE),\"\")","v":""}]
[173011,"Партнер номер 1","1945-05-11","оплачен",1613,{"$f":"IFERROR(VLOOKUP(B2013,'Комиссии партнеров'!$A$2:$B$52,2,FALSE),\"\")","v":0.05},80.650000000000006]
[173013,"","1945-05-11","не оплачен",1744,{"$f":"IFERROR(VLOOKUP(B2014,'Комиссии партнеров'!$A$2:$B$52,2,FALSE),\"\")","v":""}]
[173018,"Партнер номер 1","1945-05-11","оплачен",3131,{"$f":"IFERROR(VLOOKUP(B2015,'Комиссии партнеров'!$A$2:$B$52,2,FALSE),\"\")","v":0.05},156.55000000000001]
[173028,"Партнер номер 7","1945-05-11","не оплачен",996,{"$f":"IFERROR(VLOOKUP(B2016,'Комиссии партнеров'!$A$2:$B$52,2,FALSE),\"\")","v":0.05},49.800000000000004]
[173031,"","1945-05-11","оплачен",5040,{"$f":"IFERROR(VLOOKUP(B2017,'Комиссии партнеров'!$A$2:$B$52,2,FALSE),\"\")","v":""}]
[173036,"Партнер номер 11","1945-05-11","оплачен",1827,{"$f":"IFERROR(VLOOKUP(B2018,'Комиссии партнеров'!$A$2:$B$52,2,FALSE),\"\")","v":0.05},91.350000000000009]
[173039,"Партнер номер 5","1945-05-11","оплачен",2428,{"$f":"IFERROR(VLOOKUP(B2019,'Комиссии партнеров'!$A$2:$B$52,2,FALSE),\"\")","v":0.03},72.84]
[173043,"","1945-05-11","не оплачен",2610,{"$f":"IFERROR(VLOOKUP(B2020,'Комиссии партнеров'!$A$2:$B$52,2,FALSE),\"\")","v":""}]
[173045,"","1945-05-11","оплачен",3916,{"$f":"IFERROR(VLOOKUP(B2021,'Комиссии партнеров'!$A$2:$B$52,2,FALSE),\"\")","v":""}]
[173047,"","1945-05-11","не оплачен",3765,{"$f":"IFERROR(VLOOKUP(B2022,'Комиссии партнеров'!$A$2:$B$52,2,FALSE),\"\")","v":""}]
[173050,"","1945-05-11","оплачен",3322,{"$f":"IFERROR(VLOOKUP(B2023,'Комиссии партнеров'!$A$2:$B$52,2,FALSE),\"\")","v":""}]
[173054,"","1945-05-11","оплачен",2682,{"$f":"IFERROR(VLOOKUP(B2024,'Комиссии партнеров'!$A$2:$B$52,2,FALSE),\"\")","v":""}]
[173058,"","1945-05-11","не оплачен",2610,{"$f":"IFERROR(VLOOKUP(B2025,'Комиссии партнеров'!$A$2:$B$52,2,FALSE),\"\")","v":""}]
[173063,"","1945-05-11","не оплачен",2128,{"$f":"IFERROR(VLOOKUP(B2026,'Комиссии партнеров'!$A$2:$B$52,2,FALSE),\"\")","v":""}]
[173067,"Партнер номер 1","1945-05-11","не оплачен",1699,{"$f":"IFERROR(VLOOKUP(B2027,'Комиссии партнеров'!$A$2:$B$52,2,FALSE),\"\")","v":0.05},84.95]
[173070,"Партнер номер 11","1945-05-11","оплачен",1000,{"$f":"IFERROR(VLOOKUP(B2028,'Комиссии партнеров'!$A$2:$B$52,2,FALSE),\"\")","v":0.05},50]
[173075,"","1945-05-11","оплачен",2256,{"$f":"IFERROR(VLOOKUP(B2029,'Комиссии партнеров'!$A$2:$B$52,2,FALSE),\"\")","v":""}]
[173077,"Партнер номер 2","1945-05-11","не оплачен",4964,{"$f":"IFERROR(VLOOKUP(B2030,'Комиссии партнеров'!$A$2:$B$52,2,FALSE),\"\")","v":0.04},198.56]
[173082,"Партнер номер 1","1945-05-11","не оплачен",2524,{"$f":"IFERROR(VLOOKUP(B2031,'Комиссии партнеров'!$A$2:$B$52,2,FALSE),\"\")","v":0.05},126.2]
[173091,"Партнер номер 1","1945-05-11","оплачен",2391,{"$f":"IFERROR(VLOOKUP(B2032,'Комиссии партнеров'!$A$2:$B$52,2,FALSE),\"\")","v":0.05},119.55000000000001]
[173093,"","1945-05-11","не оплачен",775,{"$f":"IFERROR(VLOOKUP(B2033,'Комиссии партнеров'!$A$2:$B$52,2,FALSE),\"\")","v":""}]
[173102,"","1945-05-11","оплачен",2112,{"$f":"IFERROR(VLOOKUP(B2034,'Комиссии партнеров'!$A$2:$B$52,2,FALSE),\"\")","v":""}]
[173105,"","1945-05-11","оплачен",916,{"$f":"IFERROR(VLOOKUP(B2035,'Комиссии партнеров'!$A$2:$B$52,2,FALSE),\"\")","v":""}]
[173107,"","1945-05-11","оплачен",2923,{"$f":"IFERROR(VLOOKUP(B2036,'Комиссии партнеров'!$A$2:$B$52,2,FALSE),\"\")","v":""}]
[173117,"","1945-05-11","оплачен",882,{"$f":"IFERROR(VLOOKUP(B2037,'Комиссии партнеров'!$A$2:$B$52,2,FALSE),\"\")","v":""}]
[173121,"Партнер номер 7","1945-05-11","оплачен",2007,{"$f":"IFERROR(VLOOKUP(B2038,'Комиссии партнеров'!$A$2:$B$52,2,FALSE),\"\")","v":0.05},100.35000000000001]
[173123,"Партнер номер 6","1945-05-11","не оплачен",828,{"$f":"IFERROR(VLOOKUP(B2039,'Комиссии партнеров'!$A$2:$B$52,2,FALSE),\"\")","v":0.04},33.119999999999997]
[173126,"Партнер номер 11","1945-05-11","оплачен",1587,{"$f":"IFERROR(VLOOKUP(B2040,'Комиссии партнеров'!$A$2:$B$52,2,FALSE),\"\")","v":0.05},79.350000000000009]
[173129,"Партнер номер 1","1945-05-11","не оплачен",1374,{"$f":"IFERROR(VLOOKUP(B2041,'Комиссии партнеров'!$A$2:$B$52,2,FALSE),\"\")","v":0.05},68.7]
[173131,"Партнер номер 7","1945-05-11","не оплачен",1694,{"$f":"IFERROR(VLOOKUP(B2042,'Комиссии партнеров'!$A$2:$B$52,2,FALSE),\"\")","v":0.05},84.7]
[173136,"Партнер номер 4","1945-05-11","не оплачен",11004,{"$f":"IFERROR(VLOOKUP(B2043,'Комиссии партнеров'!$A$2:$B$52,2,FALSE),\"\")","v":0.04},440.16]
[173139,"","1945-05-11","не оплачен",1478,{"$f":"IFERROR(VLOOKUP(B2044,'Комиссии партнеров'!$A$2:$B$52,2,FALSE),\"\")","v":""}]
[173143,"","1945-05-11","оплачен",1965,{"$f":"IFERROR(VLOOKUP(B2045,'Комиссии партнеров'!$A$2:$B$52,2,FALSE),\"\")","v":""}]
[173146,"","1945-05-11","оплачен",2029,{"$f":"IFERROR(VLOOKUP(B2046,'Комиссии партнеров'!$A$2:$B$52,2,FALSE),\"\")","v":""}]
[173151,"","1945-05-11","оплачен",1069,{"$f":"IFERROR(VLOOKUP(B2047,'Комиссии партнеров'!$A$2:$B$52,2,FALSE),\"\")","v":""}]
[173157,"","1945-05-11","оплачен",3193,{"$f":"IFERROR(VLOOKUP(B2048,'Комиссии партнеров'!$A$2:$B$52,2,FALSE),\"\")","v":""}]
[173160,"Партнер номер 1","1945-05-11","оплачен",2532,{"$f":"IFERROR(VLOOKUP(B2049,'Комиссии партнеров'!$A$2:$B$52,2,FALSE),\"\")","v":0.05},126.60000000000001]
[173164,"","1945-05-11","не оплачен",3436,{"$f":"IFERROR(VLOOKUP(B2050,'Комиссии партнеров'!$A$2:$B$52,2,FALSE),\"\")","v":""}]
[173168,"","1945-05-11","оплачен",2161,{"$f":"IFERROR(VLOOKUP(B2051,'Комиссии партнеров'!$A$2:$B$52,2,FALSE),\"\")","v":""}]
[173171,"Партнер номер 1","1945-05-11","не оплачен",821,{"$f":"IFERROR(VLOOKUP(B2052,'Комиссии партнеров'!$A$2:$B$52,2,FALSE),\"\")","v":0.05},41.050000000000004]
[173172,"","1945-05-11","оплачен",2147,{"$f":"IFERROR(VLOOKUP(B2053,'Комиссии партнеров'!$A$2:$B$52,2,FALSE),\"\")","v":""}]
[173174,"","1945-05-11","оплачен",2233,{"$f":"IFERROR(VLOOKUP(B2054,'Комиссии партнеров'!$A$2:$B$52,2,FALSE),\"\")","v":""}]
[173178,"","1945-05-11","оплачен",2303,{"$f":"IFERROR(VLOOKUP(B2055,'Комиссии партнеров'!$A$2:$B$52,2,FALSE),\"\")","v":""}]
[173182,"","1945-05-11","не оплачен",568,{"$f":"IFERROR(VLOOKUP(B2056,'Комиссии партнеров'!$A$2:$B$52,2,FALSE),\"\")","v":""}]
[173186,"","1945-05-11","оплачен",3130,{"$f":"IFERROR(VLOOKUP(B2057,'Комиссии партнеров'!$A$2:$B$52,2,FALSE),\"\")","v":""}]
[173190,"Партнер номер 11","1945-05-11","не оплачен",1138,{"$f":"IFERROR(VLOOKUP(B2058,'Комиссии партнеров'!$A$2:$B$52,2,FALSE),\"\")","v":0.05},56.900000000000006]
[173193,"Партнер номер 9","1945-05-11","не оплачен",2526,{"$f":"IFERROR(VLOOKUP(B2059,'Комиссии партнеров'!$A$2:$B$52,2,FALSE),\"\")","v":0.05},126.30000000000001]
[173195,"Партнер номер 5","1945-05-11","оплачен",1951,{"$f":"IFERROR(VLOOKUP(B2060,'Комиссии партнеров'!$A$2:$B$52,2,FALSE),\"\")","v":0.03},58.53]
[173199,"","1945-05-11","оплачен",3023,{"$f":"IFERROR(VLOOKUP(B2061,'Комиссии партнеров'!$A$2:$B$52,2,FALSE),\"\")","v":""}]
[173202,"","1945-05-11","оплачен",2121,{"$f":"IFERROR(VLOOKUP(B2062,'Комиссии партнеров'!$A$2:$B$52,2,FALSE),\"\")","v":""}]
[173206,"Партнер номер 5","1945-05-11","не оплачен",3538,{"$f":"IFERROR(VLOOKUP(B2063,'Комиссии партнеров'!$A$2:$B$52,2,FALSE),\"\")","v":0.03},106.14]
[173210,"","1945-05-11","оплачен",2312,{"$f":"IFERROR(VLOOKUP(B2064,'Комиссии партнеров'!$A$2:$B$52,2,FALSE),\"\")","v":""}]
[173211,"Партнер номер 11","1945-05-11","не оплачен",1390,{"$f":"IFERROR(VLOOKUP(B2065,'Комиссии партнеров'!$A$2:$B$52,2,FALSE),\"\")","v":0.05},69.5]
[173216,"","1945-05-11","оплачен",3708,{"$f":"IFERROR(VLOOKUP(B2066,'Комиссии партнеров'!$A$2:$B$52,2,FALSE),\"\")","v":""}]
[173219,"","1945-05-11","оплачен",2094,{"$f":"IFERROR(VLOOKUP(B2067,'Комиссии партнеров'!$A$2:$B$52,2,FALSE),\"\")","v":""}]
[173221,"Партнер номер 17","1945-05-11","не оплачен",1273,{"$f":"IFERROR(VLOOKUP(B2068,'Комиссии партнеров'!$A$2:$B$52,2,FALSE),\"\")","v":0.04},50.92]
[173227,"Партнер номер 17","1945-05-11","не оплачен",1273,{"$f":"IFERROR(VLOOKUP(B2069,'Комиссии партнеров'!$A$2:$B$52,2,FALSE),\"\")","v":0.04},50.92]
[173232,"Партнер номер 9","1945-05-11","не оплачен",1236,{"$f":"IFERROR(VLOOKUP(B2070,'Комиссии партнеров'!$A$2:$B$52,2,FALSE),\"\")","v":0.05},61.800000000000004]
[173236,"","1945-05-11","оплачен",2475,{"$f":"IFERROR(VLOOKUP(B2071,'Комиссии партнеров'!$A$2:$B$52,2,FALSE),\"\")","v":""}]
[173247,"","1945-05-11","не оплачен",2475,{"$f":"IFERROR(VLOOKUP(B2072,'Комиссии партнеров'!$A$2:$B$52,2,FALSE),\"\")","v":""}]
[173249,"","1945-05-11","не оплачен",2475,{"$f":"IFERROR(VLOOKUP(B2073,'Комиссии партнеров'!$A$2:$B$52,2,FALSE),\"\")","v":""}]
[173252,"","1945-05-11","оплачен",2546,{"$f":"IFERROR(VLOOKUP(B2074,'Комиссии партнеров'!$A$2:$B$52,2,FALSE),\"\")","v":""}]
[173254,"","1945-05-11","не оплачен",1326,{"$f":"IFERROR(VLOOKUP(B2075,'Комиссии партнеров'!$A$2:$B$52,2,FALSE),\"\")","v":""}]
[173263,"Партнер номер 1","1945-05-11","оплачен",1237,{"$f":"IFERROR(VLOOKUP(B2076,'Комиссии партнеров'!$A$2:$B$52,2,FALSE),\"\")","v":0.05},61.85]
[173267,"","1945-05-11","оплачен",881,{"$f":"IFERROR(VLOOKUP(B2077,'Комиссии партнеров'!$A$2:$B$52,2,FALSE),\"\")","v":""}]
[173269,"","1945-05-11","не оплачен",3211,{"$f":"IFERROR(VLOOKUP(B2078,'Комиссии партнеров'!$A$2:$B$52,2,FALSE),\"\")","v":""}]
[173272,"","1945-05-11","не оплачен",1286,{"$f":"IFERROR(VLOOKUP(B2079,'Комиссии партнеров'!$A$2:$B$52,2,FALSE),\"\")","v":""}]
[173275,"","1945-05-11","не оплачен",3367,{"$f":"IFERROR(VLOOKUP(B2080,'Комиссии партнеров'!$A$2:$B$52,2,FALSE),\"\")","v":""}]
[173279,"","1945-05-11","оплачен",1476,{"$f":"IFERROR(VLOOKUP(B2081,'Комиссии партнеров'!$A$2:$B$52,2,FALSE),\"\")","v":""}]
[173282,"","1945-05-11","не оплачен",1945,{"$f":"IFERROR(VLOOKUP(B2082,'Комиссии партнеров'!$A$2:$B$52,2,FALSE),\"\")","v":""}]
[173285,"","1945-05-11","оплачен",789,{"$f":"IFERROR(VLOOKUP(B2083,'Комиссии партнеров'!$A$2:$B$52,2,FALSE),\"\")","v":""}]
[173289,"Партнер номер 1","1945-05-11","оплачен",5743,{"$f":"IFERROR(VLOOKUP(B2084,'Комиссии партнеров'!$A$2:$B$52,2,FALSE),\"\")","v":0.05},287.15000000000003]
[173292,"Партнер номер 1","1945-05-11","оплачен",2413,{"$f":"IFERROR(VLOOKUP(B2085,'Комиссии партнеров'!$A$2:$B$52,2,FALSE),\"\")","v":0.05},120.65]
[173295,"Партнер номер 5","1945-05-11","не оплачен",1209,{"$f":"IFERROR(VLOOKUP(B2086,'Комиссии партнеров'!$A$2:$B$52,2,FALSE),\"\")","v":0.03},36.269999999999996]
[173299,"Партнер номер 12","1945-05-11","оплачен",2776,{"$f":"IFERROR(VLOOKUP(B2087,'Комиссии партнеров'!$A$2:$B$52,2,FALSE),\"\")","v":0.03},83.28]
[173303,"Партнер номер 4","1945-05-11","оплачен",2299,{"$f":"IFERROR(VLOOKUP(B2088,'Комиссии партнеров'!$A$2:$B$52,2,FALSE),\"\")","v":0.04},91.960000000000008]
[173305,"Партнер номер 9","1945-05-11","не оплачен",2781,{"$f":"IFERROR(VLOOKUP(B2089,'Комиссии партнеров'!$A$2:$B$52,2,FALSE),\"\")","v":0.05},139.05000000000001]
[173309,"Партнер номер 11","1945-05-11","оплачен",3258,{"$f":"IFERROR(VLOOKUP(B2090,'Комиссии партнеров'!$A$2:$B$52,2,FALSE),\"\")","v":0.05},162.9]
[173312,"Партнер номер 4","1945-05-11","оплачен",2299,{"$f":"IFERROR(VLOOKUP(B2091,'Комиссии партнеров'!$A$2:$B$52,2,FALSE),\"\")","v":0.04},91.960000000000008]
[173316,"Партнер номер 4","1945-05-11","оплачен",2299,{"$f":"IFERROR(VLOOKUP(B2092,'Комиссии партнеров'!$A$2:$B$52,2,FALSE),\"\")","v":0.04},91.960000000000008]
[173320,"","1945-05-11","не оплачен",2271,{"$f":"IFERROR(VLOOKUP(B2093,'Комиссии партнеров'!$A$2:$B$52,2,FALSE),\"\")","v":""}]
[173324,"","1945-05-11","не оплачен",2525,{"$f":"IFERROR(VLOOKUP(B2094,'Комиссии партнеров'!$A$2:$B$52,2,FALSE),\"\")","v":""}]
[173326,"","1945-05-11","оплачен",2104,{"$f":"IFERROR(VLOOKUP(B2095,'Комиссии партнеров'!$A$2:$B$52,2,FALSE),\"\")","v":""}]
[173330,"","1945-05-11","оплачен",1569,{"$f":"IFERROR(VLOOKUP(B2096,'Комиссии партнеров'!$A$2:$B$52,2,FALSE),\"\")","v":""}]
[173336,"","1945-05-11","оплачен",1885,{"$f":"IFERROR(VLOOKUP(B2097,'Комиссии партнеров'!$A$2:$B$52,2,FALSE),\"\")","v":""}]
[173340,"","1945-05-11","оплачен",1541,{"$f":"IFERROR(VLOOKUP(B2098,'Комиссии партнеров'!$A$2:$B$52,2,FALSE),\"\")","v":""}]
[173343,"Партнер номер 7","1945-05-11","не оплачен",1398,{"$f":"IFERROR(VLOOKUP(B2099,'Комиссии партнеров'!$A$2:$B$52,2,FALSE),\"\")","v":0.05},69.900000000000006]
[173348,"Партнер номер 6","1945-05-11","оплачен",2547,{"$f":"IFERROR(VLOOKUP(B2100,'Комиссии партнеров'!$A$2:$B$52,2,FALSE),\"\")","v":0.04},101.88]
[173350,"","1945-05-11","оплачен",1956,{"$f":"IFERROR(VLOOKUP(B2101,'Комиссии партнеров'!$A$2:$B$52,2,FALSE),\"\")","v":""}]
[173354,"","1945-05-11","оплачен",568,{"$f":"IFERROR(VLOOKUP(B2102,'Комиссии партнеров'!$A$2:$B$52,2,FALSE),\"\")","v":""}]
[173357,"","1945-05-11","не оплачен",3166,{"$f":"IFERROR(VLOOKUP(B2103,'Комиссии партнеров'!$A$2:$B$52,2,FALSE),\"\")","v":""}]
[173360,"","1945-05-11","оплачен",3097,{"$f":"IFERROR(VLOOKUP(B2104,'Комиссии партнеров'!$A$2:$B$52,2,FALSE),\"\")","v":""}]
[173363,"Партнер номер 1","1945-05-11","не оплачен",1784,{"$f":"IFERROR(VLOOKUP(B2105,'Комиссии партнеров'!$A$2:$B$52,2,FALSE),\"\")","v":0.05},89.2]
[173365,"","1945-05-11","оплачен",2788,{"$f":"IFERROR(VLOOKUP(B2106,'Комиссии партнеров'!$A$2:$B$52,2,FALSE),\"\")","v":""}]
[173369,"Партнер номер 1","1945-05-11","не оплачен",4648,{"$f":"IFERROR(VLOOKUP(B2107,'Комиссии партнеров'!$A$2:$B$52,2,FALSE),\"\")","v":0.05},232.4]
[173374,"Партнер номер 1","1945-05-11","оплачен",2194,{"$f":"IFERROR(VLOOKUP(B2108,'Комиссии партнеров'!$A$2:$B$52,2,FALSE),\"\")","v":0.05},109.7]
[173376,"","1945-05-11","оплачен",1409,{"$f":"IFERROR(VLOOKUP(B2109,'Комиссии партнеров'!$A$2:$B$52,2,FALSE),\"\")","v":""}]
[173380,"Партнер номер 3","1945-05-11","оплачен",3116,{"$f":"IFERROR(VLOOKUP(B2110,'Комиссии партнеров'!$A$2:$B$52,2,FALSE),\"\")","v":0.05},155.80000000000001]
[173386,"","1945-05-11","не оплачен",3060,{"$f":"IFERROR(VLOOKUP(B2111,'Комиссии партнеров'!$A$2:$B$52,2,FALSE),\"\")","v":""}]
[173390,"","1945-05-11","оплачен",3072,{"$f":"IFERROR(VLOOKUP(B2112,'Комиссии партнеров'!$A$2:$B$52,2,FALSE),\"\")","v":""}]
[173395,"","1945-05-11","оплачен",2362,{"$f":"IFERROR(VLOOKUP(B2113,'Комиссии партнеров'!$A$2:$B$52,2,FALSE),\"\")","v":""}]
[173396,"Партнер номер 1","1945-05-11","оплачен",1649,{"$f":"IFERROR(VLOOKUP(B2114,'Комиссии партнеров'!$A$2:$B$52,2,FALSE),\"\")","v":0.05},82.45]
[173399,"","1945-05-11","не оплачен",1260,{"$f":"IFERROR(VLOOKUP(B2115,'Комиссии партнеров'!$A$2:$B$52,2,FALSE),\"\")","v":""}]
[173402,"","1945-05-11","не оплачен",4233,{"$f":"IFERROR(VLOOKUP(B2116,'Комиссии партнеров'!$A$2:$B$52,2,FALSE),\"\")","v":""}]
[173406,"","1945-05-11","оплачен",2367,{"$f":"IFERROR(VLOOKUP(B2117,'Комиссии партнеров'!$A$2:$B$52,2,FALSE),\"\")","v":""}]
[173408,"","1945-05-11","оплачен",525,{"$f":"IFERROR(VLOOKUP(B2118,'Комиссии партнеров'!$A$2:$B$52,2,FALSE),\"\")","v":""}]
[173411,"","1945-05-11","оплачен",3196,{"$f":"IFERROR(VLOOKUP(B2119,'Комиссии партнеров'!$A$2:$B$52,2,FALSE),\"\")","v":""}]
[173414,"","1945-05-11","оплачен",1753,{"$f":"IFERROR(VLOOKUP(B2120,'Комиссии партнеров'!$A$2:$B$52,2,FALSE),\"\")","v":""}]
[173419,"","1945-05-11","оплачен",3769,{"$f":"IFERROR(VLOOKUP(B2121,'Комиссии партнеров'!$A$2:$B$52,2,FALSE),\"\")","v":""}]
[173421,"Партнер номер 1","1945-05-11","оплачен",2007,{"$f":"IFERROR(VLOOKUP(B2122,'Комиссии партнеров'!$A$2:$B$52,2,FALSE),\"\")","v":0.05},100.35000000000001]
[173425,"","1945-05-11","оплачен",1260,{"$f":"IFERROR(VLOOKUP(B2123,'Комиссии партнеров'!$A$2:$B$52,2,FALSE),\"\")","v":""}]
[173431,"","1945-05-11","оплачен",2475,{"$f":"IFERROR(VLOOKUP(B2124,'Комиссии партнеров'!$A$2:$B$52,2,FALSE),\"\")","v":""}]
[173434,"Партнер номер 3","1945-05-12","оплачен",1855,{"$f":"IFERROR(VLOOKUP(B2125,'Комиссии партнеров'!$A$2:$B$52,2,FALSE),\"\")","v":0.05},92.75]
[173437,"Партнер номер 1","1945-05-12","оплачен",2022,{"$f":"IFERROR(VLOOKUP(B2126,'Комиссии партнеров'!$A$2:$B$52,2,FALSE),\"\")","v":0.05},101.10000000000001]
[173441,"Партнер номер 11","1945-05-12","оплачен",1253,{"$f":"IFERROR(VLOOKUP(B2127,'Комиссии партнеров'!$A$2:$B$52,2,FALSE),\"\")","v":0.05},62.650000000000006]
[173442,"Партнер номер 1","1945-05-12","оплачен",1110,{"$f":"IFERROR(VLOOKUP(B2128,'Комиссии партнеров'!$A$2:$B$52,2,FALSE),\"\")","v":0.05},55.5]
[173445,"Партнер номер 1","1945-05-12","оплачен",591,{"$f":"IFERROR(VLOOKUP(B2129,'Комиссии партнеров'!$A$2:$B$52,2,FALSE),\"\")","v":0.05},29.55]
[173448,"Партнер номер 5","1945-05-12","оплачен",6420,{"$f":"IFERROR(VLOOKUP(B2130,'Комиссии партнеров'!$A$2:$B$52,2,FALSE),\"\")","v":0.03},192.6]
[173454,"","1945-05-12","оплачен",914,{"$f":"IFERROR(VLOOKUP(B2131,'Комиссии партнеров'!$A$2:$B$52,2,FALSE),\"\")","v":""}]
[173457,"Партнер номер 1","1945-05-12","не оплачен",977,{"$f":"IFERROR(VLOOKUP(B2132,'Комиссии партнеров'!$A$2:$B$52,2,FALSE),\"\")","v":0.05},48.85]
[173459,"","1945-05-12","не оплачен",2105,{"$f":"IFERROR(VLOOKUP(B2133,'Комиссии партнеров'!$A$2:$B$52,2,FALSE),\"\")","v":""}]
[173461,"","1945-05-12","не оплачен",2105,{"$f":"IFERROR(VLOOKUP(B2134,'Комиссии партнеров'!$A$2:$B$52,2,FALSE),\"\")","v":""}]
[173465,"","1945-05-12","оплачен",1251,{"$f":"IFERROR(VLOOKUP(B2135,'Комиссии партнеров'!$A$2:$B$52,2,FALSE),\"\")","v":""}]
[173468,"Партнер номер 11","1945-05-12","не оплачен",3757,{"$f":"IFERROR(VLOOKUP(B2136,'Комиссии партнеров'!$A$2:$B$52,2,FALSE),\"\")","v":0.05},187.85000000000002]
[173471,"Партнер номер 5","1945-05-12","оплачен",1839,{"$f":"IFERROR(VLOOKUP(B2137,'Комиссии партнеров'!$A$2:$B$52,2,FALSE),\"\")","v":0.03},55.169999999999995]
[173477,"","1945-05-12","не оплачен",1687,{"$f":"IFERROR(VLOOKUP(B2138,'Комиссии партнеров'!$A$2:$B$52,2,FALSE),\"\")","v":""}]
[173478,"","1945-05-12","не оплачен",1149,{"$f":"IFERROR(VLOOKUP(B2139,'Комиссии партнеров'!$A$2:$B$52,2,FALSE),\"\")","v":""}]
[173482,"Партнер номер 6","1945-05-12","оплачен",1175,{"$f":"IFERROR(VLOOKUP(B2140,'Комиссии партнеров'!$A$2:$B$52,2,FALSE),\"\")","v":0.04},47]
[173486,"Партнер номер 1","1945-05-12","не оплачен",1962,{"$f":"IFERROR(VLOOKUP(B2141,'Комиссии партнеров'!$A$2:$B$52,2,FALSE),\"\")","v":0.05},98.100000000000009]
[173488,"Партнер номер 11","1945-05-12","не оплачен",3428,{"$f":"IFERROR(VLOOKUP(B2142,'Комиссии партнеров'!$A$2:$B$52,2,FALSE),\"\")","v":0.05},171.4]
[173492,"Партнер номер 1","1945-05-12","оплачен",3815,{"$f":"IFERROR(VLOOKUP(B2143,'Комиссии партнеров'!$A$2:$B$52,2,FALSE),\"\")","v":0.05},190.75]
[173498,"Партнер номер 1","1945-05-12","не оплачен",1365,{"$f":"IFERROR(VLOOKUP(B2144,'Комиссии партнеров'!$A$2:$B$52,2,FALSE),\"\")","v":0.05},68.25]
[173500,"Партнер номер 5","1945-05-12","оплачен",2387,{"$f":"IFERROR(VLOOKUP(B2145,'Комиссии партнеров'!$A$2:$B$52,2,FALSE),\"\")","v":0.03},71.61]
[173503,"Партнер номер 2","1945-05-12","оплачен",2396,{"$f":"IFERROR(VLOOKUP(B2146,'Комиссии партнеров'!$A$2:$B$52,2,FALSE),\"\")","v":0.04},95.84]
[173506,"","1945-05-12","оплачен",1131,{"$f":"IFERROR(VLOOKUP(B2147,'Комиссии партнеров'!$A$2:$B$52,2,FALSE),\"\")","v":""}]
[173511,"","1945-05-12","не оплачен",1506,{"$f":"IFERROR(VLOOKUP(B2148,'Комиссии партнеров'!$A$2:$B$52,2,FALSE),\"\")","v":""}]
[173515,"Партнер номер 3","1945-05-12","оплачен",2351,{"$f":"IFERROR(VLOOKUP(B2149,'Комиссии партнеров'!$A$2:$B$52,2,FALSE),\"\")","v":0.05},117.55000000000001]
[173517,"Партнер номер 1","1945-05-12","оплачен",2137,{"$f":"IFERROR(VLOOKUP(B2150,'Комиссии партнеров'!$A$2:$B$52,2,FALSE),\"\")","v":0.05},106.85000000000001]
[173518,"","1945-05-12","оплачен",2351,{"$f":"IFERROR(VLOOKUP(B2151,'Комиссии партнеров'!$A$2:$B$52,2,FALSE),\"\")","v":""}]
[173520,"Партнер номер 5","1945-05-12","оплачен",3264,{"$f":"IFERROR(VLOOKUP(B2152,'Комиссии партнеров'!$A$2:$B$52,2,FALSE),\"\")","v":0.03},97.92]
[173521,"Партнер номер 3","1945-05-12","оплачен",2351,{"$f":"IFERROR(VLOOKUP(B2153,'Комиссии партнеров'!$A$2:$B$52,2,FALSE),\"\")","v":0.05},117.55000000000001]
[173525,"","1945-05-12","оплачен",1517,{"$f":"IFERROR(VLOOKUP(B2154,'Комиссии партнеров'!$A$2:$B$52,2,FALSE),\"\")","v":""}]
[173529,"","1945-05-12","не оплачен",13907,{"$f":"IFERROR(VLOOKUP(B2155,'Комиссии партнеров'!$A$2:$B$52,2,FALSE),\"\")","v":""}]
[173535,"","1945-05-12","оплачен",3002,{"$f":"IFERROR(VLOOKUP(B2156,'Комиссии партнеров'!$A$2:$B$52,2,FALSE),\"\")","v":""}]
[173537,"","1945-05-12","оплачен",1205,{"$f":"IFERROR(VLOOKUP(B2157,'Комиссии партнеров'!$A$2:$B$52,2,FALSE),\"\")","v":""}]
[173541,"","1945-05-12","оплачен",1948,{"$f":"IFERROR(VLOOKUP(B2158,'Комиссии партнеров'!$A$2:$B$52,2,FALSE),\"\")","v":""}]
[173544,"","1945-05-12","оплачен",1394,{"$f":"IFERROR(VLOOKUP(B2159,'Комиссии партнеров'!$A$2:$B$52,2,FALSE),\"\")","v":""}]
[173548,"Партнер номер 1","1945-05-12","не оплачен",2963,{"$f":"IFERROR(VLOOKUP(B2160,'Комиссии партнеров'!$A$2:$B$52,2,FALSE),\"\")","v":0.05},148.15]
[173553,"","1945-05-12","оплачен",1639,{"$f":"IFERROR(VLOOKUP(B2161,'Комиссии партнеров'!$A$2:$B$52,2,FALSE),\"\")","v":""}]
[173557,"","1945-05-12","оплачен",1960,{"$f":"IFERROR(VLOOKUP(B2162,'Комиссии партнеров'!$A$2:$B$52,2,FALSE),\"\")","v":""}]
[173561,"Партнер номер 1","1945-05-12","оплачен",3838,{"$f":"IFERROR(VLOOKUP(B2163,'Комиссии партнеров'!$A$2:$B$52,2,FALSE),\"\")","v":0.05},191.9]
[173563,"Партнер номер 1","1945-05-12","не оплачен",2155,{"$f":"IFERROR(VLOOKUP(B2164,'Комиссии партнеров'!$A$2:$B$52,2,FALSE),\"\")","v":0.05},107.75]
[173568,"Партнер номер 1","1945-05-12","оплачен",1720,{"$f":"IFERROR(VLOOKUP(B2165,'Комиссии партнеров'!$A$2:$B$52,2,FALSE),\"\")","v":0.05},86]
[173573,"Партнер номер 1","1945-05-12","оплачен",1962,{"$f":"IFERROR(VLOOKUP(B2166,'Комиссии партнеров'!$A$2:$B$52,2,FALSE),\"\")","v":0.05},98.100000000000009]
[173576,"","1945-05-12","оплачен",5779,{"$f":"IFERROR(VLOOKUP(B2167,'Комиссии партнеров'!$A$2:$B$52,2,FALSE),\"\")","v":""}]
[173579,"Партнер номер 1","1945-05-12","не оплачен",2155,{"$f":"IFERROR(VLOOKUP(B2168,'Комиссии партнеров'!$A$2:$B$52,2,FALSE),\"\")","v":0.05},107.75]
[173582,"","1945-05-12","не оплачен",1832,{"$f":"IFERROR(VLOOKUP(B2169,'Комиссии партнеров'!$A$2:$B$52,2,FALSE),\"\")","v":""}]
[173584,"","1945-05-12","оплачен",1964,{"$f":"IFERROR(VLOOKUP(B2170,'Комиссии партнеров'!$A$2:$B$52,2,FALSE),\"\")","v":""}]
[173585,"","1945-05-12","не оплачен",2815,{"$f":"IFERROR(VLOOKUP(B2171,'Комиссии партнеров'!$A$2:$B$52,2,FALSE),\"\")","v":""}]
[173587,"","1945-05-12","оплачен",6942,{"$f":"IFERROR(VLOOKUP(B2172,'Комиссии партнеров'!$A$2:$B$52,2,FALSE),\"\")","v":""}]
[173590,"Партнер номер 5","1945-05-12","не оплачен",1209,{"$f":"IFERROR(VLOOKUP(B2173,'Комиссии партнеров'!$A$2:$B$52,2,FALSE),\"\")","v":0.03},36.269999999999996]
[173593,"Партнер номер 11","1945-05-12","оплачен",2706,{"$f":"IFERROR(VLOOKUP(B2174,'Комиссии партнеров'!$A$2:$B$52,2,FALSE),\"\")","v":0.05},135.30000000000001]
[173597,"","1945-05-12","оплачен",1703,{"$f":"IFERROR(VLOOKUP(B2175,'Комиссии партнеров'!$A$2:$B$52,2,FALSE),\"\")","v":""}]
[173600,"","1945-05-12","оплачен",3239,{"$f":"IFERROR(VLOOKUP(B2176,'Комиссии партнеров'!$A$2:$B$52,2,FALSE),\"\")","v":""}]
[173602,"Партнер номер 9","1945-05-12","оплачен",1102,{"$f":"IFERROR(VLOOKUP(B2177,'Комиссии партнеров'!$A$2:$B$52,2,FALSE),\"\")","v":0.05},55.1]
[173607,"Партнер номер 1","1945-05-12","не оплачен",1066,{"$f":"IFERROR(VLOOKUP(B2178,'Комиссии партнеров'!$A$2:$B$52,2,FALSE),\"\")","v":0.05},53.300000000000004]
[173611,"","1945-05-12","оплачен",1668,{"$f":"IFERROR(VLOOKUP(B2179,'Комиссии партнеров'!$A$2:$B$52,2,FALSE),\"\")","v":""}]
[173614,"Партнер номер 1","1945-05-12","не оплачен",1125,{"$f":"IFERROR(VLOOKUP(B2180,'Комиссии партнеров'!$A$2:$B$52,2,FALSE),\"\")","v":0.05},56.25]
[173619,"Партнер номер 1","1945-05-12","не оплачен",1549,{"$f":"IFERROR(VLOOKUP(B2181,'Комиссии партнеров'!$A$2:$B$52,2,FALSE),\"\")","v":0.05},77.45]
[173624,"","1945-05-12","оплачен",1632,{"$f":"IFERROR(VLOOKUP(B2182,'Комиссии партнеров'!$A$2:$B$52,2,FALSE),\"\")","v":""}]
[173626,"Партнер номер 5","1945-05-12","оплачен",1902,{"$f":"IFERROR(VLOOKUP(B2183,'Комиссии партнеров'!$A$2:$B$52,2,FALSE),\"\")","v":0.03},57.059999999999995]
[173627,"","1945-05-12","оплачен",1875,{"$f":"IFERROR(VLOOKUP(B2184,'Комиссии партнеров'!$A$2:$B$52,2,FALSE),\"\")","v":""}]
[173631,"","1945-05-12","оплачен",2648,{"$f":"IFERROR(VLOOKUP(B2185,'Комиссии партнеров'!$A$2:$B$52,2,FALSE),\"\")","v":""}]
[173635,"Партнер номер 5","1945-05-12","не оплачен",1780,{"$f":"IFERROR(VLOOKUP(B2186,'Комиссии партнеров'!$A$2:$B$52,2,FALSE),\"\")","v":0.03},53.4]
[173637,"","1945-05-12","оплачен",1159,{"$f":"IFERROR(VLOOKUP(B2187,'Комиссии партнеров'!$A$2:$B$52,2,FALSE),\"\")","v":""}]
[173642,"","1945-05-12","оплачен",1292,{"$f":"IFERROR(VLOOKUP(B2188,'Комиссии партнеров'!$A$2:$B$52,2,FALSE),\"\")","v":""}]
[173647,"","1945-05-12","не оплачен",1378,{"$f":"IFERROR(VLOOKUP(B2189,'Комиссии партнеров'!$A$2:$B$52,2,FALSE),\"\")","v":""}]
[173649,"Партнер номер 1","1945-05-12","оплачен",1632,{"$f":"IFERROR(VLOOKUP(B2190,'Комиссии партнеров'!$A$2:$B$52,2,FALSE),\"\")","v":0.05},81.600000000000009]
[173652,"Партнер номер 11","1945-05-12","оплачен",572,{"$f":"IFERROR(VLOOKUP(B2191,'Комиссии партнеров'!$A$2:$B$52,2,FALSE),\"\")","v":0.05},28.6]
[173655,"","1945-05-12","оплачен",1486,{"$f":"IFERROR(VLOOKUP(B2192,'Комиссии партнеров'!$A$2:$B$52,2,FALSE),\"\")","v":""}]
[173657,"","1945-05-12","оплачен",1378,{"$f":"IFERROR(VLOOKUP(B2193,'Комиссии партнеров'!$A$2:$B$52,2,FALSE),\"\")","v":""}]
[173661,"Партнер номер 1","1945-05-12","оплачен",1672,{"$f":"IFERROR(VLOOKUP(B2194,'Комиссии партнеров'!$A$2:$B$52,2,FALSE),\"\")","v":0.05},83.600000000000009]
[173664,"Партнер номер 1","1945-05-12","оплачен",1005,{"$f":"IFERROR(VLOOKUP(B2195,'Комиссии партнеров'!$A$2:$B$52,2,FALSE),\"\")","v":0.05},50.25]
[173666,"Партнер номер 1","1945-05-12","оплачен",2154,{"$f":"IFERROR(VLOOKUP(B2196,'Комиссии партнеров'!$A$2:$B$52,2,FALSE),\"\")","v":0.05},107.7]
[173668,"","1945-05-12","оплачен",3654,{"$f":"IFERROR(VLOOKUP(B2197,'Комиссии партнеров'!$A$2:$B$52,2,FALSE),\"\")","v":""}]
[173670,"Партнер номер 2","1945-05-12","не оплачен",1045,{"$f":"IFERROR(VLOOKUP(B2198,'Комиссии партнеров'!$A$2:$B$52,2,FALSE),\"\")","v":0.04},41.800000000000004]
[173675,"","1945-05-12","оплачен",2815,{"$f":"IFERROR(VLOOKUP(B2199,'Комиссии партнеров'!$A$2:$B$52,2,FALSE),\"\")","v":""}]
[173679,"","1945-05-12","оплачен",938,{"$f":"IFERROR(VLOOKUP(B2200,'Комиссии партнеров'!$A$2:$B$52,2,FALSE),\"\")","v":""}]
[173683,"Партнер номер 1","1945-05-12","оплачен",2704,{"$f":"IFERROR(VLOOKUP(B2201,'Комиссии партнеров'!$A$2:$B$52,2,FALSE),\"\")","v":0.05},135.20000000000002]
[173685,"Партнер номер 10","1945-05-12","оплачен",1813,{"$f":"IFERROR(VLOOKUP(B2202,'Комиссии партнеров'!$A$2:$B$52,2,FALSE),\"\")","v":0.04},72.52]
[173690,"","1945-05-12","не оплачен",1572,{"$f":"IFERROR(VLOOKUP(B2203,'Комиссии партнеров'!$A$2:$B$52,2,FALSE),\"\")","v":""}]
[173694,"Партнер номер 1","1945-05-12","не оплачен",742,{"$f":"IFERROR(VLOOKUP(B2204,'Комиссии партнеров'!$A$2:$B$52,2,FALSE),\"\")","v":0.05},37.1]
[173700,"","1945-05-12","оплачен",0,{"$f":"IFERROR(VLOOKUP(B2205,'Комиссии партнеров'!$A$2:$B$52,2,FALSE),\"\")","v":""}]
[173704,"","1945-05-12","оплачен",1698,{"$f":"IFERROR(VLOOKUP(B2206,'Комиссии партнеров'!$A$2:$B$52,2,FALSE),\"\")","v":""}]
[173709,"Партнер номер 9","1945-05-12","оплачен",2498,{"$f":"IFERROR(VLOOKUP(B2207,'Комиссии партнеров'!$A$2:$B$52,2,FALSE),\"\")","v":0.05},124.9]
[173711,"Партнер номер 5","1945-05-12","оплачен",9494,{"$f":"IFERROR(VLOOKUP(B2208,'Комиссии партнеров'!$A$2:$B$52,2,FALSE),\"\")","v":0.03},284.82]
[173713,"Партнер номер 1","1945-05-12","не оплачен",1064,{"$f":"IFERROR(VLOOKUP(B2209,'Комиссии партнеров'!$A$2:$B$52,2,FALSE),\"\")","v":0.05},53.2]
[173716,"Партнер номер 1","1945-05-12","не оплачен",1052,{"$f":"IFERROR(VLOOKUP(B2210,'Комиссии партнеров'!$A$2:$B$52,2,FALSE),\"\")","v":0.05},52.6]
[173717,"Партнер номер 1","1945-05-12","оплачен",1018,{"$f":"IFERROR(VLOOKUP(B2211,'Комиссии партнеров'!$A$2:$B$52,2,FALSE),\"\")","v":0.05},50.900000000000006]
[173721,"","1945-05-12","не оплачен",3343,{"$f":"IFERROR(VLOOKUP(B2212,'Комиссии партнеров'!$A$2:$B$52,2,FALSE),\"\")","v":""}]
[173724,"","1945-05-12","оплачен",1672,{"$f":"IFERROR(VLOOKUP(B2213,'Комиссии партнеров'!$A$2:$B$52,2,FALSE),\"\")","v":""}]
[173728,"","1945-05-12","оплачен",3343,{"$f":"IFERROR(VLOOKUP(B2214,'Комиссии партнеров'!$A$2:$B$52,2,FALSE),\"\")","v":""}]
[173729,"","1945-05-12","оплачен",1373,{"$f":"IFERROR(VLOOKUP(B2215,'Комиссии партнеров'!$A$2:$B$52,2,FALSE),\"\")","v":""}]
[173736,"","1945-05-12","оплачен",1088,{"$f":"IFERROR(VLOOKUP(B2216,'Комиссии партнеров'!$A$2:$B$52,2,FALSE),\"\")","v":""}]
[173739,"","1945-05-12","не оплачен",1647,{"$f":"IFERROR(VLOOKUP(B2217,'Комиссии партнеров'!$A$2:$B$52,2,FALSE),\"\")","v":""}]
[173741,"Партнер номер 1","1945-05-12","оплачен",1408,{"$f":"IFERROR(VLOOKUP(B2218,'Комиссии партнеров'!$A$2:$B$52,2,FALSE),\"\")","v":0.05},70.400000000000006]
[173743,"","1945-05-12","оплачен",1855,{"$f":"IFERROR(VLOOKUP(B2219,'Комиссии партнеров'!$A$2:$B$52,2,FALSE),\"\")","v":""}]
[173746,"Партнер номер 1","1945-05-12","оплачен",773,{"$f":"IFERROR(VLOOKUP(B2220,'Комиссии партнеров'!$A$2:$B$52,2,FALSE),\"\")","v":0.05},38.650000000000006]
[173752,"","1945-05-12","оплачен",3928,{"$f":"IFERROR(VLOOKUP(B2221,'Комиссии партнеров'!$A$2:$B$52,2,FALSE),\"\")","v":""}]
[173754,"","1945-05-12","оплачен",1444,{"$f":"IFERROR(VLOOKUP(B2222,'Комиссии партнеров'!$A$2:$B$52,2,FALSE),\"\")","v":""}]
[173758,"Партнер номер 11","1945-05-12","оплачен",1574,{"$f":"IFERROR(VLOOKUP(B2223,'Комиссии партнеров'!$A$2:$B$52,2,FALSE),\"\")","v":0.05},78.7]
[173761,"","1945-05-12","не оплачен",3467,{"$f":"IFERROR(VLOOKUP(B2224,'Комиссии партнеров'!$A$2:$B$52,2,FALSE),\"\")","v":""}]
[173766,"","1945-05-12","не оплачен",653,{"$f":"IFERROR(VLOOKUP(B2225,'Комиссии партнеров'!$A$2:$B$52,2,FALSE),\"\")","v":""}]
[173769,"Партнер номер 3","1945-05-12","оплачен",5156,{"$f":"IFERROR(VLOOKUP(B2226,'Комиссии партнеров'!$A$2:$B$52,2,FALSE),\"\")","v":0.05},257.8]
[173775,"","1945-05-12","не оплачен",1951,{"$f":"IFERROR(VLOOKUP(B2227,'Комиссии партнеров'!$A$2:$B$52,2,FALSE),\"\")","v":""}]
[173780,"Партнер номер 7","1945-05-12","оплачен",1162,{"$f":"IFERROR(VLOOKUP(B2228,'Комиссии партнеров'!$A$2:$B$52,2,FALSE),\"\")","v":0.05},58.1]
[173784,"Партнер номер 1","1945-05-12","оплачен",1820,{"$f":"IFERROR(VLOOKUP(B2229,'Комиссии партнеров'!$A$2:$B$52,2,FALSE),\"\")","v":0.05},91]
[173785,"","1945-05-12","оплачен",3325,{"$f":"IFERROR(VLOOKUP(B2230,'Комиссии партнеров'!$A$2:$B$52,2,FALSE),\"\")","v":""}]
[173789,"","1945-05-12","оплачен",3270,{"$f":"IFERROR(VLOOKUP(B2231,'Комиссии партнеров'!$A$2:$B$52,2,FALSE),\"\")","v":""}]
[173794,"Партнер номер 1","1945-05-12","не оплачен",2108,{"$f":"IFERROR(VLOOKUP(B2232,'Комиссии партнеров'!$A$2:$B$52,2,FALSE),\"\")","v":0.05},105.4]
[173795,"","1945-05-12","оплачен",3228,{"$f":"IFERROR(VLOOKUP(B2233,'Комиссии партнеров'!$A$2:$B$52,2,FALSE),\"\")","v":""}]
[173799,"","1945-05-12","оплачен",3591,{"$f":"IFERROR(VLOOKUP(B2234,'Комиссии партнеров'!$A$2:$B$52,2,FALSE),\"\")","v":""}]
[173802,"Партнер номер 11","1945-05-12","не оплачен",1786,{"$f":"IFERROR(VLOOKUP(B2235,'Комиссии партнеров'!$A$2:$B$52,2,FALSE),\"\")","v":0.05},89.300000000000011]
[173805,"","1945-05-12","оплачен",1647,{"$f":"IFERROR(VLOOKUP(B2236,'Комиссии партнеров'!$A$2:$B$52,2,FALSE),\"\")","v":""}]
[173808,"","1945-05-12","не оплачен",2706,{"$f":"IFERROR(VLOOKUP(B2237,'Комиссии партнеров'!$A$2:$B$52,2,FALSE),\"\")","v":""}]
[173813,"","1945-05-12","оплачен",787,{"$f":"IFERROR(VLOOKUP(B2238,'Комиссии партнеров'!$A$2:$B$52,2,FALSE),\"\")","v":""}]
[173818,"Партнер номер 1","1945-05-12","оплачен",1639,{"$f":"IFERROR(VLOOKUP(B2239,'Комиссии партнеров'!$A$2:$B$52,2,FALSE),\"\")","v":0.05},81.95]
[173820,"Партнер номер 7","1945-05-12","оплачен",2968,{"$f":"IFERROR(VLOOKUP(B2240,'Комиссии партнеров'!$A$2:$B$52,2,FALSE),\"\")","v":0.05},148.4]
[173824,"","1945-05-12","оплачен",2172,{"$f":"IFERROR(VLOOKUP(B2241,'Комиссии партнеров'!$A$2:$B$52,2,FALSE),\"\")","v":""}]
[173828,"","1945-05-12","не оплачен",4322,{"$f":"IFERROR(VLOOKUP(B2242,'Комиссии партнеров'!$A$2:$B$52,2,FALSE),\"\")","v":""}]
[173831,"","1945-05-12","не оплачен",4087,{"$f":"IFERROR(VLOOKUP(B2243,'Комиссии партнеров'!$A$2:$B$52,2,FALSE),\"\")","v":""}]
[173833,"Партнер номер 1","1945-05-12","не оплачен",1116,{"$f":"IFERROR(VLOOKUP(B2244,'Комиссии партнеров'!$A$2:$B$52,2,FALSE),\"\")","v":0.05},55.800000000000004]
[173837,"","1945-05-12","оплачен",1584,{"$f":"IFERROR(VLOOKUP(B2245,'Комиссии партнеров'!$A$2:$B$52,2,FALSE),\"\")","v":""}]
[173841,"Партнер номер 3","1945-05-12","оплачен",1300,{"$f":"IFERROR(VLOOKUP(B2246,'Комиссии партнеров'!$A$2:$B$52,2,FALSE),\"\")","v":0.05},65]
[173844,"Партнер номер 1","1945-05-12","не оплачен",800,{"$f":"IFERROR(VLOOKUP(B2247,'Комиссии партнеров'!$A$2:$B$52,2,FALSE),\"\")","v":0.05},40]
[173846,"Партнер номер 1","1945-05-12","не оплачен",1309,{"$f":"IFERROR(VLOOKUP(B2248,'Комиссии партнеров'!$A$2:$B$52,2,FALSE),\"\")","v":0.05},65.45]
[173850,"","1945-05-12","не оплачен",2031,{"$f":"IFERROR(VLOOKUP(B2249,'Комиссии партнеров'!$A$2:$B$52,2,FALSE),\"\")","v":""}]
[173854,"","1945-05-12","не оплачен",2706,{"$f":"IFERROR(VLOOKUP(B2250,'Комиссии партнеров'!$A$2:$B$52,2,FALSE),\"\")","v":""}]
[173858,"","1945-05-12","оплачен",5519,{"$f":"IFERROR(VLOOKUP(B2251,'Комиссии партнеров'!$A$2:$B$52,2,FALSE),\"\")","v":""}]
[173859,"","1945-05-12","оплачен",2355,{"$f":"IFERROR(VLOOKUP(B2252,'Комиссии партнеров'!$A$2:$B$52,2,FALSE),\"\")","v":""}]
[173861,"","1945-05-12","оплачен",933,{"$f":"IFERROR(VLOOKUP(B2253,'Комиссии партнеров'!$A$2:$B$52,2,FALSE),\"\")","v":""}]
[173867,"Партнер номер 1","1945-05-12","не оплачен",1238,{"$f":"IFERROR(VLOOKUP(B2254,'Комиссии партнеров'!$A$2:$B$52,2,FALSE),\"\")","v":0.05},61.900000000000006]
[173868,"","1945-05-12","оплачен",1055,{"$f":"IFERROR(VLOOKUP(B2255,'Комиссии партнеров'!$A$2:$B$52,2,FALSE),\"\")","v":""}]
[173874,"","1945-05-12","оплачен",4751,{"$f":"IFERROR(VLOOKUP(B2256,'Комиссии партнеров'!$A$2:$B$52,2,FALSE),\"\")","v":""}]
[173878,"","1945-05-12","оплачен",1993,{"$f":"IFERROR(VLOOKUP(B2257,'Комиссии партнеров'!$A$2:$B$52,2,FALSE),\"\")","v":""}]
[173880,"","1945-05-12","оплачен",2394,{"$f":"IFERROR(VLOOKUP(B2258,'Комиссии партнеров'!$A$2:$B$52,2,FALSE),\"\")","v":""}]
[173882,"Партнер номер 1","1945-05-12","оплачен",644,{"$f":"IFERROR(VLOOKUP(B2259,'Комиссии партнеров'!$A$2:$B$52,2,FALSE),\"\")","v":0.05},32.200000000000003]
[173884,"","1945-05-12","не оплачен",1095,{"$f":"IFERROR(VLOOKUP(B2260,'Комиссии партнеров'!$A$2:$B$52,2,FALSE),\"\")","v":""}]
[173889,"Партнер номер 1","1945-05-13","оплачен",2741,{"$f":"IFERROR(VLOOKUP(B2261,'Комиссии партнеров'!$A$2:$B$52,2,FALSE),\"\")","v":0.05},137.05000000000001]
[173892,"","1945-05-13","не оплачен",1137,{"$f":"IFERROR(VLOOKUP(B2262,'Комиссии партнеров'!$A$2:$B$52,2,FALSE),\"\")","v":""}]
[173895,"","1945-05-13","оплачен",1057,{"$f":"IFERROR(VLOOKUP(B2263,'Комиссии партнеров'!$A$2:$B$52,2,FALSE),\"\")","v":""}]
[173900,"","1945-05-13","оплачен",2512,{"$f":"IFERROR(VLOOKUP(B2264,'Комиссии партнеров'!$A$2:$B$52,2,FALSE),\"\")","v":""}]
[173905,"Партнер номер 5","1945-05-13","оплачен",3169,{"$f":"IFERROR(VLOOKUP(B2265,'Комиссии партнеров'!$A$2:$B$52,2,FALSE),\"\")","v":0.03},95.07]
[173906,"","1945-05-13","оплачен",8146,{"$f":"IFERROR(VLOOKUP(B2266,'Комиссии партнеров'!$A$2:$B$52,2,FALSE),\"\")","v":""}]
[173907,"Партнер номер 23","1945-05-13","оплачен",1003,{"$f":"IFERROR(VLOOKUP(B2267,'Комиссии партнеров'!$A$2:$B$52,2,FALSE),\"\")","v":0.05},50.150000000000006]
[173909,"Партнер номер 11","1945-05-13","не оплачен",1290,{"$f":"IFERROR(VLOOKUP(B2268,'Комиссии партнеров'!$A$2:$B$52,2,FALSE),\"\")","v":0.05},64.5]
[173913,"","1945-05-13","оплачен",2687,{"$f":"IFERROR(VLOOKUP(B2269,'Комиссии партнеров'!$A$2:$B$52,2,FALSE),\"\")","v":""}]
[173914,"Партнер номер 8","1945-05-13","оплачен",6012,{"$f":"IFERROR(VLOOKUP(B2270,'Комиссии партнеров'!$A$2:$B$52,2,FALSE),\"\")","v":0.03},180.35999999999999]
[173919,"","1945-05-13","оплачен",1743,{"$f":"IFERROR(VLOOKUP(B2271,'Комиссии партнеров'!$A$2:$B$52,2,FALSE),\"\")","v":""}]
[173922,"Партнер номер 7","1945-05-13","оплачен",2959,{"$f":"IFERROR(VLOOKUP(B2272,'Комиссии партнеров'!$A$2:$B$52,2,FALSE),\"\")","v":0.05},147.95000000000002]
[173925,"","1945-05-13","оплачен",1695,{"$f":"IFERROR(VLOOKUP(B2273,'Комиссии партнеров'!$A$2:$B$52,2,FALSE),\"\")","v":""}]
[173931,"Партнер номер 1","1945-05-13","оплачен",2752,{"$f":"IFERROR(VLOOKUP(B2274,'Комиссии партнеров'!$A$2:$B$52,2,FALSE),\"\")","v":0.05},137.6]
[173935,"Партнер номер 42","1945-05-13","оплачен",4371,{"$f":"IFERROR(VLOOKUP(B2275,'Комиссии партнеров'!$A$2:$B$52,2,FALSE),\"\")","v":0.05},218.55]
[173938,"Партнер номер 1","1945-05-13","оплачен",729,{"$f":"IFERROR(VLOOKUP(B2276,'Комиссии партнеров'!$A$2:$B$52,2,FALSE),\"\")","v":0.05},36.450000000000003]
[173942,"","1945-05-13","оплачен",2002,{"$f":"IFERROR(VLOOKUP(B2277,'Комиссии партнеров'!$A$2:$B$52,2,FALSE),\"\")","v":""}]
[173948,"Партнер номер 5","1945-05-13","не оплачен",2505,{"$f":"IFERROR(VLOOKUP(B2278,'Комиссии партнеров'!$A$2:$B$52,2,FALSE),\"\")","v":0.03},75.149999999999991]
[173950,"Партнер номер 1","1945-05-13","не оплачен",1717,{"$f":"IFERROR(VLOOKUP(B2279,'Комиссии партнеров'!$A$2:$B$52,2,FALSE),\"\")","v":0.05},85.850000000000009]
[173954,"","1945-05-13","оплачен",7776,{"$f":"IFERROR(VLOOKUP(B2280,'Комиссии партнеров'!$A$2:$B$52,2,FALSE),\"\")","v":""}]
[173959,"Партнер номер 13","1945-05-13","оплачен",1932,{"$f":"IFERROR(VLOOKUP(B2281,'Комиссии партнеров'!$A$2:$B$52,2,FALSE),\"\")","v":0.05},96.600000000000009]
[173964,"","1945-05-13","оплачен",5029,{"$f":"IFERROR(VLOOKUP(B2282,'Комиссии партнеров'!$A$2:$B$52,2,FALSE),\"\")","v":""}]
[173969,"Партнер номер 1","1945-05-13","оплачен",2623,{"$f":"IFERROR(VLOOKUP(B2283,'Комиссии партнеров'!$A$2:$B$52,2,FALSE),\"\")","v":0.05},131.15]
[173974,"","1945-05-13","оплачен",1255,{"$f":"IFERROR(VLOOKUP(B2284,'Комиссии партнеров'!$A$2:$B$52,2,FALSE),\"\")","v":""}]
[173979,"","1945-05-13","оплачен",307,{"$f":"IFERROR(VLOOKUP(B2285,'Комиссии партнеров'!$A$2:$B$52,2,FALSE),\"\")","v":""}]
[173981,"","1945-05-13","оплачен",1693,{"$f":"IFERROR(VLOOKUP(B2286,'Комиссии партнеров'!$A$2:$B$52,2,FALSE),\"\")","v":""}]
[173986,"Партнер номер 39","1945-05-13","не оплачен",2048,{"$f":"IFERROR(VLOOKUP(B2287,'Комиссии партнеров'!$A$2:$B$52,2,FALSE),\"\")","v":0.05},102.4]
[173990,"","1945-05-13","оплачен",2401,{"$f":"IFERROR(VLOOKUP(B2288,'Комиссии партнеров'!$A$2:$B$52,2,FALSE),\"\")","v":""}]
[173994,"","1945-05-13","не оплачен",1439,{"$f":"IFERROR(VLOOKUP(B2289,'Комиссии партнеров'!$A$2:$B$52,2,FALSE),\"\")","v":""}]
[173997,"","1945-05-13","не оплачен",1000,{"$f":"IFERROR(VLOOKUP(B2290,'Комиссии партнеров'!$A$2:$B$52,2,FALSE),\"\")","v":""}]
[174001,"","1945-05-13","не оплачен",1467,{"$f":"IFERROR(VLOOKUP(B2291,'Комиссии партнеров'!$A$2:$B$52,2,FALSE),\"\")","v":""}]
[174003,"","1945-05-13","оплачен",549,{"$f":"IFERROR(VLOOKUP(B2292,'Комиссии партнеров'!$A$2:$B$52,2,FALSE),\"\")","v":""}]
[174006,"","1945-05-13","оплачен",3179,{"$f":"IFERROR(VLOOKUP(B2293,'Комиссии партнеров'!$A$2:$B$52,2,FALSE),\"\")","v":""}]
[174011,"","1945-05-13","не оплачен",1892,{"$f":"IFERROR(VLOOKUP(B2294,'Комиссии партнеров'!$A$2:$B$52,2,FALSE),\"\")","v":""}]
[174016,"Партнер номер 7","1945-05-13","не оплачен",2473,{"$f":"IFERROR(VLOOKUP(B2295,'Комиссии партнеров'!$A$2:$B$52,2,FALSE),\"\")","v":0.05},123.65]
[174021,"","1945-05-13","оплачен",2476,{"$f":"IFERROR(VLOOKUP(B2296,'Комиссии партнеров'!$A$2:$B$52,2,FALSE),\"\")","v":""}]
[174026,"Партнер номер 39","1945-05-13","не оплачен",2429,{"$f":"IFERROR(VLOOKUP(B2297,'Комиссии партнеров'!$A$2:$B$52,2,FALSE),\"\")","v":0.05},121.45]
[174030,"","1945-05-13","оплачен",5069,{"$f":"IFERROR(VLOOKUP(B2298,'Комиссии партнеров'!$A$2:$B$52,2,FALSE),\"\")","v":""}]
[174034,"","1945-05-13","оплачен",2520,{"$f":"IFERROR(VLOOKUP(B2299,'Комиссии партнеров'!$A$2:$B$52,2,FALSE),\"\")","v":""}]
[174040,"Партнер номер 3","1945-05-13","оплачен",2292,{"$f":"IFERROR(VLOOKUP(B2300,'Комиссии партнеров'!$A$2:$B$52,2,FALSE),\"\")","v":0.05},114.60000000000001]
[174044,"Партнер номер 1","1945-05-13","оплачен",1191,{"$f":"IFERROR(VLOOKUP(B2301,'Комиссии партнеров'!$A$2:$B$52,2,FALSE),\"\")","v":0.05},59.550000000000004]
[174047,"Партнер номер 10","1945-05-13","оплачен",1741,{"$f":"IFERROR(VLOOKUP(B2302,'Комиссии партнеров'!$A$2:$B$52,2,FALSE),\"\")","v":0.04},69.64]
[174051,"","1945-05-13","оплачен",1193,{"$f":"IFERROR(VLOOKUP(B2303,'Комиссии партнеров'!$A$2:$B$52,2,FALSE),\"\")","v":""}]
[174053,"","1945-05-13","не оплачен",8887,{"$f":"IFERROR(VLOOKUP(B2304,'Комиссии партнеров'!$A$2:$B$52,2,FALSE),\"\")","v":""}]
[174058,"Партнер номер 3","1945-05-13","оплачен",1798,{"$f":"IFERROR(VLOOKUP(B2305,'Комиссии партнеров'!$A$2:$B$52,2,FALSE),\"\")","v":0.05},89.9]
[174063,"Партнер номер 6","1945-05-13","оплачен",1386,{"$f":"IFERROR(VLOOKUP(B2306,'Комиссии партнеров'!$A$2:$B$52,2,FALSE),\"\")","v":0.04},55.44]
[174065,"","1945-05-13","оплачен",2726,{"$f":"IFERROR(VLOOKUP(B2307,'Комиссии партнеров'!$A$2:$B$52,2,FALSE),\"\")","v":""}]
[174067,"Партнер номер 11","1945-05-13","оплачен",799,{"$f":"IFERROR(VLOOKUP(B2308,'Комиссии партнеров'!$A$2:$B$52,2,FALSE),\"\")","v":0.05},39.950000000000003]
[174072,"","1945-05-13","оплачен",2752,{"$f":"IFERROR(VLOOKUP(B2309,'Комиссии партнеров'!$A$2:$B$52,2,FALSE),\"\")","v":""}]
[174076,"","1945-05-13","не оплачен",2222,{"$f":"IFERROR(VLOOKUP(B2310,'Комиссии партнеров'!$A$2:$B$52,2,FALSE),\"\")","v":""}]
[174080,"","1945-05-13","оплачен",1392,{"$f":"IFERROR(VLOOKUP(B2311,'Комиссии партнеров'!$A$2:$B$52,2,FALSE),\"\")","v":""}]
[174085,"Партнер номер 5","1945-05-13","не оплачен",1230,{"$f":"IFERROR(VLOOKUP(B2312,'Комиссии партнеров'!$A$2:$B$52,2,FALSE),\"\")","v":0.03},36.9]
[174089,"","1945-05-13","не оплачен",1558,{"$f":"IFERROR(VLOOKUP(B2313,'Комиссии партнеров'!$A$2:$B$52,2,FALSE),\"\")","v":""}]
[174093,"","1945-05-13","оплачен",3710,{"$f":"IFERROR(VLOOKUP(B2314,'Комиссии партнеров'!$A$2:$B$52,2,FALSE),\"\")","v":""}]
[174094,"","1945-05-13","оплачен",2182,{"$f":"IFERROR(VLOOKUP(B2315,'Комиссии партнеров'!$A$2:$B$52,2,FALSE),\"\")","v":""}]
[174099,"Партнер номер 1","1945-05-13","оплачен",1719,{"$f":"IFERROR(VLOOKUP(B2316,'Комиссии партнеров'!$A$2:$B$52,2,FALSE),\"\")","v":0.05},85.95]
[174101,"","1945-05-13","не оплачен",2524,{"$f":"IFERROR(VLOOKUP(B2317,'Комиссии партнеров'!$A$2:$B$52,2,FALSE),\"\")","v":""}]
[174106,"","1945-05-13","оплачен",3798,{"$f":"IFERROR(VLOOKUP(B2318,'Комиссии партнеров'!$A$2:$B$52,2,FALSE),\"\")","v":""}]
[174109,"","1945-05-13","оплачен",2929,{"$f":"IFERROR(VLOOKUP(B2319,'Комиссии партнеров'!$A$2:$B$52,2,FALSE),\"\")","v":""}]
[174113,"","1945-05-13","оплачен",1043,{"$f":"IFERROR(VLOOKUP(B2320,'Комиссии партнеров'!$A$2:$B$52,2,FALSE),\"\")","v":""}]
[174118,"Партнер номер 1","1945-05-13","оплачен",1219,{"$f":"IFERROR(VLOOKUP(B2321,'Комиссии партнеров'!$A$2:$B$52,2,FALSE),\"\")","v":0.05},60.95]
[174120,"","1945-05-13","оплачен",2715,{"$f":"IFERROR(VLOOKUP(B2322,'Комиссии партнеров'!$A$2:$B$52,2,FALSE),\"\")","v":""}]
[174123,"","1945-05-13","оплачен",2718,{"$f":"IFERROR(VLOOKUP(B2323,'Комиссии партнеров'!$A$2:$B$52,2,FALSE),\"\")","v":""}]
[174127,"","1945-05-13","оплачен",2463,{"$f":"IFERROR(VLOOKUP(B2324,'Комиссии партнеров'!$A$2:$B$52,2,FALSE),\"\")","v":""}]
[174129,"","1945-05-13","оплачен",2280,{"$f":"IFERROR(VLOOKUP(B2325,'Комиссии партнеров'!$A$2:$B$52,2,FALSE),\"\")","v":""}]
[174132,"Партнер номер 11","1945-05-13","оплачен",3097,{"$f":"IFERROR(VLOOKUP(B2326,'Комиссии партнеров'!$A$2:$B$52,2,FALSE),\"\")","v":0.05},154.85000000000002]
[174133,"Партнер номер 17","1945-05-13","не оплачен",5683,{"$f":"IFERROR(VLOOKUP(B2327,'Комиссии партнеров'!$A$2:$B$52,2,FALSE),\"\")","v":0.04},227.32]
[174137,"","1945-05-13","оплачен",3242,{"$f":"IFERROR(VLOOKUP(B2328,'Комиссии партнеров'!$A$2:$B$52,2,FALSE),\"\")","v":""}]
[174139,"","1945-05-13","оплачен",1484,{"$f":"IFERROR(VLOOKUP(B2329,'Комиссии партнеров'!$A$2:$B$52,2,FALSE),\"\")","v":""}]
[174140,"","1945-05-13","оплачен",2180,{"$f":"IFERROR(VLOOKUP(B2330,'Комиссии партнеров'!$A$2:$B$52,2,FALSE),\"\")","v":""}]
[174145,"","1945-05-13","оплачен",4646,{"$f":"IFERROR(VLOOKUP(B2331,'Комиссии партнеров'!$A$2:$B$52,2,FALSE),\"\")","v":""}]
[174150,"","1945-05-13","оплачен",2451,{"$f":"IFERROR(VLOOKUP(B2332,'Комиссии партнеров'!$A$2:$B$52,2,FALSE),\"\")","v":""}]
[174151,"","1945-05-13","не оплачен",5736,{"$f":"IFERROR(VLOOKUP(B2333,'Комиссии партнеров'!$A$2:$B$52,2,FALSE),\"\")","v":""}]
[174156,"Партнер номер 5","1945-05-13","не оплачен",10460,{"$f":"IFERROR(VLOOKUP(B2334,'Комиссии партнеров'!$A$2:$B$52,2,FALSE),\"\")","v":0.03},313.8]
[174158,"","1945-05-13","оплачен",1213,{"$f":"IFERROR(VLOOKUP(B2335,'Комиссии партнеров'!$A$2:$B$52,2,FALSE),\"\")","v":""}]
[174163,"Партнер номер 11","1945-05-13","не оплачен",1440,{"$f":"IFERROR(VLOOKUP(B2336,'Комиссии партнеров'!$A$2:$B$52,2,FALSE),\"\")","v":0.05},72]
[174164,"","1945-05-13","оплачен",3208,{"$f":"IFERROR(VLOOKUP(B2337,'Комиссии партнеров'!$A$2:$B$52,2,FALSE),\"\")","v":""}]
[174168,"","1945-05-13","оплачен",2222,{"$f":"IFERROR(VLOOKUP(B2338,'Комиссии партнеров'!$A$2:$B$52,2,FALSE),\"\")","v":""}]
[174172,"Партнер номер 11","1945-05-13","оплачен",2014,{"$f":"IFERROR(VLOOKUP(B2339,'Комиссии партнеров'!$A$2:$B$52,2,FALSE),\"\")","v":0.05},100.7]
[174174,"Партнер номер 3","1945-05-13","оплачен",1817,{"$f":"IFERROR(VLOOKUP(B2340,'Комиссии партнеров'!$A$2:$B$52,2,FALSE),\"\")","v":0.05},90.850000000000009]
[174180,"Партнер номер 3","1945-05-13","не оплачен",1886,{"$f":"IFERROR(VLOOKUP(B2341,'Комиссии партнеров'!$A$2:$B$52,2,FALSE),\"\")","v":0.05},94.300000000000011]
[174184,"","1945-05-13","оплачен",2306,{"$f":"IFERROR(VLOOKUP(B2342,'Комиссии партнеров'!$A$2:$B$52,2,FALSE),\"\")","v":""}]
[174186,"","1945-05-13","оплачен",2863,{"$f":"IFERROR(VLOOKUP(B2343,'Комиссии партнеров'!$A$2:$B$52,2,FALSE),\"\")","v":""}]
[174188,"","1945-05-13","оплачен",2366,{"$f":"IFERROR(VLOOKUP(B2344,'Комиссии партнеров'!$A$2:$B$52,2,FALSE),\"\")","v":""}]
[174190,"","1945-05-13","не оплачен",2639,{"$f":"IFERROR(VLOOKUP(B2345,'Комиссии партнеров'!$A$2:$B$52,2,FALSE),\"\")","v":""}]
[174199,"","1945-05-13","не оплачен",1834,{"$f":"IFERROR(VLOOKUP(B2346,'Комиссии партнеров'!$A$2:$B$52,2,FALSE),\"\")","v":""}]
[174204,"","1945-05-13","оплачен",777,{"$f":"IFERROR(VLOOKUP(B2347,'Комиссии партнеров'!$A$2:$B$52,2,FALSE),\"\")","v":""}]
[174208,"Партнер номер 1","1945-05-13","оплачен",1828,{"$f":"IFERROR(VLOOKUP(B2348,'Комиссии партнеров'!$A$2:$B$52,2,FALSE),\"\")","v":0.05},91.4]
[174210,"","1945-05-13","оплачен",1925,{"$f":"IFERROR(VLOOKUP(B2349,'Комиссии партнеров'!$A$2:$B$52,2,FALSE),\"\")","v":""}]
[174216,"","1945-05-13","оплачен",2644,{"$f":"IFERROR(VLOOKUP(B2350,'Комиссии партнеров'!$A$2:$B$52,2,FALSE),\"\")","v":""}]
[174220,"","1945-05-13","не оплачен",2258,{"$f":"IFERROR(VLOOKUP(B2351,'Комиссии партнеров'!$A$2:$B$52,2,FALSE),\"\")","v":""}]
[174222,"Партнер номер 8","1945-05-13","не оплачен",2106,{"$f":"IFERROR(VLOOKUP(B2352,'Комиссии партнеров'!$A$2:$B$52,2,FALSE),\"\")","v":0.03},63.18]
[174224,"Партнер номер 11","1945-05-13","оплачен",2240,{"$f":"IFERROR(VLOOKUP(B2353,'Комиссии партнеров'!$A$2:$B$52,2,FALSE),\"\")","v":0.05},112]
[174226,"","1945-05-13","оплачен",7201,{"$f":"IFERROR(VLOOKUP(B2354,'Комиссии партнеров'!$A$2:$B$52,2,FALSE),\"\")","v":""}]
[174230,"Партнер номер 11","1945-05-13","оплачен",1348,{"$f":"IFERROR(VLOOKUP(B2355,'Комиссии партнеров'!$A$2:$B$52,2,FALSE),\"\")","v":0.05},67.400000000000006]
[174239,"","1945-05-13","не оплачен",4162,{"$f":"IFERROR(VLOOKUP(B2356,'Комиссии партнеров'!$A$2:$B$52,2,FALSE),\"\")","v":""}]
[174241,"Партнер номер 28","1945-05-13","оплачен",4199,{"$f":"IFERROR(VLOOKUP(B2357,'Комиссии партнеров'!$A$2:$B$52,2,FALSE),\"\")","v":0.05},209.95000000000002]
[174246,"","1945-05-13","оплачен",2275,{"$f":"IFERROR(VLOOKUP(B2358,'Комиссии партнеров'!$A$2:$B$52,2,FALSE),\"\")","v":""}]
[174250,"","1945-05-13","оплачен",2275,{"$f":"IFERROR(VLOOKUP(B2359,'Комиссии партнеров'!$A$2:$B$52,2,FALSE),\"\")","v":""}]
[174254,"","1945-05-13","не оплачен",1370,{"$f":"IFERROR(VLOOKUP(B2360,'Комиссии партнеров'!$A$2:$B$52,2,FALSE),\"\")","v":""}]
[174256,"","1945-05-13","оплачен",2415,{"$f":"IFERROR(VLOOKUP(B2361,'Комиссии партнеров'!$A$2:$B$52,2,FALSE),\"\")","v":""}]
[174260,"Партнер номер 9","1945-05-13","оплачен",1581,{"$f":"IFERROR(VLOOKUP(B2362,'Комиссии партнеров'!$A$2:$B$52,2,FALSE),\"\")","v":0.05},79.050000000000011]
[174264,"","1945-05-13","оплачен",1258,{"$f":"IFERROR(VLOOKUP(B2363,'Комиссии партнеров'!$A$2:$B$52,2,FALSE),\"\")","v":""}]
[174268,"","1945-05-13","не оплачен",1957,{"$f":"IFERROR(VLOOKUP(B2364,'Комиссии партнеров'!$A$2:$B$52,2,FALSE),\"\")","v":""}]
[174270,"","1945-05-13","не оплачен",864,{"$f":"IFERROR(VLOOKUP(B2365,'Комиссии партнеров'!$A$2:$B$52,2,FALSE),\"\")","v":""}]
[174274,"","1945-05-13","оплачен",864,{"$f":"IFERROR(VLOOKUP(B2366,'Комиссии партнеров'!$A$2:$B$52,2,FALSE),\"\")","v":""}]
[174279,"Партнер номер 3","1945-05-13","оплачен",2219,{"$f":"IFERROR(VLOOKUP(B2367,'Комиссии партнеров'!$A$2:$B$52,2,FALSE),\"\")","v":0.05},110.95]
[174281,"Партнер номер 11","1945-05-13","не оплачен",1947,{"$f":"IFERROR(VLOOKUP(B2368,'Комиссии партнеров'!$A$2:$B$52,2,FALSE),\"\")","v":0.05},97.350000000000009]
[174286,"Партнер номер 6","1945-05-13","оплачен",481,{"$f":"IFERROR(VLOOKUP(B2369,'Комиссии партнеров'!$A$2:$B$52,2,FALSE),\"\")","v":0.04},19.240000000000002]
[174291,"","1945-05-13","оплачен",3958,{"$f":"IFERROR(VLOOKUP(B2370,'Комиссии партнеров'!$A$2:$B$52,2,FALSE),\"\")","v":""}]
[174295,"Партнер номер 1","1945-05-13","оплачен",2191,{"$f":"IFERROR(VLOOKUP(B2371,'Комиссии партнеров'!$A$2:$B$52,2,FALSE),\"\")","v":0.05},109.55000000000001]
[174299,"","1945-05-13","не оплачен",3345,{"$f":"IFERROR(VLOOKUP(B2372,'Комиссии партнеров'!$A$2:$B$52,2,FALSE),\"\")","v":""}]
[174300,"Партнер номер 5","1945-05-13","оплачен",4413,{"$f":"IFERROR(VLOOKUP(B2373,'Комиссии партнеров'!$A$2:$B$52,2,FALSE),\"\")","v":0.03},132.38999999999999]
[174303,"","1945-05-13","оплачен",1970,{"$f":"IFERROR(VLOOKUP(B2374,'Комиссии партнеров'!$A$2:$B$52,2,FALSE),\"\")","v":""}]
[174306,"","1945-05-13","не оплачен",2239,{"$f":"IFERROR(VLOOKUP(B2375,'Комиссии партнеров'!$A$2:$B$52,2,FALSE),\"\")","v":""}]
[174309,"","1945-05-13","оплачен",4812,{"$f":"IFERROR(VLOOKUP(B2376,'Комиссии партнеров'!$A$2:$B$52,2,FALSE),\"\")","v":""}]
[174312,"Партнер номер 1","1945-05-14","не оплачен",1480,{"$f":"IFERROR(VLOOKUP(B2377,'Комиссии партнеров'!$A$2:$B$52,2,FALSE),\"\")","v":0.05},74]
[174316,"Партнер номер 7","1945-05-14","не оплачен",1980,{"$f":"IFERROR(VLOOKUP(B2378,'Комиссии партнеров'!$A$2:$B$52,2,FALSE),\"\")","v":0.05},99]
[174320,"","1945-05-14","не оплачен",2017,{"$f":"IFERROR(VLOOKUP(B2379,'Комиссии партнеров'!$A$2:$B$52,2,FALSE),\"\")","v":""}]
[174322,"","1945-05-14","оплачен",1013,{"$f":"IFERROR(VLOOKUP(B2380,'Комиссии партнеров'!$A$2:$B$52,2,FALSE),\"\")","v":""}]
[174328,"Партнер номер 1","1945-05-14","не оплачен",517,{"$f":"IFERROR(VLOOKUP(B2381,'Комиссии партнеров'!$A$2:$B$52,2,FALSE),\"\")","v":0.05},25.85]
[174330,"","1945-05-14","не оплачен",4690,{"$f":"IFERROR(VLOOKUP(B2382,'Комиссии партнеров'!$A$2:$B$52,2,FALSE),\"\")","v":""}]
[174334,"Партнер номер 7","1945-05-14","не оплачен",3854,{"$f":"IFERROR(VLOOKUP(B2383,'Комиссии партнеров'!$A$2:$B$52,2,FALSE),\"\")","v":0.05},192.70000000000002]
[174335,"","1945-05-14","оплачен",1935,{"$f":"IFERROR(VLOOKUP(B2384,'Комиссии партнеров'!$A$2:$B$52,2,FALSE),\"\")","v":""}]
[174337,"","1945-05-14","не оплачен",915,{"$f":"IFERROR(VLOOKUP(B2385,'Комиссии партнеров'!$A$2:$B$52,2,FALSE),\"\")","v":""}]
[174341,"","1945-05-14","оплачен",780,{"$f":"IFERROR(VLOOKUP(B2386,'Комиссии партнеров'!$A$2:$B$52,2,FALSE),\"\")","v":""}]
[174345,"Партнер номер 1","1945-05-14","оплачен",1552,{"$f":"IFERROR(VLOOKUP(B2387,'Комиссии партнеров'!$A$2:$B$52,2,FALSE),\"\")","v":0.05},77.600000000000009]
[174347,"Партнер номер 11","1945-05-14","не оплачен",2059,{"$f":"IFERROR(VLOOKUP(B2388,'Комиссии партнеров'!$A$2:$B$52,2,FALSE),\"\")","v":0.05},102.95]
[174352,"","1945-05-14","не оплачен",1873,{"$f":"IFERROR(VLOOKUP(B2389,'Комиссии партнеров'!$A$2:$B$52,2,FALSE),\"\")","v":""}]
[174355,"Партнер номер 3","1945-05-14","не оплачен",831,{"$f":"IFERROR(VLOOKUP(B2390,'Комиссии партнеров'!$A$2:$B$52,2,FALSE),\"\")","v":0.05},41.550000000000004]
[174359,"","1945-05-14","не оплачен",2953,{"$f":"IFERROR(VLOOKUP(B2391,'Комиссии партнеров'!$A$2:$B$52,2,FALSE),\"\")","v":""}]
[174361,"","1945-05-14","не оплачен",865,{"$f":"IFERROR(VLOOKUP(B2392,'Комиссии партнеров'!$A$2:$B$52,2,FALSE),\"\")","v":""}]
[174363,"","1945-05-14","не оплачен",1996,{"$f":"IFERROR(VLOOKUP(B2393,'Комиссии партнеров'!$A$2:$B$52,2,FALSE),\"\")","v":""}]
[174367,"","1945-05-14","оплачен",533,{"$f":"IFERROR(VLOOKUP(B2394,'Комиссии партнеров'!$A$2:$B$52,2,FALSE),\"\")","v":""}]
[174371,"Партнер номер 23","1945-05-14","оплачен",2780,{"$f":"IFERROR(VLOOKUP(B2395,'Комиссии партнеров'!$A$2:$B$52,2,FALSE),\"\")","v":0.05},139]
[174373,"","1945-05-14","не оплачен",3896,{"$f":"IFERROR(VLOOKUP(B2396,'Комиссии партнеров'!$A$2:$B$52,2,FALSE),\"\")","v":""}]
[174378,"","1945-05-14","не оплачен",2573,{"$f":"IFERROR(VLOOKUP(B2397,'Комиссии партнеров'!$A$2:$B$52,2,FALSE),\"\")","v":""}]
[174381,"","1945-05-14","оплачен",2189,{"$f":"IFERROR(VLOOKUP(B2398,'Комиссии партнеров'!$A$2:$B$52,2,FALSE),\"\")","v":""}]
[174384,"Партнер номер 1","1945-05-14","не оплачен",1843,{"$f":"IFERROR(VLOOKUP(B2399,'Комиссии партнеров'!$A$2:$B$52,2,FALSE),\"\")","v":0.05},92.15]
[174386,"","1945-05-14","оплачен",1461,{"$f":"IFERROR(VLOOKUP(B2400,'Комиссии партнеров'!$A$2:$B$52,2,FALSE),\"\")","v":""}]
[174389,"","1945-05-14","не оплачен",2264,{"$f":"IFERROR(VLOOKUP(B2401,'Комиссии партнеров'!$A$2:$B$52,2,FALSE),\"\")","v":""}]
[174391,"","1945-05-14","оплачен",1363,{"$f":"IFERROR(VLOOKUP(B2402,'Комиссии партнеров'!$A$2:$B$52,2,FALSE),\"\")","v":""}]
[174395,"Партнер номер 5","1945-05-14","оплачен",1395,{"$f":"IFERROR(VLOOKUP(B2403,'Комиссии партнеров'!$A$2:$B$52,2,FALSE),\"\")","v":0.03},41.85]
[174399,"Партнер номер 1","1945-05-14","не оплачен",2191,{"$f":"IFERROR(VLOOKUP(B2404,'Комиссии партнеров'!$A$2:$B$52,2,FALSE),\"\")","v":0.05},109.55000000000001]
[174404,"","1945-05-14","не оплачен",2463,{"$f":"IFERROR(VLOOKUP(B2405,'Комиссии партнеров'!$A$2:$B$52,2,FALSE),\"\")","v":""}]
[174409,"","1945-05-14","не оплачен",727,{"$f":"IFERROR(VLOOKUP(B2406,'Комиссии партнеров'!$A$2:$B$52,2,FALSE),\"\")","v":""}]
[174411,"Партнер номер 1","1945-05-14","не оплачен",2055,{"$f":"IFERROR(VLOOKUP(B2407,'Комиссии партнеров'!$A$2:$B$52,2,FALSE),\"\")","v":0.05},102.75]
[174415,"Партнер номер 11","1945-05-14","оплачен",1279,{"$f":"IFERROR(VLOOKUP(B2408,'Комиссии партнеров'!$A$2:$B$52,2,FALSE),\"\")","v":0.05},63.95]
[174420,"Партнер номер 39","1945-05-14","не оплачен",2877,{"$f":"IFERROR(VLOOKUP(B2409,'Комиссии партнеров'!$A$2:$B$52,2,FALSE),\"\")","v":0.05},143.85]
[174426,"","1945-05-14","оплачен",2223,{"$f":"IFERROR(VLOOKUP(B2410,'Комиссии партнеров'!$A$2:$B$52,2,FALSE),\"\")","v":""}]
[174429,"","1945-05-14","оплачен",2040,{"$f":"IFERROR(VLOOKUP(B2411,'Комиссии партнеров'!$A$2:$B$52,2,FALSE),\"\")","v":""}]
[174435,"","1945-05-14","оплачен",826,{"$f":"IFERROR(VLOOKUP(B2412,'Комиссии партнеров'!$A$2:$B$52,2,FALSE),\"\")","v":""}]
[174437,"Партнер номер 1","1945-05-14","оплачен",518,{"$f":"IFERROR(VLOOKUP(B2413,'Комиссии партнеров'!$A$2:$B$52,2,FALSE),\"\")","v":0.05},25.900000000000002]
[174442,"","1945-05-14","оплачен",3096,{"$f":"IFERROR(VLOOKUP(B2414,'Комиссии партнеров'!$A$2:$B$52,2,FALSE),\"\")","v":""}]
[174446,"Партнер номер 28","1945-05-14","не оплачен",672,{"$f":"IFERROR(VLOOKUP(B2415,'Комиссии партнеров'!$A$2:$B$52,2,FALSE),\"\")","v":0.05},33.6]
[174448,"","1945-05-14","не оплачен",2447,{"$f":"IFERROR(VLOOKUP(B2416,'Комиссии партнеров'!$A$2:$B$52,2,FALSE),\"\")","v":""}]
[174450,"Партнер номер 11","1945-05-14","не оплачен",2267,{"$f":"IFERROR(VLOOKUP(B2417,'Комиссии партнеров'!$A$2:$B$52,2,FALSE),\"\")","v":0.05},113.35000000000001]
[174452,"Партнер номер 5","1945-05-14","оплачен",2999,{"$f":"IFERROR(VLOOKUP(B2418,'Комиссии партнеров'!$A$2:$B$52,2,FALSE),\"\")","v":0.03},89.97]
[174458,"","1945-05-14","оплачен",1858,{"$f":"IFERROR(VLOOKUP(B2419,'Комиссии партнеров'!$A$2:$B$52,2,FALSE),\"\")","v":""}]
[174463,"Партнер номер 28","1945-05-14","оплачен",633,{"$f":"IFERROR(VLOOKUP(B2420,'Комиссии партнеров'!$A$2:$B$52,2,FALSE),\"\")","v":0.05},31.650000000000002]
[174468,"","1945-05-14","не оплачен",5302,{"$f":"IFERROR(VLOOKUP(B2421,'Комиссии партнеров'!$A$2:$B$52,2,FALSE),\"\")","v":""}]
[174472,"Партнер номер 5","1945-05-14","не оплачен",4275,{"$f":"IFERROR(VLOOKUP(B2422,'Комиссии партнеров'!$A$2:$B$52,2,FALSE),\"\")","v":0.03},128.25]
[174474,"Партнер номер 1","1945-05-14","не оплачен",1289,{"$f":"IFERROR(VLOOKUP(B2423,'Комиссии партнеров'!$A$2:$B$52,2,FALSE),\"\")","v":0.05},64.45]
[174477,"Партнер номер 11","1945-05-14","не оплачен",1358,{"$f":"IFERROR(VLOOKUP(B2424,'Комиссии партнеров'!$A$2:$B$52,2,FALSE),\"\")","v":0.05},67.900000000000006]
[174480,"Партнер номер 1","1945-05-14","оплачен",974,{"$f":"IFERROR(VLOOKUP(B2425,'Комиссии партнеров'!$A$2:$B$52,2,FALSE),\"\")","v":0.05},48.7]
[174484,"Партнер номер 5","1945-05-14","не оплачен",4275,{"$f":"IFERROR(VLOOKUP(B2426,'Комиссии партнеров'!$A$2:$B$52,2,FALSE),\"\")","v":0.03},128.25]
[174487,"Партнер номер 5","1945-05-14","оплачен",1921,{"$f":"IFERROR(VLOOKUP(B2427,'Комиссии партнеров'!$A$2:$B$52,2,FALSE),\"\")","v":0.03},57.629999999999995]
[174492,"","1945-05-14","оплачен",5081,{"$f":"IFERROR(VLOOKUP(B2428,'Комиссии партнеров'!$A$2:$B$52,2,FALSE),\"\")","v":""}]
[174495,"Партнер номер 7","1945-05-14","не оплачен",894,{"$f":"IFERROR(VLOOKUP(B2429,'Комиссии партнеров'!$A$2:$B$52,2,FALSE),\"\")","v":0.05},44.7]
[174499,"Партнер номер 1","1945-05-14","оплачен",1949,{"$f":"IFERROR(VLOOKUP(B2430,'Комиссии партнеров'!$A$2:$B$52,2,FALSE),\"\")","v":0.05},97.45]
[174501,"Партнер номер 7","1945-05-14","не оплачен",1423,{"$f":"IFERROR(VLOOKUP(B2431,'Комиссии партнеров'!$A$2:$B$52,2,FALSE),\"\")","v":0.05},71.150000000000006]
[174502,"","1945-05-14","оплачен",1974,{"$f":"IFERROR(VLOOKUP(B2432,'Комиссии партнеров'!$A$2:$B$52,2,FALSE),\"\")","v":""}]
[174503,"Партнер номер 7","1945-05-14","оплачен",4134,{"$f":"IFERROR(VLOOKUP(B2433,'Комиссии партнеров'!$A$2:$B$52,2,FALSE),\"\")","v":0.05},206.70000000000002]
[174509,"","1945-05-14","не оплачен",2204,{"$f":"IFERROR(VLOOKUP(B2434,'Комиссии партнеров'!$A$2:$B$52,2,FALSE),\"\")","v":""}]
[174522,"","1945-05-14","не оплачен",998,{"$f":"IFERROR(VLOOKUP(B2435,'Комиссии партнеров'!$A$2:$B$52,2,FALSE),\"\")","v":""}]
[174526,"","1945-05-14","не оплачен",998,{"$f":"IFERROR(VLOOKUP(B2436,'Комиссии партнеров'!$A$2:$B$52,2,FALSE),\"\")","v":""}]
[174529,"","1945-05-14","оплачен",2292,{"$f":"IFERROR(VLOOKUP(B2437,'Комиссии партнеров'!$A$2:$B$52,2,FALSE),\"\")","v":""}]
[174539,"Партнер номер 1","1945-05-14","не оплачен",2385,{"$f":"IFERROR(VLOOKUP(B2438,'Комиссии партнеров'!$A$2:$B$52,2,FALSE),\"\")","v":0.05},119.25]
[174540,"Партнер номер 1","1945-05-14","не оплачен",1335,{"$f":"IFERROR(VLOOKUP(B2439,'Комиссии партнеров'!$A$2:$B$52,2,FALSE),\"\")","v":0.05},66.75]
[174547,"","1945-05-14","оплачен",1015,{"$f":"IFERROR(VLOOKUP(B2440,'Комиссии партнеров'!$A$2:$B$52,2,FALSE),\"\")","v":""}]
[174551,"Партнер номер 1","1945-05-14","не оплачен",3109,{"$f":"IFERROR(VLOOKUP(B2441,'Комиссии партнеров'!$A$2:$B$52,2,FALSE),\"\")","v":0.05},155.45000000000002]
[174555,"Партнер номер 11","1945-05-14","оплачен",918,{"$f":"IFERROR(VLOOKUP(B2442,'Комиссии партнеров'!$A$2:$B$52,2,FALSE),\"\")","v":0.05},45.900000000000006]
[174559,"Партнер номер 11","1945-05-14","оплачен",918,{"$f":"IFERROR(VLOOKUP(B2443,'Комиссии партнеров'!$A$2:$B$52,2,FALSE),\"\")","v":0.05},45.900000000000006]
[174563,"","1945-05-14","оплачен",1316,{"$f":"IFERROR(VLOOKUP(B2444,'Комиссии партнеров'!$A$2:$B$52,2,FALSE),\"\")","v":""}]
[174565,"Партнер номер 5","1945-05-14","оплачен",586,{"$f":"IFERROR(VLOOKUP(B2445,'Комиссии партнеров'!$A$2:$B$52,2,FALSE),\"\")","v":0.03},17.579999999999998]
[174568,"Партнер номер 11","1945-05-14","оплачен",1292,{"$f":"IFERROR(VLOOKUP(B2446,'Комиссии партнеров'!$A$2:$B$52,2,FALSE),\"\")","v":0.05},64.600000000000009]
[174570,"Партнер номер 7","1945-05-14","оплачен",844,{"$f":"IFERROR(VLOOKUP(B2447,'Комиссии партнеров'!$A$2:$B$52,2,FALSE),\"\")","v":0.05},42.2]
[174574,"","1945-05-14","оплачен",1034,{"$f":"IFERROR(VLOOKUP(B2448,'Комиссии партнеров'!$A$2:$B$52,2,FALSE),\"\")","v":""}]
[174576,"","1945-05-14","оплачен",2485,{"$f":"IFERROR(VLOOKUP(B2449,'Комиссии партнеров'!$A$2:$B$52,2,FALSE),\"\")","v":""}]
[174577,"Партнер номер 1","1945-05-14","оплачен",2254,{"$f":"IFERROR(VLOOKUP(B2450,'Комиссии партнеров'!$A$2:$B$52,2,FALSE),\"\")","v":0.05},112.7]
[174580,"","1945-05-14","не оплачен",1432,{"$f":"IFERROR(VLOOKUP(B2451,'Комиссии партнеров'!$A$2:$B$52,2,FALSE),\"\")","v":""}]
[174582,"","1945-05-14","не оплачен",2287,{"$f":"IFERROR(VLOOKUP(B2452,'Комиссии партнеров'!$A$2:$B$52,2,FALSE),\"\")","v":""}]
[174586,"Партнер номер 3","1945-05-14","не оплачен",1344,{"$f":"IFERROR(VLOOKUP(B2453,'Комиссии партнеров'!$A$2:$B$52,2,FALSE),\"\")","v":0.05},67.2]
[174588,"","1945-05-14","не оплачен",2644,{"$f":"IFERROR(VLOOKUP(B2454,'Комиссии партнеров'!$A$2:$B$52,2,FALSE),\"\")","v":""}]
[174594,"","1945-05-14","не оплачен",1446,{"$f":"IFERROR(VLOOKUP(B2455,'Комиссии партнеров'!$A$2:$B$52,2,FALSE),\"\")","v":""}]
[174597,"","1945-05-14","не оплачен",1395,{"$f":"IFERROR(VLOOKUP(B2456,'Комиссии партнеров'!$A$2:$B$52,2,FALSE),\"\")","v":""}]
[174599,"","1945-05-14","оплачен",935,{"$f":"IFERROR(VLOOKUP(B2457,'Комиссии партнеров'!$A$2:$B$52,2,FALSE),\"\")","v":""}]
[174601,"Партнер номер 7","1945-05-14","оплачен",844,{"$f":"IFERROR(VLOOKUP(B2458,'Комиссии партнеров'!$A$2:$B$52,2,FALSE),\"\")","v":0.05},42.2]
[174605,"Партнер номер 11","1945-05-14","оплачен",1486,{"$f":"IFERROR(VLOOKUP(B2459,'Комиссии партнеров'!$A$2:$B$52,2,FALSE),\"\")","v":0.05},74.3]
[174610,"Партнер номер 1","1945-05-14","оплачен",2682,{"$f":"IFERROR(VLOOKUP(B2460,'Комиссии партнеров'!$A$2:$B$52,2,FALSE),\"\")","v":0.05},134.1]
[174615,"","1945-05-14","не оплачен",2213,{"$f":"IFERROR(VLOOKUP(B2461,'Комиссии партнеров'!$A$2:$B$52,2,FALSE),\"\")","v":""}]
[174618,"Партнер номер 16","1945-05-14","оплачен",2150,{"$f":"IFERROR(VLOOKUP(B2462,'Комиссии партнеров'!$A$2:$B$52,2,FALSE),\"\")","v":0.05},107.5]
[174621,"Партнер номер 1","1945-05-14","оплачен",1113,{"$f":"IFERROR(VLOOKUP(B2463,'Комиссии партнеров'!$A$2:$B$52,2,FALSE),\"\")","v":0.05},55.650000000000006]
[174624,"","1945-05-14","оплачен",2635,{"$f":"IFERROR(VLOOKUP(B2464,'Комиссии партнеров'!$A$2:$B$52,2,FALSE),\"\")","v":""}]
[174626,"","1945-05-14","не оплачен",2423,{"$f":"IFERROR(VLOOKUP(B2465,'Комиссии партнеров'!$A$2:$B$52,2,FALSE),\"\")","v":""}]
[174629,"","1945-05-14","оплачен",446,{"$f":"IFERROR(VLOOKUP(B2466,'Комиссии партнеров'!$A$2:$B$52,2,FALSE),\"\")","v":""}]
[174633,"Партнер номер 3","1945-05-14","не оплачен",2296,{"$f":"IFERROR(VLOOKUP(B2467,'Комиссии партнеров'!$A$2:$B$52,2,FALSE),\"\")","v":0.05},114.80000000000001]
[174638,"Партнер номер 1","1945-05-14","не оплачен",824,{"$f":"IFERROR(VLOOKUP(B2468,'Комиссии партнеров'!$A$2:$B$52,2,FALSE),\"\")","v":0.05},41.2]
[174641,"Партнер номер 1","1945-05-14","не оплачен",2463,{"$f":"IFERROR(VLOOKUP(B2469,'Комиссии партнеров'!$A$2:$B$52,2,FALSE),\"\")","v":0.05},123.15]
[174645,"","1945-05-14","оплачен",1944,{"$f":"IFERROR(VLOOKUP(B2470,'Комиссии партнеров'!$A$2:$B$52,2,FALSE),\"\")","v":""}]
[174648,"","1945-05-14","не оплачен",2217,{"$f":"IFERROR(VLOOKUP(B2471,'Комиссии партнеров'!$A$2:$B$52,2,FALSE),\"\")","v":""}]
[174652,"","1945-05-14","оплачен",857,{"$f":"IFERROR(VLOOKUP(B2472,'Комиссии партнеров'!$A$2:$B$52,2,FALSE),\"\")","v":""}]
[174654,"Партнер номер 1","1945-05-14","не оплачен",671,{"$f":"IFERROR(VLOOKUP(B2473,'Комиссии партнеров'!$A$2:$B$52,2,FALSE),\"\")","v":0.05},33.550000000000004]
[174660,"","1945-05-14","оплачен",582,{"$f":"IFERROR(VLOOKUP(B2474,'Комиссии партнеров'!$A$2:$B$52,2,FALSE),\"\")","v":""}]
[174664,"","1945-05-14","оплачен",4096,{"$f":"IFERROR(VLOOKUP(B2475,'Комиссии партнеров'!$A$2:$B$52,2,FALSE),\"\")","v":""}]
[174668,"Партнер номер 7","1945-05-14","не оплачен",2110,{"$f":"IFERROR(VLOOKUP(B2476,'Комиссии партнеров'!$A$2:$B$52,2,FALSE),\"\")","v":0.05},105.5]
[174670,"Партнер номер 11","1945-05-14","оплачен",1241,{"$f":"IFERROR(VLOOKUP(B2477,'Комиссии партнеров'!$A$2:$B$52,2,FALSE),\"\")","v":0.05},62.050000000000004]
[174674,"Партнер номер 1","1945-05-14","оплачен",2640,{"$f":"IFERROR(VLOOKUP(B2478,'Комиссии партнеров'!$A$2:$B$52,2,FALSE),\"\")","v":0.05},132]
[174677,"Партнер номер 1","1945-05-14","не оплачен",801,{"$f":"IFERROR(VLOOKUP(B2479,'Комиссии партнеров'!$A$2:$B$52,2,FALSE),\"\")","v":0.05},40.050000000000004]
[174680,"Партнер номер 7","1945-05-14","не оплачен",1023,{"$f":"IFERROR(VLOOKUP(B2480,'Комиссии партнеров'!$A$2:$B$52,2,FALSE),\"\")","v":0.05},51.150000000000006]
[174682,"","1945-05-14","оплачен",1018,{"$f":"IFERROR(VLOOKUP(B2481,'Комиссии партнеров'!$A$2:$B$52,2,FALSE),\"\")","v":""}]
[174687,"Партнер номер 11","1945-05-14","оплачен",2261,{"$f":"IFERROR(VLOOKUP(B2482,'Комиссии партнеров'!$A$2:$B$52,2,FALSE),\"\")","v":0.05},113.05000000000001]
[174689,"","1945-05-14","оплачен",2623,{"$f":"IFERROR(VLOOKUP(B2483,'Комиссии партнеров'!$A$2:$B$52,2,FALSE),\"\")","v":""}]
[174692,"Партнер номер 1","1945-05-14","оплачен",801,{"$f":"IFERROR(VLOOKUP(B2484,'Комиссии партнеров'!$A$2:$B$52,2,FALSE),\"\")","v":0.05},40.050000000000004]
[174696,"Партнер номер 1","1945-05-14","не оплачен",3346,{"$f":"IFERROR(VLOOKUP(B2485,'Комиссии партнеров'!$A$2:$B$52,2,FALSE),\"\")","v":0.05},167.3]
[174700,"","1945-05-14","не оплачен",2005,{"$f":"IFERROR(VLOOKUP(B2486,'Комиссии партнеров'!$A$2:$B$52,2,FALSE),\"\")","v":""}]
[174704,"","1945-05-14","не оплачен",1397,{"$f":"IFERROR(VLOOKUP(B2487,'Комиссии партнеров'!$A$2:$B$52,2,FALSE),\"\")","v":""}]
[174706,"Партнер номер 1","1945-05-14","не оплачен",1370,{"$f":"IFERROR(VLOOKUP(B2488,'Комиссии партнеров'!$A$2:$B$52,2,FALSE),\"\")","v":0.05},68.5]
[174709,"","1945-05-14","оплачен",4298,{"$f":"IFERROR(VLOOKUP(B2489,'Комиссии партнеров'!$A$2:$B$52,2,FALSE),\"\")","v":""}]
[174714,"","1945-05-14","оплачен",1292,{"$f":"IFERROR(VLOOKUP(B2490,'Комиссии партнеров'!$A$2:$B$52,2,FALSE),\"\")","v":""}]
[174718,"Партнер номер 1","1945-05-14","оплачен",941,{"$f":"IFERROR(VLOOKUP(B2491,'Комиссии партнеров'!$A$2:$B$52,2,FALSE),\"\")","v":0.05},47.050000000000004]
[174723,"","1945-05-14","оплачен",1364,{"$f":"IFERROR(VLOOKUP(B2492,'Комиссии партнеров'!$A$2:$B$52,2,FALSE),\"\")","v":""}]
[174728,"","1945-05-14","оплачен",3275,{"$f":"IFERROR(VLOOKUP(B2493,'Комиссии партнеров'!$A$2:$B$52,2,FALSE),\"\")","v":""}]
[174731,"Партнер номер 12","1945-05-14","не оплачен",1729,{"$f":"IFERROR(VLOOKUP(B2494,'Комиссии партнеров'!$A$2:$B$52,2,FALSE),\"\")","v":0.03},51.87]
[174732,"","1945-05-14","не оплачен",1842,{"$f":"IFERROR(VLOOKUP(B2495,'Комиссии партнеров'!$A$2:$B$52,2,FALSE),\"\")","v":""}]
[174737,"Партнер номер 11","1945-05-14","оплачен",1459,{"$f":"IFERROR(VLOOKUP(B2496,'Комиссии партнеров'!$A$2:$B$52,2,FALSE),\"\")","v":0.05},72.95]
[174742,"Партнер номер 11","1945-05-14","оплачен",1301,{"$f":"IFERROR(VLOOKUP(B2497,'Комиссии партнеров'!$A$2:$B$52,2,FALSE),\"\")","v":0.05},65.05]
[174747,"Партнер номер 7","1945-05-14","не оплачен",545,{"$f":"IFERROR(VLOOKUP(B2498,'Комиссии партнеров'!$A$2:$B$52,2,FALSE),\"\")","v":0.05},27.25]
[174751,"Партнер номер 1","1945-05-14","не оплачен",594,{"$f":"IFERROR(VLOOKUP(B2499,'Комиссии партнеров'!$A$2:$B$52,2,FALSE),\"\")","v":0.05},29.700000000000003]
[174756,"Партнер номер 11","1945-05-14","оплачен",1393,{"$f":"IFERROR(VLOOKUP(B2500,'Комиссии партнеров'!$A$2:$B$52,2,FALSE),\"\")","v":0.05},69.650000000000006]
[174759,"","1945-05-14","не оплачен",988,{"$f":"IFERROR(VLOOKUP(B2501,'Комиссии партнеров'!$A$2:$B$52,2,FALSE),\"\")","v":""}]
[174761,"Партнер номер 1","1945-05-14","не оплачен",2014,{"$f":"IFERROR(VLOOKUP(B2502,'Комиссии партнеров'!$A$2:$B$52,2,FALSE),\"\")","v":0.05},100.7]
[174763,"Партнер номер 3","1945-05-14","оплачен",1496,{"$f":"IFERROR(VLOOKUP(B2503,'Комиссии партнеров'!$A$2:$B$52,2,FALSE),\"\")","v":0.05},74.8]
[174766,"","1945-05-14","оплачен",730,{"$f":"IFERROR(VLOOKUP(B2504,'Комиссии партнеров'!$A$2:$B$52,2,FALSE),\"\")","v":""}]
[174771,"","1945-05-14","оплачен",2250,{"$f":"IFERROR(VLOOKUP(B2505,'Комиссии партнеров'!$A$2:$B$52,2,FALSE),\"\")","v":""}]
[174773,"Партнер номер 10","1945-05-14","не оплачен",1961,{"$f":"IFERROR(VLOOKUP(B2506,'Комиссии партнеров'!$A$2:$B$52,2,FALSE),\"\")","v":0.04},78.44]
[174778,"","1945-05-14","не оплачен",703,{"$f":"IFERROR(VLOOKUP(B2507,'Комиссии партнеров'!$A$2:$B$52,2,FALSE),\"\")","v":""}]
[174780,"","1945-05-14","оплачен",3712,{"$f":"IFERROR(VLOOKUP(B2508,'Комиссии партнеров'!$A$2:$B$52,2,FALSE),\"\")","v":""}]
[174784,"","1945-05-14","не оплачен",3502,{"$f":"IFERROR(VLOOKUP(B2509,'Комиссии партнеров'!$A$2:$B$52,2,FALSE),\"\")","v":""}]
[174785,"","1945-05-14","оплачен",3132,{"$f":"IFERROR(VLOOKUP(B2510,'Комиссии партнеров'!$A$2:$B$52,2,FALSE),\"\")","v":""}]
[174790,"","1945-05-14","оплачен",2949,{"$f":"IFERROR(VLOOKUP(B2511,'Комиссии партнеров'!$A$2:$B$52,2,FALSE),\"\")","v":""}]
[174795,"","1945-05-14","оплачен",1783,{"$f":"IFERROR(VLOOKUP(B2512,'Комиссии партнеров'!$A$2:$B$52,2,FALSE),\"\")","v":""}]
[174797,"Партнер номер 1","1945-05-14","не оплачен",1949,{"$f":"IFERROR(VLOOKUP(B2513,'Комиссии партнеров'!$A$2:$B$52,2,FALSE),\"\")","v":0.05},97.45]
[174801,"","1945-05-14","оплачен",2946,{"$f":"IFERROR(VLOOKUP(B2514,'Комиссии партнеров'!$A$2:$B$52,2,FALSE),\"\")","v":""}]
[174807,"Партнер номер 1","1945-05-14","не оплачен",2558,{"$f":"IFERROR(VLOOKUP(B2515,'Комиссии партнеров'!$A$2:$B$52,2,FALSE),\"\")","v":0.05},127.9]
[174812,"Партнер номер 1","1945-05-14","оплачен",1144,{"$f":"IFERROR(VLOOKUP(B2516,'Комиссии партнеров'!$A$2:$B$52,2,FALSE),\"\")","v":0.05},57.2]
[174813,"Партнер номер 2","1945-05-14","не оплачен",2332,{"$f":"IFERROR(VLOOKUP(B2517,'Комиссии партнеров'!$A$2:$B$52,2,FALSE),\"\")","v":0.04},93.28]
[174819,"Партнер номер 11","1945-05-14","не оплачен",2194,{"$f":"IFERROR(VLOOKUP(B2518,'Комиссии партнеров'!$A$2:$B$52,2,FALSE),\"\")","v":0.05},109.7]
[174824,"Партнер номер 1","1945-05-14","оплачен",1834,{"$f":"IFERROR(VLOOKUP(B2519,'Комиссии партнеров'!$A$2:$B$52,2,FALSE),\"\")","v":0.05},91.7]
[174826,"Партнер номер 1","1945-05-14","оплачен",1454,{"$f":"IFERROR(VLOOKUP(B2520,'Комиссии партнеров'!$A$2:$B$52,2,FALSE),\"\")","v":0.05},72.7]
[174830,"","1945-05-14","не оплачен",2390,{"$f":"IFERROR(VLOOKUP(B2521,'Комиссии партнеров'!$A$2:$B$52,2,FALSE),\"\")","v":""}]
[174834,"","1945-05-14","оплачен",3008,{"$f":"IFERROR(VLOOKUP(B2522,'Комиссии партнеров'!$A$2:$B$52,2,FALSE),\"\")","v":""}]
[174839,"Партнер номер 5","1945-05-14","оплачен",1621,{"$f":"IFERROR(VLOOKUP(B2523,'Комиссии партнеров'!$A$2:$B$52,2,FALSE),\"\")","v":0.03},48.629999999999995]
[174841,"","1945-05-14","не оплачен",2832,{"$f":"IFERROR(VLOOKUP(B2524,'Комиссии партнеров'!$A$2:$B$52,2,FALSE),\"\")","v":""}]
[174843,"","1945-05-14","оплачен",1307,{"$f":"IFERROR(VLOOKUP(B2525,'Комиссии партнеров'!$A$2:$B$52,2,FALSE),\"\")","v":""}]
[174846,"Партнер номер 7","1945-05-14","не оплачен",2290,{"$f":"IFERROR(VLOOKUP(B2526,'Комиссии партнеров'!$A$2:$B$52,2,FALSE),\"\")","v":0.05},114.5]
[174848,"Партнер номер 25","1945-05-14","оплачен",1167,{"$f":"IFERROR(VLOOKUP(B2527,'Комиссии партнеров'!$A$2:$B$52,2,FALSE),\"\")","v":0.05},58.35]
[174851,"","1945-05-14","оплачен",2273,{"$f":"IFERROR(VLOOKUP(B2528,'Комиссии партнеров'!$A$2:$B$52,2,FALSE),\"\")","v":""}]
[174853,"Партнер номер 7","1945-05-14","не оплачен",3439,{"$f":"IFERROR(VLOOKUP(B2529,'Комиссии партнеров'!$A$2:$B$52,2,FALSE),\"\")","v":0.05},171.95000000000002]
[174855,"","1945-05-14","оплачен",1973,{"$f":"IFERROR(VLOOKUP(B2530,'Комиссии партнеров'!$A$2:$B$52,2,FALSE),\"\")","v":""}]
[174857,"","1945-05-14","не оплачен",4131,{"$f":"IFERROR(VLOOKUP(B2531,'Комиссии партнеров'!$A$2:$B$52,2,FALSE),\"\")","v":""}]
[174860,"Партнер номер 1","1945-05-14","оплачен",2139,{"$f":"IFERROR(VLOOKUP(B2532,'Комиссии партнеров'!$A$2:$B$52,2,FALSE),\"\")","v":0.05},106.95]
[174863,"Партнер номер 9","1945-05-14","не оплачен",1193,{"$f":"IFERROR(VLOOKUP(B2533,'Комиссии партнеров'!$A$2:$B$52,2,FALSE),\"\")","v":0.05},59.650000000000006]
[174867,"Партнер номер 5","1945-05-14","оплачен",1992,{"$f":"IFERROR(VLOOKUP(B2534,'Комиссии партнеров'!$A$2:$B$52,2,FALSE),\"\")","v":0.03},59.76]
[174872,"Партнер номер 4","1945-05-14","не оплачен",812,{"$f":"IFERROR(VLOOKUP(B2535,'Комиссии партнеров'!$A$2:$B$52,2,FALSE),\"\")","v":0.04},32.480000000000004]
[174877,"","1945-05-14","оплачен",964,{"$f":"IFERROR(VLOOKUP(B2536,'Комиссии партнеров'!$A$2:$B$52,2,FALSE),\"\")","v":""}]
[174882,"Партнер номер 1","1945-05-14","не оплачен",2239,{"$f":"IFERROR(VLOOKUP(B2537,'Комиссии партнеров'!$A$2:$B$52,2,FALSE),\"\")","v":0.05},111.95]
[174885,"Партнер номер 1","1945-05-14","оплачен",1452,{"$f":"IFERROR(VLOOKUP(B2538,'Комиссии партнеров'!$A$2:$B$52,2,FALSE),\"\")","v":0.05},72.600000000000009]
[174889,"","1945-05-14","оплачен",1361,{"$f":"IFERROR(VLOOKUP(B2539,'Комиссии партнеров'!$A$2:$B$52,2,FALSE),\"\")","v":""}]
[174893,"Партнер номер 1","1945-05-14","не оплачен",389,{"$f":"IFERROR(VLOOKUP(B2540,'Комиссии партнеров'!$A$2:$B$52,2,FALSE),\"\")","v":0.05},19.450000000000003]
[174897,"Партнер номер 7","1945-05-14","не оплачен",690,{"$f":"IFERROR(VLOOKUP(B2541,'Комиссии партнеров'!$A$2:$B$52,2,FALSE),\"\")","v":0.05},34.5]
[174902,"","1945-05-14","оплачен",2844,{"$f":"IFERROR(VLOOKUP(B2542,'Комиссии партнеров'!$A$2:$B$52,2,FALSE),\"\")","v":""}]
[174905,"","1945-05-14","оплачен",2844,{"$f":"IFERROR(VLOOKUP(B2543,'Комиссии партнеров'!$A$2:$B$52,2,FALSE),\"\")","v":""}]
[174907,"Партнер номер 1","1945-05-14","оплачен",1767,{"$f":"IFERROR(VLOOKUP(B2544,'Комиссии партнеров'!$A$2:$B$52,2,FALSE),\"\")","v":0.05},88.350000000000009]
[174911,"","1945-05-14","не оплачен",1477,{"$f":"IFERROR(VLOOKUP(B2545,'Комиссии партнеров'!$A$2:$B$52,2,FALSE),\"\")","v":""}]
[174915,"","1945-05-14","оплачен",3613,{"$f":"IFERROR(VLOOKUP(B2546,'Комиссии партнеров'!$A$2:$B$52,2,FALSE),\"\")","v":""}]
[174918,"Партнер номер 3","1945-05-14","оплачен",1676,{"$f":"IFERROR(VLOOKUP(B2547,'Комиссии партнеров'!$A$2:$B$52,2,FALSE),\"\")","v":0.05},83.800000000000011]
[174920,"Партнер номер 1","1945-05-14","не оплачен",1844,{"$f":"IFERROR(VLOOKUP(B2548,'Комиссии партнеров'!$A$2:$B$52,2,FALSE),\"\")","v":0.05},92.2]
[174924,"","1945-05-14","оплачен",1848,{"$f":"IFERROR(VLOOKUP(B2549,'Комиссии партнеров'!$A$2:$B$52,2,FALSE),\"\")","v":""}]
[174927,"","1945-05-14","оплачен",4643,{"$f":"IFERROR(VLOOKUP(B2550,'Комиссии партнеров'!$A$2:$B$52,2,FALSE),\"\")","v":""}]
[174929,"Партнер номер 11","1945-05-14","не оплачен",1188,{"$f":"IFERROR(VLOOKUP(B2551,'Комиссии партнеров'!$A$2:$B$52,2,FALSE),\"\")","v":0.05},59.400000000000006]
[174930,"Партнер номер 5","1945-05-14","оплачен",2282,{"$f":"IFERROR(VLOOKUP(B2552,'Комиссии партнеров'!$A$2:$B$52,2,FALSE),\"\")","v":0.03},68.459999999999994]
[174934,"Партнер номер 1","1945-05-14","не оплачен",1249,{"$f":"IFERROR(VLOOKUP(B2553,'Комиссии партнеров'!$A$2:$B$52,2,FALSE),\"\")","v":0.05},62.45]
[174936,"","1945-05-14","не оплачен",1560,{"$f":"IFERROR(VLOOKUP(B2554,'Комиссии партнеров'!$A$2:$B$52,2,FALSE),\"\")","v":""}]
[174939,"Партнер номер 28","1945-05-14","оплачен",2021,{"$f":"IFERROR(VLOOKUP(B2555,'Комиссии партнеров'!$A$2:$B$52,2,FALSE),\"\")","v":0.05},101.05000000000001]
[174940,"","1945-05-14","оплачен",782,{"$f":"IFERROR(VLOOKUP(B2556,'Комиссии партнеров'!$A$2:$B$52,2,FALSE),\"\")","v":""}]
[174945,"","1945-05-14","оплачен",2043,{"$f":"IFERROR(VLOOKUP(B2557,'Комиссии партнеров'!$A$2:$B$52,2,FALSE),\"\")","v":""}]
[174949,"Партнер номер 1","1945-05-14","оплачен",1129,{"$f":"IFERROR(VLOOKUP(B2558,'Комиссии партнеров'!$A$2:$B$52,2,FALSE),\"\")","v":0.05},56.45]
[174954,"","1945-05-14","оплачен",1372,{"$f":"IFERROR(VLOOKUP(B2559,'Комиссии партнеров'!$A$2:$B$52,2,FALSE),\"\")","v":""}]
[174956,"Партнер номер 1","1945-05-14","оплачен",2265,{"$f":"IFERROR(VLOOKUP(B2560,'Комиссии партнеров'!$A$2:$B$52,2,FALSE),\"\")","v":0.05},113.25]
[174960,"Партнер номер 1","1945-05-14","оплачен",555,{"$f":"IFERROR(VLOOKUP(B2561,'Комиссии партнеров'!$A$2:$B$52,2,FALSE),\"\")","v":0.05},27.75]
[174965,"Партнер номер 1","1945-05-14","не оплачен",1260,{"$f":"IFERROR(VLOOKUP(B2562,'Комиссии партнеров'!$A$2:$B$52,2,FALSE),\"\")","v":0.05},63]
[174967,"Партнер номер 7","1945-05-14","оплачен",2620,{"$f":"IFERROR(VLOOKUP(B2563,'Комиссии партнеров'!$A$2:$B$52,2,FALSE),\"\")","v":0.05},131]
[174970,"","1945-05-14","не оплачен",1865,{"$f":"IFERROR(VLOOKUP(B2564,'Комиссии партнеров'!$A$2:$B$52,2,FALSE),\"\")","v":""}]
[174973,"Партнер номер 1","1945-05-14","оплачен",1136,{"$f":"IFERROR(VLOOKUP(B2565,'Комиссии партнеров'!$A$2:$B$52,2,FALSE),\"\")","v":0.05},56.800000000000004]
[174977,"Партнер номер 1","1945-05-14","оплачен",1999,{"$f":"IFERROR(VLOOKUP(B2566,'Комиссии партнеров'!$A$2:$B$52,2,FALSE),\"\")","v":0.05},99.95]
[174980,"","1945-05-14","оплачен",5259,{"$f":"IFERROR(VLOOKUP(B2567,'Комиссии партнеров'!$A$2:$B$52,2,FALSE),\"\")","v":""}]
[174985,"","1945-05-14","оплачен",1457,{"$f":"IFERROR(VLOOKUP(B2568,'Комиссии партнеров'!$A$2:$B$52,2,FALSE),\"\")","v":""}]
[174990,"","1945-05-14","оплачен",2280,{"$f":"IFERROR(VLOOKUP(B2569,'Комиссии партнеров'!$A$2:$B$52,2,FALSE),\"\")","v":""}]
[174992,"","1945-05-14","не оплачен",2041,{"$f":"IFERROR(VLOOKUP(B2570,'Комиссии партнеров'!$A$2:$B$52,2,FALSE),\"\")","v":""}]
[174994,"","1945-05-14","не оплачен",6222,{"$f":"IFERROR(VLOOKUP(B2571,'Комиссии партнеров'!$A$2:$B$52,2,FALSE),\"\")","v":""}]
[174998,"","1945-05-14","оплачен",2887,{"$f":"IFERROR(VLOOKUP(B2572,'Комиссии партнеров'!$A$2:$B$52,2,FALSE),\"\")","v":""}]
[175000,"","1945-05-14","не оплачен",1333,{"$f":"IFERROR(VLOOKUP(B2573,'Комиссии партнеров'!$A$2:$B$52,2,FALSE),\"\")","v":""}]
[175002,"","1945-05-14","оплачен",7544,{"$f":"IFERROR(VLOOKUP(B2574,'Комиссии партнеров'!$A$2:$B$52,2,FALSE),\"\")","v":""}]
[175007,"Партнер номер 28","1945-05-14","не оплачен",860,{"$f":"IFERROR(VLOOKUP(B2575,'Комиссии партнеров'!$A$2:$B$52,2,FALSE),\"\")","v":0.05},43]
[175012,"Партнер номер 4","1945-05-14","оплачен",1910,{"$f":"IFERROR(VLOOKUP(B2576,'Комиссии партнеров'!$A$2:$B$52,2,FALSE),\"\")","v":0.04},76.400000000000006]
[175016,"Партнер номер 1","1945-05-14","не оплачен",903,{"$f":"IFERROR(VLOOKUP(B2577,'Комиссии партнеров'!$A$2:$B$52,2,FALSE),\"\")","v":0.05},45.150000000000006]
[175018,"Партнер номер 1","1945-05-14","не оплачен",903,{"$f":"IFERROR(VLOOKUP(B2578,'Комиссии партнеров'!$A$2:$B$52,2,FALSE),\"\")","v":0.05},45.150000000000006]
[175021,"","1945-05-14","оплачен",1538,{"$f":"IFERROR(VLOOKUP(B2579,'Комиссии партнеров'!$A$2:$B$52,2,FALSE),\"\")","v":""}]
[175025,"Партнер номер 12","1945-05-14","не оплачен",2197,{"$f":"IFERROR(VLOOKUP(B2580,'Комиссии партнеров'!$A$2:$B$52,2,FALSE),\"\")","v":0.03},65.91]
[175026,"Партнер номер 7","1945-05-14","оплачен",2136,{"$f":"IFERROR(VLOOKUP(B2581,'Комиссии партнеров'!$A$2:$B$52,2,FALSE),\"\")","v":0.05},106.80000000000001]
[175031,"","1945-05-14","оплачен",1423,{"$f":"IFERROR(VLOOKUP(B2582,'Комиссии партнеров'!$A$2:$B$52,2,FALSE),\"\")","v":""}]
[175035,"","1945-05-14","оплачен",2427,{"$f":"IFERROR(VLOOKUP(B2583,'Комиссии партнеров'!$A$2:$B$52,2,FALSE),\"\")","v":""}]
[175037,"","1945-05-14","оплачен",3644,{"$f":"IFERROR(VLOOKUP(B2584,'Комиссии партнеров'!$A$2:$B$52,2,FALSE),\"\")","v":""}]
[175042,"Партнер номер 1","1945-05-14","не оплачен",1965,{"$f":"IFERROR(VLOOKUP(B2585,'Комиссии партнеров'!$A$2:$B$52,2,FALSE),\"\")","v":0.05},98.25]
[175045,"","1945-05-14","оплачен",5801,{"$f":"IFERROR(VLOOKUP(B2586,'Комиссии партнеров'!$A$2:$B$52,2,FALSE),\"\")","v":""}]
[175047,"Партнер номер 3","1945-05-14","оплачен",4332,{"$f":"IFERROR(VLOOKUP(B2587,'Комиссии партнеров'!$A$2:$B$52,2,FALSE),\"\")","v":0.05},216.60000000000002]
[175052,"Партнер номер 1","1945-05-14","не оплачен",1587,{"$f":"IFERROR(VLOOKUP(B2588,'Комиссии партнеров'!$A$2:$B$52,2,FALSE),\"\")","v":0.05},79.350000000000009]
[175053,"","1945-05-14","оплачен",4879,{"$f":"IFERROR(VLOOKUP(B2589,'Комиссии партнеров'!$A$2:$B$52,2,FALSE),\"\")","v":""}]
[175056,"","1945-05-14","оплачен",3030,{"$f":"IFERROR(VLOOKUP(B2590,'Комиссии партнеров'!$A$2:$B$52,2,FALSE),\"\")","v":""}]
[175058,"","1945-05-14","оплачен",2545,{"$f":"IFERROR(VLOOKUP(B2591,'Комиссии партнеров'!$A$2:$B$52,2,FALSE),\"\")","v":""}]
[175062,"","1945-05-14","оплачен",1920,{"$f":"IFERROR(VLOOKUP(B2592,'Комиссии партнеров'!$A$2:$B$52,2,FALSE),\"\")","v":""}]
[175065,"","1945-05-14","не оплачен",2732,{"$f":"IFERROR(VLOOKUP(B2593,'Комиссии партнеров'!$A$2:$B$52,2,FALSE),\"\")","v":""}]
[175068,"Партнер номер 8","1945-05-14","оплачен",1122,{"$f":"IFERROR(VLOOKUP(B2594,'Комиссии партнеров'!$A$2:$B$52,2,FALSE),\"\")","v":0.03},33.659999999999997]
[175070,"Партнер номер 12","1945-05-14","не оплачен",2197,{"$f":"IFERROR(VLOOKUP(B2595,'Комиссии партнеров'!$A$2:$B$52,2,FALSE),\"\")","v":0.03},65.91]
[175071,"Партнер номер 11","1945-05-14","не оплачен",709,{"$f":"IFERROR(VLOOKUP(B2596,'Комиссии партнеров'!$A$2:$B$52,2,FALSE),\"\")","v":0.05},35.450000000000003]
[175073,"Партнер номер 1","1945-05-14","оплачен",1372,{"$f":"IFERROR(VLOOKUP(B2597,'Комиссии партнеров'!$A$2:$B$52,2,FALSE),\"\")","v":0.05},68.600000000000009]
[175076,"Партнер номер 12","1945-05-14","оплачен",2197,{"$f":"IFERROR(VLOOKUP(B2598,'Комиссии партнеров'!$A$2:$B$52,2,FALSE),\"\")","v":0.03},65.91]
[175078,"Партнер номер 11","1945-05-14","не оплачен",752,{"$f":"IFERROR(VLOOKUP(B2599,'Комиссии партнеров'!$A$2:$B$52,2,FALSE),\"\")","v":0.05},37.6]
[175082,"","1945-05-14","оплачен",1350,{"$f":"IFERROR(VLOOKUP(B2600,'Комиссии партнеров'!$A$2:$B$52,2,FALSE),\"\")","v":""}]
[175085,"Партнер номер 10","1945-05-14","оплачен",945,{"$f":"IFERROR(VLOOKUP(B2601,'Комиссии партнеров'!$A$2:$B$52,2,FALSE),\"\")","v":0.04},37.800000000000004]
[175088,"Партнер номер 11","1945-05-14","не оплачен",1906,{"$f":"IFERROR(VLOOKUP(B2602,'Комиссии партнеров'!$A$2:$B$52,2,FALSE),\"\")","v":0.05},95.300000000000011]
[175093,"Партнер номер 7","1945-05-14","не оплачен",1076,{"$f":"IFERROR(VLOOKUP(B2603,'Комиссии партнеров'!$A$2:$B$52,2,FALSE),\"\")","v":0.05},53.800000000000004]
[175096,"","1945-05-14","не оплачен",1952,{"$f":"IFERROR(VLOOKUP(B2604,'Комиссии партнеров'!$A$2:$B$52,2,FALSE),\"\")","v":""}]
[175101,"Партнер номер 3","1945-05-14","оплачен",1478,{"$f":"IFERROR(VLOOKUP(B2605,'Комиссии партнеров'!$A$2:$B$52,2,FALSE),\"\")","v":0.05},73.900000000000006]
[175104,"Партнер номер 7","1945-05-14","оплачен",1325,{"$f":"IFERROR(VLOOKUP(B2606,'Комиссии партнеров'!$A$2:$B$52,2,FALSE),\"\")","v":0.05},66.25]
[175109,"","1945-05-14","оплачен",4605,{"$f":"IFERROR(VLOOKUP(B2607,'Комиссии партнеров'!$A$2:$B$52,2,FALSE),\"\")","v":""}]
[175114,"Партнер номер 7","1945-05-15","не оплачен",3857,{"$f":"IFERROR(VLOOKUP(B2608,'Комиссии партнеров'!$A$2:$B$52,2,FALSE),\"\")","v":0.05},192.85000000000002]
[175117,"","1945-05-15","оплачен",1788,{"$f":"IFERROR(VLOOKUP(B2609,'Комиссии партнеров'!$A$2:$B$52,2,FALSE),\"\")","v":""}]
[175123,"","1945-05-15","не оплачен",2242,{"$f":"IFERROR(VLOOKUP(B2610,'Комиссии партнеров'!$A$2:$B$52,2,FALSE),\"\")","v":""}]
[175128,"","1945-05-15","оплачен",2989,{"$f":"IFERROR(VLOOKUP(B2611,'Комиссии партнеров'!$A$2:$B$52,2,FALSE),\"\")","v":""}]
[175130,"Партнер номер 1","1945-05-15","оплачен",1433,{"$f":"IFERROR(VLOOKUP(B2612,'Комиссии партнеров'!$A$2:$B$52,2,FALSE),\"\")","v":0.05},71.650000000000006]
[175135,"","1945-05-15","оплачен",1732,{"$f":"IFERROR(VLOOKUP(B2613,'Комиссии партнеров'!$A$2:$B$52,2,FALSE),\"\")","v":""}]
[175139,"Партнер номер 5","1945-05-15","оплачен",892,{"$f":"IFERROR(VLOOKUP(B2614,'Комиссии партнеров'!$A$2:$B$52,2,FALSE),\"\")","v":0.03},26.759999999999998]
[175142,"Партнер номер 1","1945-05-15","оплачен",770,{"$f":"IFERROR(VLOOKUP(B2615,'Комиссии партнеров'!$A$2:$B$52,2,FALSE),\"\")","v":0.05},38.5]
[175146,"Партнер номер 6","1945-05-15","оплачен",1448,{"$f":"IFERROR(VLOOKUP(B2616,'Комиссии партнеров'!$A$2:$B$52,2,FALSE),\"\")","v":0.04},57.92]
[175148,"Партнер номер 7","1945-05-15","оплачен",3344,{"$f":"IFERROR(VLOOKUP(B2617,'Комиссии партнеров'!$A$2:$B$52,2,FALSE),\"\")","v":0.05},167.20000000000002]
[175152,"Партнер номер 3","1945-05-15","не оплачен",3098,{"$f":"IFERROR(VLOOKUP(B2618,'Комиссии партнеров'!$A$2:$B$52,2,FALSE),\"\")","v":0.05},154.9]
[175155,"","1945-05-15","оплачен",3698,{"$f":"IFERROR(VLOOKUP(B2619,'Комиссии партнеров'!$A$2:$B$52,2,FALSE),\"\")","v":""}]
[175159,"Партнер номер 16","1945-05-15","оплачен",813,{"$f":"IFERROR(VLOOKUP(B2620,'Комиссии партнеров'!$A$2:$B$52,2,FALSE),\"\")","v":0.05},40.650000000000006]
[175163,"","1945-05-15","не оплачен",1874,{"$f":"IFERROR(VLOOKUP(B2621,'Комиссии партнеров'!$A$2:$B$52,2,FALSE),\"\")","v":""}]
[175165,"","1945-05-15","оплачен",3874,{"$f":"IFERROR(VLOOKUP(B2622,'Комиссии партнеров'!$A$2:$B$52,2,FALSE),\"\")","v":""}]
[175169,"Партнер номер 1","1945-05-15","оплачен",3514,{"$f":"IFERROR(VLOOKUP(B2623,'Комиссии партнеров'!$A$2:$B$52,2,FALSE),\"\")","v":0.05},175.70000000000002]
[175173,"Партнер номер 31","1945-05-15","оплачен",1169,{"$f":"IFERROR(VLOOKUP(B2624,'Комиссии партнеров'!$A$2:$B$52,2,FALSE),\"\")","v":0.03},35.07]
[175176,"","1945-05-15","оплачен",1859,{"$f":"IFERROR(VLOOKUP(B2625,'Комиссии партнеров'!$A$2:$B$52,2,FALSE),\"\")","v":""}]
[175177,"Партнер номер 7","1945-05-15","не оплачен",1125,{"$f":"IFERROR(VLOOKUP(B2626,'Комиссии партнеров'!$A$2:$B$52,2,FALSE),\"\")","v":0.05},56.25]
[175179,"","1945-05-15","оплачен",1280,{"$f":"IFERROR(VLOOKUP(B2627,'Комиссии партнеров'!$A$2:$B$52,2,FALSE),\"\")","v":""}]
[175185,"Партнер номер 1","1945-05-15","не оплачен",1027,{"$f":"IFERROR(VLOOKUP(B2628,'Комиссии партнеров'!$A$2:$B$52,2,FALSE),\"\")","v":0.05},51.35]
[175189,"Партнер номер 7","1945-05-15","не оплачен",1578,{"$f":"IFERROR(VLOOKUP(B2629,'Комиссии партнеров'!$A$2:$B$52,2,FALSE),\"\")","v":0.05},78.900000000000006]
[175191,"","1945-05-15","оплачен",5984,{"$f":"IFERROR(VLOOKUP(B2630,'Комиссии партнеров'!$A$2:$B$52,2,FALSE),\"\")","v":""}]
[175196,"","1945-05-15","оплачен",2562,{"$f":"IFERROR(VLOOKUP(B2631,'Комиссии партнеров'!$A$2:$B$52,2,FALSE),\"\")","v":""}]
[175199,"Партнер номер 1","1945-05-15","не оплачен",953,{"$f":"IFERROR(VLOOKUP(B2632,'Комиссии партнеров'!$A$2:$B$52,2,FALSE),\"\")","v":0.05},47.650000000000006]
[175202,"Партнер номер 1","1945-05-15","оплачен",1092,{"$f":"IFERROR(VLOOKUP(B2633,'Комиссии партнеров'!$A$2:$B$52,2,FALSE),\"\")","v":0.05},54.6]
[175207,"Партнер номер 1","1945-05-15","не оплачен",797,{"$f":"IFERROR(VLOOKUP(B2634,'Комиссии партнеров'!$A$2:$B$52,2,FALSE),\"\")","v":0.05},39.85]
[175209,"Партнер номер 3","1945-05-15","оплачен",2689,{"$f":"IFERROR(VLOOKUP(B2635,'Комиссии партнеров'!$A$2:$B$52,2,FALSE),\"\")","v":0.05},134.45000000000002]
[175215,"","1945-05-15","оплачен",1370,{"$f":"IFERROR(VLOOKUP(B2636,'Комиссии партнеров'!$A$2:$B$52,2,FALSE),\"\")","v":""}]
[175217,"","1945-05-15","оплачен",885,{"$f":"IFERROR(VLOOKUP(B2637,'Комиссии партнеров'!$A$2:$B$52,2,FALSE),\"\")","v":""}]
[175221,"","1945-05-15","не оплачен",3184,{"$f":"IFERROR(VLOOKUP(B2638,'Комиссии партнеров'!$A$2:$B$52,2,FALSE),\"\")","v":""}]
[175225,"","1945-05-15","не оплачен",645,{"$f":"IFERROR(VLOOKUP(B2639,'Комиссии партнеров'!$A$2:$B$52,2,FALSE),\"\")","v":""}]
[175228,"","1945-05-15","не оплачен",1992,{"$f":"IFERROR(VLOOKUP(B2640,'Комиссии партнеров'!$A$2:$B$52,2,FALSE),\"\")","v":""}]
[175230,"","1945-05-15","не оплачен",4912,{"$f":"IFERROR(VLOOKUP(B2641,'Комиссии партнеров'!$A$2:$B$52,2,FALSE),\"\")","v":""}]
[175235,"","1945-05-15","оплачен",1841,{"$f":"IFERROR(VLOOKUP(B2642,'Комиссии партнеров'!$A$2:$B$52,2,FALSE),\"\")","v":""}]
[175237,"","1945-05-15","оплачен",5709,{"$f":"IFERROR(VLOOKUP(B2643,'Комиссии партнеров'!$A$2:$B$52,2,FALSE),\"\")","v":""}]
[175242,"","1945-05-15","оплачен",2023,{"$f":"IFERROR(VLOOKUP(B2644,'Комиссии партнеров'!$A$2:$B$52,2,FALSE),\"\")","v":""}]
[175247,"","1945-05-15","оплачен",3742,{"$f":"IFERROR(VLOOKUP(B2645,'Комиссии партнеров'!$A$2:$B$52,2,FALSE),\"\")","v":""}]
[175249,"Партнер номер 5","1945-05-15","не оплачен",2282,{"$f":"IFERROR(VLOOKUP(B2646,'Комиссии партнеров'!$A$2:$B$52,2,FALSE),\"\")","v":0.03},68.459999999999994]
[175250,"","1945-05-15","оплачен",3636,{"$f":"IFERROR(VLOOKUP(B2647,'Комиссии партнеров'!$A$2:$B$52,2,FALSE),\"\")","v":""}]
[175252,"","1945-05-15","оплачен",3501,{"$f":"IFERROR(VLOOKUP(B2648,'Комиссии партнеров'!$A$2:$B$52,2,FALSE),\"\")","v":""}]
[175256,"Партнер номер 5","1945-05-15","оплачен",2193,{"$f":"IFERROR(VLOOKUP(B2649,'Комиссии партнеров'!$A$2:$B$52,2,FALSE),\"\")","v":0.03},65.789999999999992]
[175259,"Партнер номер 11","1945-05-15","оплачен",2166,{"$f":"IFERROR(VLOOKUP(B2650,'Комиссии партнеров'!$A$2:$B$52,2,FALSE),\"\")","v":0.05},108.30000000000001]
[175263,"Партнер номер 10","1945-05-15","не оплачен",1013,{"$f":"IFERROR(VLOOKUP(B2651,'Комиссии партнеров'!$A$2:$B$52,2,FALSE),\"\")","v":0.04},40.520000000000003]
[175268,"Партнер номер 11","1945-05-15","оплачен",871,{"$f":"IFERROR(VLOOKUP(B2652,'Комиссии партнеров'!$A$2:$B$52,2,FALSE),\"\")","v":0.05},43.550000000000004]
[175270,"Партнер номер 7","1945-05-15","не оплачен",939,{"$f":"IFERROR(VLOOKUP(B2653,'Комиссии партнеров'!$A$2:$B$52,2,FALSE),\"\")","v":0.05},46.95]
[175272,"Партнер номер 1","1945-05-15","оплачен",1715,{"$f":"IFERROR(VLOOKUP(B2654,'Комиссии партнеров'!$A$2:$B$52,2,FALSE),\"\")","v":0.05},85.75]
[175273,"Партнер номер 1","1945-05-15","не оплачен",2962,{"$f":"IFERROR(VLOOKUP(B2655,'Комиссии партнеров'!$A$2:$B$52,2,FALSE),\"\")","v":0.05},148.1]
[175276,"Партнер номер 10","1945-05-15","оплачен",1013,{"$f":"IFERROR(VLOOKUP(B2656,'Комиссии партнеров'!$A$2:$B$52,2,FALSE),\"\")","v":0.04},40.520000000000003]
[175278,"","1945-05-15","оплачен",2503,{"$f":"IFERROR(VLOOKUP(B2657,'Комиссии партнеров'!$A$2:$B$52,2,FALSE),\"\")","v":""}]
[175283,"Партнер номер 1","1945-05-15","оплачен",3128,{"$f":"IFERROR(VLOOKUP(B2658,'Комиссии партнеров'!$A$2:$B$52,2,FALSE),\"\")","v":0.05},156.4]
[175285,"Партнер номер 11","1945-05-15","оплачен",1524,{"$f":"IFERROR(VLOOKUP(B2659,'Комиссии партнеров'!$A$2:$B$52,2,FALSE),\"\")","v":0.05},76.2]
[175287,"Партнер номер 1","1945-05-15","оплачен",1669,{"$f":"IFERROR(VLOOKUP(B2660,'Комиссии партнеров'!$A$2:$B$52,2,FALSE),\"\")","v":0.05},83.45]
[175289,"Партнер номер 11","1945-05-15","оплачен",939,{"$f":"IFERROR(VLOOKUP(B2661,'Комиссии партнеров'!$A$2:$B$52,2,FALSE),\"\")","v":0.05},46.95]
[175293,"","1945-05-15","оплачен",2582,{"$f":"IFERROR(VLOOKUP(B2662,'Комиссии партнеров'!$A$2:$B$52,2,FALSE),\"\")","v":""}]
[175294,"","1945-05-15","оплачен",1961,{"$f":"IFERROR(VLOOKUP(B2663,'Комиссии партнеров'!$A$2:$B$52,2,FALSE),\"\")","v":""}]
[175296,"Партнер номер 6","1945-05-15","не оплачен",1125,{"$f":"IFERROR(VLOOKUP(B2664,'Комиссии партнеров'!$A$2:$B$52,2,FALSE),\"\")","v":0.04},45]
[175299,"","1945-05-15","оплачен",1273,{"$f":"IFERROR(VLOOKUP(B2665,'Комиссии партнеров'!$A$2:$B$52,2,FALSE),\"\")","v":""}]
[175304,"","1945-05-15","оплачен",6530,{"$f":"IFERROR(VLOOKUP(B2666,'Комиссии партнеров'!$A$2:$B$52,2,FALSE),\"\")","v":""}]
[175307,"Партнер номер 6","1945-05-15","оплачен",1125,{"$f":"IFERROR(VLOOKUP(B2667,'Комиссии партнеров'!$A$2:$B$52,2,FALSE),\"\")","v":0.04},45]
[175308,"Партнер номер 1","1945-05-15","оплачен",1708,{"$f":"IFERROR(VLOOKUP(B2668,'Комиссии партнеров'!$A$2:$B$52,2,FALSE),\"\")","v":0.05},85.4]
[175311,"","1945-05-15","оплачен",1110,{"$f":"IFERROR(VLOOKUP(B2669,'Комиссии партнеров'!$A$2:$B$52,2,FALSE),\"\")","v":""}]
[175314,"Партнер номер 1","1945-05-15","оплачен",1649,{"$f":"IFERROR(VLOOKUP(B2670,'Комиссии партнеров'!$A$2:$B$52,2,FALSE),\"\")","v":0.05},82.45]
[175317,"Партнер номер 12","1945-05-15","оплачен",1752,{"$f":"IFERROR(VLOOKUP(B2671,'Комиссии партнеров'!$A$2:$B$52,2,FALSE),\"\")","v":0.03},52.559999999999995]
[175319,"","1945-05-15","оплачен",3556,{"$f":"IFERROR(VLOOKUP(B2672,'Комиссии партнеров'!$A$2:$B$52,2,FALSE),\"\")","v":""}]
[175321,"Партнер номер 1","1945-05-15","не оплачен",1268,{"$f":"IFERROR(VLOOKUP(B2673,'Комиссии партнеров'!$A$2:$B$52,2,FALSE),\"\")","v":0.05},63.400000000000006]
[175323,"","1945-05-15","не оплачен",2773,{"$f":"IFERROR(VLOOKUP(B2674,'Комиссии партнеров'!$A$2:$B$52,2,FALSE),\"\")","v":""}]
[175327,"Партнер номер 1","1945-05-15","оплачен",922,{"$f":"IFERROR(VLOOKUP(B2675,'Комиссии партнеров'!$A$2:$B$52,2,FALSE),\"\")","v":0.05},46.1]
[175329,"Партнер номер 7","1945-05-15","оплачен",987,{"$f":"IFERROR(VLOOKUP(B2676,'Комиссии партнеров'!$A$2:$B$52,2,FALSE),\"\")","v":0.05},49.35]
[175333,"","1945-05-15","не оплачен",1575,{"$f":"IFERROR(VLOOKUP(B2677,'Комиссии партнеров'!$A$2:$B$52,2,FALSE),\"\")","v":""}]
[175339,"","1945-05-15","не оплачен",2116,{"$f":"IFERROR(VLOOKUP(B2678,'Комиссии партнеров'!$A$2:$B$52,2,FALSE),\"\")","v":""}]
[175340,"","1945-05-15","не оплачен",5186,{"$f":"IFERROR(VLOOKUP(B2679,'Комиссии партнеров'!$A$2:$B$52,2,FALSE),\"\")","v":""}]
[175343,"Партнер номер 6","1945-05-15","оплачен",1481,{"$f":"IFERROR(VLOOKUP(B2680,'Комиссии партнеров'!$A$2:$B$52,2,FALSE),\"\")","v":0.04},59.24]
[175347,"","1945-05-15","не оплачен",1417,{"$f":"IFERROR(VLOOKUP(B2681,'Комиссии партнеров'!$A$2:$B$52,2,FALSE),\"\")","v":""}]
[175351,"Партнер номер 11","1945-05-15","не оплачен",5516,{"$f":"IFERROR(VLOOKUP(B2682,'Комиссии партнеров'!$A$2:$B$52,2,FALSE),\"\")","v":0.05},275.8]
[175354,"","1945-05-15","оплачен",2182,{"$f":"IFERROR(VLOOKUP(B2683,'Комиссии партнеров'!$A$2:$B$52,2,FALSE),\"\")","v":""}]
[175356,"","1945-05-15","оплачен",3256,{"$f":"IFERROR(VLOOKUP(B2684,'Комиссии партнеров'!$A$2:$B$52,2,FALSE),\"\")","v":""}]
[175359,"Партнер номер 3","1945-05-15","оплачен",3051,{"$f":"IFERROR(VLOOKUP(B2685,'Комиссии партнеров'!$A$2:$B$52,2,FALSE),\"\")","v":0.05},152.55000000000001]
[175363,"","1945-05-15","оплачен",2750,{"$f":"IFERROR(VLOOKUP(B2686,'Комиссии партнеров'!$A$2:$B$52,2,FALSE),\"\")","v":""}]
[175366,"Партнер номер 2","1945-05-15","не оплачен",589,{"$f":"IFERROR(VLOOKUP(B2687,'Комиссии партнеров'!$A$2:$B$52,2,FALSE),\"\")","v":0.04},23.56]
[175368,"Партнер номер 43","1945-05-15","не оплачен",4255,{"$f":"IFERROR(VLOOKUP(B2688,'Комиссии партнеров'!$A$2:$B$52,2,FALSE),\"\")","v":0.03},127.64999999999999]
[175373,"Партнер номер 28","1945-05-15","оплачен",1954,{"$f":"IFERROR(VLOOKUP(B2689,'Комиссии партнеров'!$A$2:$B$52,2,FALSE),\"\")","v":0.05},97.7]
[175376,"Партнер номер 1","1945-05-15","не оплачен",1074,{"$f":"IFERROR(VLOOKUP(B2690,'Комиссии партнеров'!$A$2:$B$52,2,FALSE),\"\")","v":0.05},53.7]
[175379,"","1945-05-15","не оплачен",1688,{"$f":"IFERROR(VLOOKUP(B2691,'Комиссии партнеров'!$A$2:$B$52,2,FALSE),\"\")","v":""}]
[175385,"","1945-05-15","не оплачен",1767,{"$f":"IFERROR(VLOOKUP(B2692,'Комиссии партнеров'!$A$2:$B$52,2,FALSE),\"\")","v":""}]
[175390,"Партнер номер 1","1945-05-15","оплачен",10524,{"$f":"IFERROR(VLOOKUP(B2693,'Комиссии партнеров'!$A$2:$B$52,2,FALSE),\"\")","v":0.05},526.20000000000005]
[175393,"","1945-05-15","не оплачен",3761,{"$f":"IFERROR(VLOOKUP(B2694,'Комиссии партнеров'!$A$2:$B$52,2,FALSE),\"\")","v":""}]
[175397,"","1945-05-15","оплачен",464,{"$f":"IFERROR(VLOOKUP(B2695,'Комиссии партнеров'!$A$2:$B$52,2,FALSE),\"\")","v":""}]
[175402,"Партнер номер 19","1945-05-15","оплачен",1125,{"$f":"IFERROR(VLOOKUP(B2696,'Комиссии партнеров'!$A$2:$B$52,2,FALSE),\"\")","v":0.05},56.25]
[175404,"Партнер номер 11","1945-05-15","не оплачен",928,{"$f":"IFERROR(VLOOKUP(B2697,'Комиссии партнеров'!$A$2:$B$52,2,FALSE),\"\")","v":0.05},46.400000000000006]
[175408,"Партнер номер 1","1945-05-15","не оплачен",1415,{"$f":"IFERROR(VLOOKUP(B2698,'Комиссии партнеров'!$A$2:$B$52,2,FALSE),\"\")","v":0.05},70.75]
[175410,"","1945-05-15","не оплачен",2105,{"$f":"IFERROR(VLOOKUP(B2699,'Комиссии партнеров'!$A$2:$B$52,2,FALSE),\"\")","v":""}]
[175411,"","1945-05-15","оплачен",2001,{"$f":"IFERROR(VLOOKUP(B2700,'Комиссии партнеров'!$A$2:$B$52,2,FALSE),\"\")","v":""}]
[175415,"","1945-05-15","оплачен",2130,{"$f":"IFERROR(VLOOKUP(B2701,'Комиссии партнеров'!$A$2:$B$52,2,FALSE),\"\")","v":""}]
[175417,"","1945-05-15","оплачен",1942,{"$f":"IFERROR(VLOOKUP(B2702,'Комиссии партнеров'!$A$2:$B$52,2,FALSE),\"\")","v":""}]
[175420,"Партнер номер 1","1945-05-15","оплачен",1335,{"$f":"IFERROR(VLOOKUP(B2703,'Комиссии партнеров'!$A$2:$B$52,2,FALSE),\"\")","v":0.05},66.75]
[175426,"Партнер номер 1","1945-05-15","не оплачен",1202,{"$f":"IFERROR(VLOOKUP(B2704,'Комиссии партнеров'!$A$2:$B$52,2,FALSE),\"\")","v":0.05},60.1]
[175430,"Партнер номер 11","1945-05-15","оплачен",1841,{"$f":"IFERROR(VLOOKUP(B2705,'Комиссии партнеров'!$A$2:$B$52,2,FALSE),\"\")","v":0.05},92.050000000000011]
[175432,"","1945-05-15","оплачен",4301,{"$f":"IFERROR(VLOOKUP(B2706,'Комиссии партнеров'!$A$2:$B$52,2,FALSE),\"\")","v":""}]
[175437,"Партнер номер 1","1945-05-15","оплачен",1701,{"$f":"IFERROR(VLOOKUP(B2707,'Комиссии партнеров'!$A$2:$B$52,2,FALSE),\"\")","v":0.05},85.050000000000011]
[175438,"","1945-05-15","оплачен",2034,{"$f":"IFERROR(VLOOKUP(B2708,'Комиссии партнеров'!$A$2:$B$52,2,FALSE),\"\")","v":""}]
[175442,"Партнер номер 43","1945-05-15","оплачен",2600,{"$f":"IFERROR(VLOOKUP(B2709,'Комиссии партнеров'!$A$2:$B$52,2,FALSE),\"\")","v":0.03},78]
[175445,"Партнер номер 1","1945-05-15","не оплачен",1368,{"$f":"IFERROR(VLOOKUP(B2710,'Комиссии партнеров'!$A$2:$B$52,2,FALSE),\"\")","v":0.05},68.400000000000006]
[175451,"Партнер номер 13","1945-05-15","оплачен",6635,{"$f":"IFERROR(VLOOKUP(B2711,'Комиссии партнеров'!$A$2:$B$52,2,FALSE),\"\")","v":0.05},331.75]
[175454,"","1945-05-15","не оплачен",1279,{"$f":"IFERROR(VLOOKUP(B2712,'Комиссии партнеров'!$A$2:$B$52,2,FALSE),\"\")","v":""}]
[175457,"Партнер номер 9","1945-05-15","не оплачен",2808,{"$f":"IFERROR(VLOOKUP(B2713,'Комиссии партнеров'!$A$2:$B$52,2,FALSE),\"\")","v":0.05},140.4]
[175461,"Партнер номер 3","1945-05-15","оплачен",1851,{"$f":"IFERROR(VLOOKUP(B2714,'Комиссии партнеров'!$A$2:$B$52,2,FALSE),\"\")","v":0.05},92.550000000000011]
[175466,"Партнер номер 3","1945-05-15","не оплачен",2242,{"$f":"IFERROR(VLOOKUP(B2715,'Комиссии партнеров'!$A$2:$B$52,2,FALSE),\"\")","v":0.05},112.10000000000001]
[175468,"","1945-05-15","оплачен",1192,{"$f":"IFERROR(VLOOKUP(B2716,'Комиссии партнеров'!$A$2:$B$52,2,FALSE),\"\")","v":""}]
[175470,"","1945-05-15","оплачен",1642,{"$f":"IFERROR(VLOOKUP(B2717,'Комиссии партнеров'!$A$2:$B$52,2,FALSE),\"\")","v":""}]
[175473,"","1945-05-15","оплачен",2053,{"$f":"IFERROR(VLOOKUP(B2718,'Комиссии партнеров'!$A$2:$B$52,2,FALSE),\"\")","v":""}]
[175475,"","1945-05-15","не оплачен",2421,{"$f":"IFERROR(VLOOKUP(B2719,'Комиссии партнеров'!$A$2:$B$52,2,FALSE),\"\")","v":""}]
[175477,"Партнер номер 11","1945-05-15","не оплачен",572,{"$f":"IFERROR(VLOOKUP(B2720,'Комиссии партнеров'!$A$2:$B$52,2,FALSE),\"\")","v":0.05},28.6]
[175481,"Партнер номер 7","1945-05-15","не оплачен",1535,{"$f":"IFERROR(VLOOKUP(B2721,'Комиссии партнеров'!$A$2:$B$52,2,FALSE),\"\")","v":0.05},76.75]
[175484,"Партнер номер 11","1945-05-15","оплачен",1197,{"$f":"IFERROR(VLOOKUP(B2722,'Комиссии партнеров'!$A$2:$B$52,2,FALSE),\"\")","v":0.05},59.85]
[175487,"Партнер номер 3","1945-05-15","оплачен",793,{"$f":"IFERROR(VLOOKUP(B2723,'Комиссии партнеров'!$A$2:$B$52,2,FALSE),\"\")","v":0.05},39.650000000000006]
[175491,"Партнер номер 1","1945-05-15","не оплачен",1545,{"$f":"IFERROR(VLOOKUP(B2724,'Комиссии партнеров'!$A$2:$B$52,2,FALSE),\"\")","v":0.05},77.25]
[175493,"Партнер номер 11","1945-05-15","не оплачен",1778,{"$f":"IFERROR(VLOOKUP(B2725,'Комиссии партнеров'!$A$2:$B$52,2,FALSE),\"\")","v":0.05},88.9]
[175498,"","1945-05-15","оплачен",1676,{"$f":"IFERROR(VLOOKUP(B2726,'Комиссии партнеров'!$A$2:$B$52,2,FALSE),\"\")","v":""}]
[175503,"","1945-05-15","оплачен",1753,{"$f":"IFERROR(VLOOKUP(B2727,'Комиссии партнеров'!$A$2:$B$52,2,FALSE),\"\")","v":""}]
[175505,"Партнер номер 9","1945-05-15","оплачен",2808,{"$f":"IFERROR(VLOOKUP(B2728,'Комиссии партнеров'!$A$2:$B$52,2,FALSE),\"\")","v":0.05},140.4]
[175513,"Партнер номер 1","1945-05-15","не оплачен",2578,{"$f":"IFERROR(VLOOKUP(B2729,'Комиссии партнеров'!$A$2:$B$52,2,FALSE),\"\")","v":0.05},128.9]
[175517,"","1945-05-15","оплачен",1125,{"$f":"IFERROR(VLOOKUP(B2730,'Комиссии партнеров'!$A$2:$B$52,2,FALSE),\"\")","v":""}]
[175520,"Партнер номер 6","1945-05-15","оплачен",2874,{"$f":"IFERROR(VLOOKUP(B2731,'Комиссии партнеров'!$A$2:$B$52,2,FALSE),\"\")","v":0.04},114.96000000000001]
[175525,"","1945-05-15","оплачен",1489,{"$f":"IFERROR(VLOOKUP(B2732,'Комиссии партнеров'!$A$2:$B$52,2,FALSE),\"\")","v":""}]
[175527,"Партнер номер 7","1945-05-15","оплачен",1620,{"$f":"IFERROR(VLOOKUP(B2733,'Комиссии партнеров'!$A$2:$B$52,2,FALSE),\"\")","v":0.05},81]
[175530,"Партнер номер 7","1945-05-15","оплачен",1745,{"$f":"IFERROR(VLOOKUP(B2734,'Комиссии партнеров'!$A$2:$B$52,2,FALSE),\"\")","v":0.05},87.25]
[175534,"","1945-05-15","не оплачен",1596,{"$f":"IFERROR(VLOOKUP(B2735,'Комиссии партнеров'!$A$2:$B$52,2,FALSE),\"\")","v":""}]
[175538,"","1945-05-15","оплачен",2245,{"$f":"IFERROR(VLOOKUP(B2736,'Комиссии партнеров'!$A$2:$B$52,2,FALSE),\"\")","v":""}]
[175539,"Партнер номер 5","1945-05-15","не оплачен",2912,{"$f":"IFERROR(VLOOKUP(B2737,'Комиссии партнеров'!$A$2:$B$52,2,FALSE),\"\")","v":0.03},87.36]
[175545,"Партнер номер 1","1945-05-15","не оплачен",2873,{"$f":"IFERROR(VLOOKUP(B2738,'Комиссии партнеров'!$A$2:$B$52,2,FALSE),\"\")","v":0.05},143.65]
[175547,"Партнер номер 3","1945-05-15","не оплачен",3851,{"$f":"IFERROR(VLOOKUP(B2739,'Комиссии партнеров'!$A$2:$B$52,2,FALSE),\"\")","v":0.05},192.55]
[175549,"Партнер номер 8","1945-05-15","оплачен",2615,{"$f":"IFERROR(VLOOKUP(B2740,'Комиссии партнеров'!$A$2:$B$52,2,FALSE),\"\")","v":0.03},78.45]
[175552,"Партнер номер 11","1945-05-15","оплачен",871,{"$f":"IFERROR(VLOOKUP(B2741,'Комиссии партнеров'!$A$2:$B$52,2,FALSE),\"\")","v":0.05},43.550000000000004]
[175554,"","1945-05-15","оплачен",2102,{"$f":"IFERROR(VLOOKUP(B2742,'Комиссии партнеров'!$A$2:$B$52,2,FALSE),\"\")","v":""}]
[175557,"","1945-05-15","не оплачен",1129,{"$f":"IFERROR(VLOOKUP(B2743,'Комиссии партнеров'!$A$2:$B$52,2,FALSE),\"\")","v":""}]
[175559,"","1945-05-15","оплачен",2134,{"$f":"IFERROR(VLOOKUP(B2744,'Комиссии партнеров'!$A$2:$B$52,2,FALSE),\"\")","v":""}]
[175562,"","1945-05-15","не оплачен",2466,{"$f":"IFERROR(VLOOKUP(B2745,'Комиссии партнеров'!$A$2:$B$52,2,FALSE),\"\")","v":""}]
[175564,"","1945-05-15","оплачен",1751,{"$f":"IFERROR(VLOOKUP(B2746,'Комиссии партнеров'!$A$2:$B$52,2,FALSE),\"\")","v":""}]
[175567,"","1945-05-15","оплачен",3789,{"$f":"IFERROR(VLOOKUP(B2747,'Комиссии партнеров'!$A$2:$B$52,2,FALSE),\"\")","v":""}]
[175570,"","1945-05-15","не оплачен",2132,{"$f":"IFERROR(VLOOKUP(B2748,'Комиссии партнеров'!$A$2:$B$52,2,FALSE),\"\")","v":""}]
[175574,"","1945-05-15","оплачен",1446,{"$f":"IFERROR(VLOOKUP(B2749,'Комиссии партнеров'!$A$2:$B$52,2,FALSE),\"\")","v":""}]
[175578,"Партнер номер 1","1945-05-15","оплачен",892,{"$f":"IFERROR(VLOOKUP(B2750,'Комиссии партнеров'!$A$2:$B$52,2,FALSE),\"\")","v":0.05},44.6]
[175579,"Партнер номер 7","1945-05-15","оплачен",1658,{"$f":"IFERROR(VLOOKUP(B2751,'Комиссии партнеров'!$A$2:$B$52,2,FALSE),\"\")","v":0.05},82.9]
[175581,"Партнер номер 7","1945-05-15","оплачен",1620,{"$f":"IFERROR(VLOOKUP(B2752,'Комиссии партнеров'!$A$2:$B$52,2,FALSE),\"\")","v":0.05},81]
[175585,"","1945-05-15","оплачен",1713,{"$f":"IFERROR(VLOOKUP(B2753,'Комиссии партнеров'!$A$2:$B$52,2,FALSE),\"\")","v":""}]
[175592,"","1945-05-15","не оплачен",4037,{"$f":"IFERROR(VLOOKUP(B2754,'Комиссии партнеров'!$A$2:$B$52,2,FALSE),\"\")","v":""}]
[175594,"Партнер номер 12","1945-05-15","не оплачен",2277,{"$f":"IFERROR(VLOOKUP(B2755,'Комиссии партнеров'!$A$2:$B$52,2,FALSE),\"\")","v":0.03},68.31]
[175596,"","1945-05-15","оплачен",1702,{"$f":"IFERROR(VLOOKUP(B2756,'Комиссии партнеров'!$A$2:$B$52,2,FALSE),\"\")","v":""}]
[175605,"","1945-05-15","оплачен",2919,{"$f":"IFERROR(VLOOKUP(B2757,'Комиссии партнеров'!$A$2:$B$52,2,FALSE),\"\")","v":""}]
[175609,"Партнер номер 1","1945-05-15","не оплачен",2160,{"$f":"IFERROR(VLOOKUP(B2758,'Комиссии партнеров'!$A$2:$B$52,2,FALSE),\"\")","v":0.05},108]
[175613,"Партнер номер 7","1945-05-15","оплачен",1673,{"$f":"IFERROR(VLOOKUP(B2759,'Комиссии партнеров'!$A$2:$B$52,2,FALSE),\"\")","v":0.05},83.65]
[175617,"Партнер номер 44","1945-05-15","не оплачен",1688,{"$f":"IFERROR(VLOOKUP(B2760,'Комиссии партнеров'!$A$2:$B$52,2,FALSE),\"\")","v":0.05},84.4]
[175622,"Партнер номер 1","1945-05-15","оплачен",1047,{"$f":"IFERROR(VLOOKUP(B2761,'Комиссии партнеров'!$A$2:$B$52,2,FALSE),\"\")","v":0.05},52.35]
[175627,"Партнер номер 3","1945-05-15","не оплачен",905,{"$f":"IFERROR(VLOOKUP(B2762,'Комиссии партнеров'!$A$2:$B$52,2,FALSE),\"\")","v":0.05},45.25]
[175632,"Партнер номер 1","1945-05-15","оплачен",2812,{"$f":"IFERROR(VLOOKUP(B2763,'Комиссии партнеров'!$A$2:$B$52,2,FALSE),\"\")","v":0.05},140.6]
[175635,"","1945-05-15","оплачен",3004,{"$f":"IFERROR(VLOOKUP(B2764,'Комиссии партнеров'!$A$2:$B$52,2,FALSE),\"\")","v":""}]
[175640,"","1945-05-15","оплачен",2712,{"$f":"IFERROR(VLOOKUP(B2765,'Комиссии партнеров'!$A$2:$B$52,2,FALSE),\"\")","v":""}]
[175645,"","1945-05-15","не оплачен",2457,{"$f":"IFERROR(VLOOKUP(B2766,'Комиссии партнеров'!$A$2:$B$52,2,FALSE),\"\")","v":""}]
[175647,"Партнер номер 17","1945-05-15","оплачен",1099,{"$f":"IFERROR(VLOOKUP(B2767,'Комиссии партнеров'!$A$2:$B$52,2,FALSE),\"\")","v":0.04},43.96]
[175651,"","1945-05-15","оплачен",1676,{"$f":"IFERROR(VLOOKUP(B2768,'Комиссии партнеров'!$A$2:$B$52,2,FALSE),\"\")","v":""}]
[175656,"Партнер номер 11","1945-05-15","оплачен",1075,{"$f":"IFERROR(VLOOKUP(B2769,'Комиссии партнеров'!$A$2:$B$52,2,FALSE),\"\")","v":0.05},53.75]
[175661,"","1945-05-15","оплачен",1178,{"$f":"IFERROR(VLOOKUP(B2770,'Комиссии партнеров'!$A$2:$B$52,2,FALSE),\"\")","v":""}]
[175663,"","1945-05-15","оплачен",2751,{"$f":"IFERROR(VLOOKUP(B2771,'Комиссии партнеров'!$A$2:$B$52,2,FALSE),\"\")","v":""}]
[175668,"","1945-05-15","оплачен",2147,{"$f":"IFERROR(VLOOKUP(B2772,'Комиссии партнеров'!$A$2:$B$52,2,FALSE),\"\")","v":""}]
[175673,"","1945-05-15","не оплачен",5860,{"$f":"IFERROR(VLOOKUP(B2773,'Комиссии партнеров'!$A$2:$B$52,2,FALSE),\"\")","v":""}]
[175675,"Партнер номер 5","1945-05-15","оплачен",1765,{"$f":"IFERROR(VLOOKUP(B2774,'Комиссии партнеров'!$A$2:$B$52,2,FALSE),\"\")","v":0.03},52.949999999999996]
[175678,"","1945-05-15","оплачен",1841,{"$f":"IFERROR(VLOOKUP(B2775,'Комиссии партнеров'!$A$2:$B$52,2,FALSE),\"\")","v":""}]
[175682,"","1945-05-15","не оплачен",1061,{"$f":"IFERROR(VLOOKUP(B2776,'Комиссии партнеров'!$A$2:$B$52,2,FALSE),\"\")","v":""}]
[175684,"Партнер номер 11","1945-05-15","оплачен",1650,{"$f":"IFERROR(VLOOKUP(B2777,'Комиссии партнеров'!$A$2:$B$52,2,FALSE),\"\")","v":0.05},82.5]
[175688,"Партнер номер 5","1945-05-15","оплачен",3182,{"$f":"IFERROR(VLOOKUP(B2778,'Комиссии партнеров'!$A$2:$B$52,2,FALSE),\"\")","v":0.03},95.46]
[175691,"","1945-05-15","оплачен",1117,{"$f":"IFERROR(VLOOKUP(B2779,'Комиссии партнеров'!$A$2:$B$52,2,FALSE),\"\")","v":""}]
[175696,"Партнер номер 7","1945-05-15","не оплачен",1762,{"$f":"IFERROR(VLOOKUP(B2780,'Комиссии партнеров'!$A$2:$B$52,2,FALSE),\"\")","v":0.05},88.100000000000009]
[175698,"","1945-05-15","оплачен",1050,{"$f":"IFERROR(VLOOKUP(B2781,'Комиссии партнеров'!$A$2:$B$52,2,FALSE),\"\")","v":""}]
[175703,"Партнер номер 11","1945-05-15","оплачен",1650,{"$f":"IFERROR(VLOOKUP(B2782,'Комиссии партнеров'!$A$2:$B$52,2,FALSE),\"\")","v":0.05},82.5]
[175705,"","1945-05-15","не оплачен",2988,{"$f":"IFERROR(VLOOKUP(B2783,'Комиссии партнеров'!$A$2:$B$52,2,FALSE),\"\")","v":""}]
[175709,"Партнер номер 7","1945-05-15","не оплачен",1818,{"$f":"IFERROR(VLOOKUP(B2784,'Комиссии партнеров'!$A$2:$B$52,2,FALSE),\"\")","v":0.05},90.9]
[175714,"Партнер номер 1","1945-05-15","оплачен",4067,{"$f":"IFERROR(VLOOKUP(B2785,'Комиссии партнеров'!$A$2:$B$52,2,FALSE),\"\")","v":0.05},203.35000000000002]
[175716,"","1945-05-15","не оплачен",2988,{"$f":"IFERROR(VLOOKUP(B2786,'Комиссии партнеров'!$A$2:$B$52,2,FALSE),\"\")","v":""}]
[175719,"Партнер номер 6","1945-05-15","не оплачен",1762,{"$f":"IFERROR(VLOOKUP(B2787,'Комиссии партнеров'!$A$2:$B$52,2,FALSE),\"\")","v":0.04},70.48]
[175724,"","1945-05-15","оплачен",3501,{"$f":"IFERROR(VLOOKUP(B2788,'Комиссии партнеров'!$A$2:$B$52,2,FALSE),\"\")","v":""}]
[175726,"Партнер номер 3","1945-05-15","не оплачен",1400,{"$f":"IFERROR(VLOOKUP(B2789,'Комиссии партнеров'!$A$2:$B$52,2,FALSE),\"\")","v":0.05},70]
[175728,"Партнер номер 1","1945-05-15","оплачен",3573,{"$f":"IFERROR(VLOOKUP(B2790,'Комиссии партнеров'!$A$2:$B$52,2,FALSE),\"\")","v":0.05},178.65]
[175730,"","1945-05-15","оплачен",2391,{"$f":"IFERROR(VLOOKUP(B2791,'Комиссии партнеров'!$A$2:$B$52,2,FALSE),\"\")","v":""}]
[175734,"","1945-05-15","оплачен",813,{"$f":"IFERROR(VLOOKUP(B2792,'Комиссии партнеров'!$A$2:$B$52,2,FALSE),\"\")","v":""}]
[175738,"","1945-05-15","оплачен",2396,{"$f":"IFERROR(VLOOKUP(B2793,'Комиссии партнеров'!$A$2:$B$52,2,FALSE),\"\")","v":""}]
[175740,"Партнер номер 6","1945-05-15","не оплачен",2169,{"$f":"IFERROR(VLOOKUP(B2794,'Комиссии партнеров'!$A$2:$B$52,2,FALSE),\"\")","v":0.04},86.76]
[175743,"","1945-05-15","оплачен",3500,{"$f":"IFERROR(VLOOKUP(B2795,'Комиссии партнеров'!$A$2:$B$52,2,FALSE),\"\")","v":""}]
[175745,"Партнер номер 7","1945-05-15","оплачен",2027,{"$f":"IFERROR(VLOOKUP(B2796,'Комиссии партнеров'!$A$2:$B$52,2,FALSE),\"\")","v":0.05},101.35000000000001]
[175748,"Партнер номер 1","1945-05-15","не оплачен",857,{"$f":"IFERROR(VLOOKUP(B2797,'Комиссии партнеров'!$A$2:$B$52,2,FALSE),\"\")","v":0.05},42.85]
[175752,"Партнер номер 11","1945-05-15","не оплачен",1841,{"$f":"IFERROR(VLOOKUP(B2798,'Комиссии партнеров'!$A$2:$B$52,2,FALSE),\"\")","v":0.05},92.050000000000011]
[175756,"","1945-05-15","оплачен",1667,{"$f":"IFERROR(VLOOKUP(B2799,'Комиссии партнеров'!$A$2:$B$52,2,FALSE),\"\")","v":""}]
[175758,"Партнер номер 3","1945-05-15","оплачен",1244,{"$f":"IFERROR(VLOOKUP(B2800,'Комиссии партнеров'!$A$2:$B$52,2,FALSE),\"\")","v":0.05},62.2]
[175759,"","1945-05-15","оплачен",2904,{"$f":"IFERROR(VLOOKUP(B2801,'Комиссии партнеров'!$A$2:$B$52,2,FALSE),\"\")","v":""}]
[175765,"","1945-05-15","не оплачен",2113,{"$f":"IFERROR(VLOOKUP(B2802,'Комиссии партнеров'!$A$2:$B$52,2,FALSE),\"\")","v":""}]
[175770,"Партнер номер 5","1945-05-15","оплачен",3416,{"$f":"IFERROR(VLOOKUP(B2803,'Комиссии партнеров'!$A$2:$B$52,2,FALSE),\"\")","v":0.03},102.47999999999999]
[175773,"","1945-05-15","оплачен",2141,{"$f":"IFERROR(VLOOKUP(B2804,'Комиссии партнеров'!$A$2:$B$52,2,FALSE),\"\")","v":""}]
[175778,"","1945-05-15","оплачен",3146,{"$f":"IFERROR(VLOOKUP(B2805,'Комиссии партнеров'!$A$2:$B$52,2,FALSE),\"\")","v":""}]
[175780,"Партнер номер 45","1945-05-15","оплачен",1717,{"$f":"IFERROR(VLOOKUP(B2806,'Комиссии партнеров'!$A$2:$B$52,2,FALSE),\"\")","v":0.04},68.680000000000007]
[175781,"Партнер номер 1","1945-05-15","оплачен",2483,{"$f":"IFERROR(VLOOKUP(B2807,'Комиссии партнеров'!$A$2:$B$52,2,FALSE),\"\")","v":0.05},124.15]
[175783,"","1945-05-15","оплачен",1279,{"$f":"IFERROR(VLOOKUP(B2808,'Комиссии партнеров'!$A$2:$B$52,2,FALSE),\"\")","v":""}]
[175784,"","1945-05-15","оплачен",1436,{"$f":"IFERROR(VLOOKUP(B2809,'Комиссии партнеров'!$A$2:$B$52,2,FALSE),\"\")","v":""}]
[175790,"","1945-05-15","оплачен",1824,{"$f":"IFERROR(VLOOKUP(B2810,'Комиссии партнеров'!$A$2:$B$52,2,FALSE),\"\")","v":""}]
[175794,"","1945-05-15","оплачен",2801,{"$f":"IFERROR(VLOOKUP(B2811,'Комиссии партнеров'!$A$2:$B$52,2,FALSE),\"\")","v":""}]
[175795,"Партнер номер 9","1945-05-15","оплачен",1438,{"$f":"IFERROR(VLOOKUP(B2812,'Комиссии партнеров'!$A$2:$B$52,2,FALSE),\"\")","v":0.05},71.900000000000006]
[175799,"","1945-05-15","оплачен",1067,{"$f":"IFERROR(VLOOKUP(B2813,'Комиссии партнеров'!$A$2:$B$52,2,FALSE),\"\")","v":""}]
[175802,"Партнер номер 1","1945-05-15","оплачен",946,{"$f":"IFERROR(VLOOKUP(B2814,'Комиссии партнеров'!$A$2:$B$52,2,FALSE),\"\")","v":0.05},47.300000000000004]
[175808,"","1945-05-16","не оплачен",1173,{"$f":"IFERROR(VLOOKUP(B2815,'Комиссии партнеров'!$A$2:$B$52,2,FALSE),\"\")","v":""}]
[175810,"","1945-05-16","не оплачен",1741,{"$f":"IFERROR(VLOOKUP(B2816,'Комиссии партнеров'!$A$2:$B$52,2,FALSE),\"\")","v":""}]
[175812,"Партнер номер 1","1945-05-16","оплачен",1255,{"$f":"IFERROR(VLOOKUP(B2817,'Комиссии партнеров'!$A$2:$B$52,2,FALSE),\"\")","v":0.05},62.75]
[175817,"","1945-05-16","не оплачен",1834,{"$f":"IFERROR(VLOOKUP(B2818,'Комиссии партнеров'!$A$2:$B$52,2,FALSE),\"\")","v":""}]
[175819,"Партнер номер 1","1945-05-16","оплачен",1203,{"$f":"IFERROR(VLOOKUP(B2819,'Комиссии партнеров'!$A$2:$B$52,2,FALSE),\"\")","v":0.05},60.150000000000006]
[175823,"","1945-05-16","оплачен",3400,{"$f":"IFERROR(VLOOKUP(B2820,'Комиссии партнеров'!$A$2:$B$52,2,FALSE),\"\")","v":""}]
[175826,"Партнер номер 5","1945-05-16","не оплачен",1687,{"$f":"IFERROR(VLOOKUP(B2821,'Комиссии партнеров'!$A$2:$B$52,2,FALSE),\"\")","v":0.03},50.61]
[175829,"Партнер номер 29","1945-05-16","не оплачен",2063,{"$f":"IFERROR(VLOOKUP(B2822,'Комиссии партнеров'!$A$2:$B$52,2,FALSE),\"\")","v":0.05},103.15]
[175833,"Партнер номер 3","1945-05-16","не оплачен",3016,{"$f":"IFERROR(VLOOKUP(B2823,'Комиссии партнеров'!$A$2:$B$52,2,FALSE),\"\")","v":0.05},150.80000000000001]
[175836,"","1945-05-16","оплачен",1991,{"$f":"IFERROR(VLOOKUP(B2824,'Комиссии партнеров'!$A$2:$B$52,2,FALSE),\"\")","v":""}]
[175841,"Партнер номер 11","1945-05-16","оплачен",2385,{"$f":"IFERROR(VLOOKUP(B2825,'Комиссии партнеров'!$A$2:$B$52,2,FALSE),\"\")","v":0.05},119.25]
[175843,"","1945-05-16","оплачен",1991,{"$f":"IFERROR(VLOOKUP(B2826,'Комиссии партнеров'!$A$2:$B$52,2,FALSE),\"\")","v":""}]
[175845,"Партнер номер 1","1945-05-16","не оплачен",3130,{"$f":"IFERROR(VLOOKUP(B2827,'Комиссии партнеров'!$A$2:$B$52,2,FALSE),\"\")","v":0.05},156.5]
[175850,"Партнер номер 5","1945-05-16","не оплачен",1775,{"$f":"IFERROR(VLOOKUP(B2828,'Комиссии партнеров'!$A$2:$B$52,2,FALSE),\"\")","v":0.03},53.25]
[175851,"","1945-05-16","оплачен",2432,{"$f":"IFERROR(VLOOKUP(B2829,'Комиссии партнеров'!$A$2:$B$52,2,FALSE),\"\")","v":""}]
[175854,"Партнер номер 5","1945-05-16","оплачен",3992,{"$f":"IFERROR(VLOOKUP(B2830,'Комиссии партнеров'!$A$2:$B$52,2,FALSE),\"\")","v":0.03},119.75999999999999]
[175856,"","1945-05-16","оплачен",4735,{"$f":"IFERROR(VLOOKUP(B2831,'Комиссии партнеров'!$A$2:$B$52,2,FALSE),\"\")","v":""}]
[175859,"","1945-05-16","оплачен",2177,{"$f":"IFERROR(VLOOKUP(B2832,'Комиссии партнеров'!$A$2:$B$52,2,FALSE),\"\")","v":""}]
[175862,"","1945-05-16","не оплачен",1790,{"$f":"IFERROR(VLOOKUP(B2833,'Комиссии партнеров'!$A$2:$B$52,2,FALSE),\"\")","v":""}]
[175865,"Партнер номер 3","1945-05-16","оплачен",1229,{"$f":"IFERROR(VLOOKUP(B2834,'Комиссии партнеров'!$A$2:$B$52,2,FALSE),\"\")","v":0.05},61.45]
[175871,"Партнер номер 3","1945-05-16","оплачен",1212,{"$f":"IFERROR(VLOOKUP(B2835,'Комиссии партнеров'!$A$2:$B$52,2,FALSE),\"\")","v":0.05},60.6]
[175874,"","1945-05-16","не оплачен",375,{"$f":"IFERROR(VLOOKUP(B2836,'Комиссии партнеров'!$A$2:$B$52,2,FALSE),\"\")","v":""}]
[175877,"","1945-05-16","не оплачен",4595,{"$f":"IFERROR(VLOOKUP(B2837,'Комиссии партнеров'!$A$2:$B$52,2,FALSE),\"\")","v":""}]
[175880,"","1945-05-16","оплачен",1751,{"$f":"IFERROR(VLOOKUP(B2838,'Комиссии партнеров'!$A$2:$B$52,2,FALSE),\"\")","v":""}]
[175883,"","1945-05-16","оплачен",1479,{"$f":"IFERROR(VLOOKUP(B2839,'Комиссии партнеров'!$A$2:$B$52,2,FALSE),\"\")","v":""}]
[175885,"Партнер номер 1","1945-05-16","не оплачен",2443,{"$f":"IFERROR(VLOOKUP(B2840,'Комиссии партнеров'!$A$2:$B$52,2,FALSE),\"\")","v":0.05},122.15]
[175887,"Партнер номер 11","1945-05-16","не оплачен",1889,{"$f":"IFERROR(VLOOKUP(B2841,'Комиссии партнеров'!$A$2:$B$52,2,FALSE),\"\")","v":0.05},94.45]
[175892,"Партнер номер 5","1945-05-16","оплачен",1011,{"$f":"IFERROR(VLOOKUP(B2842,'Комиссии партнеров'!$A$2:$B$52,2,FALSE),\"\")","v":0.03},30.33]
[175896,"","1945-05-16","не оплачен",1135,{"$f":"IFERROR(VLOOKUP(B2843,'Комиссии партнеров'!$A$2:$B$52,2,FALSE),\"\")","v":""}]
[175901,"Партнер номер 7","1945-05-16","не оплачен",1928,{"$f":"IFERROR(VLOOKUP(B2844,'Комиссии партнеров'!$A$2:$B$52,2,FALSE),\"\")","v":0.05},96.4]
[175905,"Партнер номер 7","1945-05-16","не оплачен",1928,{"$f":"IFERROR(VLOOKUP(B2845,'Комиссии партнеров'!$A$2:$B$52,2,FALSE),\"\")","v":0.05},96.4]
[175907,"","1945-05-16","оплачен",3412,{"$f":"IFERROR(VLOOKUP(B2846,'Комиссии партнеров'!$A$2:$B$52,2,FALSE),\"\")","v":""}]
[175909,"","1945-05-16","оплачен",632,{"$f":"IFERROR(VLOOKUP(B2847,'Комиссии партнеров'!$A$2:$B$52,2,FALSE),\"\")","v":""}]
[175912,"Партнер номер 5","1945-05-16","не оплачен",1775,{"$f":"IFERROR(VLOOKUP(B2848,'Комиссии партнеров'!$A$2:$B$52,2,FALSE),\"\")","v":0.03},53.25]
[175915,"","1945-05-16","оплачен",2129,{"$f":"IFERROR(VLOOKUP(B2849,'Комиссии партнеров'!$A$2:$B$52,2,FALSE),\"\")","v":""}]
[175921,"","1945-05-16","оплачен",471,{"$f":"IFERROR(VLOOKUP(B2850,'Комиссии партнеров'!$A$2:$B$52,2,FALSE),\"\")","v":""}]
[175926,"","1945-05-16","оплачен",1523,{"$f":"IFERROR(VLOOKUP(B2851,'Комиссии партнеров'!$A$2:$B$52,2,FALSE),\"\")","v":""}]
[175931,"Партнер номер 5","1945-05-16","не оплачен",1775,{"$f":"IFERROR(VLOOKUP(B2852,'Комиссии партнеров'!$A$2:$B$52,2,FALSE),\"\")","v":0.03},53.25]
[175933,"","1945-05-16","оплачен",1484,{"$f":"IFERROR(VLOOKUP(B2853,'Комиссии партнеров'!$A$2:$B$52,2,FALSE),\"\")","v":""}]
[175936,"","1945-05-16","не оплачен",1518,{"$f":"IFERROR(VLOOKUP(B2854,'Комиссии партнеров'!$A$2:$B$52,2,FALSE),\"\")","v":""}]
[175940,"","1945-05-16","оплачен",801,{"$f":"IFERROR(VLOOKUP(B2855,'Комиссии партнеров'!$A$2:$B$52,2,FALSE),\"\")","v":""}]
[175943,"Партнер номер 7","1945-05-16","не оплачен",1954,{"$f":"IFERROR(VLOOKUP(B2856,'Комиссии партнеров'!$A$2:$B$52,2,FALSE),\"\")","v":0.05},97.7]
[175948,"","1945-05-16","оплачен",2284,{"$f":"IFERROR(VLOOKUP(B2857,'Комиссии партнеров'!$A$2:$B$52,2,FALSE),\"\")","v":""}]
[175951,"Партнер номер 25","1945-05-16","оплачен",3077,{"$f":"IFERROR(VLOOKUP(B2858,'Комиссии партнеров'!$A$2:$B$52,2,FALSE),\"\")","v":0.05},153.85000000000002]
[175953,"","1945-05-16","не оплачен",959,{"$f":"IFERROR(VLOOKUP(B2859,'Комиссии партнеров'!$A$2:$B$52,2,FALSE),\"\")","v":""}]
[175958,"","1945-05-16","не оплачен",2004,{"$f":"IFERROR(VLOOKUP(B2860,'Комиссии партнеров'!$A$2:$B$52,2,FALSE),\"\")","v":""}]
[175962,"","1945-05-16","оплачен",936,{"$f":"IFERROR(VLOOKUP(B2861,'Комиссии партнеров'!$A$2:$B$52,2,FALSE),\"\")","v":""}]
[175967,"","1945-05-16","не оплачен",1358,{"$f":"IFERROR(VLOOKUP(B2862,'Комиссии партнеров'!$A$2:$B$52,2,FALSE),\"\")","v":""}]
[175970,"Партнер номер 11","1945-05-16","оплачен",1171,{"$f":"IFERROR(VLOOKUP(B2863,'Комиссии партнеров'!$A$2:$B$52,2,FALSE),\"\")","v":0.05},58.550000000000004]
[175972,"","1945-05-16","оплачен",1896,{"$f":"IFERROR(VLOOKUP(B2864,'Комиссии партнеров'!$A$2:$B$52,2,FALSE),\"\")","v":""}]
[175974,"Партнер номер 1","1945-05-16","оплачен",1174,{"$f":"IFERROR(VLOOKUP(B2865,'Комиссии партнеров'!$A$2:$B$52,2,FALSE),\"\")","v":0.05},58.7]
[175978,"","1945-05-16","оплачен",3404,{"$f":"IFERROR(VLOOKUP(B2866,'Комиссии партнеров'!$A$2:$B$52,2,FALSE),\"\")","v":""}]
[175983,"","1945-05-16","оплачен",1183,{"$f":"IFERROR(VLOOKUP(B2867,'Комиссии партнеров'!$A$2:$B$52,2,FALSE),\"\")","v":""}]
[175987,"","1945-05-16","не оплачен",2179,{"$f":"IFERROR(VLOOKUP(B2868,'Комиссии партнеров'!$A$2:$B$52,2,FALSE),\"\")","v":""}]
[175991,"","1945-05-16","не оплачен",4784,{"$f":"IFERROR(VLOOKUP(B2869,'Комиссии партнеров'!$A$2:$B$52,2,FALSE),\"\")","v":""}]
[175995,"Партнер номер 3","1945-05-16","оплачен",2156,{"$f":"IFERROR(VLOOKUP(B2870,'Комиссии партнеров'!$A$2:$B$52,2,FALSE),\"\")","v":0.05},107.80000000000001]
[175998,"Партнер номер 1","1945-05-16","оплачен",2294,{"$f":"IFERROR(VLOOKUP(B2871,'Комиссии партнеров'!$A$2:$B$52,2,FALSE),\"\")","v":0.05},114.7]
[176002,"","1945-05-16","не оплачен",3192,{"$f":"IFERROR(VLOOKUP(B2872,'Комиссии партнеров'!$A$2:$B$52,2,FALSE),\"\")","v":""}]
[176006,"Партнер номер 5","1945-05-16","оплачен",1570,{"$f":"IFERROR(VLOOKUP(B2873,'Комиссии партнеров'!$A$2:$B$52,2,FALSE),\"\")","v":0.03},47.1]
[176009,"","1945-05-16","не оплачен",4784,{"$f":"IFERROR(VLOOKUP(B2874,'Комиссии партнеров'!$A$2:$B$52,2,FALSE),\"\")","v":""}]
[176010,"Партнер номер 1","1945-05-16","оплачен",918,{"$f":"IFERROR(VLOOKUP(B2875,'Комиссии партнеров'!$A$2:$B$52,2,FALSE),\"\")","v":0.05},45.900000000000006]
[176014,"Партнер номер 10","1945-05-16","оплачен",1099,{"$f":"IFERROR(VLOOKUP(B2876,'Комиссии партнеров'!$A$2:$B$52,2,FALSE),\"\")","v":0.04},43.96]
[176018,"","1945-05-16","оплачен",1653,{"$f":"IFERROR(VLOOKUP(B2877,'Комиссии партнеров'!$A$2:$B$52,2,FALSE),\"\")","v":""}]
[176020,"Партнер номер 5","1945-05-16","оплачен",2376,{"$f":"IFERROR(VLOOKUP(B2878,'Комиссии партнеров'!$A$2:$B$52,2,FALSE),\"\")","v":0.03},71.28]
[176025,"Партнер номер 5","1945-05-16","не оплачен",932,{"$f":"IFERROR(VLOOKUP(B2879,'Комиссии партнеров'!$A$2:$B$52,2,FALSE),\"\")","v":0.03},27.959999999999997]
[176027,"Партнер номер 7","1945-05-16","оплачен",845,{"$f":"IFERROR(VLOOKUP(B2880,'Комиссии партнеров'!$A$2:$B$52,2,FALSE),\"\")","v":0.05},42.25]
[176030,"","1945-05-16","оплачен",1912,{"$f":"IFERROR(VLOOKUP(B2881,'Комиссии партнеров'!$A$2:$B$52,2,FALSE),\"\")","v":""}]
[176032,"","1945-05-16","оплачен",3753,{"$f":"IFERROR(VLOOKUP(B2882,'Комиссии партнеров'!$A$2:$B$52,2,FALSE),\"\")","v":""}]
[176037,"","1945-05-16","оплачен",2153,{"$f":"IFERROR(VLOOKUP(B2883,'Комиссии партнеров'!$A$2:$B$52,2,FALSE),\"\")","v":""}]
[176042,"Партнер номер 7","1945-05-16","не оплачен",871,{"$f":"IFERROR(VLOOKUP(B2884,'Комиссии партнеров'!$A$2:$B$52,2,FALSE),\"\")","v":0.05},43.550000000000004]
[176043,"","1945-05-16","оплачен",2153,{"$f":"IFERROR(VLOOKUP(B2885,'Комиссии партнеров'!$A$2:$B$52,2,FALSE),\"\")","v":""}]
[176045,"Партнер номер 5","1945-05-16","оплачен",2042,{"$f":"IFERROR(VLOOKUP(B2886,'Комиссии партнеров'!$A$2:$B$52,2,FALSE),\"\")","v":0.03},61.26]
[176050,"","1945-05-16","оплачен",1471,{"$f":"IFERROR(VLOOKUP(B2887,'Комиссии партнеров'!$A$2:$B$52,2,FALSE),\"\")","v":""}]
[176052,"Партнер номер 10","1945-05-16","не оплачен",571,{"$f":"IFERROR(VLOOKUP(B2888,'Комиссии партнеров'!$A$2:$B$52,2,FALSE),\"\")","v":0.04},22.84]
[176058,"","1945-05-16","оплачен",1164,{"$f":"IFERROR(VLOOKUP(B2889,'Комиссии партнеров'!$A$2:$B$52,2,FALSE),\"\")","v":""}]
[176063,"","1945-05-16","оплачен",589,{"$f":"IFERROR(VLOOKUP(B2890,'Комиссии партнеров'!$A$2:$B$52,2,FALSE),\"\")","v":""}]
[176065,"Партнер номер 1","1945-05-16","не оплачен",645,{"$f":"IFERROR(VLOOKUP(B2891,'Комиссии партнеров'!$A$2:$B$52,2,FALSE),\"\")","v":0.05},32.25]
[176082,"","1945-05-16","оплачен",1199,{"$f":"IFERROR(VLOOKUP(B2892,'Комиссии партнеров'!$A$2:$B$52,2,FALSE),\"\")","v":""}]
[176085,"","1945-05-16","не оплачен",1897,{"$f":"IFERROR(VLOOKUP(B2893,'Комиссии партнеров'!$A$2:$B$52,2,FALSE),\"\")","v":""}]
[176089,"Партнер номер 10","1945-05-16","не оплачен",571,{"$f":"IFERROR(VLOOKUP(B2894,'Комиссии партнеров'!$A$2:$B$52,2,FALSE),\"\")","v":0.04},22.84]
[176096,"","1945-05-16","не оплачен",645,{"$f":"IFERROR(VLOOKUP(B2895,'Комиссии партнеров'!$A$2:$B$52,2,FALSE),\"\")","v":""}]
[176101,"Партнер номер 5","1945-05-16","не оплачен",3816,{"$f":"IFERROR(VLOOKUP(B2896,'Комиссии партнеров'!$A$2:$B$52,2,FALSE),\"\")","v":0.03},114.47999999999999]
[176104,"Партнер номер 1","1945-05-16","не оплачен",645,{"$f":"IFERROR(VLOOKUP(B2897,'Комиссии партнеров'!$A$2:$B$52,2,FALSE),\"\")","v":0.05},32.25]
[176108,"Партнер номер 11","1945-05-16","не оплачен",4069,{"$f":"IFERROR(VLOOKUP(B2898,'Комиссии партнеров'!$A$2:$B$52,2,FALSE),\"\")","v":0.05},203.45000000000002]
[176110,"Партнер номер 1","1945-05-16","оплачен",645,{"$f":"IFERROR(VLOOKUP(B2899,'Комиссии партнеров'!$A$2:$B$52,2,FALSE),\"\")","v":0.05},32.25]
[176115,"Партнер номер 1","1945-05-16","не оплачен",1036,{"$f":"IFERROR(VLOOKUP(B2900,'Комиссии партнеров'!$A$2:$B$52,2,FALSE),\"\")","v":0.05},51.800000000000004]
[176116,"","1945-05-16","не оплачен",917,{"$f":"IFERROR(VLOOKUP(B2901,'Комиссии партнеров'!$A$2:$B$52,2,FALSE),\"\")","v":""}]
[176118,"Партнер номер 1","1945-05-16","не оплачен",645,{"$f":"IFERROR(VLOOKUP(B2902,'Комиссии партнеров'!$A$2:$B$52,2,FALSE),\"\")","v":0.05},32.25]
[176126,"","1945-05-16","не оплачен",1623,{"$f":"IFERROR(VLOOKUP(B2903,'Комиссии партнеров'!$A$2:$B$52,2,FALSE),\"\")","v":""}]
[176130,"","1945-05-16","не оплачен",887,{"$f":"IFERROR(VLOOKUP(B2904,'Комиссии партнеров'!$A$2:$B$52,2,FALSE),\"\")","v":""}]
[176131,"Партнер номер 7","1945-05-16","оплачен",482,{"$f":"IFERROR(VLOOKUP(B2905,'Комиссии партнеров'!$A$2:$B$52,2,FALSE),\"\")","v":0.05},24.1]
[176138,"Партнер номер 10","1945-05-16","оплачен",742,{"$f":"IFERROR(VLOOKUP(B2906,'Комиссии партнеров'!$A$2:$B$52,2,FALSE),\"\")","v":0.04},29.68]
[176141,"","1945-05-16","оплачен",1100,{"$f":"IFERROR(VLOOKUP(B2907,'Комиссии партнеров'!$A$2:$B$52,2,FALSE),\"\")","v":""}]
[176143,"Партнер номер 11","1945-05-16","не оплачен",1572,{"$f":"IFERROR(VLOOKUP(B2908,'Комиссии партнеров'!$A$2:$B$52,2,FALSE),\"\")","v":0.05},78.600000000000009]
[176148,"","1945-05-16","оплачен",2606,{"$f":"IFERROR(VLOOKUP(B2909,'Комиссии партнеров'!$A$2:$B$52,2,FALSE),\"\")","v":""}]
[176153,"Партнер номер 1","1945-05-16","не оплачен",747,{"$f":"IFERROR(VLOOKUP(B2910,'Комиссии партнеров'!$A$2:$B$52,2,FALSE),\"\")","v":0.05},37.35]
[176157,"Партнер номер 1","1945-05-16","не оплачен",747,{"$f":"IFERROR(VLOOKUP(B2911,'Комиссии партнеров'!$A$2:$B$52,2,FALSE),\"\")","v":0.05},37.35]
[176161,"","1945-05-16","не оплачен",1942,{"$f":"IFERROR(VLOOKUP(B2912,'Комиссии партнеров'!$A$2:$B$52,2,FALSE),\"\")","v":""}]
[176166,"","1945-05-16","оплачен",2284,{"$f":"IFERROR(VLOOKUP(B2913,'Комиссии партнеров'!$A$2:$B$52,2,FALSE),\"\")","v":""}]
[176167,"Партнер номер 1","1945-05-16","не оплачен",590,{"$f":"IFERROR(VLOOKUP(B2914,'Комиссии партнеров'!$A$2:$B$52,2,FALSE),\"\")","v":0.05},29.5]
[176170,"Партнер номер 1","1945-05-16","не оплачен",1021,{"$f":"IFERROR(VLOOKUP(B2915,'Комиссии партнеров'!$A$2:$B$52,2,FALSE),\"\")","v":0.05},51.050000000000004]
[176172,"Партнер номер 1","1945-05-16","оплачен",1617,{"$f":"IFERROR(VLOOKUP(B2916,'Комиссии партнеров'!$A$2:$B$52,2,FALSE),\"\")","v":0.05},80.850000000000009]
[176174,"","1945-05-16","оплачен",5852,{"$f":"IFERROR(VLOOKUP(B2917,'Комиссии партнеров'!$A$2:$B$52,2,FALSE),\"\")","v":""}]
[176183,"","1945-05-16","не оплачен",2980,{"$f":"IFERROR(VLOOKUP(B2918,'Комиссии партнеров'!$A$2:$B$52,2,FALSE),\"\")","v":""}]
[176187,"","1945-05-16","оплачен",3006,{"$f":"IFERROR(VLOOKUP(B2919,'Комиссии партнеров'!$A$2:$B$52,2,FALSE),\"\")","v":""}]
[176189,"Партнер номер 31","1945-05-16","оплачен",2150,{"$f":"IFERROR(VLOOKUP(B2920,'Комиссии партнеров'!$A$2:$B$52,2,FALSE),\"\")","v":0.03},64.5]
[176194,"","1945-05-16","не оплачен",3943,{"$f":"IFERROR(VLOOKUP(B2921,'Комиссии партнеров'!$A$2:$B$52,2,FALSE),\"\")","v":""}]
[176197,"Партнер номер 28","1945-05-16","оплачен",5677,{"$f":"IFERROR(VLOOKUP(B2922,'Комиссии партнеров'!$A$2:$B$52,2,FALSE),\"\")","v":0.05},283.85000000000002]
[176202,"Партнер номер 1","1945-05-16","не оплачен",590,{"$f":"IFERROR(VLOOKUP(B2923,'Комиссии партнеров'!$A$2:$B$52,2,FALSE),\"\")","v":0.05},29.5]
[176204,"Партнер номер 3","1945-05-16","не оплачен",2697,{"$f":"IFERROR(VLOOKUP(B2924,'Комиссии партнеров'!$A$2:$B$52,2,FALSE),\"\")","v":0.05},134.85]
[176205,"","1945-05-16","оплачен",2533,{"$f":"IFERROR(VLOOKUP(B2925,'Комиссии партнеров'!$A$2:$B$52,2,FALSE),\"\")","v":""}]
[176209,"Партнер номер 5","1945-05-16","оплачен",1027,{"$f":"IFERROR(VLOOKUP(B2926,'Комиссии партнеров'!$A$2:$B$52,2,FALSE),\"\")","v":0.03},30.81]
[176213,"","1945-05-16","оплачен",2649,{"$f":"IFERROR(VLOOKUP(B2927,'Комиссии партнеров'!$A$2:$B$52,2,FALSE),\"\")","v":""}]
[176217,"Партнер номер 1","1945-05-16","не оплачен",590,{"$f":"IFERROR(VLOOKUP(B2928,'Комиссии партнеров'!$A$2:$B$52,2,FALSE),\"\")","v":0.05},29.5]
[176221,"","1945-05-16","оплачен",6614,{"$f":"IFERROR(VLOOKUP(B2929,'Комиссии партнеров'!$A$2:$B$52,2,FALSE),\"\")","v":""}]
[176225,"","1945-05-16","не оплачен",3835,{"$f":"IFERROR(VLOOKUP(B2930,'Комиссии партнеров'!$A$2:$B$52,2,FALSE),\"\")","v":""}]
[176228,"","1945-05-16","оплачен",4191,{"$f":"IFERROR(VLOOKUP(B2931,'Комиссии партнеров'!$A$2:$B$52,2,FALSE),\"\")","v":""}]
[176230,"","1945-05-16","оплачен",1245,{"$f":"IFERROR(VLOOKUP(B2932,'Комиссии партнеров'!$A$2:$B$52,2,FALSE),\"\")","v":""}]
[176232,"Партнер номер 7","1945-05-16","оплачен",1589,{"$f":"IFERROR(VLOOKUP(B2933,'Комиссии партнеров'!$A$2:$B$52,2,FALSE),\"\")","v":0.05},79.45]
[176235,"Партнер номер 4","1945-05-16","оплачен",765,{"$f":"IFERROR(VLOOKUP(B2934,'Комиссии партнеров'!$A$2:$B$52,2,FALSE),\"\")","v":0.04},30.6]
[176238,"Партнер номер 7","1945-05-16","не оплачен",1015,{"$f":"IFERROR(VLOOKUP(B2935,'Комиссии партнеров'!$A$2:$B$52,2,FALSE),\"\")","v":0.05},50.75]
[176244,"Партнер номер 28","1945-05-16","оплачен",1261,{"$f":"IFERROR(VLOOKUP(B2936,'Комиссии партнеров'!$A$2:$B$52,2,FALSE),\"\")","v":0.05},63.050000000000004]
[176246,"","1945-05-16","не оплачен",1101,{"$f":"IFERROR(VLOOKUP(B2937,'Комиссии партнеров'!$A$2:$B$52,2,FALSE),\"\")","v":""}]
[176250,"","1945-05-16","оплачен",723,{"$f":"IFERROR(VLOOKUP(B2938,'Комиссии партнеров'!$A$2:$B$52,2,FALSE),\"\")","v":""}]
[176252,"Партнер номер 11","1945-05-16","оплачен",1943,{"$f":"IFERROR(VLOOKUP(B2939,'Комиссии партнеров'!$A$2:$B$52,2,FALSE),\"\")","v":0.05},97.15]
[176256,"Партнер номер 1","1945-05-16","не оплачен",691,{"$f":"IFERROR(VLOOKUP(B2940,'Комиссии партнеров'!$A$2:$B$52,2,FALSE),\"\")","v":0.05},34.550000000000004]
[176258,"Партнер номер 1","1945-05-16","оплачен",467,{"$f":"IFERROR(VLOOKUP(B2941,'Комиссии партнеров'!$A$2:$B$52,2,FALSE),\"\")","v":0.05},23.35]
[176262,"Партнер номер 7","1945-05-16","оплачен",890,{"$f":"IFERROR(VLOOKUP(B2942,'Комиссии партнеров'!$A$2:$B$52,2,FALSE),\"\")","v":0.05},44.5]
[176267,"Партнер номер 4","1945-05-16","не оплачен",760,{"$f":"IFERROR(VLOOKUP(B2943,'Комиссии партнеров'!$A$2:$B$52,2,FALSE),\"\")","v":0.04},30.400000000000002]
[176270,"Партнер номер 4","1945-05-16","не оплачен",2509,{"$f":"IFERROR(VLOOKUP(B2944,'Комиссии партнеров'!$A$2:$B$52,2,FALSE),\"\")","v":0.04},100.36]
[176274,"","1945-05-16","оплачен",3488,{"$f":"IFERROR(VLOOKUP(B2945,'Комиссии партнеров'!$A$2:$B$52,2,FALSE),\"\")","v":""}]
[176278,"","1945-05-16","оплачен",2117,{"$f":"IFERROR(VLOOKUP(B2946,'Комиссии партнеров'!$A$2:$B$52,2,FALSE),\"\")","v":""}]
[176283,"","1945-05-16","оплачен",2226,{"$f":"IFERROR(VLOOKUP(B2947,'Комиссии партнеров'!$A$2:$B$52,2,FALSE),\"\")","v":""}]
[176288,"Партнер номер 5","1945-05-16","оплачен",1032,{"$f":"IFERROR(VLOOKUP(B2948,'Комиссии партнеров'!$A$2:$B$52,2,FALSE),\"\")","v":0.03},30.959999999999997]
[176291,"Партнер номер 7","1945-05-16","оплачен",2531,{"$f":"IFERROR(VLOOKUP(B2949,'Комиссии партнеров'!$A$2:$B$52,2,FALSE),\"\")","v":0.05},126.55000000000001]
[176296,"Партнер номер 1","1945-05-16","не оплачен",760,{"$f":"IFERROR(VLOOKUP(B2950,'Комиссии партнеров'!$A$2:$B$52,2,FALSE),\"\")","v":0.05},38]
[176300,"","1945-05-16","оплачен",6650,{"$f":"IFERROR(VLOOKUP(B2951,'Комиссии партнеров'!$A$2:$B$52,2,FALSE),\"\")","v":""}]
[176302,"Партнер номер 8","1945-05-16","оплачен",1292,{"$f":"IFERROR(VLOOKUP(B2952,'Комиссии партнеров'!$A$2:$B$52,2,FALSE),\"\")","v":0.03},38.76]
[176304,"Партнер номер 1","1945-05-16","оплачен",838,{"$f":"IFERROR(VLOOKUP(B2953,'Комиссии партнеров'!$A$2:$B$52,2,FALSE),\"\")","v":0.05},41.900000000000006]
[176307,"Партнер номер 7","1945-05-16","не оплачен",2276,{"$f":"IFERROR(VLOOKUP(B2954,'Комиссии партнеров'!$A$2:$B$52,2,FALSE),\"\")","v":0.05},113.80000000000001]
[176308,"Партнер номер 1","1945-05-16","оплачен",2712,{"$f":"IFERROR(VLOOKUP(B2955,'Комиссии партнеров'!$A$2:$B$52,2,FALSE),\"\")","v":0.05},135.6]
[176310,"Партнер номер 46","1945-05-16","оплачен",721,{"$f":"IFERROR(VLOOKUP(B2956,'Комиссии партнеров'!$A$2:$B$52,2,FALSE),\"\")","v":0.05},36.050000000000004]
[176315,"Партнер номер 7","1945-05-16","не оплачен",993,{"$f":"IFERROR(VLOOKUP(B2957,'Комиссии партнеров'!$A$2:$B$52,2,FALSE),\"\")","v":0.05},49.650000000000006]
[176317,"Партнер номер 1","1945-05-16","не оплачен",718,{"$f":"IFERROR(VLOOKUP(B2958,'Комиссии партнеров'!$A$2:$B$52,2,FALSE),\"\")","v":0.05},35.9]
[176323,"Партнер номер 7","1945-05-16","оплачен",2276,{"$f":"IFERROR(VLOOKUP(B2959,'Комиссии партнеров'!$A$2:$B$52,2,FALSE),\"\")","v":0.05},113.80000000000001]
[176328,"Партнер номер 1","1945-05-16","не оплачен",1812,{"$f":"IFERROR(VLOOKUP(B2960,'Комиссии партнеров'!$A$2:$B$52,2,FALSE),\"\")","v":0.05},90.600000000000009]
[176330,"Партнер номер 11","1945-05-16","не оплачен",1809,{"$f":"IFERROR(VLOOKUP(B2961,'Комиссии партнеров'!$A$2:$B$52,2,FALSE),\"\")","v":0.05},90.45]
[176333,"","1945-05-16","оплачен",1897,{"$f":"IFERROR(VLOOKUP(B2962,'Комиссии партнеров'!$A$2:$B$52,2,FALSE),\"\")","v":""}]
[176338,"Партнер номер 20","1945-05-16","оплачен",2298,{"$f":"IFERROR(VLOOKUP(B2963,'Комиссии партнеров'!$A$2:$B$52,2,FALSE),\"\")","v":0.03},68.94]
[176342,"Партнер номер 3","1945-05-16","не оплачен",4738,{"$f":"IFERROR(VLOOKUP(B2964,'Комиссии партнеров'!$A$2:$B$52,2,FALSE),\"\")","v":0.05},236.9]
[176344,"","1945-05-16","не оплачен",1276,{"$f":"IFERROR(VLOOKUP(B2965,'Комиссии партнеров'!$A$2:$B$52,2,FALSE),\"\")","v":""}]
[176347,"","1945-05-16","оплачен",1126,{"$f":"IFERROR(VLOOKUP(B2966,'Комиссии партнеров'!$A$2:$B$52,2,FALSE),\"\")","v":""}]
[176349,"Партнер номер 5","1945-05-16","не оплачен",4316,{"$f":"IFERROR(VLOOKUP(B2967,'Комиссии партнеров'!$A$2:$B$52,2,FALSE),\"\")","v":0.03},129.47999999999999]
[176354,"Партнер номер 1","1945-05-16","не оплачен",1213,{"$f":"IFERROR(VLOOKUP(B2968,'Комиссии партнеров'!$A$2:$B$52,2,FALSE),\"\")","v":0.05},60.650000000000006]
[176358,"","1945-05-16","не оплачен",3346,{"$f":"IFERROR(VLOOKUP(B2969,'Комиссии партнеров'!$A$2:$B$52,2,FALSE),\"\")","v":""}]
[176359,"","1945-05-16","оплачен",2295,{"$f":"IFERROR(VLOOKUP(B2970,'Комиссии партнеров'!$A$2:$B$52,2,FALSE),\"\")","v":""}]
[176363,"","1945-05-16","не оплачен",1926,{"$f":"IFERROR(VLOOKUP(B2971,'Комиссии партнеров'!$A$2:$B$52,2,FALSE),\"\")","v":""}]
[176369,"Партнер номер 10","1945-05-16","оплачен",1090,{"$f":"IFERROR(VLOOKUP(B2972,'Комиссии партнеров'!$A$2:$B$52,2,FALSE),\"\")","v":0.04},43.6]
[176372,"","1945-05-16","оплачен",1743,{"$f":"IFERROR(VLOOKUP(B2973,'Комиссии партнеров'!$A$2:$B$52,2,FALSE),\"\")","v":""}]
[176376,"","1945-05-16","не оплачен",1704,{"$f":"IFERROR(VLOOKUP(B2974,'Комиссии партнеров'!$A$2:$B$52,2,FALSE),\"\")","v":""}]
[176381,"","1945-05-16","оплачен",3163,{"$f":"IFERROR(VLOOKUP(B2975,'Комиссии партнеров'!$A$2:$B$52,2,FALSE),\"\")","v":""}]
[176385,"","1945-05-16","оплачен",2129,{"$f":"IFERROR(VLOOKUP(B2976,'Комиссии партнеров'!$A$2:$B$52,2,FALSE),\"\")","v":""}]
[176388,"Партнер номер 1","1945-05-16","не оплачен",4489,{"$f":"IFERROR(VLOOKUP(B2977,'Комиссии партнеров'!$A$2:$B$52,2,FALSE),\"\")","v":0.05},224.45000000000002]
[176391,"","1945-05-16","оплачен",3154,{"$f":"IFERROR(VLOOKUP(B2978,'Комиссии партнеров'!$A$2:$B$52,2,FALSE),\"\")","v":""}]
[176396,"Партнер номер 16","1945-05-16","не оплачен",3789,{"$f":"IFERROR(VLOOKUP(B2979,'Комиссии партнеров'!$A$2:$B$52,2,FALSE),\"\")","v":0.05},189.45000000000002]
[176399,"Партнер номер 1","1945-05-16","не оплачен",1685,{"$f":"IFERROR(VLOOKUP(B2980,'Комиссии партнеров'!$A$2:$B$52,2,FALSE),\"\")","v":0.05},84.25]
[176403,"Партнер номер 1","1945-05-16","оплачен",1891,{"$f":"IFERROR(VLOOKUP(B2981,'Комиссии партнеров'!$A$2:$B$52,2,FALSE),\"\")","v":0.05},94.550000000000011]
[176405,"","1945-05-16","оплачен",1704,{"$f":"IFERROR(VLOOKUP(B2982,'Комиссии партнеров'!$A$2:$B$52,2,FALSE),\"\")","v":""}]
[176407,"Партнер номер 1","1945-05-16","оплачен",1908,{"$f":"IFERROR(VLOOKUP(B2983,'Комиссии партнеров'!$A$2:$B$52,2,FALSE),\"\")","v":0.05},95.4]
[176412,"","1945-05-16","оплачен",2057,{"$f":"IFERROR(VLOOKUP(B2984,'Комиссии партнеров'!$A$2:$B$52,2,FALSE),\"\")","v":""}]
[176413,"Партнер номер 19","1945-05-16","не оплачен",917,{"$f":"IFERROR(VLOOKUP(B2985,'Комиссии партнеров'!$A$2:$B$52,2,FALSE),\"\")","v":0.05},45.85]
[176417,"Партнер номер 8","1945-05-16","оплачен",1575,{"$f":"IFERROR(VLOOKUP(B2986,'Комиссии партнеров'!$A$2:$B$52,2,FALSE),\"\")","v":0.03},47.25]
[176420,"Партнер номер 1","1945-05-16","не оплачен",1151,{"$f":"IFERROR(VLOOKUP(B2987,'Комиссии партнеров'!$A$2:$B$52,2,FALSE),\"\")","v":0.05},57.550000000000004]
[176424,"","1945-05-16","не оплачен",1635,{"$f":"IFERROR(VLOOKUP(B2988,'Комиссии партнеров'!$A$2:$B$52,2,FALSE),\"\")","v":""}]
[176426,"","1945-05-16","оплачен",917,{"$f":"IFERROR(VLOOKUP(B2989,'Комиссии партнеров'!$A$2:$B$52,2,FALSE),\"\")","v":""}]
[176430,"Партнер номер 3","1945-05-16","оплачен",3021,{"$f":"IFERROR(VLOOKUP(B2990,'Комиссии партнеров'!$A$2:$B$52,2,FALSE),\"\")","v":0.05},151.05000000000001]
[176435,"","1945-05-16","не оплачен",3006,{"$f":"IFERROR(VLOOKUP(B2991,'Комиссии партнеров'!$A$2:$B$52,2,FALSE),\"\")","v":""}]
[176438,"","1945-05-16","не оплачен",2347,{"$f":"IFERROR(VLOOKUP(B2992,'Комиссии партнеров'!$A$2:$B$52,2,FALSE),\"\")","v":""}]
[176440,"","1945-05-16","не оплачен",1809,{"$f":"IFERROR(VLOOKUP(B2993,'Комиссии партнеров'!$A$2:$B$52,2,FALSE),\"\")","v":""}]
[176446,"Партнер номер 1","1945-05-16","оплачен",2192,{"$f":"IFERROR(VLOOKUP(B2994,'Комиссии партнеров'!$A$2:$B$52,2,FALSE),\"\")","v":0.05},109.60000000000001]
[176451,"","1945-05-16","не оплачен",3756,{"$f":"IFERROR(VLOOKUP(B2995,'Комиссии партнеров'!$A$2:$B$52,2,FALSE),\"\")","v":""}]
[176456,"Партнер номер 1","1945-05-16","оплачен",2482,{"$f":"IFERROR(VLOOKUP(B2996,'Комиссии партнеров'!$A$2:$B$52,2,FALSE),\"\")","v":0.05},124.10000000000001]
[176460,"","1945-05-16","оплачен",3006,{"$f":"IFERROR(VLOOKUP(B2997,'Комиссии партнеров'!$A$2:$B$52,2,FALSE),\"\")","v":""}]
[176463,"Партнер номер 9","1945-05-16","оплачен",2399,{"$f":"IFERROR(VLOOKUP(B2998,'Комиссии партнеров'!$A$2:$B$52,2,FALSE),\"\")","v":0.05},119.95]
[176467,"","1945-05-16","оплачен",1334,{"$f":"IFERROR(VLOOKUP(B2999,'Комиссии партнеров'!$A$2:$B$52,2,FALSE),\"\")","v":""}]
[176470,"Партнер номер 1","1945-05-16","оплачен",561,{"$f":"IFERROR(VLOOKUP(B3000,'Комиссии партнеров'!$A$2:$B$52,2,FALSE),\"\")","v":0.05},28.05]
[176475,"","1945-05-16","оплачен",3916,{"$f":"IFERROR(VLOOKUP(B3001,'Комиссии партнеров'!$A$2:$B$52,2,FALSE),\"\")","v":""}]
[176478,"Партнер номер 1","1945-05-16","оплачен",803,{"$f":"IFERROR(VLOOKUP(B3002,'Комиссии партнеров'!$A$2:$B$52,2,FALSE),\"\")","v":0.05},40.150000000000006]
[176480,"","1945-05-16","оплачен",864,{"$f":"IFERROR(VLOOKUP(B3003,'Комиссии партнеров'!$A$2:$B$52,2,FALSE),\"\")","v":""}]
[176485,"Партнер номер 1","1945-05-16","не оплачен",3779,{"$f":"IFERROR(VLOOKUP(B3004,'Комиссии партнеров'!$A$2:$B$52,2,FALSE),\"\")","v":0.05},188.95000000000002]
[176486,"","1945-05-16","оплачен",842,{"$f":"IFERROR(VLOOKUP(B3005,'Комиссии партнеров'!$A$2:$B$52,2,FALSE),\"\")","v":""}]
[176491,"Партнер номер 16","1945-05-16","оплачен",2943,{"$f":"IFERROR(VLOOKUP(B3006,'Комиссии партнеров'!$A$2:$B$52,2,FALSE),\"\")","v":0.05},147.15]
[176496,"","1945-05-16","оплачен",1885,{"$f":"IFERROR(VLOOKUP(B3007,'Комиссии партнеров'!$A$2:$B$52,2,FALSE),\"\")","v":""}]
[176501,"Партнер номер 1","1945-05-16","оплачен",923,{"$f":"IFERROR(VLOOKUP(B3008,'Комиссии партнеров'!$A$2:$B$52,2,FALSE),\"\")","v":0.05},46.150000000000006]
[176503,"Партнер номер 9","1945-05-16","оплачен",2160,{"$f":"IFERROR(VLOOKUP(B3009,'Комиссии партнеров'!$A$2:$B$52,2,FALSE),\"\")","v":0.05},108]
[176509,"","1945-05-16","не оплачен",3048,{"$f":"IFERROR(VLOOKUP(B3010,'Комиссии партнеров'!$A$2:$B$52,2,FALSE),\"\")","v":""}]
[176510,"","1945-05-16","оплачен",997,{"$f":"IFERROR(VLOOKUP(B3011,'Комиссии партнеров'!$A$2:$B$52,2,FALSE),\"\")","v":""}]
[176512,"","1945-05-16","оплачен",1443,{"$f":"IFERROR(VLOOKUP(B3012,'Комиссии партнеров'!$A$2:$B$52,2,FALSE),\"\")","v":""}]
[176517,"","1945-05-16","оплачен",1990,{"$f":"IFERROR(VLOOKUP(B3013,'Комиссии партнеров'!$A$2:$B$52,2,FALSE),\"\")","v":""}]
[176521,"Партнер номер 9","1945-05-16","оплачен",3782,{"$f":"IFERROR(VLOOKUP(B3014,'Комиссии партнеров'!$A$2:$B$52,2,FALSE),\"\")","v":0.05},189.10000000000002]
[176522,"Партнер номер 1","1945-05-16","оплачен",985,{"$f":"IFERROR(VLOOKUP(B3015,'Комиссии партнеров'!$A$2:$B$52,2,FALSE),\"\")","v":0.05},49.25]
[176527,"","1945-05-16","не оплачен",2264,{"$f":"IFERROR(VLOOKUP(B3016,'Комиссии партнеров'!$A$2:$B$52,2,FALSE),\"\")","v":""}]
[176530,"","1945-05-16","оплачен",3863,{"$f":"IFERROR(VLOOKUP(B3017,'Комиссии партнеров'!$A$2:$B$52,2,FALSE),\"\")","v":""}]
[176536,"","1945-05-16","не оплачен",1671,{"$f":"IFERROR(VLOOKUP(B3018,'Комиссии партнеров'!$A$2:$B$52,2,FALSE),\"\")","v":""}]
[176539,"","1945-05-16","не оплачен",2264,{"$f":"IFERROR(VLOOKUP(B3019,'Комиссии партнеров'!$A$2:$B$52,2,FALSE),\"\")","v":""}]
[176543,"","1945-05-16","оплачен",1914,{"$f":"IFERROR(VLOOKUP(B3020,'Комиссии партнеров'!$A$2:$B$52,2,FALSE),\"\")","v":""}]
[176548,"Партнер номер 5","1945-05-16","не оплачен",2167,{"$f":"IFERROR(VLOOKUP(B3021,'Комиссии партнеров'!$A$2:$B$52,2,FALSE),\"\")","v":0.03},65.009999999999991]
[176551,"Партнер номер 9","1945-05-16","оплачен",2362,{"$f":"IFERROR(VLOOKUP(B3022,'Комиссии партнеров'!$A$2:$B$52,2,FALSE),\"\")","v":0.05},118.10000000000001]
[176557,"Партнер номер 1","1945-05-16","оплачен",1735,{"$f":"IFERROR(VLOOKUP(B3023,'Комиссии партнеров'!$A$2:$B$52,2,FALSE),\"\")","v":0.05},86.75]
[176561,"","1945-05-16","оплачен",2088,{"$f":"IFERROR(VLOOKUP(B3024,'Комиссии партнеров'!$A$2:$B$52,2,FALSE),\"\")","v":""}]
[176566,"","1945-05-16","оплачен",1489,{"$f":"IFERROR(VLOOKUP(B3025,'Комиссии партнеров'!$A$2:$B$52,2,FALSE),\"\")","v":""}]
[176570,"Партнер номер 1","1945-05-16","не оплачен",1399,{"$f":"IFERROR(VLOOKUP(B3026,'Комиссии партнеров'!$A$2:$B$52,2,FALSE),\"\")","v":0.05},69.95]
[176572,"","1945-05-16","не оплачен",1240,{"$f":"IFERROR(VLOOKUP(B3027,'Комиссии партнеров'!$A$2:$B$52,2,FALSE),\"\")","v":""}]
[176576,"","1945-05-16","оплачен",2137,{"$f":"IFERROR(VLOOKUP(B3028,'Комиссии партнеров'!$A$2:$B$52,2,FALSE),\"\")","v":""}]
[176580,"","1945-05-16","оплачен",2857,{"$f":"IFERROR(VLOOKUP(B3029,'Комиссии партнеров'!$A$2:$B$52,2,FALSE),\"\")","v":""}]
[176585,"","1945-05-16","не оплачен",1553,{"$f":"IFERROR(VLOOKUP(B3030,'Комиссии партнеров'!$A$2:$B$52,2,FALSE),\"\")","v":""}]
[176590,"","1945-05-16","оплачен",2857,{"$f":"IFERROR(VLOOKUP(B3031,'Комиссии партнеров'!$A$2:$B$52,2,FALSE),\"\")","v":""}]
[176595,"","1945-05-16","оплачен",2362,{"$f":"IFERROR(VLOOKUP(B3032,'Комиссии партнеров'!$A$2:$B$52,2,FALSE),\"\")","v":""}]
[176597,"Партнер номер 1","1945-05-16","не оплачен",713,{"$f":"IFERROR(VLOOKUP(B3033,'Комиссии партнеров'!$A$2:$B$52,2,FALSE),\"\")","v":0.05},35.65]
[176601,"Партнер номер 6","1945-05-16","не оплачен",2725,{"$f":"IFERROR(VLOOKUP(B3034,'Комиссии партнеров'!$A$2:$B$52,2,FALSE),\"\")","v":0.04},109]
[176604,"","1945-05-16","оплачен",2970,{"$f":"IFERROR(VLOOKUP(B3035,'Комиссии партнеров'!$A$2:$B$52,2,FALSE),\"\")","v":""}]
[176609,"Партнер номер 7","1945-05-16","оплачен",837,{"$f":"IFERROR(VLOOKUP(B3036,'Комиссии партнеров'!$A$2:$B$52,2,FALSE),\"\")","v":0.05},41.85]
[176613,"","1945-05-16","не оплачен",11279,{"$f":"IFERROR(VLOOKUP(B3037,'Комиссии партнеров'!$A$2:$B$52,2,FALSE),\"\")","v":""}]
[176616,"Партнер номер 11","1945-05-16","оплачен",1332,{"$f":"IFERROR(VLOOKUP(B3038,'Комиссии партнеров'!$A$2:$B$52,2,FALSE),\"\")","v":0.05},66.600000000000009]
[176621,"Партнер номер 1","1945-05-16","оплачен",1411,{"$f":"IFERROR(VLOOKUP(B3039,'Комиссии партнеров'!$A$2:$B$52,2,FALSE),\"\")","v":0.05},70.55]
[176625,"Партнер номер 1","1945-05-16","оплачен",1577,{"$f":"IFERROR(VLOOKUP(B3040,'Комиссии партнеров'!$A$2:$B$52,2,FALSE),\"\")","v":0.05},78.850000000000009]
[176630,"Партнер номер 1","1945-05-16","оплачен",1577,{"$f":"IFERROR(VLOOKUP(B3041,'Комиссии партнеров'!$A$2:$B$52,2,FALSE),\"\")","v":0.05},78.850000000000009]
[176635,"Партнер номер 5","1945-05-16","не оплачен",2167,{"$f":"IFERROR(VLOOKUP(B3042,'Комиссии партнеров'!$A$2:$B$52,2,FALSE),\"\")","v":0.03},65.009999999999991]
[176636,"Партнер номер 3","1945-05-16","не оплачен",1966,{"$f":"IFERROR(VLOOKUP(B3043,'Комиссии партнеров'!$A$2:$B$52,2,FALSE),\"\")","v":0.05},98.300000000000011]
[176639,"Партнер номер 5","1945-05-16","оплачен",2167,{"$f":"IFERROR(VLOOKUP(B3044,'Комиссии партнеров'!$A$2:$B$52,2,FALSE),\"\")","v":0.03},65.009999999999991]
[176641,"Партнер номер 7","1945-05-16","оплачен",1606,{"$f":"IFERROR(VLOOKUP(B3045,'Комиссии партнеров'!$A$2:$B$52,2,FALSE),\"\")","v":0.05},80.300000000000011]
[176643,"Партнер номер 8","1945-05-16","не оплачен",4760,{"$f":"IFERROR(VLOOKUP(B3046,'Комиссии партнеров'!$A$2:$B$52,2,FALSE),\"\")","v":0.03},142.79999999999998]
[176646,"Партнер номер 10","1945-05-16","не оплачен",3418,{"$f":"IFERROR(VLOOKUP(B3047,'Комиссии партнеров'!$A$2:$B$52,2,FALSE),\"\")","v":0.04},136.72]
[176650,"Партнер номер 7","1945-05-16","оплачен",1674,{"$f":"IFERROR(VLOOKUP(B3048,'Комиссии партнеров'!$A$2:$B$52,2,FALSE),\"\")","v":0.05},83.7]
[176655,"Партнер номер 7","1945-05-16","оплачен",1613,{"$f":"IFERROR(VLOOKUP(B3049,'Комиссии партнеров'!$A$2:$B$52,2,FALSE),\"\")","v":0.05},80.650000000000006]
[176658,"","1945-05-16","оплачен",2461,{"$f":"IFERROR(VLOOKUP(B3050,'Комиссии партнеров'!$A$2:$B$52,2,FALSE),\"\")","v":""}]
[176664,"","1945-05-16","оплачен",2868,{"$f":"IFERROR(VLOOKUP(B3051,'Комиссии партнеров'!$A$2:$B$52,2,FALSE),\"\")","v":""}]
[176666,"","1945-05-16","оплачен",1390,{"$f":"IFERROR(VLOOKUP(B3052,'Комиссии партнеров'!$A$2:$B$52,2,FALSE),\"\")","v":""}]
[176671,"","1945-05-16","оплачен",1536,{"$f":"IFERROR(VLOOKUP(B3053,'Комиссии партнеров'!$A$2:$B$52,2,FALSE),\"\")","v":""}]
[176675,"Партнер номер 11","1945-05-16","оплачен",2643,{"$f":"IFERROR(VLOOKUP(B3054,'Комиссии партнеров'!$A$2:$B$52,2,FALSE),\"\")","v":0.05},132.15]
[176676,"","1945-05-16","не оплачен",2145,{"$f":"IFERROR(VLOOKUP(B3055,'Комиссии партнеров'!$A$2:$B$52,2,FALSE),\"\")","v":""}]
[176679,"Партнер номер 10","1945-05-16","оплачен",3418,{"$f":"IFERROR(VLOOKUP(B3056,'Комиссии партнеров'!$A$2:$B$52,2,FALSE),\"\")","v":0.04},136.72]
[176682,"","1945-05-16","оплачен",1946,{"$f":"IFERROR(VLOOKUP(B3057,'Комиссии партнеров'!$A$2:$B$52,2,FALSE),\"\")","v":""}]
[176684,"Партнер номер 1","1945-05-16","оплачен",4436,{"$f":"IFERROR(VLOOKUP(B3058,'Комиссии партнеров'!$A$2:$B$52,2,FALSE),\"\")","v":0.05},221.8]
[176687,"Партнер номер 11","1945-05-16","оплачен",2159,{"$f":"IFERROR(VLOOKUP(B3059,'Комиссии партнеров'!$A$2:$B$52,2,FALSE),\"\")","v":0.05},107.95]
[176691,"Партнер номер 1","1945-05-16","оплачен",1216,{"$f":"IFERROR(VLOOKUP(B3060,'Комиссии партнеров'!$A$2:$B$52,2,FALSE),\"\")","v":0.05},60.800000000000004]
[176694,"","1945-05-16","оплачен",1337,{"$f":"IFERROR(VLOOKUP(B3061,'Комиссии партнеров'!$A$2:$B$52,2,FALSE),\"\")","v":""}]
[176699,"Партнер номер 28","1945-05-16","оплачен",2107,{"$f":"IFERROR(VLOOKUP(B3062,'Комиссии партнеров'!$A$2:$B$52,2,FALSE),\"\")","v":0.05},105.35000000000001]
[176701,"","1945-05-16","не оплачен",2649,{"$f":"IFERROR(VLOOKUP(B3063,'Комиссии партнеров'!$A$2:$B$52,2,FALSE),\"\")","v":""}]
[176705,"","1945-05-16","оплачен",2944,{"$f":"IFERROR(VLOOKUP(B3064,'Комиссии партнеров'!$A$2:$B$52,2,FALSE),\"\")","v":""}]
[176707,"Партнер номер 10","1945-05-16","не оплачен",952,{"$f":"IFERROR(VLOOKUP(B3065,'Комиссии партнеров'!$A$2:$B$52,2,FALSE),\"\")","v":0.04},38.08]
[176712,"Партнер номер 4","1945-05-16","не оплачен",1726,{"$f":"IFERROR(VLOOKUP(B3066,'Комиссии партнеров'!$A$2:$B$52,2,FALSE),\"\")","v":0.04},69.040000000000006]
[176716,"Партнер номер 7","1945-05-16","оплачен",1470,{"$f":"IFERROR(VLOOKUP(B3067,'Комиссии партнеров'!$A$2:$B$52,2,FALSE),\"\")","v":0.05},73.5]
[176721,"Партнер номер 10","1945-05-16","оплачен",1046,{"$f":"IFERROR(VLOOKUP(B3068,'Комиссии партнеров'!$A$2:$B$52,2,FALSE),\"\")","v":0.04},41.84]
[176725,"","1945-05-17","оплачен",2394,{"$f":"IFERROR(VLOOKUP(B3069,'Комиссии партнеров'!$A$2:$B$52,2,FALSE),\"\")","v":""}]
[176729,"","1945-05-17","оплачен",1717,{"$f":"IFERROR(VLOOKUP(B3070,'Комиссии партнеров'!$A$2:$B$52,2,FALSE),\"\")","v":""}]
[176730,"","1945-05-17","не оплачен",1986,{"$f":"IFERROR(VLOOKUP(B3071,'Комиссии партнеров'!$A$2:$B$52,2,FALSE),\"\")","v":""}]
[176732,"","1945-05-17","оплачен",2151,{"$f":"IFERROR(VLOOKUP(B3072,'Комиссии партнеров'!$A$2:$B$52,2,FALSE),\"\")","v":""}]
[176737,"Партнер номер 6","1945-05-17","не оплачен",1323,{"$f":"IFERROR(VLOOKUP(B3073,'Комиссии партнеров'!$A$2:$B$52,2,FALSE),\"\")","v":0.04},52.92]
[176740,"Партнер номер 3","1945-05-17","оплачен",4048,{"$f":"IFERROR(VLOOKUP(B3074,'Комиссии партнеров'!$A$2:$B$52,2,FALSE),\"\")","v":0.05},202.4]
[176743,"","1945-05-17","оплачен",3574,{"$f":"IFERROR(VLOOKUP(B3075,'Комиссии партнеров'!$A$2:$B$52,2,FALSE),\"\")","v":""}]
[176747,"","1945-05-17","не оплачен",1281,{"$f":"IFERROR(VLOOKUP(B3076,'Комиссии партнеров'!$A$2:$B$52,2,FALSE),\"\")","v":""}]
[176750,"Партнер номер 1","1945-05-17","оплачен",2587,{"$f":"IFERROR(VLOOKUP(B3077,'Комиссии партнеров'!$A$2:$B$52,2,FALSE),\"\")","v":0.05},129.35]
[176752,"","1945-05-17","оплачен",2122,{"$f":"IFERROR(VLOOKUP(B3078,'Комиссии партнеров'!$A$2:$B$52,2,FALSE),\"\")","v":""}]
[176754,"","1945-05-17","оплачен",844,{"$f":"IFERROR(VLOOKUP(B3079,'Комиссии партнеров'!$A$2:$B$52,2,FALSE),\"\")","v":""}]
[176756,"","1945-05-17","оплачен",624,{"$f":"IFERROR(VLOOKUP(B3080,'Комиссии партнеров'!$A$2:$B$52,2,FALSE),\"\")","v":""}]
[176758,"","1945-05-17","оплачен",2026,{"$f":"IFERROR(VLOOKUP(B3081,'Комиссии партнеров'!$A$2:$B$52,2,FALSE),\"\")","v":""}]
[176760,"Партнер номер 1","1945-05-17","оплачен",735,{"$f":"IFERROR(VLOOKUP(B3082,'Комиссии партнеров'!$A$2:$B$52,2,FALSE),\"\")","v":0.05},36.75]
[176762,"","1945-05-17","не оплачен",2797,{"$f":"IFERROR(VLOOKUP(B3083,'Комиссии партнеров'!$A$2:$B$52,2,FALSE),\"\")","v":""}]
[176768,"Партнер номер 1","1945-05-17","оплачен",1951,{"$f":"IFERROR(VLOOKUP(B3084,'Комиссии партнеров'!$A$2:$B$52,2,FALSE),\"\")","v":0.05},97.550000000000011]
[176770,"","1945-05-17","оплачен",682,{"$f":"IFERROR(VLOOKUP(B3085,'Комиссии партнеров'!$A$2:$B$52,2,FALSE),\"\")","v":""}]
[176774,"Партнер номер 10","1945-05-17","не оплачен",980,{"$f":"IFERROR(VLOOKUP(B3086,'Комиссии партнеров'!$A$2:$B$52,2,FALSE),\"\")","v":0.04},39.200000000000003]
[176778,"Партнер номер 5","1945-05-17","оплачен",5572,{"$f":"IFERROR(VLOOKUP(B3087,'Комиссии партнеров'!$A$2:$B$52,2,FALSE),\"\")","v":0.03},167.16]
[176780,"Партнер номер 1","1945-05-17","оплачен",415,{"$f":"IFERROR(VLOOKUP(B3088,'Комиссии партнеров'!$A$2:$B$52,2,FALSE),\"\")","v":0.05},20.75]
[176785,"","1945-05-17","не оплачен",460,{"$f":"IFERROR(VLOOKUP(B3089,'Комиссии партнеров'!$A$2:$B$52,2,FALSE),\"\")","v":""}]
[176788,"Партнер номер 3","1945-05-17","оплачен",1006,{"$f":"IFERROR(VLOOKUP(B3090,'Комиссии партнеров'!$A$2:$B$52,2,FALSE),\"\")","v":0.05},50.300000000000004]
[176791,"Партнер номер 1","1945-05-17","не оплачен",860,{"$f":"IFERROR(VLOOKUP(B3091,'Комиссии партнеров'!$A$2:$B$52,2,FALSE),\"\")","v":0.05},43]
[176795,"","1945-05-17","оплачен",1987,{"$f":"IFERROR(VLOOKUP(B3092,'Комиссии партнеров'!$A$2:$B$52,2,FALSE),\"\")","v":""}]
[176801,"Партнер номер 1","1945-05-17","оплачен",397,{"$f":"IFERROR(VLOOKUP(B3093,'Комиссии партнеров'!$A$2:$B$52,2,FALSE),\"\")","v":0.05},19.850000000000001]
[176802,"Партнер номер 1","1945-05-17","не оплачен",839,{"$f":"IFERROR(VLOOKUP(B3094,'Комиссии партнеров'!$A$2:$B$52,2,FALSE),\"\")","v":0.05},41.95]
[176807,"Партнер номер 1","1945-05-17","оплачен",848,{"$f":"IFERROR(VLOOKUP(B3095,'Комиссии партнеров'!$A$2:$B$52,2,FALSE),\"\")","v":0.05},42.400000000000006]
[176810,"","1945-05-17","не оплачен",1150,{"$f":"IFERROR(VLOOKUP(B3096,'Комиссии партнеров'!$A$2:$B$52,2,FALSE),\"\")","v":""}]
[176814,"","1945-05-17","не оплачен",1686,{"$f":"IFERROR(VLOOKUP(B3097,'Комиссии партнеров'!$A$2:$B$52,2,FALSE),\"\")","v":""}]
[176820,"","1945-05-17","оплачен",843,{"$f":"IFERROR(VLOOKUP(B3098,'Комиссии партнеров'!$A$2:$B$52,2,FALSE),\"\")","v":""}]
[176824,"Партнер номер 1","1945-05-17","не оплачен",932,{"$f":"IFERROR(VLOOKUP(B3099,'Комиссии партнеров'!$A$2:$B$52,2,FALSE),\"\")","v":0.05},46.6]
[176827,"","1945-05-17","оплачен",2185,{"$f":"IFERROR(VLOOKUP(B3100,'Комиссии партнеров'!$A$2:$B$52,2,FALSE),\"\")","v":""}]
[176833,"Партнер номер 1","1945-05-17","оплачен",555,{"$f":"IFERROR(VLOOKUP(B3101,'Комиссии партнеров'!$A$2:$B$52,2,FALSE),\"\")","v":0.05},27.75]
[176836,"Партнер номер 1","1945-05-17","оплачен",443,{"$f":"IFERROR(VLOOKUP(B3102,'Комиссии партнеров'!$A$2:$B$52,2,FALSE),\"\")","v":0.05},22.150000000000002]
[176841,"Партнер номер 1","1945-05-17","не оплачен",2180,{"$f":"IFERROR(VLOOKUP(B3103,'Комиссии партнеров'!$A$2:$B$52,2,FALSE),\"\")","v":0.05},109]
[176844,"Партнер номер 1","1945-05-17","не оплачен",397,{"$f":"IFERROR(VLOOKUP(B3104,'Комиссии партнеров'!$A$2:$B$52,2,FALSE),\"\")","v":0.05},19.850000000000001]
[176848,"Партнер номер 10","1945-05-17","не оплачен",3990,{"$f":"IFERROR(VLOOKUP(B3105,'Комиссии партнеров'!$A$2:$B$52,2,FALSE),\"\")","v":0.04},159.6]
[176851,"Партнер номер 11","1945-05-17","оплачен",2195,{"$f":"IFERROR(VLOOKUP(B3106,'Комиссии партнеров'!$A$2:$B$52,2,FALSE),\"\")","v":0.05},109.75]
[176856,"Партнер номер 7","1945-05-17","оплачен",1490,{"$f":"IFERROR(VLOOKUP(B3107,'Комиссии партнеров'!$A$2:$B$52,2,FALSE),\"\")","v":0.05},74.5]
[176859,"Партнер номер 1","1945-05-17","оплачен",397,{"$f":"IFERROR(VLOOKUP(B3108,'Комиссии партнеров'!$A$2:$B$52,2,FALSE),\"\")","v":0.05},19.850000000000001]
[176863,"Партнер номер 1","1945-05-17","не оплачен",860,{"$f":"IFERROR(VLOOKUP(B3109,'Комиссии партнеров'!$A$2:$B$52,2,FALSE),\"\")","v":0.05},43]
[176868,"Партнер номер 1","1945-05-17","не оплачен",698,{"$f":"IFERROR(VLOOKUP(B3110,'Комиссии партнеров'!$A$2:$B$52,2,FALSE),\"\")","v":0.05},34.9]
[176871,"","1945-05-17","не оплачен",2300,{"$f":"IFERROR(VLOOKUP(B3111,'Комиссии партнеров'!$A$2:$B$52,2,FALSE),\"\")","v":""}]
[176876,"Партнер номер 19","1945-05-17","не оплачен",814,{"$f":"IFERROR(VLOOKUP(B3112,'Комиссии партнеров'!$A$2:$B$52,2,FALSE),\"\")","v":0.05},40.700000000000003]
[176881,"Партнер номер 1","1945-05-17","не оплачен",1504,{"$f":"IFERROR(VLOOKUP(B3113,'Комиссии партнеров'!$A$2:$B$52,2,FALSE),\"\")","v":0.05},75.2]
[176885,"","1945-05-17","оплачен",1533,{"$f":"IFERROR(VLOOKUP(B3114,'Комиссии партнеров'!$A$2:$B$52,2,FALSE),\"\")","v":""}]
[176888,"","1945-05-17","оплачен",823,{"$f":"IFERROR(VLOOKUP(B3115,'Комиссии партнеров'!$A$2:$B$52,2,FALSE),\"\")","v":""}]
[176890,"Партнер номер 1","1945-05-17","оплачен",883,{"$f":"IFERROR(VLOOKUP(B3116,'Комиссии партнеров'!$A$2:$B$52,2,FALSE),\"\")","v":0.05},44.150000000000006]
[176893,"","1945-05-17","не оплачен",1320,{"$f":"IFERROR(VLOOKUP(B3117,'Комиссии партнеров'!$A$2:$B$52,2,FALSE),\"\")","v":""}]
[176896,"","1945-05-17","оплачен",3884,{"$f":"IFERROR(VLOOKUP(B3118,'Комиссии партнеров'!$A$2:$B$52,2,FALSE),\"\")","v":""}]
[176901,"Партнер номер 1","1945-05-17","не оплачен",860,{"$f":"IFERROR(VLOOKUP(B3119,'Комиссии партнеров'!$A$2:$B$52,2,FALSE),\"\")","v":0.05},43]
[176906,"Партнер номер 1","1945-05-17","не оплачен",420,{"$f":"IFERROR(VLOOKUP(B3120,'Комиссии партнеров'!$A$2:$B$52,2,FALSE),\"\")","v":0.05},21]
[176909,"Партнер номер 7","1945-05-17","не оплачен",2533,{"$f":"IFERROR(VLOOKUP(B3121,'Комиссии партнеров'!$A$2:$B$52,2,FALSE),\"\")","v":0.05},126.65]
[176913,"Партнер номер 8","1945-05-17","оплачен",2682,{"$f":"IFERROR(VLOOKUP(B3122,'Комиссии партнеров'!$A$2:$B$52,2,FALSE),\"\")","v":0.03},80.459999999999994]
[176916,"Партнер номер 1","1945-05-17","оплачен",569,{"$f":"IFERROR(VLOOKUP(B3123,'Комиссии партнеров'!$A$2:$B$52,2,FALSE),\"\")","v":0.05},28.450000000000003]
[176921,"Партнер номер 25","1945-05-17","не оплачен",1393,{"$f":"IFERROR(VLOOKUP(B3124,'Комиссии партнеров'!$A$2:$B$52,2,FALSE),\"\")","v":0.05},69.650000000000006]
[176924,"","1945-05-17","не оплачен",1241,{"$f":"IFERROR(VLOOKUP(B3125,'Комиссии партнеров'!$A$2:$B$52,2,FALSE),\"\")","v":""}]
[176928,"Партнер номер 1","1945-05-17","оплачен",2084,{"$f":"IFERROR(VLOOKUP(B3126,'Комиссии партнеров'!$A$2:$B$52,2,FALSE),\"\")","v":0.05},104.2]
[176933,"","1945-05-17","оплачен",2250,{"$f":"IFERROR(VLOOKUP(B3127,'Комиссии партнеров'!$A$2:$B$52,2,FALSE),\"\")","v":""}]
[176935,"","1945-05-17","не оплачен",1239,{"$f":"IFERROR(VLOOKUP(B3128,'Комиссии партнеров'!$A$2:$B$52,2,FALSE),\"\")","v":""}]
[176940,"Партнер номер 11","1945-05-17","оплачен",2801,{"$f":"IFERROR(VLOOKUP(B3129,'Комиссии партнеров'!$A$2:$B$52,2,FALSE),\"\")","v":0.05},140.05000000000001]
[176945,"","1945-05-17","не оплачен",2072,{"$f":"IFERROR(VLOOKUP(B3130,'Комиссии партнеров'!$A$2:$B$52,2,FALSE),\"\")","v":""}]
[176951,"","1945-05-17","оплачен",960,{"$f":"IFERROR(VLOOKUP(B3131,'Комиссии партнеров'!$A$2:$B$52,2,FALSE),\"\")","v":""}]
[176955,"Партнер номер 1","1945-05-17","оплачен",883,{"$f":"IFERROR(VLOOKUP(B3132,'Комиссии партнеров'!$A$2:$B$52,2,FALSE),\"\")","v":0.05},44.150000000000006]
[176957,"Партнер номер 1","1945-05-17","не оплачен",547,{"$f":"IFERROR(VLOOKUP(B3133,'Комиссии партнеров'!$A$2:$B$52,2,FALSE),\"\")","v":0.05},27.35]
[176958,"","1945-05-17","оплачен",2553,{"$f":"IFERROR(VLOOKUP(B3134,'Комиссии партнеров'!$A$2:$B$52,2,FALSE),\"\")","v":""}]
[176962,"","1945-05-17","не оплачен",2584,{"$f":"IFERROR(VLOOKUP(B3135,'Комиссии партнеров'!$A$2:$B$52,2,FALSE),\"\")","v":""}]
[176968,"","1945-05-17","оплачен",818,{"$f":"IFERROR(VLOOKUP(B3136,'Комиссии партнеров'!$A$2:$B$52,2,FALSE),\"\")","v":""}]
[176970,"","1945-05-17","не оплачен",1510,{"$f":"IFERROR(VLOOKUP(B3137,'Комиссии партнеров'!$A$2:$B$52,2,FALSE),\"\")","v":""}]
[176973,"Партнер номер 1","1945-05-17","не оплачен",920,{"$f":"IFERROR(VLOOKUP(B3138,'Комиссии партнеров'!$A$2:$B$52,2,FALSE),\"\")","v":0.05},46]
[176977,"","1945-05-17","оплачен",1324,{"$f":"IFERROR(VLOOKUP(B3139,'Комиссии партнеров'!$A$2:$B$52,2,FALSE),\"\")","v":""}]
[176980,"Партнер номер 3","1945-05-17","оплачен",955,{"$f":"IFERROR(VLOOKUP(B3140,'Комиссии партнеров'!$A$2:$B$52,2,FALSE),\"\")","v":0.05},47.75]
[176982,"","1945-05-17","оплачен",1324,{"$f":"IFERROR(VLOOKUP(B3141,'Комиссии партнеров'!$A$2:$B$52,2,FALSE),\"\")","v":""}]
[176987,"","1945-05-17","оплачен",1324,{"$f":"IFERROR(VLOOKUP(B3142,'Комиссии партнеров'!$A$2:$B$52,2,FALSE),\"\")","v":""}]
[176992,"","1945-05-17","оплачен",1252,{"$f":"IFERROR(VLOOKUP(B3143,'Комиссии партнеров'!$A$2:$B$52,2,FALSE),\"\")","v":""}]
[176996,"Партнер номер 1","1945-05-17","не оплачен",638,{"$f":"IFERROR(VLOOKUP(B3144,'Комиссии партнеров'!$A$2:$B$52,2,FALSE),\"\")","v":0.05},31.900000000000002]
[177001,"Партнер номер 47","1945-05-17","не оплачен",3797,{"$f":"IFERROR(VLOOKUP(B3145,'Комиссии партнеров'!$A$2:$B$52,2,FALSE),\"\")","v":0.05},189.85000000000002]
[177004,"Партнер номер 1","1945-05-17","оплачен",883,{"$f":"IFERROR(VLOOKUP(B3146,'Комиссии партнеров'!$A$2:$B$52,2,FALSE),\"\")","v":0.05},44.150000000000006]
[177007,"","1945-05-17","оплачен",1068,{"$f":"IFERROR(VLOOKUP(B3147,'Комиссии партнеров'!$A$2:$B$52,2,FALSE),\"\")","v":""}]
[177010,"Партнер номер 11","1945-05-17","не оплачен",887,{"$f":"IFERROR(VLOOKUP(B3148,'Комиссии партнеров'!$A$2:$B$52,2,FALSE),\"\")","v":0.05},44.35]
[177014,"Партнер номер 5","1945-05-17","не оплачен",1544,{"$f":"IFERROR(VLOOKUP(B3149,'Комиссии партнеров'!$A$2:$B$52,2,FALSE),\"\")","v":0.03},46.32]
[177017,"Партнер номер 47","1945-05-17","не оплачен",2794,{"$f":"IFERROR(VLOOKUP(B3150,'Комиссии партнеров'!$A$2:$B$52,2,FALSE),\"\")","v":0.05},139.70000000000002]
[177022,"","1945-05-17","оплачен",442,{"$f":"IFERROR(VLOOKUP(B3151,'Комиссии партнеров'!$A$2:$B$52,2,FALSE),\"\")","v":""}]
[177025,"","1945-05-17","оплачен",1426,{"$f":"IFERROR(VLOOKUP(B3152,'Комиссии партнеров'!$A$2:$B$52,2,FALSE),\"\")","v":""}]
[177026,"","1945-05-17","не оплачен",787,{"$f":"IFERROR(VLOOKUP(B3153,'Комиссии партнеров'!$A$2:$B$52,2,FALSE),\"\")","v":""}]
[177030,"","1945-05-17","оплачен",1127,{"$f":"IFERROR(VLOOKUP(B3154,'Комиссии партнеров'!$A$2:$B$52,2,FALSE),\"\")","v":""}]
[177033,"Партнер номер 1","1945-05-17","не оплачен",420,{"$f":"IFERROR(VLOOKUP(B3155,'Комиссии партнеров'!$A$2:$B$52,2,FALSE),\"\")","v":0.05},21]
[177036,"Партнер номер 11","1945-05-17","оплачен",705,{"$f":"IFERROR(VLOOKUP(B3156,'Комиссии партнеров'!$A$2:$B$52,2,FALSE),\"\")","v":0.05},35.25]
[177038,"Партнер номер 1","1945-05-17","не оплачен",1269,{"$f":"IFERROR(VLOOKUP(B3157,'Комиссии партнеров'!$A$2:$B$52,2,FALSE),\"\")","v":0.05},63.45]
[177041,"","1945-05-17","оплачен",4090,{"$f":"IFERROR(VLOOKUP(B3158,'Комиссии партнеров'!$A$2:$B$52,2,FALSE),\"\")","v":""}]
[177042,"Партнер номер 1","1945-05-17","оплачен",1679,{"$f":"IFERROR(VLOOKUP(B3159,'Комиссии партнеров'!$A$2:$B$52,2,FALSE),\"\")","v":0.05},83.95]
[177046,"","1945-05-17","оплачен",1460,{"$f":"IFERROR(VLOOKUP(B3160,'Комиссии партнеров'!$A$2:$B$52,2,FALSE),\"\")","v":""}]
[177050,"Партнер номер 1","1945-05-17","не оплачен",905,{"$f":"IFERROR(VLOOKUP(B3161,'Комиссии партнеров'!$A$2:$B$52,2,FALSE),\"\")","v":0.05},45.25]
[177056,"","1945-05-17","оплачен",706,{"$f":"IFERROR(VLOOKUP(B3162,'Комиссии партнеров'!$A$2:$B$52,2,FALSE),\"\")","v":""}]
[177059,"Партнер номер 1","1945-05-17","оплачен",1063,{"$f":"IFERROR(VLOOKUP(B3163,'Комиссии партнеров'!$A$2:$B$52,2,FALSE),\"\")","v":0.05},53.150000000000006]
[177062,"Партнер номер 11","1945-05-17","оплачен",525,{"$f":"IFERROR(VLOOKUP(B3164,'Комиссии партнеров'!$A$2:$B$52,2,FALSE),\"\")","v":0.05},26.25]
[177064,"Партнер номер 1","1945-05-17","не оплачен",883,{"$f":"IFERROR(VLOOKUP(B3165,'Комиссии партнеров'!$A$2:$B$52,2,FALSE),\"\")","v":0.05},44.150000000000006]
[177068,"Партнер номер 15","1945-05-17","оплачен",2092,{"$f":"IFERROR(VLOOKUP(B3166,'Комиссии партнеров'!$A$2:$B$52,2,FALSE),\"\")","v":0.03},62.76]
[177070,"Партнер номер 1","1945-05-17","оплачен",1519,{"$f":"IFERROR(VLOOKUP(B3167,'Комиссии партнеров'!$A$2:$B$52,2,FALSE),\"\")","v":0.05},75.95]
[177073,"Партнер номер 2","1945-05-17","не оплачен",1612,{"$f":"IFERROR(VLOOKUP(B3168,'Комиссии партнеров'!$A$2:$B$52,2,FALSE),\"\")","v":0.04},64.48]
[177077,"Партнер номер 1","1945-05-17","оплачен",2025,{"$f":"IFERROR(VLOOKUP(B3169,'Комиссии партнеров'!$A$2:$B$52,2,FALSE),\"\")","v":0.05},101.25]
[177079,"Партнер номер 7","1945-05-17","оплачен",1788,{"$f":"IFERROR(VLOOKUP(B3170,'Комиссии партнеров'!$A$2:$B$52,2,FALSE),\"\")","v":0.05},89.4]
[177081,"","1945-05-17","не оплачен",2835,{"$f":"IFERROR(VLOOKUP(B3171,'Комиссии партнеров'!$A$2:$B$52,2,FALSE),\"\")","v":""}]
[177084,"Партнер номер 1","1945-05-17","оплачен",4817,{"$f":"IFERROR(VLOOKUP(B3172,'Комиссии партнеров'!$A$2:$B$52,2,FALSE),\"\")","v":0.05},240.85000000000002]
[177089,"Партнер номер 1","1945-05-17","оплачен",4817,{"$f":"IFERROR(VLOOKUP(B3173,'Комиссии партнеров'!$A$2:$B$52,2,FALSE),\"\")","v":0.05},240.85000000000002]
[177094,"","1945-05-17","оплачен",1063,{"$f":"IFERROR(VLOOKUP(B3174,'Комиссии партнеров'!$A$2:$B$52,2,FALSE),\"\")","v":""}]
[177099,"Партнер номер 11","1945-05-17","оплачен",763,{"$f":"IFERROR(VLOOKUP(B3175,'Комиссии партнеров'!$A$2:$B$52,2,FALSE),\"\")","v":0.05},38.15]
[177103,"","1945-05-17","оплачен",2957,{"$f":"IFERROR(VLOOKUP(B3176,'Комиссии партнеров'!$A$2:$B$52,2,FALSE),\"\")","v":""}]
[177107,"Партнер номер 11","1945-05-17","оплачен",701,{"$f":"IFERROR(VLOOKUP(B3177,'Комиссии партнеров'!$A$2:$B$52,2,FALSE),\"\")","v":0.05},35.050000000000004]
[177112,"","1945-05-17","оплачен",992,{"$f":"IFERROR(VLOOKUP(B3178,'Комиссии партнеров'!$A$2:$B$52,2,FALSE),\"\")","v":""}]
[177117,"Партнер номер 11","1945-05-17","оплачен",1452,{"$f":"IFERROR(VLOOKUP(B3179,'Комиссии партнеров'!$A$2:$B$52,2,FALSE),\"\")","v":0.05},72.600000000000009]
[177120,"","1945-05-17","не оплачен",1301,{"$f":"IFERROR(VLOOKUP(B3180,'Комиссии партнеров'!$A$2:$B$52,2,FALSE),\"\")","v":""}]
[177124,"","1945-05-17","оплачен",1454,{"$f":"IFERROR(VLOOKUP(B3181,'Комиссии партнеров'!$A$2:$B$52,2,FALSE),\"\")","v":""}]
[177129,"","1945-05-17","не оплачен",1111,{"$f":"IFERROR(VLOOKUP(B3182,'Комиссии партнеров'!$A$2:$B$52,2,FALSE),\"\")","v":""}]
[177132,"Партнер номер 25","1945-05-17","оплачен",1393,{"$f":"IFERROR(VLOOKUP(B3183,'Комиссии партнеров'!$A$2:$B$52,2,FALSE),\"\")","v":0.05},69.650000000000006]
[177134,"Партнер номер 1","1945-05-17","оплачен",974,{"$f":"IFERROR(VLOOKUP(B3184,'Комиссии партнеров'!$A$2:$B$52,2,FALSE),\"\")","v":0.05},48.7]
[177137,"","1945-05-17","не оплачен",1591,{"$f":"IFERROR(VLOOKUP(B3185,'Комиссии партнеров'!$A$2:$B$52,2,FALSE),\"\")","v":""}]
[177140,"Партнер номер 7","1945-05-17","оплачен",3081,{"$f":"IFERROR(VLOOKUP(B3186,'Комиссии партнеров'!$A$2:$B$52,2,FALSE),\"\")","v":0.05},154.05000000000001]
[177144,"Партнер номер 6","1945-05-17","оплачен",1559,{"$f":"IFERROR(VLOOKUP(B3187,'Комиссии партнеров'!$A$2:$B$52,2,FALSE),\"\")","v":0.04},62.36]
[177145,"Партнер номер 1","1945-05-17","оплачен",371,{"$f":"IFERROR(VLOOKUP(B3188,'Комиссии партнеров'!$A$2:$B$52,2,FALSE),\"\")","v":0.05},18.55]
[177148,"Партнер номер 1","1945-05-17","оплачен",2191,{"$f":"IFERROR(VLOOKUP(B3189,'Комиссии партнеров'!$A$2:$B$52,2,FALSE),\"\")","v":0.05},109.55000000000001]
[177149,"Партнер номер 1","1945-05-17","не оплачен",2741,{"$f":"IFERROR(VLOOKUP(B3190,'Комиссии партнеров'!$A$2:$B$52,2,FALSE),\"\")","v":0.05},137.05000000000001]
[177154,"Партнер номер 11","1945-05-17","не оплачен",1765,{"$f":"IFERROR(VLOOKUP(B3191,'Комиссии партнеров'!$A$2:$B$52,2,FALSE),\"\")","v":0.05},88.25]
[177160,"Партнер номер 4","1945-05-17","оплачен",1692,{"$f":"IFERROR(VLOOKUP(B3192,'Комиссии партнеров'!$A$2:$B$52,2,FALSE),\"\")","v":0.04},67.680000000000007]
[177161,"","1945-05-17","оплачен",2202,{"$f":"IFERROR(VLOOKUP(B3193,'Комиссии партнеров'!$A$2:$B$52,2,FALSE),\"\")","v":""}]
[177165,"","1945-05-17","оплачен",2859,{"$f":"IFERROR(VLOOKUP(B3194,'Комиссии партнеров'!$A$2:$B$52,2,FALSE),\"\")","v":""}]
[177167,"Партнер номер 11","1945-05-17","не оплачен",860,{"$f":"IFERROR(VLOOKUP(B3195,'Комиссии партнеров'!$A$2:$B$52,2,FALSE),\"\")","v":0.05},43]
[177172,"","1945-05-17","не оплачен",1211,{"$f":"IFERROR(VLOOKUP(B3196,'Комиссии партнеров'!$A$2:$B$52,2,FALSE),\"\")","v":""}]
[177181,"","1945-05-17","оплачен",2492,{"$f":"IFERROR(VLOOKUP(B3197,'Комиссии партнеров'!$A$2:$B$52,2,FALSE),\"\")","v":""}]
[177191,"Партнер номер 1","1945-05-17","не оплачен",1489,{"$f":"IFERROR(VLOOKUP(B3198,'Комиссии партнеров'!$A$2:$B$52,2,FALSE),\"\")","v":0.05},74.45]
[177196,"","1945-05-17","не оплачен",1211,{"$f":"IFERROR(VLOOKUP(B3199,'Комиссии партнеров'!$A$2:$B$52,2,FALSE),\"\")","v":""}]
[177205,"Партнер номер 1","1945-05-17","оплачен",1412,{"$f":"IFERROR(VLOOKUP(B3200,'Комиссии партнеров'!$A$2:$B$52,2,FALSE),\"\")","v":0.05},70.600000000000009]
[177210,"Партнер номер 3","1945-05-17","не оплачен",2196,{"$f":"IFERROR(VLOOKUP(B3201,'Комиссии партнеров'!$A$2:$B$52,2,FALSE),\"\")","v":0.05},109.80000000000001]
[177212,"","1945-05-17","оплачен",914,{"$f":"IFERROR(VLOOKUP(B3202,'Комиссии партнеров'!$A$2:$B$52,2,FALSE),\"\")","v":""}]
[177218,"","1945-05-17","оплачен",784,{"$f":"IFERROR(VLOOKUP(B3203,'Комиссии партнеров'!$A$2:$B$52,2,FALSE),\"\")","v":""}]
[177221,"","1945-05-17","не оплачен",1763,{"$f":"IFERROR(VLOOKUP(B3204,'Комиссии партнеров'!$A$2:$B$52,2,FALSE),\"\")","v":""}]
[177225,"","1945-05-17","не оплачен",1659,{"$f":"IFERROR(VLOOKUP(B3205,'Комиссии партнеров'!$A$2:$B$52,2,FALSE),\"\")","v":""}]
[177237,"Партнер номер 5","1945-05-17","оплачен",1835,{"$f":"IFERROR(VLOOKUP(B3206,'Комиссии партнеров'!$A$2:$B$52,2,FALSE),\"\")","v":0.03},55.05]
[177242,"Партнер номер 1","1945-05-17","не оплачен",500,{"$f":"IFERROR(VLOOKUP(B3207,'Комиссии партнеров'!$A$2:$B$52,2,FALSE),\"\")","v":0.05},25]
[177251,"Партнер номер 1","1945-05-17","оплачен",2319,{"$f":"IFERROR(VLOOKUP(B3208,'Комиссии партнеров'!$A$2:$B$52,2,FALSE),\"\")","v":0.05},115.95]
[177259,"Партнер номер 5","1945-05-17","оплачен",2836,{"$f":"IFERROR(VLOOKUP(B3209,'Комиссии партнеров'!$A$2:$B$52,2,FALSE),\"\")","v":0.03},85.08]
[177263,"","1945-05-17","оплачен",2383,{"$f":"IFERROR(VLOOKUP(B3210,'Комиссии партнеров'!$A$2:$B$52,2,FALSE),\"\")","v":""}]
[177265,"","1945-05-17","оплачен",3460,{"$f":"IFERROR(VLOOKUP(B3211,'Комиссии партнеров'!$A$2:$B$52,2,FALSE),\"\")","v":""}]
[177271,"","1945-05-17","оплачен",3277,{"$f":"IFERROR(VLOOKUP(B3212,'Комиссии партнеров'!$A$2:$B$52,2,FALSE),\"\")","v":""}]
[177273,"","1945-05-17","не оплачен",1421,{"$f":"IFERROR(VLOOKUP(B3213,'Комиссии партнеров'!$A$2:$B$52,2,FALSE),\"\")","v":""}]
[177276,"","1945-05-17","не оплачен",2372,{"$f":"IFERROR(VLOOKUP(B3214,'Комиссии партнеров'!$A$2:$B$52,2,FALSE),\"\")","v":""}]
[177283,"Партнер номер 37","1945-05-17","оплачен",1381,{"$f":"IFERROR(VLOOKUP(B3215,'Комиссии партнеров'!$A$2:$B$52,2,FALSE),\"\")","v":0.05},69.05]
[177286,"Партнер номер 5","1945-05-17","не оплачен",2042,{"$f":"IFERROR(VLOOKUP(B3216,'Комиссии партнеров'!$A$2:$B$52,2,FALSE),\"\")","v":0.03},61.26]
[177290,"","1945-05-17","оплачен",2398,{"$f":"IFERROR(VLOOKUP(B3217,'Комиссии партнеров'!$A$2:$B$52,2,FALSE),\"\")","v":""}]
[177292,"","1945-05-17","оплачен",7713,{"$f":"IFERROR(VLOOKUP(B3218,'Комиссии партнеров'!$A$2:$B$52,2,FALSE),\"\")","v":""}]
[177297,"Партнер номер 1","1945-05-17","оплачен",724,{"$f":"IFERROR(VLOOKUP(B3219,'Комиссии партнеров'!$A$2:$B$52,2,FALSE),\"\")","v":0.05},36.200000000000003]
[177299,"Партнер номер 1","1945-05-17","оплачен",502,{"$f":"IFERROR(VLOOKUP(B3220,'Комиссии партнеров'!$A$2:$B$52,2,FALSE),\"\")","v":0.05},25.1]
[177306,"","1945-05-17","оплачен",628,{"$f":"IFERROR(VLOOKUP(B3221,'Комиссии партнеров'!$A$2:$B$52,2,FALSE),\"\")","v":""}]
[177310,"Партнер номер 1","1945-05-17","оплачен",500,{"$f":"IFERROR(VLOOKUP(B3222,'Комиссии партнеров'!$A$2:$B$52,2,FALSE),\"\")","v":0.05},25]
[177315,"Партнер номер 2","1945-05-17","не оплачен",1745,{"$f":"IFERROR(VLOOKUP(B3223,'Комиссии партнеров'!$A$2:$B$52,2,FALSE),\"\")","v":0.04},69.8]
[177318,"","1945-05-17","оплачен",3386,{"$f":"IFERROR(VLOOKUP(B3224,'Комиссии партнеров'!$A$2:$B$52,2,FALSE),\"\")","v":""}]
[177322,"","1945-05-17","оплачен",1911,{"$f":"IFERROR(VLOOKUP(B3225,'Комиссии партнеров'!$A$2:$B$52,2,FALSE),\"\")","v":""}]
[177324,"Партнер номер 42","1945-05-17","не оплачен",2245,{"$f":"IFERROR(VLOOKUP(B3226,'Комиссии партнеров'!$A$2:$B$52,2,FALSE),\"\")","v":0.05},112.25]
[177335,"Партнер номер 3","1945-05-17","не оплачен",416,{"$f":"IFERROR(VLOOKUP(B3227,'Комиссии партнеров'!$A$2:$B$52,2,FALSE),\"\")","v":0.05},20.8]
[177340,"","1945-05-17","не оплачен",3069,{"$f":"IFERROR(VLOOKUP(B3228,'Комиссии партнеров'!$A$2:$B$52,2,FALSE),\"\")","v":""}]
[177346,"","1945-05-17","не оплачен",1366,{"$f":"IFERROR(VLOOKUP(B3229,'Комиссии партнеров'!$A$2:$B$52,2,FALSE),\"\")","v":""}]
[177348,"","1945-05-17","оплачен",973,{"$f":"IFERROR(VLOOKUP(B3230,'Комиссии партнеров'!$A$2:$B$52,2,FALSE),\"\")","v":""}]
[177353,"","1945-05-17","не оплачен",3609,{"$f":"IFERROR(VLOOKUP(B3231,'Комиссии партнеров'!$A$2:$B$52,2,FALSE),\"\")","v":""}]
[177358,"","1945-05-17","оплачен",1327,{"$f":"IFERROR(VLOOKUP(B3232,'Комиссии партнеров'!$A$2:$B$52,2,FALSE),\"\")","v":""}]
[177360,"Партнер номер 1","1945-05-17","оплачен",3102,{"$f":"IFERROR(VLOOKUP(B3233,'Комиссии партнеров'!$A$2:$B$52,2,FALSE),\"\")","v":0.05},155.10000000000002]
[177365,"Партнер номер 1","1945-05-17","оплачен",1312,{"$f":"IFERROR(VLOOKUP(B3234,'Комиссии партнеров'!$A$2:$B$52,2,FALSE),\"\")","v":0.05},65.600000000000009]
[177368,"Партнер номер 46","1945-05-17","не оплачен",1600,{"$f":"IFERROR(VLOOKUP(B3235,'Комиссии партнеров'!$A$2:$B$52,2,FALSE),\"\")","v":0.05},80]
[177372,"","1945-05-17","оплачен",3099,{"$f":"IFERROR(VLOOKUP(B3236,'Комиссии партнеров'!$A$2:$B$52,2,FALSE),\"\")","v":""}]
[177375,"","1945-05-17","оплачен",6431,{"$f":"IFERROR(VLOOKUP(B3237,'Комиссии партнеров'!$A$2:$B$52,2,FALSE),\"\")","v":""}]
[177378,"","1945-05-17","оплачен",3428,{"$f":"IFERROR(VLOOKUP(B3238,'Комиссии партнеров'!$A$2:$B$52,2,FALSE),\"\")","v":""}]
[177383,"Партнер номер 2","1945-05-17","оплачен",1957,{"$f":"IFERROR(VLOOKUP(B3239,'Комиссии партнеров'!$A$2:$B$52,2,FALSE),\"\")","v":0.04},78.28]
[177385,"","1945-05-17","оплачен",2028,{"$f":"IFERROR(VLOOKUP(B3240,'Комиссии партнеров'!$A$2:$B$52,2,FALSE),\"\")","v":""}]
[177386,"","1945-05-17","оплачен",2659,{"$f":"IFERROR(VLOOKUP(B3241,'Комиссии партнеров'!$A$2:$B$52,2,FALSE),\"\")","v":""}]
[177388,"","1945-05-17","оплачен",1194,{"$f":"IFERROR(VLOOKUP(B3242,'Комиссии партнеров'!$A$2:$B$52,2,FALSE),\"\")","v":""}]
[177390,"Партнер номер 3","1945-05-17","не оплачен",1884,{"$f":"IFERROR(VLOOKUP(B3243,'Комиссии партнеров'!$A$2:$B$52,2,FALSE),\"\")","v":0.05},94.2]
[177393,"Партнер номер 5","1945-05-17","не оплачен",4639,{"$f":"IFERROR(VLOOKUP(B3244,'Комиссии партнеров'!$A$2:$B$52,2,FALSE),\"\")","v":0.03},139.16999999999999]
[177396,"Партнер номер 5","1945-05-17","не оплачен",2830,{"$f":"IFERROR(VLOOKUP(B3245,'Комиссии партнеров'!$A$2:$B$52,2,FALSE),\"\")","v":0.03},84.899999999999991]
[177398,"","1945-05-17","оплачен",2780,{"$f":"IFERROR(VLOOKUP(B3246,'Комиссии партнеров'!$A$2:$B$52,2,FALSE),\"\")","v":""}]
[177402,"","1945-05-17","не оплачен",5229,{"$f":"IFERROR(VLOOKUP(B3247,'Комиссии партнеров'!$A$2:$B$52,2,FALSE),\"\")","v":""}]
[177406,"Партнер номер 48","1945-05-17","не оплачен",2599,{"$f":"IFERROR(VLOOKUP(B3248,'Комиссии партнеров'!$A$2:$B$52,2,FALSE),\"\")","v":0.03},77.97]
[177408,"","1945-05-17","оплачен",1227,{"$f":"IFERROR(VLOOKUP(B3249,'Комиссии партнеров'!$A$2:$B$52,2,FALSE),\"\")","v":""}]
[177412,"Партнер номер 3","1945-05-17","оплачен",1363,{"$f":"IFERROR(VLOOKUP(B3250,'Комиссии партнеров'!$A$2:$B$52,2,FALSE),\"\")","v":0.05},68.150000000000006]
[177417,"Партнер номер 5","1945-05-17","не оплачен",3760,{"$f":"IFERROR(VLOOKUP(B3251,'Комиссии партнеров'!$A$2:$B$52,2,FALSE),\"\")","v":0.03},112.8]
[177421,"Партнер номер 1","1945-05-17","оплачен",3365,{"$f":"IFERROR(VLOOKUP(B3252,'Комиссии партнеров'!$A$2:$B$52,2,FALSE),\"\")","v":0.05},168.25]
[177424,"","1945-05-17","не оплачен",1991,{"$f":"IFERROR(VLOOKUP(B3253,'Комиссии партнеров'!$A$2:$B$52,2,FALSE),\"\")","v":""}]
[177429,"","1945-05-17","не оплачен",668,{"$f":"IFERROR(VLOOKUP(B3254,'Комиссии партнеров'!$A$2:$B$52,2,FALSE),\"\")","v":""}]
[177434,"","1945-05-17","не оплачен",3749,{"$f":"IFERROR(VLOOKUP(B3255,'Комиссии партнеров'!$A$2:$B$52,2,FALSE),\"\")","v":""}]
[177437,"","1945-05-17","оплачен",1928,{"$f":"IFERROR(VLOOKUP(B3256,'Комиссии партнеров'!$A$2:$B$52,2,FALSE),\"\")","v":""}]
[177441,"","1945-05-17","не оплачен",2183,{"$f":"IFERROR(VLOOKUP(B3257,'Комиссии партнеров'!$A$2:$B$52,2,FALSE),\"\")","v":""}]
[177446,"Партнер номер 5","1945-05-17","не оплачен",1907,{"$f":"IFERROR(VLOOKUP(B3258,'Комиссии партнеров'!$A$2:$B$52,2,FALSE),\"\")","v":0.03},57.21]
[177449,"Партнер номер 1","1945-05-17","оплачен",2219,{"$f":"IFERROR(VLOOKUP(B3259,'Комиссии партнеров'!$A$2:$B$52,2,FALSE),\"\")","v":0.05},110.95]
[177452,"Партнер номер 1","1945-05-17","оплачен",5749,{"$f":"IFERROR(VLOOKUP(B3260,'Комиссии партнеров'!$A$2:$B$52,2,FALSE),\"\")","v":0.05},287.45]
[177456,"Партнер номер 1","1945-05-17","оплачен",4196,{"$f":"IFERROR(VLOOKUP(B3261,'Комиссии партнеров'!$A$2:$B$52,2,FALSE),\"\")","v":0.05},209.8]
[177459,"Партнер номер 1","1945-05-17","оплачен",1267,{"$f":"IFERROR(VLOOKUP(B3262,'Комиссии партнеров'!$A$2:$B$52,2,FALSE),\"\")","v":0.05},63.35]
[177464,"Партнер номер 11","1945-05-17","не оплачен",860,{"$f":"IFERROR(VLOOKUP(B3263,'Комиссии партнеров'!$A$2:$B$52,2,FALSE),\"\")","v":0.05},43]
[177467,"Партнер номер 1","1945-05-17","оплачен",1736,{"$f":"IFERROR(VLOOKUP(B3264,'Комиссии партнеров'!$A$2:$B$52,2,FALSE),\"\")","v":0.05},86.800000000000011]
[177478,"Партнер номер 1","1945-05-17","не оплачен",1393,{"$f":"IFERROR(VLOOKUP(B3265,'Комиссии партнеров'!$A$2:$B$52,2,FALSE),\"\")","v":0.05},69.650000000000006]
[177484,"Партнер номер 4","1945-05-17","не оплачен",1800,{"$f":"IFERROR(VLOOKUP(B3266,'Комиссии партнеров'!$A$2:$B$52,2,FALSE),\"\")","v":0.04},72]
[177486,"Партнер номер 10","1945-05-17","оплачен",1460,{"$f":"IFERROR(VLOOKUP(B3267,'Комиссии партнеров'!$A$2:$B$52,2,FALSE),\"\")","v":0.04},58.4]
[177488,"Партнер номер 3","1945-05-17","оплачен",2780,{"$f":"IFERROR(VLOOKUP(B3268,'Комиссии партнеров'!$A$2:$B$52,2,FALSE),\"\")","v":0.05},139]
[177493,"Партнер номер 1","1945-05-17","не оплачен",1078,{"$f":"IFERROR(VLOOKUP(B3269,'Комиссии партнеров'!$A$2:$B$52,2,FALSE),\"\")","v":0.05},53.900000000000006]
[177498,"","1945-05-17","не оплачен",717,{"$f":"IFERROR(VLOOKUP(B3270,'Комиссии партнеров'!$A$2:$B$52,2,FALSE),\"\")","v":""}]
[177503,"","1945-05-17","оплачен",2160,{"$f":"IFERROR(VLOOKUP(B3271,'Комиссии партнеров'!$A$2:$B$52,2,FALSE),\"\")","v":""}]
[177507,"Партнер номер 1","1945-05-17","оплачен",3391,{"$f":"IFERROR(VLOOKUP(B3272,'Комиссии партнеров'!$A$2:$B$52,2,FALSE),\"\")","v":0.05},169.55]
[177509,"","1945-05-17","оплачен",3985,{"$f":"IFERROR(VLOOKUP(B3273,'Комиссии партнеров'!$A$2:$B$52,2,FALSE),\"\")","v":""}]
[177512,"","1945-05-17","оплачен",2589,{"$f":"IFERROR(VLOOKUP(B3274,'Комиссии партнеров'!$A$2:$B$52,2,FALSE),\"\")","v":""}]
[177514,"Партнер номер 11","1945-05-17","не оплачен",2551,{"$f":"IFERROR(VLOOKUP(B3275,'Комиссии партнеров'!$A$2:$B$52,2,FALSE),\"\")","v":0.05},127.55000000000001]
[177519,"","1945-05-17","оплачен",2582,{"$f":"IFERROR(VLOOKUP(B3276,'Комиссии партнеров'!$A$2:$B$52,2,FALSE),\"\")","v":""}]
[177523,"Партнер номер 1","1945-05-17","оплачен",1261,{"$f":"IFERROR(VLOOKUP(B3277,'Комиссии партнеров'!$A$2:$B$52,2,FALSE),\"\")","v":0.05},63.050000000000004]
[177525,"Партнер номер 1","1945-05-17","оплачен",3007,{"$f":"IFERROR(VLOOKUP(B3278,'Комиссии партнеров'!$A$2:$B$52,2,FALSE),\"\")","v":0.05},150.35]
[177529,"","1945-05-17","не оплачен",3046,{"$f":"IFERROR(VLOOKUP(B3279,'Комиссии партнеров'!$A$2:$B$52,2,FALSE),\"\")","v":""}]
[177532,"","1945-05-17","оплачен",2962,{"$f":"IFERROR(VLOOKUP(B3280,'Комиссии партнеров'!$A$2:$B$52,2,FALSE),\"\")","v":""}]
[177536,"Партнер номер 1","1945-05-17","оплачен",2273,{"$f":"IFERROR(VLOOKUP(B3281,'Комиссии партнеров'!$A$2:$B$52,2,FALSE),\"\")","v":0.05},113.65]
[177540,"Партнер номер 1","1945-05-17","не оплачен",755,{"$f":"IFERROR(VLOOKUP(B3282,'Комиссии партнеров'!$A$2:$B$52,2,FALSE),\"\")","v":0.05},37.75]
[177542,"Партнер номер 1","1945-05-17","оплачен",2244,{"$f":"IFERROR(VLOOKUP(B3283,'Комиссии партнеров'!$A$2:$B$52,2,FALSE),\"\")","v":0.05},112.2]
[177547,"","1945-05-17","оплачен",1895,{"$f":"IFERROR(VLOOKUP(B3284,'Комиссии партнеров'!$A$2:$B$52,2,FALSE),\"\")","v":""}]
[177549,"","1945-05-17","оплачен",1019,{"$f":"IFERROR(VLOOKUP(B3285,'Комиссии партнеров'!$A$2:$B$52,2,FALSE),\"\")","v":""}]
[177553,"","1945-05-17","оплачен",3765,{"$f":"IFERROR(VLOOKUP(B3286,'Комиссии партнеров'!$A$2:$B$52,2,FALSE),\"\")","v":""}]
[177558,"","1945-05-17","оплачен",4448,{"$f":"IFERROR(VLOOKUP(B3287,'Комиссии партнеров'!$A$2:$B$52,2,FALSE),\"\")","v":""}]
[177560,"Партнер номер 1","1945-05-17","оплачен",1912,{"$f":"IFERROR(VLOOKUP(B3288,'Комиссии партнеров'!$A$2:$B$52,2,FALSE),\"\")","v":0.05},95.600000000000009]
[177563,"Партнер номер 5","1945-05-17","не оплачен",1813,{"$f":"IFERROR(VLOOKUP(B3289,'Комиссии партнеров'!$A$2:$B$52,2,FALSE),\"\")","v":0.03},54.39]
[177568,"","1945-05-17","оплачен",1013,{"$f":"IFERROR(VLOOKUP(B3290,'Комиссии партнеров'!$A$2:$B$52,2,FALSE),\"\")","v":""}]
[177571,"","1945-05-17","оплачен",2615,{"$f":"IFERROR(VLOOKUP(B3291,'Комиссии партнеров'!$A$2:$B$52,2,FALSE),\"\")","v":""}]
[177574,"Партнер номер 1","1945-05-17","не оплачен",4448,{"$f":"IFERROR(VLOOKUP(B3292,'Комиссии партнеров'!$A$2:$B$52,2,FALSE),\"\")","v":0.05},222.4]
[177576,"Партнер номер 1","1945-05-17","не оплачен",1725,{"$f":"IFERROR(VLOOKUP(B3293,'Комиссии партнеров'!$A$2:$B$52,2,FALSE),\"\")","v":0.05},86.25]
[177581,"Партнер номер 11","1945-05-17","оплачен",1510,{"$f":"IFERROR(VLOOKUP(B3294,'Комиссии партнеров'!$A$2:$B$52,2,FALSE),\"\")","v":0.05},75.5]
[177582,"","1945-05-17","не оплачен",2108,{"$f":"IFERROR(VLOOKUP(B3295,'Комиссии партнеров'!$A$2:$B$52,2,FALSE),\"\")","v":""}]
[177587,"Партнер номер 3","1945-05-17","оплачен",1429,{"$f":"IFERROR(VLOOKUP(B3296,'Комиссии партнеров'!$A$2:$B$52,2,FALSE),\"\")","v":0.05},71.45]
[177590,"Партнер номер 3","1945-05-17","не оплачен",1419,{"$f":"IFERROR(VLOOKUP(B3297,'Комиссии партнеров'!$A$2:$B$52,2,FALSE),\"\")","v":0.05},70.95]
[177592,"Партнер номер 7","1945-05-17","не оплачен",922,{"$f":"IFERROR(VLOOKUP(B3298,'Комиссии партнеров'!$A$2:$B$52,2,FALSE),\"\")","v":0.05},46.1]
[177595,"","1945-05-17","не оплачен",954,{"$f":"IFERROR(VLOOKUP(B3299,'Комиссии партнеров'!$A$2:$B$52,2,FALSE),\"\")","v":""}]
[177600,"","1945-05-17","оплачен",2013,{"$f":"IFERROR(VLOOKUP(B3300,'Комиссии партнеров'!$A$2:$B$52,2,FALSE),\"\")","v":""}]
[177602,"Партнер номер 1","1945-05-17","оплачен",3041,{"$f":"IFERROR(VLOOKUP(B3301,'Комиссии партнеров'!$A$2:$B$52,2,FALSE),\"\")","v":0.05},152.05000000000001]
[177606,"","1945-05-17","оплачен",2066,{"$f":"IFERROR(VLOOKUP(B3302,'Комиссии партнеров'!$A$2:$B$52,2,FALSE),\"\")","v":""}]
[177610,"","1945-05-17","оплачен",3405,{"$f":"IFERROR(VLOOKUP(B3303,'Комиссии партнеров'!$A$2:$B$52,2,FALSE),\"\")","v":""}]
[177612,"","1945-05-17","оплачен",5898,{"$f":"IFERROR(VLOOKUP(B3304,'Комиссии партнеров'!$A$2:$B$52,2,FALSE),\"\")","v":""}]
[177615,"Партнер номер 3","1945-05-17","оплачен",1701,{"$f":"IFERROR(VLOOKUP(B3305,'Комиссии партнеров'!$A$2:$B$52,2,FALSE),\"\")","v":0.05},85.050000000000011]
[177619,"Партнер номер 11","1945-05-17","оплачен",1467,{"$f":"IFERROR(VLOOKUP(B3306,'Комиссии партнеров'!$A$2:$B$52,2,FALSE),\"\")","v":0.05},73.350000000000009]
[177622,"","1945-05-17","оплачен",1509,{"$f":"IFERROR(VLOOKUP(B3307,'Комиссии партнеров'!$A$2:$B$52,2,FALSE),\"\")","v":""}]
[177624,"Партнер номер 1","1945-05-17","оплачен",1094,{"$f":"IFERROR(VLOOKUP(B3308,'Комиссии партнеров'!$A$2:$B$52,2,FALSE),\"\")","v":0.05},54.7]
[177627,"","1945-05-17","оплачен",1203,{"$f":"IFERROR(VLOOKUP(B3309,'Комиссии партнеров'!$A$2:$B$52,2,FALSE),\"\")","v":""}]
[177632,"","1945-05-17","оплачен",1259,{"$f":"IFERROR(VLOOKUP(B3310,'Комиссии партнеров'!$A$2:$B$52,2,FALSE),\"\")","v":""}]
[177638,"","1945-05-17","не оплачен",2500,{"$f":"IFERROR(VLOOKUP(B3311,'Комиссии партнеров'!$A$2:$B$52,2,FALSE),\"\")","v":""}]
[177643,"Партнер номер 5","1945-05-18","не оплачен",3627,{"$f":"IFERROR(VLOOKUP(B3312,'Комиссии партнеров'!$A$2:$B$52,2,FALSE),\"\")","v":0.03},108.81]
[177648,"","1945-05-18","не оплачен",812,{"$f":"IFERROR(VLOOKUP(B3313,'Комиссии партнеров'!$A$2:$B$52,2,FALSE),\"\")","v":""}]
[177651,"Партнер номер 46","1945-05-18","оплачен",1325,{"$f":"IFERROR(VLOOKUP(B3314,'Комиссии партнеров'!$A$2:$B$52,2,FALSE),\"\")","v":0.05},66.25]
[177654,"Партнер номер 1","1945-05-18","не оплачен",2137,{"$f":"IFERROR(VLOOKUP(B3315,'Комиссии партнеров'!$A$2:$B$52,2,FALSE),\"\")","v":0.05},106.85000000000001]
[177658,"","1945-05-18","не оплачен",4541,{"$f":"IFERROR(VLOOKUP(B3316,'Комиссии партнеров'!$A$2:$B$52,2,FALSE),\"\")","v":""}]
[177661,"Партнер номер 7","1945-05-18","оплачен",2461,{"$f":"IFERROR(VLOOKUP(B3317,'Комиссии партнеров'!$A$2:$B$52,2,FALSE),\"\")","v":0.05},123.05000000000001]
[177667,"","1945-05-18","не оплачен",1720,{"$f":"IFERROR(VLOOKUP(B3318,'Комиссии партнеров'!$A$2:$B$52,2,FALSE),\"\")","v":""}]
[177671,"Партнер номер 11","1945-05-18","не оплачен",860,{"$f":"IFERROR(VLOOKUP(B3319,'Комиссии партнеров'!$A$2:$B$52,2,FALSE),\"\")","v":0.05},43]
[177675,"Партнер номер 1","1945-05-18","не оплачен",1177,{"$f":"IFERROR(VLOOKUP(B3320,'Комиссии партнеров'!$A$2:$B$52,2,FALSE),\"\")","v":0.05},58.85]
[177679,"Партнер номер 1","1945-05-18","оплачен",1177,{"$f":"IFERROR(VLOOKUP(B3321,'Комиссии партнеров'!$A$2:$B$52,2,FALSE),\"\")","v":0.05},58.85]
[177681,"Партнер номер 7","1945-05-18","оплачен",3543,{"$f":"IFERROR(VLOOKUP(B3322,'Комиссии партнеров'!$A$2:$B$52,2,FALSE),\"\")","v":0.05},177.15]
[177683,"Партнер номер 19","1945-05-18","оплачен",2336,{"$f":"IFERROR(VLOOKUP(B3323,'Комиссии партнеров'!$A$2:$B$52,2,FALSE),\"\")","v":0.05},116.80000000000001]
[177687,"Партнер номер 7","1945-05-18","не оплачен",1084,{"$f":"IFERROR(VLOOKUP(B3324,'Комиссии партнеров'!$A$2:$B$52,2,FALSE),\"\")","v":0.05},54.2]
[177690,"Партнер номер 3","1945-05-18","оплачен",1440,{"$f":"IFERROR(VLOOKUP(B3325,'Комиссии партнеров'!$A$2:$B$52,2,FALSE),\"\")","v":0.05},72]
[177691,"","1945-05-18","не оплачен",2357,{"$f":"IFERROR(VLOOKUP(B3326,'Комиссии партнеров'!$A$2:$B$52,2,FALSE),\"\")","v":""}]
[177695,"","1945-05-18","оплачен",3988,{"$f":"IFERROR(VLOOKUP(B3327,'Комиссии партнеров'!$A$2:$B$52,2,FALSE),\"\")","v":""}]
[177698,"Партнер номер 3","1945-05-18","оплачен",301,{"$f":"IFERROR(VLOOKUP(B3328,'Комиссии партнеров'!$A$2:$B$52,2,FALSE),\"\")","v":0.05},15.05]
[177699,"","1945-05-18","не оплачен",2602,{"$f":"IFERROR(VLOOKUP(B3329,'Комиссии партнеров'!$A$2:$B$52,2,FALSE),\"\")","v":""}]
[177703,"Партнер номер 1","1945-05-18","не оплачен",380,{"$f":"IFERROR(VLOOKUP(B3330,'Комиссии партнеров'!$A$2:$B$52,2,FALSE),\"\")","v":0.05},19]
[177707,"","1945-05-18","оплачен",1893,{"$f":"IFERROR(VLOOKUP(B3331,'Комиссии партнеров'!$A$2:$B$52,2,FALSE),\"\")","v":""}]
[177709,"Партнер номер 5","1945-05-18","оплачен",1509,{"$f":"IFERROR(VLOOKUP(B3332,'Комиссии партнеров'!$A$2:$B$52,2,FALSE),\"\")","v":0.03},45.269999999999996]
[177712,"Партнер номер 5","1945-05-18","оплачен",2967,{"$f":"IFERROR(VLOOKUP(B3333,'Комиссии партнеров'!$A$2:$B$52,2,FALSE),\"\")","v":0.03},89.009999999999991]
[177716,"Партнер номер 1","1945-05-18","оплачен",6982,{"$f":"IFERROR(VLOOKUP(B3334,'Комиссии партнеров'!$A$2:$B$52,2,FALSE),\"\")","v":0.05},349.1]
[177720,"Партнер номер 48","1945-05-18","оплачен",916,{"$f":"IFERROR(VLOOKUP(B3335,'Комиссии партнеров'!$A$2:$B$52,2,FALSE),\"\")","v":0.03},27.48]
[177722,"Партнер номер 3","1945-05-18","оплачен",1417,{"$f":"IFERROR(VLOOKUP(B3336,'Комиссии партнеров'!$A$2:$B$52,2,FALSE),\"\")","v":0.05},70.850000000000009]
[177727,"","1945-05-18","оплачен",3277,{"$f":"IFERROR(VLOOKUP(B3337,'Комиссии партнеров'!$A$2:$B$52,2,FALSE),\"\")","v":""}]
[177732,"","1945-05-18","оплачен",1865,{"$f":"IFERROR(VLOOKUP(B3338,'Комиссии партнеров'!$A$2:$B$52,2,FALSE),\"\")","v":""}]
[177736,"Партнер номер 11","1945-05-18","не оплачен",2374,{"$f":"IFERROR(VLOOKUP(B3339,'Комиссии партнеров'!$A$2:$B$52,2,FALSE),\"\")","v":0.05},118.7]
[177741,"Партнер номер 11","1945-05-18","не оплачен",2699,{"$f":"IFERROR(VLOOKUP(B3340,'Комиссии партнеров'!$A$2:$B$52,2,FALSE),\"\")","v":0.05},134.95000000000002]
[177746,"","1945-05-18","оплачен",633,{"$f":"IFERROR(VLOOKUP(B3341,'Комиссии партнеров'!$A$2:$B$52,2,FALSE),\"\")","v":""}]
[177749,"Партнер номер 1","1945-05-18","оплачен",380,{"$f":"IFERROR(VLOOKUP(B3342,'Комиссии партнеров'!$A$2:$B$52,2,FALSE),\"\")","v":0.05},19]
[177751,"Партнер номер 1","1945-05-18","оплачен",2561,{"$f":"IFERROR(VLOOKUP(B3343,'Комиссии партнеров'!$A$2:$B$52,2,FALSE),\"\")","v":0.05},128.05000000000001]
[177754,"Партнер номер 11","1945-05-18","оплачен",903,{"$f":"IFERROR(VLOOKUP(B3344,'Комиссии партнеров'!$A$2:$B$52,2,FALSE),\"\")","v":0.05},45.150000000000006]
[177757,"","1945-05-18","не оплачен",397,{"$f":"IFERROR(VLOOKUP(B3345,'Комиссии партнеров'!$A$2:$B$52,2,FALSE),\"\")","v":""}]
[177760,"","1945-05-18","оплачен",3316,{"$f":"IFERROR(VLOOKUP(B3346,'Комиссии партнеров'!$A$2:$B$52,2,FALSE),\"\")","v":""}]
[177762,"Партнер номер 1","1945-05-18","оплачен",802,{"$f":"IFERROR(VLOOKUP(B3347,'Комиссии партнеров'!$A$2:$B$52,2,FALSE),\"\")","v":0.05},40.1]
[177767,"Партнер номер 1","1945-05-18","оплачен",1427,{"$f":"IFERROR(VLOOKUP(B3348,'Комиссии партнеров'!$A$2:$B$52,2,FALSE),\"\")","v":0.05},71.350000000000009]
[177769,"","1945-05-18","оплачен",1086,{"$f":"IFERROR(VLOOKUP(B3349,'Комиссии партнеров'!$A$2:$B$52,2,FALSE),\"\")","v":""}]
[177773,"","1945-05-18","оплачен",2584,{"$f":"IFERROR(VLOOKUP(B3350,'Комиссии партнеров'!$A$2:$B$52,2,FALSE),\"\")","v":""}]
[177777,"Партнер номер 46","1945-05-18","оплачен",2154,{"$f":"IFERROR(VLOOKUP(B3351,'Комиссии партнеров'!$A$2:$B$52,2,FALSE),\"\")","v":0.05},107.7]
[177781,"","1945-05-18","оплачен",1214,{"$f":"IFERROR(VLOOKUP(B3352,'Комиссии партнеров'!$A$2:$B$52,2,FALSE),\"\")","v":""}]
[177786,"","1945-05-18","не оплачен",2120,{"$f":"IFERROR(VLOOKUP(B3353,'Комиссии партнеров'!$A$2:$B$52,2,FALSE),\"\")","v":""}]
[177790,"","1945-05-18","оплачен",2969,{"$f":"IFERROR(VLOOKUP(B3354,'Комиссии партнеров'!$A$2:$B$52,2,FALSE),\"\")","v":""}]
[177794,"","1945-05-18","оплачен",1417,{"$f":"IFERROR(VLOOKUP(B3355,'Комиссии партнеров'!$A$2:$B$52,2,FALSE),\"\")","v":""}]
[177798,"Партнер номер 1","1945-05-18","оплачен",1491,{"$f":"IFERROR(VLOOKUP(B3356,'Комиссии партнеров'!$A$2:$B$52,2,FALSE),\"\")","v":0.05},74.55]
[177802,"Партнер номер 8","1945-05-18","оплачен",4982,{"$f":"IFERROR(VLOOKUP(B3357,'Комиссии партнеров'!$A$2:$B$52,2,FALSE),\"\")","v":0.03},149.46]
[177808,"","1945-05-18","не оплачен",2295,{"$f":"IFERROR(VLOOKUP(B3358,'Комиссии партнеров'!$A$2:$B$52,2,FALSE),\"\")","v":""}]
[177809,"","1945-05-18","оплачен",2342,{"$f":"IFERROR(VLOOKUP(B3359,'Комиссии партнеров'!$A$2:$B$52,2,FALSE),\"\")","v":""}]
[177811,"","1945-05-18","оплачен",2798,{"$f":"IFERROR(VLOOKUP(B3360,'Комиссии партнеров'!$A$2:$B$52,2,FALSE),\"\")","v":""}]
[177814,"Партнер номер 11","1945-05-18","не оплачен",2120,{"$f":"IFERROR(VLOOKUP(B3361,'Комиссии партнеров'!$A$2:$B$52,2,FALSE),\"\")","v":0.05},106]
[177819,"Партнер номер 7","1945-05-18","оплачен",916,{"$f":"IFERROR(VLOOKUP(B3362,'Комиссии партнеров'!$A$2:$B$52,2,FALSE),\"\")","v":0.05},45.800000000000004]
[177824,"","1945-05-18","оплачен",1535,{"$f":"IFERROR(VLOOKUP(B3363,'Комиссии партнеров'!$A$2:$B$52,2,FALSE),\"\")","v":""}]
[177834,"","1945-05-18","оплачен",4782,{"$f":"IFERROR(VLOOKUP(B3364,'Комиссии партнеров'!$A$2:$B$52,2,FALSE),\"\")","v":""}]
[177836,"","1945-05-18","оплачен",1479,{"$f":"IFERROR(VLOOKUP(B3365,'Комиссии партнеров'!$A$2:$B$52,2,FALSE),\"\")","v":""}]
[177838,"Партнер номер 10","1945-05-18","не оплачен",1768,{"$f":"IFERROR(VLOOKUP(B3366,'Комиссии партнеров'!$A$2:$B$52,2,FALSE),\"\")","v":0.04},70.72]
[177849,"Партнер номер 1","1945-05-18","оплачен",2648,{"$f":"IFERROR(VLOOKUP(B3367,'Комиссии партнеров'!$A$2:$B$52,2,FALSE),\"\")","v":0.05},132.4]
[177851,"Партнер номер 1","1945-05-18","не оплачен",1770,{"$f":"IFERROR(VLOOKUP(B3368,'Комиссии партнеров'!$A$2:$B$52,2,FALSE),\"\")","v":0.05},88.5]
[177860,"Партнер номер 1","1945-05-18","не оплачен",258,{"$f":"IFERROR(VLOOKUP(B3369,'Комиссии партнеров'!$A$2:$B$52,2,FALSE),\"\")","v":0.05},12.9]
[177864,"","1945-05-18","оплачен",1540,{"$f":"IFERROR(VLOOKUP(B3370,'Комиссии партнеров'!$A$2:$B$52,2,FALSE),\"\")","v":""}]
[177866,"","1945-05-18","оплачен",2131,{"$f":"IFERROR(VLOOKUP(B3371,'Комиссии партнеров'!$A$2:$B$52,2,FALSE),\"\")","v":""}]
[177873,"","1945-05-18","оплачен",2131,{"$f":"IFERROR(VLOOKUP(B3372,'Комиссии партнеров'!$A$2:$B$52,2,FALSE),\"\")","v":""}]
[177879,"","1945-05-18","оплачен",2545,{"$f":"IFERROR(VLOOKUP(B3373,'Комиссии партнеров'!$A$2:$B$52,2,FALSE),\"\")","v":""}]
[177890,"","1945-05-18","оплачен",1590,{"$f":"IFERROR(VLOOKUP(B3374,'Комиссии партнеров'!$A$2:$B$52,2,FALSE),\"\")","v":""}]
[177892,"","1945-05-18","оплачен",934,{"$f":"IFERROR(VLOOKUP(B3375,'Комиссии партнеров'!$A$2:$B$52,2,FALSE),\"\")","v":""}]
[177895,"","1945-05-18","оплачен",3343,{"$f":"IFERROR(VLOOKUP(B3376,'Комиссии партнеров'!$A$2:$B$52,2,FALSE),\"\")","v":""}]
[177896,"Партнер номер 7","1945-05-18","не оплачен",825,{"$f":"IFERROR(VLOOKUP(B3377,'Комиссии партнеров'!$A$2:$B$52,2,FALSE),\"\")","v":0.05},41.25]
[177901,"","1945-05-18","оплачен",1248,{"$f":"IFERROR(VLOOKUP(B3378,'Комиссии партнеров'!$A$2:$B$52,2,FALSE),\"\")","v":""}]
[177905,"","1945-05-18","оплачен",2634,{"$f":"IFERROR(VLOOKUP(B3379,'Комиссии партнеров'!$A$2:$B$52,2,FALSE),\"\")","v":""}]
[177909,"","1945-05-18","не оплачен",2518,{"$f":"IFERROR(VLOOKUP(B3380,'Комиссии партнеров'!$A$2:$B$52,2,FALSE),\"\")","v":""}]
[177911,"Партнер номер 10","1945-05-18","не оплачен",4887,{"$f":"IFERROR(VLOOKUP(B3381,'Комиссии партнеров'!$A$2:$B$52,2,FALSE),\"\")","v":0.04},195.48000000000002]
[177914,"","1945-05-18","оплачен",1443,{"$f":"IFERROR(VLOOKUP(B3382,'Комиссии партнеров'!$A$2:$B$52,2,FALSE),\"\")","v":""}]
[177918,"Партнер номер 20","1945-05-18","оплачен",4073,{"$f":"IFERROR(VLOOKUP(B3383,'Комиссии партнеров'!$A$2:$B$52,2,FALSE),\"\")","v":0.03},122.19]
[177922,"Партнер номер 42","1945-05-18","оплачен",2462,{"$f":"IFERROR(VLOOKUP(B3384,'Комиссии партнеров'!$A$2:$B$52,2,FALSE),\"\")","v":0.05},123.10000000000001]
[177925,"","1945-05-18","оплачен",3916,{"$f":"IFERROR(VLOOKUP(B3385,'Комиссии партнеров'!$A$2:$B$52,2,FALSE),\"\")","v":""}]
[177929,"Партнер номер 28","1945-05-18","не оплачен",2568,{"$f":"IFERROR(VLOOKUP(B3386,'Комиссии партнеров'!$A$2:$B$52,2,FALSE),\"\")","v":0.05},128.4]
[177934,"","1945-05-18","оплачен",829,{"$f":"IFERROR(VLOOKUP(B3387,'Комиссии партнеров'!$A$2:$B$52,2,FALSE),\"\")","v":""}]
[177937,"","1945-05-18","оплачен",2365,{"$f":"IFERROR(VLOOKUP(B3388,'Комиссии партнеров'!$A$2:$B$52,2,FALSE),\"\")","v":""}]
[177939,"Партнер номер 1","1945-05-18","оплачен",1053,{"$f":"IFERROR(VLOOKUP(B3389,'Комиссии партнеров'!$A$2:$B$52,2,FALSE),\"\")","v":0.05},52.650000000000006]
[177941,"","1945-05-18","оплачен",2333,{"$f":"IFERROR(VLOOKUP(B3390,'Комиссии партнеров'!$A$2:$B$52,2,FALSE),\"\")","v":""}]
[177945,"Партнер номер 1","1945-05-18","не оплачен",1076,{"$f":"IFERROR(VLOOKUP(B3391,'Комиссии партнеров'!$A$2:$B$52,2,FALSE),\"\")","v":0.05},53.800000000000004]
[177947,"Партнер номер 11","1945-05-18","оплачен",1912,{"$f":"IFERROR(VLOOKUP(B3392,'Комиссии партнеров'!$A$2:$B$52,2,FALSE),\"\")","v":0.05},95.600000000000009]
[177952,"","1945-05-18","не оплачен",2538,{"$f":"IFERROR(VLOOKUP(B3393,'Комиссии партнеров'!$A$2:$B$52,2,FALSE),\"\")","v":""}]
[177954,"Партнер номер 25","1945-05-18","оплачен",7066,{"$f":"IFERROR(VLOOKUP(B3394,'Комиссии партнеров'!$A$2:$B$52,2,FALSE),\"\")","v":0.05},353.3]
[177957,"","1945-05-18","не оплачен",3501,{"$f":"IFERROR(VLOOKUP(B3395,'Комиссии партнеров'!$A$2:$B$52,2,FALSE),\"\")","v":""}]
[177959,"Партнер номер 1","1945-05-18","оплачен",2694,{"$f":"IFERROR(VLOOKUP(B3396,'Комиссии партнеров'!$A$2:$B$52,2,FALSE),\"\")","v":0.05},134.70000000000002]
[177961,"","1945-05-18","оплачен",1682,{"$f":"IFERROR(VLOOKUP(B3397,'Комиссии партнеров'!$A$2:$B$52,2,FALSE),\"\")","v":""}]
[177966,"Партнер номер 11","1945-05-18","оплачен",1153,{"$f":"IFERROR(VLOOKUP(B3398,'Комиссии партнеров'!$A$2:$B$52,2,FALSE),\"\")","v":0.05},57.650000000000006]
[177968,"Партнер номер 1","1945-05-18","оплачен",2013,{"$f":"IFERROR(VLOOKUP(B3399,'Комиссии партнеров'!$A$2:$B$52,2,FALSE),\"\")","v":0.05},100.65]
[177971,"","1945-05-18","не оплачен",933,{"$f":"IFERROR(VLOOKUP(B3400,'Комиссии партнеров'!$A$2:$B$52,2,FALSE),\"\")","v":""}]
[177975,"Партнер номер 1","1945-05-18","не оплачен",1964,{"$f":"IFERROR(VLOOKUP(B3401,'Комиссии партнеров'!$A$2:$B$52,2,FALSE),\"\")","v":0.05},98.2]
[177979,"","1945-05-18","оплачен",1316,{"$f":"IFERROR(VLOOKUP(B3402,'Комиссии партнеров'!$A$2:$B$52,2,FALSE),\"\")","v":""}]
[177983,"Партнер номер 10","1945-05-18","оплачен",985,{"$f":"IFERROR(VLOOKUP(B3403,'Комиссии партнеров'!$A$2:$B$52,2,FALSE),\"\")","v":0.04},39.4]
[177986,"Партнер номер 1","1945-05-18","не оплачен",781,{"$f":"IFERROR(VLOOKUP(B3404,'Комиссии партнеров'!$A$2:$B$52,2,FALSE),\"\")","v":0.05},39.050000000000004]
[177991,"","1945-05-18","не оплачен",2343,{"$f":"IFERROR(VLOOKUP(B3405,'Комиссии партнеров'!$A$2:$B$52,2,FALSE),\"\")","v":""}]
[177993,"","1945-05-18","не оплачен",1972,{"$f":"IFERROR(VLOOKUP(B3406,'Комиссии партнеров'!$A$2:$B$52,2,FALSE),\"\")","v":""}]
[177999,"Партнер номер 1","1945-05-18","не оплачен",380,{"$f":"IFERROR(VLOOKUP(B3407,'Комиссии партнеров'!$A$2:$B$52,2,FALSE),\"\")","v":0.05},19]
[178001,"Партнер номер 5","1945-05-18","оплачен",2938,{"$f":"IFERROR(VLOOKUP(B3408,'Комиссии партнеров'!$A$2:$B$52,2,FALSE),\"\")","v":0.03},88.14]
[178006,"Партнер номер 1","1945-05-18","оплачен",564,{"$f":"IFERROR(VLOOKUP(B3409,'Комиссии партнеров'!$A$2:$B$52,2,FALSE),\"\")","v":0.05},28.200000000000003]
[178008,"Партнер номер 3","1945-05-18","не оплачен",2316,{"$f":"IFERROR(VLOOKUP(B3410,'Комиссии партнеров'!$A$2:$B$52,2,FALSE),\"\")","v":0.05},115.80000000000001]
[178009,"","1945-05-18","оплачен",0,{"$f":"IFERROR(VLOOKUP(B3411,'Комиссии партнеров'!$A$2:$B$52,2,FALSE),\"\")","v":""}]
[178014,"","1945-05-18","оплачен",0,{"$f":"IFERROR(VLOOKUP(B3412,'Комиссии партнеров'!$A$2:$B$52,2,FALSE),\"\")","v":""}]
[178016,"","1945-05-18","оплачен",0,{"$f":"IFERROR(VLOOKUP(B3413,'Комиссии партнеров'!$A$2:$B$52,2,FALSE),\"\")","v":""}]
[178021,"Партнер номер 11","1945-05-18","оплачен",5624,{"$f":"IFERROR(VLOOKUP(B3414,'Комиссии партнеров'!$A$2:$B$52,2,FALSE),\"\")","v":0.05},281.2]
[178022,"Партнер номер 1","1945-05-18","не оплачен",1164,{"$f":"IFERROR(VLOOKUP(B3415,'Комиссии партнеров'!$A$2:$B$52,2,FALSE),\"\")","v":0.05},58.2]
[178028,"","1945-05-18","оплачен",3436,{"$f":"IFERROR(VLOOKUP(B3416,'Комиссии партнеров'!$A$2:$B$52,2,FALSE),\"\")","v":""}]
[178032,"","1945-05-18","оплачен",1411,{"$f":"IFERROR(VLOOKUP(B3417,'Комиссии партнеров'!$A$2:$B$52,2,FALSE),\"\")","v":""}]
[178036,"Партнер номер 11","1945-05-18","оплачен",1994,{"$f":"IFERROR(VLOOKUP(B3418,'Комиссии партнеров'!$A$2:$B$52,2,FALSE),\"\")","v":0.05},99.7]
[178038,"","1945-05-18","оплачен",1901,{"$f":"IFERROR(VLOOKUP(B3419,'Комиссии партнеров'!$A$2:$B$52,2,FALSE),\"\")","v":""}]
[178043,"","1945-05-18","оплачен",649,{"$f":"IFERROR(VLOOKUP(B3420,'Комиссии партнеров'!$A$2:$B$52,2,FALSE),\"\")","v":""}]
[178047,"Партнер номер 26","1945-05-18","оплачен",1133,{"$f":"IFERROR(VLOOKUP(B3421,'Комиссии партнеров'!$A$2:$B$52,2,FALSE),\"\")","v":0.05},56.650000000000006]
[178052,"","1945-05-18","не оплачен",8204,{"$f":"IFERROR(VLOOKUP(B3422,'Комиссии партнеров'!$A$2:$B$52,2,FALSE),\"\")","v":""}]
[178055,"Партнер номер 7","1945-05-18","оплачен",2464,{"$f":"IFERROR(VLOOKUP(B3423,'Комиссии партнеров'!$A$2:$B$52,2,FALSE),\"\")","v":0.05},123.2]
[178058,"","1945-05-18","оплачен",2243,{"$f":"IFERROR(VLOOKUP(B3424,'Комиссии партнеров'!$A$2:$B$52,2,FALSE),\"\")","v":""}]
[178060,"","1945-05-18","не оплачен",4976,{"$f":"IFERROR(VLOOKUP(B3425,'Комиссии партнеров'!$A$2:$B$52,2,FALSE),\"\")","v":""}]
[178064,"","1945-05-18","оплачен",1216,{"$f":"IFERROR(VLOOKUP(B3426,'Комиссии партнеров'!$A$2:$B$52,2,FALSE),\"\")","v":""}]
[178066,"","1945-05-18","оплачен",4091,{"$f":"IFERROR(VLOOKUP(B3427,'Комиссии партнеров'!$A$2:$B$52,2,FALSE),\"\")","v":""}]
[178072,"","1945-05-18","оплачен",1216,{"$f":"IFERROR(VLOOKUP(B3428,'Комиссии партнеров'!$A$2:$B$52,2,FALSE),\"\")","v":""}]
[178077,"Партнер номер 7","1945-05-18","не оплачен",1417,{"$f":"IFERROR(VLOOKUP(B3429,'Комиссии партнеров'!$A$2:$B$52,2,FALSE),\"\")","v":0.05},70.850000000000009]
[178081,"Партнер номер 5","1945-05-18","оплачен",2087,{"$f":"IFERROR(VLOOKUP(B3430,'Комиссии партнеров'!$A$2:$B$52,2,FALSE),\"\")","v":0.03},62.61]
[178083,"","1945-05-18","оплачен",1691,{"$f":"IFERROR(VLOOKUP(B3431,'Комиссии партнеров'!$A$2:$B$52,2,FALSE),\"\")","v":""}]
[178089,"","1945-05-18","оплачен",2521,{"$f":"IFERROR(VLOOKUP(B3432,'Комиссии партнеров'!$A$2:$B$52,2,FALSE),\"\")","v":""}]
[178093,"","1945-05-18","оплачен",1729,{"$f":"IFERROR(VLOOKUP(B3433,'Комиссии партнеров'!$A$2:$B$52,2,FALSE),\"\")","v":""}]
[178096,"Партнер номер 1","1945-05-18","оплачен",2086,{"$f":"IFERROR(VLOOKUP(B3434,'Комиссии партнеров'!$A$2:$B$52,2,FALSE),\"\")","v":0.05},104.30000000000001]
[178101,"Партнер номер 1","1945-05-18","не оплачен",1558,{"$f":"IFERROR(VLOOKUP(B3435,'Комиссии партнеров'!$A$2:$B$52,2,FALSE),\"\")","v":0.05},77.900000000000006]
[178106,"","1945-05-18","оплачен",2891,{"$f":"IFERROR(VLOOKUP(B3436,'Комиссии партнеров'!$A$2:$B$52,2,FALSE),\"\")","v":""}]
[178111,"Партнер номер 4","1945-05-18","не оплачен",1044,{"$f":"IFERROR(VLOOKUP(B3437,'Комиссии партнеров'!$A$2:$B$52,2,FALSE),\"\")","v":0.04},41.76]
[178113,"","1945-05-18","оплачен",1843,{"$f":"IFERROR(VLOOKUP(B3438,'Комиссии партнеров'!$A$2:$B$52,2,FALSE),\"\")","v":""}]
[178118,"Партнер номер 11","1945-05-18","не оплачен",952,{"$f":"IFERROR(VLOOKUP(B3439,'Комиссии партнеров'!$A$2:$B$52,2,FALSE),\"\")","v":0.05},47.6]
[178120,"","1945-05-18","оплачен",3183,{"$f":"IFERROR(VLOOKUP(B3440,'Комиссии партнеров'!$A$2:$B$52,2,FALSE),\"\")","v":""}]
[178124,"","1945-05-18","не оплачен",3051,{"$f":"IFERROR(VLOOKUP(B3441,'Комиссии партнеров'!$A$2:$B$52,2,FALSE),\"\")","v":""}]
[178128,"Партнер номер 7","1945-05-18","не оплачен",1248,{"$f":"IFERROR(VLOOKUP(B3442,'Комиссии партнеров'!$A$2:$B$52,2,FALSE),\"\")","v":0.05},62.400000000000006]
[178131,"","1945-05-18","оплачен",4623,{"$f":"IFERROR(VLOOKUP(B3443,'Комиссии партнеров'!$A$2:$B$52,2,FALSE),\"\")","v":""}]
[178134,"","1945-05-18","оплачен",3051,{"$f":"IFERROR(VLOOKUP(B3444,'Комиссии партнеров'!$A$2:$B$52,2,FALSE),\"\")","v":""}]
[178138,"Партнер номер 1","1945-05-18","не оплачен",1584,{"$f":"IFERROR(VLOOKUP(B3445,'Комиссии партнеров'!$A$2:$B$52,2,FALSE),\"\")","v":0.05},79.2]
[178141,"","1945-05-18","оплачен",3445,{"$f":"IFERROR(VLOOKUP(B3446,'Комиссии партнеров'!$A$2:$B$52,2,FALSE),\"\")","v":""}]
[178145,"Партнер номер 1","1945-05-18","оплачен",606,{"$f":"IFERROR(VLOOKUP(B3447,'Комиссии партнеров'!$A$2:$B$52,2,FALSE),\"\")","v":0.05},30.3]
[178149,"","1945-05-18","оплачен",1477,{"$f":"IFERROR(VLOOKUP(B3448,'Комиссии партнеров'!$A$2:$B$52,2,FALSE),\"\")","v":""}]
[178154,"","1945-05-18","оплачен",3660,{"$f":"IFERROR(VLOOKUP(B3449,'Комиссии партнеров'!$A$2:$B$52,2,FALSE),\"\")","v":""}]
[178157,"","1945-05-18","оплачен",1155,{"$f":"IFERROR(VLOOKUP(B3450,'Комиссии партнеров'!$A$2:$B$52,2,FALSE),\"\")","v":""}]
[178162,"","1945-05-18","оплачен",1411,{"$f":"IFERROR(VLOOKUP(B3451,'Комиссии партнеров'!$A$2:$B$52,2,FALSE),\"\")","v":""}]
[178165,"","1945-05-18","оплачен",2459,{"$f":"IFERROR(VLOOKUP(B3452,'Комиссии партнеров'!$A$2:$B$52,2,FALSE),\"\")","v":""}]
[178169,"","1945-05-18","оплачен",1628,{"$f":"IFERROR(VLOOKUP(B3453,'Комиссии партнеров'!$A$2:$B$52,2,FALSE),\"\")","v":""}]
[178172,"Партнер номер 1","1945-05-18","оплачен",1744,{"$f":"IFERROR(VLOOKUP(B3454,'Комиссии партнеров'!$A$2:$B$52,2,FALSE),\"\")","v":0.05},87.2]
[178173,"Партнер номер 46","1945-05-18","не оплачен",3088,{"$f":"IFERROR(VLOOKUP(B3455,'Комиссии партнеров'!$A$2:$B$52,2,FALSE),\"\")","v":0.05},154.4]
[178176,"","1945-05-18","оплачен",1027,{"$f":"IFERROR(VLOOKUP(B3456,'Комиссии партнеров'!$A$2:$B$52,2,FALSE),\"\")","v":""}]
[178180,"Партнер номер 1","1945-05-18","не оплачен",3088,{"$f":"IFERROR(VLOOKUP(B3457,'Комиссии партнеров'!$A$2:$B$52,2,FALSE),\"\")","v":0.05},154.4]
[178184,"","1945-05-18","не оплачен",863,{"$f":"IFERROR(VLOOKUP(B3458,'Комиссии партнеров'!$A$2:$B$52,2,FALSE),\"\")","v":""}]
[178186,"","1945-05-18","оплачен",2605,{"$f":"IFERROR(VLOOKUP(B3459,'Комиссии партнеров'!$A$2:$B$52,2,FALSE),\"\")","v":""}]
[178188,"Партнер номер 1","1945-05-18","оплачен",1744,{"$f":"IFERROR(VLOOKUP(B3460,'Комиссии партнеров'!$A$2:$B$52,2,FALSE),\"\")","v":0.05},87.2]
[178189,"Партнер номер 11","1945-05-18","оплачен",1732,{"$f":"IFERROR(VLOOKUP(B3461,'Комиссии партнеров'!$A$2:$B$52,2,FALSE),\"\")","v":0.05},86.600000000000009]
[178193,"","1945-05-18","оплачен",7977,{"$f":"IFERROR(VLOOKUP(B3462,'Комиссии партнеров'!$A$2:$B$52,2,FALSE),\"\")","v":""}]
[178198,"Партнер номер 1","1945-05-18","оплачен",1286,{"$f":"IFERROR(VLOOKUP(B3463,'Комиссии партнеров'!$A$2:$B$52,2,FALSE),\"\")","v":0.05},64.3]
[178201,"Партнер номер 1","1945-05-18","оплачен",475,{"$f":"IFERROR(VLOOKUP(B3464,'Комиссии партнеров'!$A$2:$B$52,2,FALSE),\"\")","v":0.05},23.75]
[178202,"","1945-05-18","оплачен",3998,{"$f":"IFERROR(VLOOKUP(B3465,'Комиссии партнеров'!$A$2:$B$52,2,FALSE),\"\")","v":""}]
[178204,"","1945-05-18","оплачен",1947,{"$f":"IFERROR(VLOOKUP(B3466,'Комиссии партнеров'!$A$2:$B$52,2,FALSE),\"\")","v":""}]
[178208,"Партнер номер 7","1945-05-18","оплачен",1723,{"$f":"IFERROR(VLOOKUP(B3467,'Комиссии партнеров'!$A$2:$B$52,2,FALSE),\"\")","v":0.05},86.15]
[178213,"","1945-05-18","оплачен",2449,{"$f":"IFERROR(VLOOKUP(B3468,'Комиссии партнеров'!$A$2:$B$52,2,FALSE),\"\")","v":""}]
[178217,"","1945-05-18","оплачен",3098,{"$f":"IFERROR(VLOOKUP(B3469,'Комиссии партнеров'!$A$2:$B$52,2,FALSE),\"\")","v":""}]
[178222,"Партнер номер 11","1945-05-18","не оплачен",1732,{"$f":"IFERROR(VLOOKUP(B3470,'Комиссии партнеров'!$A$2:$B$52,2,FALSE),\"\")","v":0.05},86.600000000000009]
[178227,"","1945-05-18","оплачен",537,{"$f":"IFERROR(VLOOKUP(B3471,'Комиссии партнеров'!$A$2:$B$52,2,FALSE),\"\")","v":""}]
[178232,"Партнер номер 1","1945-05-18","оплачен",550,{"$f":"IFERROR(VLOOKUP(B3472,'Комиссии партнеров'!$A$2:$B$52,2,FALSE),\"\")","v":0.05},27.5]
[178234,"","1945-05-18","не оплачен",1951,{"$f":"IFERROR(VLOOKUP(B3473,'Комиссии партнеров'!$A$2:$B$52,2,FALSE),\"\")","v":""}]
[178235,"","1945-05-18","оплачен",2352,{"$f":"IFERROR(VLOOKUP(B3474,'Комиссии партнеров'!$A$2:$B$52,2,FALSE),\"\")","v":""}]
[178240,"","1945-05-18","не оплачен",1010,{"$f":"IFERROR(VLOOKUP(B3475,'Комиссии партнеров'!$A$2:$B$52,2,FALSE),\"\")","v":""}]
[178241,"Партнер номер 1","1945-05-18","не оплачен",1872,{"$f":"IFERROR(VLOOKUP(B3476,'Комиссии партнеров'!$A$2:$B$52,2,FALSE),\"\")","v":0.05},93.600000000000009]
[178245,"","1945-05-18","оплачен",1588,{"$f":"IFERROR(VLOOKUP(B3477,'Комиссии партнеров'!$A$2:$B$52,2,FALSE),\"\")","v":""}]
[178248,"Партнер номер 11","1945-05-18","оплачен",4688,{"$f":"IFERROR(VLOOKUP(B3478,'Комиссии партнеров'!$A$2:$B$52,2,FALSE),\"\")","v":0.05},234.4]
[178252,"Партнер номер 46","1945-05-18","не оплачен",3088,{"$f":"IFERROR(VLOOKUP(B3479,'Комиссии партнеров'!$A$2:$B$52,2,FALSE),\"\")","v":0.05},154.4]
[178257,"","1945-05-18","оплачен",1995,{"$f":"IFERROR(VLOOKUP(B3480,'Комиссии партнеров'!$A$2:$B$52,2,FALSE),\"\")","v":""}]
[178259,"Партнер номер 7","1945-05-18","оплачен",1947,{"$f":"IFERROR(VLOOKUP(B3481,'Комиссии партнеров'!$A$2:$B$52,2,FALSE),\"\")","v":0.05},97.350000000000009]
[178262,"Партнер номер 3","1945-05-18","не оплачен",633,{"$f":"IFERROR(VLOOKUP(B3482,'Комиссии партнеров'!$A$2:$B$52,2,FALSE),\"\")","v":0.05},31.650000000000002]
[178264,"Партнер номер 1","1945-05-18","не оплачен",1990,{"$f":"IFERROR(VLOOKUP(B3483,'Комиссии партнеров'!$A$2:$B$52,2,FALSE),\"\")","v":0.05},99.5]
[178267,"Партнер номер 5","1945-05-18","оплачен",3318,{"$f":"IFERROR(VLOOKUP(B3484,'Комиссии партнеров'!$A$2:$B$52,2,FALSE),\"\")","v":0.03},99.539999999999992]
[178269,"","1945-05-18","не оплачен",3082,{"$f":"IFERROR(VLOOKUP(B3485,'Комиссии партнеров'!$A$2:$B$52,2,FALSE),\"\")","v":""}]
[178274,"","1945-05-18","оплачен",1440,{"$f":"IFERROR(VLOOKUP(B3486,'Комиссии партнеров'!$A$2:$B$52,2,FALSE),\"\")","v":""}]
[178278,"","1945-05-18","оплачен",2392,{"$f":"IFERROR(VLOOKUP(B3487,'Комиссии партнеров'!$A$2:$B$52,2,FALSE),\"\")","v":""}]
[178281,"","1945-05-18","не оплачен",2312,{"$f":"IFERROR(VLOOKUP(B3488,'Комиссии партнеров'!$A$2:$B$52,2,FALSE),\"\")","v":""}]
[178284,"Партнер номер 1","1945-05-18","оплачен",2097,{"$f":"IFERROR(VLOOKUP(B3489,'Комиссии партнеров'!$A$2:$B$52,2,FALSE),\"\")","v":0.05},104.85000000000001]
[178286,"Партнер номер 8","1945-05-18","не оплачен",2546,{"$f":"IFERROR(VLOOKUP(B3490,'Комиссии партнеров'!$A$2:$B$52,2,FALSE),\"\")","v":0.03},76.38]
[178289,"","1945-05-18","оплачен",1397,{"$f":"IFERROR(VLOOKUP(B3491,'Комиссии партнеров'!$A$2:$B$52,2,FALSE),\"\")","v":""}]
[178293,"Партнер номер 11","1945-05-18","оплачен",530,{"$f":"IFERROR(VLOOKUP(B3492,'Комиссии партнеров'!$A$2:$B$52,2,FALSE),\"\")","v":0.05},26.5]
[178297,"","1945-05-18","не оплачен",3343,{"$f":"IFERROR(VLOOKUP(B3493,'Комиссии партнеров'!$A$2:$B$52,2,FALSE),\"\")","v":""}]
[178302,"","1945-05-18","оплачен",2493,{"$f":"IFERROR(VLOOKUP(B3494,'Комиссии партнеров'!$A$2:$B$52,2,FALSE),\"\")","v":""}]
[178306,"","1945-05-18","не оплачен",3082,{"$f":"IFERROR(VLOOKUP(B3495,'Комиссии партнеров'!$A$2:$B$52,2,FALSE),\"\")","v":""}]
[178310,"","1945-05-18","оплачен",2988,{"$f":"IFERROR(VLOOKUP(B3496,'Комиссии партнеров'!$A$2:$B$52,2,FALSE),\"\")","v":""}]
[178315,"Партнер номер 11","1945-05-18","оплачен",3558,{"$f":"IFERROR(VLOOKUP(B3497,'Комиссии партнеров'!$A$2:$B$52,2,FALSE),\"\")","v":0.05},177.9]
[178320,"Партнер номер 1","1945-05-18","не оплачен",2434,{"$f":"IFERROR(VLOOKUP(B3498,'Комиссии партнеров'!$A$2:$B$52,2,FALSE),\"\")","v":0.05},121.7]
[178324,"","1945-05-18","оплачен",1395,{"$f":"IFERROR(VLOOKUP(B3499,'Комиссии партнеров'!$A$2:$B$52,2,FALSE),\"\")","v":""}]
[178326,"Партнер номер 8","1945-05-18","не оплачен",1679,{"$f":"IFERROR(VLOOKUP(B3500,'Комиссии партнеров'!$A$2:$B$52,2,FALSE),\"\")","v":0.03},50.37]
[178328,"","1945-05-18","не оплачен",2427,{"$f":"IFERROR(VLOOKUP(B3501,'Комиссии партнеров'!$A$2:$B$52,2,FALSE),\"\")","v":""}]
[178331,"","1945-05-18","оплачен",3692,{"$f":"IFERROR(VLOOKUP(B3502,'Комиссии партнеров'!$A$2:$B$52,2,FALSE),\"\")","v":""}]
[178334,"","1945-05-18","не оплачен",2180,{"$f":"IFERROR(VLOOKUP(B3503,'Комиссии партнеров'!$A$2:$B$52,2,FALSE),\"\")","v":""}]
[178339,"Партнер номер 1","1945-05-18","не оплачен",633,{"$f":"IFERROR(VLOOKUP(B3504,'Комиссии партнеров'!$A$2:$B$52,2,FALSE),\"\")","v":0.05},31.650000000000002]
[178343,"Партнер номер 1","1945-05-18","оплачен",1627,{"$f":"IFERROR(VLOOKUP(B3505,'Комиссии партнеров'!$A$2:$B$52,2,FALSE),\"\")","v":0.05},81.350000000000009]
[178349,"","1945-05-18","не оплачен",2427,{"$f":"IFERROR(VLOOKUP(B3506,'Комиссии партнеров'!$A$2:$B$52,2,FALSE),\"\")","v":""}]
[178352,"Партнер номер 5","1945-05-18","оплачен",3336,{"$f":"IFERROR(VLOOKUP(B3507,'Комиссии партнеров'!$A$2:$B$52,2,FALSE),\"\")","v":0.03},100.08]
[178356,"Партнер номер 1","1945-05-18","оплачен",724,{"$f":"IFERROR(VLOOKUP(B3508,'Комиссии партнеров'!$A$2:$B$52,2,FALSE),\"\")","v":0.05},36.200000000000003]
[178358,"","1945-05-18","оплачен",3027,{"$f":"IFERROR(VLOOKUP(B3509,'Комиссии партнеров'!$A$2:$B$52,2,FALSE),\"\")","v":""}]
[178361,"Партнер номер 1","1945-05-18","не оплачен",1639,{"$f":"IFERROR(VLOOKUP(B3510,'Комиссии партнеров'!$A$2:$B$52,2,FALSE),\"\")","v":0.05},81.95]
[178364,"Партнер номер 7","1945-05-18","оплачен",2188,{"$f":"IFERROR(VLOOKUP(B3511,'Комиссии партнеров'!$A$2:$B$52,2,FALSE),\"\")","v":0.05},109.4]
[178368,"","1945-05-18","не оплачен",742,{"$f":"IFERROR(VLOOKUP(B3512,'Комиссии партнеров'!$A$2:$B$52,2,FALSE),\"\")","v":""}]
[178372,"","1945-05-18","оплачен",1960,{"$f":"IFERROR(VLOOKUP(B3513,'Комиссии партнеров'!$A$2:$B$52,2,FALSE),\"\")","v":""}]
[178374,"","1945-05-18","оплачен",1524,{"$f":"IFERROR(VLOOKUP(B3514,'Комиссии партнеров'!$A$2:$B$52,2,FALSE),\"\")","v":""}]
[178377,"","1945-05-18","оплачен",683,{"$f":"IFERROR(VLOOKUP(B3515,'Комиссии партнеров'!$A$2:$B$52,2,FALSE),\"\")","v":""}]
[178380,"","1945-05-18","оплачен",2204,{"$f":"IFERROR(VLOOKUP(B3516,'Комиссии партнеров'!$A$2:$B$52,2,FALSE),\"\")","v":""}]
[178382,"Партнер номер 3","1945-05-18","не оплачен",627,{"$f":"IFERROR(VLOOKUP(B3517,'Комиссии партнеров'!$A$2:$B$52,2,FALSE),\"\")","v":0.05},31.35]
[178384,"","1945-05-18","не оплачен",2427,{"$f":"IFERROR(VLOOKUP(B3518,'Комиссии партнеров'!$A$2:$B$52,2,FALSE),\"\")","v":""}]
[178387,"Партнер номер 1","1945-05-18","оплачен",2204,{"$f":"IFERROR(VLOOKUP(B3519,'Комиссии партнеров'!$A$2:$B$52,2,FALSE),\"\")","v":0.05},110.2]
[178392,"Партнер номер 5","1945-05-18","не оплачен",2034,{"$f":"IFERROR(VLOOKUP(B3520,'Комиссии партнеров'!$A$2:$B$52,2,FALSE),\"\")","v":0.03},61.019999999999996]
[178395,"Партнер номер 1","1945-05-18","не оплачен",2250,{"$f":"IFERROR(VLOOKUP(B3521,'Комиссии партнеров'!$A$2:$B$52,2,FALSE),\"\")","v":0.05},112.5]
[178398,"Партнер номер 11","1945-05-18","оплачен",1463,{"$f":"IFERROR(VLOOKUP(B3522,'Комиссии партнеров'!$A$2:$B$52,2,FALSE),\"\")","v":0.05},73.150000000000006]
[178402,"Партнер номер 5","1945-05-18","оплачен",2138,{"$f":"IFERROR(VLOOKUP(B3523,'Комиссии партнеров'!$A$2:$B$52,2,FALSE),\"\")","v":0.03},64.14]
[178406,"","1945-05-18","не оплачен",1578,{"$f":"IFERROR(VLOOKUP(B3524,'Комиссии партнеров'!$A$2:$B$52,2,FALSE),\"\")","v":""}]
[178410,"","1945-05-18","оплачен",943,{"$f":"IFERROR(VLOOKUP(B3525,'Комиссии партнеров'!$A$2:$B$52,2,FALSE),\"\")","v":""}]
[178413,"","1945-05-18","оплачен",1055,{"$f":"IFERROR(VLOOKUP(B3526,'Комиссии партнеров'!$A$2:$B$52,2,FALSE),\"\")","v":""}]
[178417,"Партнер номер 4","1945-05-18","оплачен",1756,{"$f":"IFERROR(VLOOKUP(B3527,'Комиссии партнеров'!$A$2:$B$52,2,FALSE),\"\")","v":0.04},70.239999999999995]
[178422,"Партнер номер 1","1945-05-18","оплачен",1212,{"$f":"IFERROR(VLOOKUP(B3528,'Комиссии партнеров'!$A$2:$B$52,2,FALSE),\"\")","v":0.05},60.6]
[178426,"Партнер номер 1","1945-05-18","оплачен",2085,{"$f":"IFERROR(VLOOKUP(B3529,'Комиссии партнеров'!$A$2:$B$52,2,FALSE),\"\")","v":0.05},104.25]
[178431,"","1945-05-18","оплачен",4128,{"$f":"IFERROR(VLOOKUP(B3530,'Комиссии партнеров'!$A$2:$B$52,2,FALSE),\"\")","v":""}]
[178433,"","1945-05-18","оплачен",1167,{"$f":"IFERROR(VLOOKUP(B3531,'Комиссии партнеров'!$A$2:$B$52,2,FALSE),\"\")","v":""}]
[178434,"","1945-05-18","оплачен",2620,{"$f":"IFERROR(VLOOKUP(B3532,'Комиссии партнеров'!$A$2:$B$52,2,FALSE),\"\")","v":""}]
[178439,"","1945-05-18","не оплачен",3183,{"$f":"IFERROR(VLOOKUP(B3533,'Комиссии партнеров'!$A$2:$B$52,2,FALSE),\"\")","v":""}]
[178440,"","1945-05-18","оплачен",2083,{"$f":"IFERROR(VLOOKUP(B3534,'Комиссии партнеров'!$A$2:$B$52,2,FALSE),\"\")","v":""}]
[178443,"Партнер номер 1","1945-05-18","оплачен",821,{"$f":"IFERROR(VLOOKUP(B3535,'Комиссии партнеров'!$A$2:$B$52,2,FALSE),\"\")","v":0.05},41.050000000000004]
[178445,"","1945-05-18","не оплачен",1152,{"$f":"IFERROR(VLOOKUP(B3536,'Комиссии партнеров'!$A$2:$B$52,2,FALSE),\"\")","v":""}]
[178447,"Партнер номер 11","1945-05-18","оплачен",2357,{"$f":"IFERROR(VLOOKUP(B3537,'Комиссии партнеров'!$A$2:$B$52,2,FALSE),\"\")","v":0.05},117.85000000000001]
[178451,"","1945-05-18","не оплачен",3322,{"$f":"IFERROR(VLOOKUP(B3538,'Комиссии партнеров'!$A$2:$B$52,2,FALSE),\"\")","v":""}]
[178455,"Партнер номер 7","1945-05-19","не оплачен",2934,{"$f":"IFERROR(VLOOKUP(B3539,'Комиссии партнеров'!$A$2:$B$52,2,FALSE),\"\")","v":0.05},146.70000000000002]
[178456,"Партнер номер 1","1945-05-19","не оплачен",1358,{"$f":"IFERROR(VLOOKUP(B3540,'Комиссии партнеров'!$A$2:$B$52,2,FALSE),\"\")","v":0.05},67.900000000000006]
[178459,"Партнер номер 1","1945-05-19","не оплачен",1471,{"$f":"IFERROR(VLOOKUP(B3541,'Комиссии партнеров'!$A$2:$B$52,2,FALSE),\"\")","v":0.05},73.55]
[178463,"Партнер номер 1","1945-05-19","оплачен",1254,{"$f":"IFERROR(VLOOKUP(B3542,'Комиссии партнеров'!$A$2:$B$52,2,FALSE),\"\")","v":0.05},62.7]
[178466,"","1945-05-19","оплачен",1987,{"$f":"IFERROR(VLOOKUP(B3543,'Комиссии партнеров'!$A$2:$B$52,2,FALSE),\"\")","v":""}]
[178470,"","1945-05-19","не оплачен",2089,{"$f":"IFERROR(VLOOKUP(B3544,'Комиссии партнеров'!$A$2:$B$52,2,FALSE),\"\")","v":""}]
[178475,"Партнер номер 1","1945-05-19","оплачен",1273,{"$f":"IFERROR(VLOOKUP(B3545,'Комиссии партнеров'!$A$2:$B$52,2,FALSE),\"\")","v":0.05},63.650000000000006]
[178480,"Партнер номер 5","1945-05-19","оплачен",1702,{"$f":"IFERROR(VLOOKUP(B3546,'Комиссии партнеров'!$A$2:$B$52,2,FALSE),\"\")","v":0.03},51.059999999999995]
[178481,"","1945-05-19","оплачен",984,{"$f":"IFERROR(VLOOKUP(B3547,'Комиссии партнеров'!$A$2:$B$52,2,FALSE),\"\")","v":""}]
[178485,"","1945-05-19","оплачен",3561,{"$f":"IFERROR(VLOOKUP(B3548,'Комиссии партнеров'!$A$2:$B$52,2,FALSE),\"\")","v":""}]
[178489,"","1945-05-19","оплачен",2305,{"$f":"IFERROR(VLOOKUP(B3549,'Комиссии партнеров'!$A$2:$B$52,2,FALSE),\"\")","v":""}]
[178493,"Партнер номер 35","1945-05-19","оплачен",1762,{"$f":"IFERROR(VLOOKUP(B3550,'Комиссии партнеров'!$A$2:$B$52,2,FALSE),\"\")","v":0.04},70.48]
[178494,"","1945-05-19","оплачен",3273,{"$f":"IFERROR(VLOOKUP(B3551,'Комиссии партнеров'!$A$2:$B$52,2,FALSE),\"\")","v":""}]
[178499,"Партнер номер 11","1945-05-19","не оплачен",1838,{"$f":"IFERROR(VLOOKUP(B3552,'Комиссии партнеров'!$A$2:$B$52,2,FALSE),\"\")","v":0.05},91.9]
[178504,"","1945-05-19","оплачен",7327,{"$f":"IFERROR(VLOOKUP(B3553,'Комиссии партнеров'!$A$2:$B$52,2,FALSE),\"\")","v":""}]
[178508,"","1945-05-19","оплачен",844,{"$f":"IFERROR(VLOOKUP(B3554,'Комиссии партнеров'!$A$2:$B$52,2,FALSE),\"\")","v":""}]
[178514,"","1945-05-19","оплачен",3295,{"$f":"IFERROR(VLOOKUP(B3555,'Комиссии партнеров'!$A$2:$B$52,2,FALSE),\"\")","v":""}]
[178518,"","1945-05-19","оплачен",3324,{"$f":"IFERROR(VLOOKUP(B3556,'Комиссии партнеров'!$A$2:$B$52,2,FALSE),\"\")","v":""}]
[178521,"Партнер номер 1","1945-05-19","оплачен",2559,{"$f":"IFERROR(VLOOKUP(B3557,'Комиссии партнеров'!$A$2:$B$52,2,FALSE),\"\")","v":0.05},127.95]
[178523,"Партнер номер 5","1945-05-19","оплачен",5873,{"$f":"IFERROR(VLOOKUP(B3558,'Комиссии партнеров'!$A$2:$B$52,2,FALSE),\"\")","v":0.03},176.19]
[178528,"","1945-05-19","оплачен",1246,{"$f":"IFERROR(VLOOKUP(B3559,'Комиссии партнеров'!$A$2:$B$52,2,FALSE),\"\")","v":""}]
[178529,"","1945-05-19","оплачен",5717,{"$f":"IFERROR(VLOOKUP(B3560,'Комиссии партнеров'!$A$2:$B$52,2,FALSE),\"\")","v":""}]
[178534,"","1945-05-19","не оплачен",2288,{"$f":"IFERROR(VLOOKUP(B3561,'Комиссии партнеров'!$A$2:$B$52,2,FALSE),\"\")","v":""}]
[178536,"Партнер номер 32","1945-05-19","оплачен",3098,{"$f":"IFERROR(VLOOKUP(B3562,'Комиссии партнеров'!$A$2:$B$52,2,FALSE),\"\")","v":0.05},154.9]
[178538,"","1945-05-19","оплачен",4641,{"$f":"IFERROR(VLOOKUP(B3563,'Комиссии партнеров'!$A$2:$B$52,2,FALSE),\"\")","v":""}]
[178541,"Партнер номер 1","1945-05-19","оплачен",2987,{"$f":"IFERROR(VLOOKUP(B3564,'Комиссии партнеров'!$A$2:$B$52,2,FALSE),\"\")","v":0.05},149.35]
[178545,"Партнер номер 7","1945-05-19","не оплачен",1414,{"$f":"IFERROR(VLOOKUP(B3565,'Комиссии партнеров'!$A$2:$B$52,2,FALSE),\"\")","v":0.05},70.7]
[178547,"","1945-05-19","оплачен",2183,{"$f":"IFERROR(VLOOKUP(B3566,'Комиссии партнеров'!$A$2:$B$52,2,FALSE),\"\")","v":""}]
[178553,"Партнер номер 7","1945-05-19","оплачен",1450,{"$f":"IFERROR(VLOOKUP(B3567,'Комиссии партнеров'!$A$2:$B$52,2,FALSE),\"\")","v":0.05},72.5]
[178558,"Партнер номер 12","1945-05-19","оплачен",1307,{"$f":"IFERROR(VLOOKUP(B3568,'Комиссии партнеров'!$A$2:$B$52,2,FALSE),\"\")","v":0.03},39.21]
[178560,"","1945-05-19","оплачен",380,{"$f":"IFERROR(VLOOKUP(B3569,'Комиссии партнеров'!$A$2:$B$52,2,FALSE),\"\")","v":""}]
[178563,"","1945-05-19","оплачен",4618,{"$f":"IFERROR(VLOOKUP(B3570,'Комиссии партнеров'!$A$2:$B$52,2,FALSE),\"\")","v":""}]
[178565,"","1945-05-19","оплачен",2156,{"$f":"IFERROR(VLOOKUP(B3571,'Комиссии партнеров'!$A$2:$B$52,2,FALSE),\"\")","v":""}]
[178567,"Партнер номер 1","1945-05-19","оплачен",3290,{"$f":"IFERROR(VLOOKUP(B3572,'Комиссии партнеров'!$A$2:$B$52,2,FALSE),\"\")","v":0.05},164.5]
[178569,"Партнер номер 3","1945-05-19","оплачен",1230,{"$f":"IFERROR(VLOOKUP(B3573,'Комиссии партнеров'!$A$2:$B$52,2,FALSE),\"\")","v":0.05},61.5]
[178572,"","1945-05-19","оплачен",2808,{"$f":"IFERROR(VLOOKUP(B3574,'Комиссии партнеров'!$A$2:$B$52,2,FALSE),\"\")","v":""}]
[178581,"","1945-05-19","не оплачен",523,{"$f":"IFERROR(VLOOKUP(B3575,'Комиссии партнеров'!$A$2:$B$52,2,FALSE),\"\")","v":""}]
[178585,"Партнер номер 11","1945-05-19","оплачен",1122,{"$f":"IFERROR(VLOOKUP(B3576,'Комиссии партнеров'!$A$2:$B$52,2,FALSE),\"\")","v":0.05},56.1]
[178588,"","1945-05-19","оплачен",1059,{"$f":"IFERROR(VLOOKUP(B3577,'Комиссии партнеров'!$A$2:$B$52,2,FALSE),\"\")","v":""}]
[178593,"","1945-05-19","не оплачен",2406,{"$f":"IFERROR(VLOOKUP(B3578,'Комиссии партнеров'!$A$2:$B$52,2,FALSE),\"\")","v":""}]
[178595,"Партнер номер 6","1945-05-19","оплачен",1301,{"$f":"IFERROR(VLOOKUP(B3579,'Комиссии партнеров'!$A$2:$B$52,2,FALSE),\"\")","v":0.04},52.04]
[178598,"Партнер номер 7","1945-05-19","не оплачен",1821,{"$f":"IFERROR(VLOOKUP(B3580,'Комиссии партнеров'!$A$2:$B$52,2,FALSE),\"\")","v":0.05},91.050000000000011]
[178599,"Партнер номер 1","1945-05-19","оплачен",1380,{"$f":"IFERROR(VLOOKUP(B3581,'Комиссии партнеров'!$A$2:$B$52,2,FALSE),\"\")","v":0.05},69]
[178602,"Партнер номер 1","1945-05-19","оплачен",795,{"$f":"IFERROR(VLOOKUP(B3582,'Комиссии партнеров'!$A$2:$B$52,2,FALSE),\"\")","v":0.05},39.75]
[178605,"Партнер номер 10","1945-05-19","не оплачен",1707,{"$f":"IFERROR(VLOOKUP(B3583,'Комиссии партнеров'!$A$2:$B$52,2,FALSE),\"\")","v":0.04},68.28]
[178609,"","1945-05-19","не оплачен",1491,{"$f":"IFERROR(VLOOKUP(B3584,'Комиссии партнеров'!$A$2:$B$52,2,FALSE),\"\")","v":""}]
[178612,"","1945-05-19","оплачен",1388,{"$f":"IFERROR(VLOOKUP(B3585,'Комиссии партнеров'!$A$2:$B$52,2,FALSE),\"\")","v":""}]
[178618,"","1945-05-19","оплачен",3834,{"$f":"IFERROR(VLOOKUP(B3586,'Комиссии партнеров'!$A$2:$B$52,2,FALSE),\"\")","v":""}]
[178620,"","1945-05-19","оплачен",2334,{"$f":"IFERROR(VLOOKUP(B3587,'Комиссии партнеров'!$A$2:$B$52,2,FALSE),\"\")","v":""}]
[178622,"","1945-05-19","оплачен",2547,{"$f":"IFERROR(VLOOKUP(B3588,'Комиссии партнеров'!$A$2:$B$52,2,FALSE),\"\")","v":""}]
[178624,"","1945-05-19","не оплачен",1441,{"$f":"IFERROR(VLOOKUP(B3589,'Комиссии партнеров'!$A$2:$B$52,2,FALSE),\"\")","v":""}]
[178627,"","1945-05-19","оплачен",3861,{"$f":"IFERROR(VLOOKUP(B3590,'Комиссии партнеров'!$A$2:$B$52,2,FALSE),\"\")","v":""}]
[178630,"","1945-05-19","оплачен",568,{"$f":"IFERROR(VLOOKUP(B3591,'Комиссии партнеров'!$A$2:$B$52,2,FALSE),\"\")","v":""}]
[178631,"","1945-05-19","оплачен",4617,{"$f":"IFERROR(VLOOKUP(B3592,'Комиссии партнеров'!$A$2:$B$52,2,FALSE),\"\")","v":""}]
[178637,"","1945-05-19","оплачен",865,{"$f":"IFERROR(VLOOKUP(B3593,'Комиссии партнеров'!$A$2:$B$52,2,FALSE),\"\")","v":""}]
[178641,"","1945-05-19","оплачен",2341,{"$f":"IFERROR(VLOOKUP(B3594,'Комиссии партнеров'!$A$2:$B$52,2,FALSE),\"\")","v":""}]
[178645,"","1945-05-19","не оплачен",2589,{"$f":"IFERROR(VLOOKUP(B3595,'Комиссии партнеров'!$A$2:$B$52,2,FALSE),\"\")","v":""}]
[178648,"","1945-05-19","оплачен",1256,{"$f":"IFERROR(VLOOKUP(B3596,'Комиссии партнеров'!$A$2:$B$52,2,FALSE),\"\")","v":""}]
[178651,"Партнер номер 1","1945-05-19","не оплачен",2085,{"$f":"IFERROR(VLOOKUP(B3597,'Комиссии партнеров'!$A$2:$B$52,2,FALSE),\"\")","v":0.05},104.25]
[178656,"","1945-05-19","не оплачен",1552,{"$f":"IFERROR(VLOOKUP(B3598,'Комиссии партнеров'!$A$2:$B$52,2,FALSE),\"\")","v":""}]
[178661,"Партнер номер 5","1945-05-19","не оплачен",3051,{"$f":"IFERROR(VLOOKUP(B3599,'Комиссии партнеров'!$A$2:$B$52,2,FALSE),\"\")","v":0.03},91.53]
[178666,"Партнер номер 7","1945-05-19","оплачен",628,{"$f":"IFERROR(VLOOKUP(B3600,'Комиссии партнеров'!$A$2:$B$52,2,FALSE),\"\")","v":0.05},31.400000000000002]
[178672,"","1945-05-19","оплачен",2805,{"$f":"IFERROR(VLOOKUP(B3601,'Комиссии партнеров'!$A$2:$B$52,2,FALSE),\"\")","v":""}]
[178675,"","1945-05-19","оплачен",1941,{"$f":"IFERROR(VLOOKUP(B3602,'Комиссии партнеров'!$A$2:$B$52,2,FALSE),\"\")","v":""}]
[178679,"","1945-05-19","оплачен",1606,{"$f":"IFERROR(VLOOKUP(B3603,'Комиссии партнеров'!$A$2:$B$52,2,FALSE),\"\")","v":""}]
[178684,"Партнер номер 8","1945-05-19","оплачен",1081,{"$f":"IFERROR(VLOOKUP(B3604,'Комиссии партнеров'!$A$2:$B$52,2,FALSE),\"\")","v":0.03},32.43]
[178685,"","1945-05-19","не оплачен",2152,{"$f":"IFERROR(VLOOKUP(B3605,'Комиссии партнеров'!$A$2:$B$52,2,FALSE),\"\")","v":""}]
[178690,"","1945-05-19","не оплачен",1124,{"$f":"IFERROR(VLOOKUP(B3606,'Комиссии партнеров'!$A$2:$B$52,2,FALSE),\"\")","v":""}]
[178693,"","1945-05-19","оплачен",2159,{"$f":"IFERROR(VLOOKUP(B3607,'Комиссии партнеров'!$A$2:$B$52,2,FALSE),\"\")","v":""}]
[178695,"Партнер номер 5","1945-05-19","не оплачен",1680,{"$f":"IFERROR(VLOOKUP(B3608,'Комиссии партнеров'!$A$2:$B$52,2,FALSE),\"\")","v":0.03},50.4]
[178697,"","1945-05-19","не оплачен",2726,{"$f":"IFERROR(VLOOKUP(B3609,'Комиссии партнеров'!$A$2:$B$52,2,FALSE),\"\")","v":""}]
[178702,"","1945-05-19","оплачен",3033,{"$f":"IFERROR(VLOOKUP(B3610,'Комиссии партнеров'!$A$2:$B$52,2,FALSE),\"\")","v":""}]
[178704,"Партнер номер 4","1945-05-19","оплачен",1307,{"$f":"IFERROR(VLOOKUP(B3611,'Комиссии партнеров'!$A$2:$B$52,2,FALSE),\"\")","v":0.04},52.28]
[178708,"","1945-05-19","оплачен",1516,{"$f":"IFERROR(VLOOKUP(B3612,'Комиссии партнеров'!$A$2:$B$52,2,FALSE),\"\")","v":""}]
[178713,"","1945-05-19","не оплачен",2167,{"$f":"IFERROR(VLOOKUP(B3613,'Комиссии партнеров'!$A$2:$B$52,2,FALSE),\"\")","v":""}]
[178715,"Партнер номер 1","1945-05-19","не оплачен",556,{"$f":"IFERROR(VLOOKUP(B3614,'Комиссии партнеров'!$A$2:$B$52,2,FALSE),\"\")","v":0.05},27.8]
[178717,"Партнер номер 1","1945-05-19","оплачен",1440,{"$f":"IFERROR(VLOOKUP(B3615,'Комиссии партнеров'!$A$2:$B$52,2,FALSE),\"\")","v":0.05},72]
[178721,"Партнер номер 5","1945-05-19","оплачен",1632,{"$f":"IFERROR(VLOOKUP(B3616,'Комиссии партнеров'!$A$2:$B$52,2,FALSE),\"\")","v":0.03},48.96]
[178723,"","1945-05-19","оплачен",1224,{"$f":"IFERROR(VLOOKUP(B3617,'Комиссии партнеров'!$A$2:$B$52,2,FALSE),\"\")","v":""}]
[178728,"Партнер номер 1","1945-05-19","не оплачен",2317,{"$f":"IFERROR(VLOOKUP(B3618,'Комиссии партнеров'!$A$2:$B$52,2,FALSE),\"\")","v":0.05},115.85000000000001]
[178730,"Партнер номер 36","1945-05-19","оплачен",1243,{"$f":"IFERROR(VLOOKUP(B3619,'Комиссии партнеров'!$A$2:$B$52,2,FALSE),\"\")","v":0.05},62.150000000000006]
[178734,"Партнер номер 1","1945-05-19","не оплачен",965,{"$f":"IFERROR(VLOOKUP(B3620,'Комиссии партнеров'!$A$2:$B$52,2,FALSE),\"\")","v":0.05},48.25]
[178739,"Партнер номер 46","1945-05-19","оплачен",1479,{"$f":"IFERROR(VLOOKUP(B3621,'Комиссии партнеров'!$A$2:$B$52,2,FALSE),\"\")","v":0.05},73.95]
[178740,"Партнер номер 4","1945-05-19","не оплачен",5065,{"$f":"IFERROR(VLOOKUP(B3622,'Комиссии партнеров'!$A$2:$B$52,2,FALSE),\"\")","v":0.04},202.6]
[178743,"Партнер номер 11","1945-05-19","оплачен",1199,{"$f":"IFERROR(VLOOKUP(B3623,'Комиссии партнеров'!$A$2:$B$52,2,FALSE),\"\")","v":0.05},59.95]
[178747,"Партнер номер 1","1945-05-19","оплачен",1188,{"$f":"IFERROR(VLOOKUP(B3624,'Комиссии партнеров'!$A$2:$B$52,2,FALSE),\"\")","v":0.05},59.400000000000006]
[178752,"Партнер номер 5","1945-05-19","не оплачен",2043,{"$f":"IFERROR(VLOOKUP(B3625,'Комиссии партнеров'!$A$2:$B$52,2,FALSE),\"\")","v":0.03},61.29]
[178758,"Партнер номер 1","1945-05-19","оплачен",914,{"$f":"IFERROR(VLOOKUP(B3626,'Комиссии партнеров'!$A$2:$B$52,2,FALSE),\"\")","v":0.05},45.7]
[178762,"","1945-05-19","оплачен",612,{"$f":"IFERROR(VLOOKUP(B3627,'Комиссии партнеров'!$A$2:$B$52,2,FALSE),\"\")","v":""}]
[178765,"","1945-05-19","оплачен",861,{"$f":"IFERROR(VLOOKUP(B3628,'Комиссии партнеров'!$A$2:$B$52,2,FALSE),\"\")","v":""}]
[178770,"","1945-05-19","не оплачен",2004,{"$f":"IFERROR(VLOOKUP(B3629,'Комиссии партнеров'!$A$2:$B$52,2,FALSE),\"\")","v":""}]
[178773,"Партнер номер 9","1945-05-19","оплачен",615,{"$f":"IFERROR(VLOOKUP(B3630,'Комиссии партнеров'!$A$2:$B$52,2,FALSE),\"\")","v":0.05},30.75]
[178778,"","1945-05-19","оплачен",2163,{"$f":"IFERROR(VLOOKUP(B3631,'Комиссии партнеров'!$A$2:$B$52,2,FALSE),\"\")","v":""}]
[178783,"Партнер номер 7","1945-05-19","не оплачен",1733,{"$f":"IFERROR(VLOOKUP(B3632,'Комиссии партнеров'!$A$2:$B$52,2,FALSE),\"\")","v":0.05},86.65]
[178787,"","1945-05-19","оплачен",2762,{"$f":"IFERROR(VLOOKUP(B3633,'Комиссии партнеров'!$A$2:$B$52,2,FALSE),\"\")","v":""}]
[178791,"Партнер номер 46","1945-05-19","оплачен",731,{"$f":"IFERROR(VLOOKUP(B3634,'Комиссии партнеров'!$A$2:$B$52,2,FALSE),\"\")","v":0.05},36.550000000000004]
[178797,"Партнер номер 40","1945-05-19","не оплачен",1899,{"$f":"IFERROR(VLOOKUP(B3635,'Комиссии партнеров'!$A$2:$B$52,2,FALSE),\"\")","v":0.05},94.95]
[178800,"","1945-05-19","оплачен",919,{"$f":"IFERROR(VLOOKUP(B3636,'Комиссии партнеров'!$A$2:$B$52,2,FALSE),\"\")","v":""}]
[178804,"","1945-05-19","оплачен",2577,{"$f":"IFERROR(VLOOKUP(B3637,'Комиссии партнеров'!$A$2:$B$52,2,FALSE),\"\")","v":""}]
[178808,"","1945-05-19","оплачен",1817,{"$f":"IFERROR(VLOOKUP(B3638,'Комиссии партнеров'!$A$2:$B$52,2,FALSE),\"\")","v":""}]
[178811,"Партнер номер 1","1945-05-19","оплачен",6981,{"$f":"IFERROR(VLOOKUP(B3639,'Комиссии партнеров'!$A$2:$B$52,2,FALSE),\"\")","v":0.05},349.05]
[178813,"","1945-05-19","не оплачен",930,{"$f":"IFERROR(VLOOKUP(B3640,'Комиссии партнеров'!$A$2:$B$52,2,FALSE),\"\")","v":""}]
[178816,"","1945-05-19","оплачен",621,{"$f":"IFERROR(VLOOKUP(B3641,'Комиссии партнеров'!$A$2:$B$52,2,FALSE),\"\")","v":""}]
[178818,"Партнер номер 1","1945-05-19","оплачен",777,{"$f":"IFERROR(VLOOKUP(B3642,'Комиссии партнеров'!$A$2:$B$52,2,FALSE),\"\")","v":0.05},38.85]
[178823,"","1945-05-19","оплачен",823,{"$f":"IFERROR(VLOOKUP(B3643,'Комиссии партнеров'!$A$2:$B$52,2,FALSE),\"\")","v":""}]
[178829,"","1945-05-19","оплачен",2468,{"$f":"IFERROR(VLOOKUP(B3644,'Комиссии партнеров'!$A$2:$B$52,2,FALSE),\"\")","v":""}]
[178832,"Партнер номер 1","1945-05-19","оплачен",3806,{"$f":"IFERROR(VLOOKUP(B3645,'Комиссии партнеров'!$A$2:$B$52,2,FALSE),\"\")","v":0.05},190.3]
[178834,"Партнер номер 1","1945-05-19","не оплачен",1731,{"$f":"IFERROR(VLOOKUP(B3646,'Комиссии партнеров'!$A$2:$B$52,2,FALSE),\"\")","v":0.05},86.550000000000011]
[178837,"","1945-05-19","оплачен",4056,{"$f":"IFERROR(VLOOKUP(B3647,'Комиссии партнеров'!$A$2:$B$52,2,FALSE),\"\")","v":""}]
[178839,"Партнер номер 1","1945-05-19","оплачен",1644,{"$f":"IFERROR(VLOOKUP(B3648,'Комиссии партнеров'!$A$2:$B$52,2,FALSE),\"\")","v":0.05},82.2]
[178849,"","1945-05-19","оплачен",1972,{"$f":"IFERROR(VLOOKUP(B3649,'Комиссии партнеров'!$A$2:$B$52,2,FALSE),\"\")","v":""}]
[178854,"Партнер номер 1","1945-05-19","оплачен",1193,{"$f":"IFERROR(VLOOKUP(B3650,'Комиссии партнеров'!$A$2:$B$52,2,FALSE),\"\")","v":0.05},59.650000000000006]
[178856,"","1945-05-19","оплачен",1457,{"$f":"IFERROR(VLOOKUP(B3651,'Комиссии партнеров'!$A$2:$B$52,2,FALSE),\"\")","v":""}]
[178858,"","1945-05-19","не оплачен",2862,{"$f":"IFERROR(VLOOKUP(B3652,'Комиссии партнеров'!$A$2:$B$52,2,FALSE),\"\")","v":""}]
[178863,"Партнер номер 1","1945-05-19","оплачен",1161,{"$f":"IFERROR(VLOOKUP(B3653,'Комиссии партнеров'!$A$2:$B$52,2,FALSE),\"\")","v":0.05},58.050000000000004]
[178865,"","1945-05-19","не оплачен",1108,{"$f":"IFERROR(VLOOKUP(B3654,'Комиссии партнеров'!$A$2:$B$52,2,FALSE),\"\")","v":""}]
[178866,"Партнер номер 3","1945-05-19","не оплачен",594,{"$f":"IFERROR(VLOOKUP(B3655,'Комиссии партнеров'!$A$2:$B$52,2,FALSE),\"\")","v":0.05},29.700000000000003]
[178870,"","1945-05-19","оплачен",3130,{"$f":"IFERROR(VLOOKUP(B3656,'Комиссии партнеров'!$A$2:$B$52,2,FALSE),\"\")","v":""}]
[178873,"Партнер номер 1","1945-05-19","не оплачен",385,{"$f":"IFERROR(VLOOKUP(B3657,'Комиссии партнеров'!$A$2:$B$52,2,FALSE),\"\")","v":0.05},19.25]
[178877,"Партнер номер 11","1945-05-19","не оплачен",1390,{"$f":"IFERROR(VLOOKUP(B3658,'Комиссии партнеров'!$A$2:$B$52,2,FALSE),\"\")","v":0.05},69.5]
[178882,"Партнер номер 7","1945-05-19","не оплачен",3337,{"$f":"IFERROR(VLOOKUP(B3659,'Комиссии партнеров'!$A$2:$B$52,2,FALSE),\"\")","v":0.05},166.85000000000002]
[178885,"Партнер номер 1","1945-05-19","не оплачен",534,{"$f":"IFERROR(VLOOKUP(B3660,'Комиссии партнеров'!$A$2:$B$52,2,FALSE),\"\")","v":0.05},26.700000000000003]
[178890,"Партнер номер 1","1945-05-19","не оплачен",814,{"$f":"IFERROR(VLOOKUP(B3661,'Комиссии партнеров'!$A$2:$B$52,2,FALSE),\"\")","v":0.05},40.700000000000003]
[178892,"","1945-05-19","оплачен",5920,{"$f":"IFERROR(VLOOKUP(B3662,'Комиссии партнеров'!$A$2:$B$52,2,FALSE),\"\")","v":""}]
[178897,"","1945-05-19","не оплачен",674,{"$f":"IFERROR(VLOOKUP(B3663,'Комиссии партнеров'!$A$2:$B$52,2,FALSE),\"\")","v":""}]
[178902,"Партнер номер 1","1945-05-20","не оплачен",385,{"$f":"IFERROR(VLOOKUP(B3664,'Комиссии партнеров'!$A$2:$B$52,2,FALSE),\"\")","v":0.05},19.25]
[178904,"","1945-05-20","оплачен",2327,{"$f":"IFERROR(VLOOKUP(B3665,'Комиссии партнеров'!$A$2:$B$52,2,FALSE),\"\")","v":""}]
[178906,"Партнер номер 1","1945-05-20","не оплачен",534,{"$f":"IFERROR(VLOOKUP(B3666,'Комиссии партнеров'!$A$2:$B$52,2,FALSE),\"\")","v":0.05},26.700000000000003]
[178911,"Партнер номер 8","1945-05-20","не оплачен",2720,{"$f":"IFERROR(VLOOKUP(B3667,'Комиссии партнеров'!$A$2:$B$52,2,FALSE),\"\")","v":0.03},81.599999999999994]
[178913,"","1945-05-20","не оплачен",735,{"$f":"IFERROR(VLOOKUP(B3668,'Комиссии партнеров'!$A$2:$B$52,2,FALSE),\"\")","v":""}]
[178918,"Партнер номер 6","1945-05-20","оплачен",3651,{"$f":"IFERROR(VLOOKUP(B3669,'Комиссии партнеров'!$A$2:$B$52,2,FALSE),\"\")","v":0.04},146.04]
[178923,"Партнер номер 1","1945-05-20","не оплачен",1382,{"$f":"IFERROR(VLOOKUP(B3670,'Комиссии партнеров'!$A$2:$B$52,2,FALSE),\"\")","v":0.05},69.100000000000009]
[178927,"Партнер номер 1","1945-05-20","не оплачен",534,{"$f":"IFERROR(VLOOKUP(B3671,'Комиссии партнеров'!$A$2:$B$52,2,FALSE),\"\")","v":0.05},26.700000000000003]
[178932,"Партнер номер 1","1945-05-20","не оплачен",2453,{"$f":"IFERROR(VLOOKUP(B3672,'Комиссии партнеров'!$A$2:$B$52,2,FALSE),\"\")","v":0.05},122.65]
[178937,"","1945-05-20","оплачен",908,{"$f":"IFERROR(VLOOKUP(B3673,'Комиссии партнеров'!$A$2:$B$52,2,FALSE),\"\")","v":""}]
[178941,"","1945-05-20","оплачен",4313,{"$f":"IFERROR(VLOOKUP(B3674,'Комиссии партнеров'!$A$2:$B$52,2,FALSE),\"\")","v":""}]
[178943,"","1945-05-20","не оплачен",1243,{"$f":"IFERROR(VLOOKUP(B3675,'Комиссии партнеров'!$A$2:$B$52,2,FALSE),\"\")","v":""}]
[178945,"","1945-05-20","оплачен",1243,{"$f":"IFERROR(VLOOKUP(B3676,'Комиссии партнеров'!$A$2:$B$52,2,FALSE),\"\")","v":""}]
[178948,"Партнер номер 5","1945-05-20","оплачен",1919,{"$f":"IFERROR(VLOOKUP(B3677,'Комиссии партнеров'!$A$2:$B$52,2,FALSE),\"\")","v":0.03},57.57]
[178953,"Партнер номер 5","1945-05-20","не оплачен",2013,{"$f":"IFERROR(VLOOKUP(B3678,'Комиссии партнеров'!$A$2:$B$52,2,FALSE),\"\")","v":0.03},60.39]
[178955,"","1945-05-20","оплачен",2011,{"$f":"IFERROR(VLOOKUP(B3679,'Комиссии партнеров'!$A$2:$B$52,2,FALSE),\"\")","v":""}]
[178959,"","1945-05-20","оплачен",2127,{"$f":"IFERROR(VLOOKUP(B3680,'Комиссии партнеров'!$A$2:$B$52,2,FALSE),\"\")","v":""}]
[178962,"Партнер номер 5","1945-05-20","оплачен",2013,{"$f":"IFERROR(VLOOKUP(B3681,'Комиссии партнеров'!$A$2:$B$52,2,FALSE),\"\")","v":0.03},60.39]
[178963,"","1945-05-20","оплачен",769,{"$f":"IFERROR(VLOOKUP(B3682,'Комиссии партнеров'!$A$2:$B$52,2,FALSE),\"\")","v":""}]
[178965,"Партнер номер 3","1945-05-20","не оплачен",1577,{"$f":"IFERROR(VLOOKUP(B3683,'Комиссии партнеров'!$A$2:$B$52,2,FALSE),\"\")","v":0.05},78.850000000000009]
[178969,"","1945-05-20","оплачен",1790,{"$f":"IFERROR(VLOOKUP(B3684,'Комиссии партнеров'!$A$2:$B$52,2,FALSE),\"\")","v":""}]
[178974,"","1945-05-20","не оплачен",2586,{"$f":"IFERROR(VLOOKUP(B3685,'Комиссии партнеров'!$A$2:$B$52,2,FALSE),\"\")","v":""}]
[178979,"Партнер номер 3","1945-05-20","оплачен",2761,{"$f":"IFERROR(VLOOKUP(B3686,'Комиссии партнеров'!$A$2:$B$52,2,FALSE),\"\")","v":0.05},138.05000000000001]
[178982,"Партнер номер 3","1945-05-20","оплачен",1577,{"$f":"IFERROR(VLOOKUP(B3687,'Комиссии партнеров'!$A$2:$B$52,2,FALSE),\"\")","v":0.05},78.850000000000009]
[178986,"","1945-05-20","оплачен",1368,{"$f":"IFERROR(VLOOKUP(B3688,'Комиссии партнеров'!$A$2:$B$52,2,FALSE),\"\")","v":""}]
[178991,"","1945-05-20","оплачен",2758,{"$f":"IFERROR(VLOOKUP(B3689,'Комиссии партнеров'!$A$2:$B$52,2,FALSE),\"\")","v":""}]
[178994,"Партнер номер 1","1945-05-20","оплачен",2861,{"$f":"IFERROR(VLOOKUP(B3690,'Комиссии партнеров'!$A$2:$B$52,2,FALSE),\"\")","v":0.05},143.05000000000001]
[179000,"Партнер номер 10","1945-05-20","оплачен",3393,{"$f":"IFERROR(VLOOKUP(B3691,'Комиссии партнеров'!$A$2:$B$52,2,FALSE),\"\")","v":0.04},135.72]
[179001,"Партнер номер 5","1945-05-20","оплачен",1157,{"$f":"IFERROR(VLOOKUP(B3692,'Комиссии партнеров'!$A$2:$B$52,2,FALSE),\"\")","v":0.03},34.71]
[179003,"","1945-05-20","оплачен",5207,{"$f":"IFERROR(VLOOKUP(B3693,'Комиссии партнеров'!$A$2:$B$52,2,FALSE),\"\")","v":""}]
[179006,"","1945-05-20","оплачен",1164,{"$f":"IFERROR(VLOOKUP(B3694,'Комиссии партнеров'!$A$2:$B$52,2,FALSE),\"\")","v":""}]
[179008,"","1945-05-20","оплачен",2994,{"$f":"IFERROR(VLOOKUP(B3695,'Комиссии партнеров'!$A$2:$B$52,2,FALSE),\"\")","v":""}]
[179012,"Партнер номер 10","1945-05-20","не оплачен",1914,{"$f":"IFERROR(VLOOKUP(B3696,'Комиссии партнеров'!$A$2:$B$52,2,FALSE),\"\")","v":0.04},76.56]
[179014,"Партнер номер 11","1945-05-20","оплачен",889,{"$f":"IFERROR(VLOOKUP(B3697,'Комиссии партнеров'!$A$2:$B$52,2,FALSE),\"\")","v":0.05},44.45]
[179017,"","1945-05-20","оплачен",3429,{"$f":"IFERROR(VLOOKUP(B3698,'Комиссии партнеров'!$A$2:$B$52,2,FALSE),\"\")","v":""}]
[179020,"","1945-05-20","оплачен",2398,{"$f":"IFERROR(VLOOKUP(B3699,'Комиссии партнеров'!$A$2:$B$52,2,FALSE),\"\")","v":""}]
[179025,"Партнер номер 1","1945-05-20","оплачен",958,{"$f":"IFERROR(VLOOKUP(B3700,'Комиссии партнеров'!$A$2:$B$52,2,FALSE),\"\")","v":0.05},47.900000000000006]
[179031,"","1945-05-20","не оплачен",2655,{"$f":"IFERROR(VLOOKUP(B3701,'Комиссии партнеров'!$A$2:$B$52,2,FALSE),\"\")","v":""}]
[179033,"","1945-05-20","оплачен",637,{"$f":"IFERROR(VLOOKUP(B3702,'Комиссии партнеров'!$A$2:$B$52,2,FALSE),\"\")","v":""}]
[179036,"","1945-05-20","оплачен",1670,{"$f":"IFERROR(VLOOKUP(B3703,'Комиссии партнеров'!$A$2:$B$52,2,FALSE),\"\")","v":""}]
[179042,"Партнер номер 2","1945-05-20","оплачен",7181,{"$f":"IFERROR(VLOOKUP(B3704,'Комиссии партнеров'!$A$2:$B$52,2,FALSE),\"\")","v":0.04},287.24]
[179045,"","1945-05-20","оплачен",2207,{"$f":"IFERROR(VLOOKUP(B3705,'Комиссии партнеров'!$A$2:$B$52,2,FALSE),\"\")","v":""}]
[179048,"","1945-05-20","не оплачен",5684,{"$f":"IFERROR(VLOOKUP(B3706,'Комиссии партнеров'!$A$2:$B$52,2,FALSE),\"\")","v":""}]
[179052,"Партнер номер 1","1945-05-20","не оплачен",1684,{"$f":"IFERROR(VLOOKUP(B3707,'Комиссии партнеров'!$A$2:$B$52,2,FALSE),\"\")","v":0.05},84.2]
[179057,"","1945-05-20","не оплачен",1178,{"$f":"IFERROR(VLOOKUP(B3708,'Комиссии партнеров'!$A$2:$B$52,2,FALSE),\"\")","v":""}]
[179062,"Партнер номер 1","1945-05-20","не оплачен",715,{"$f":"IFERROR(VLOOKUP(B3709,'Комиссии партнеров'!$A$2:$B$52,2,FALSE),\"\")","v":0.05},35.75]
[179064,"","1945-05-20","оплачен",991,{"$f":"IFERROR(VLOOKUP(B3710,'Комиссии партнеров'!$A$2:$B$52,2,FALSE),\"\")","v":""}]
[179072,"","1945-05-20","оплачен",1556,{"$f":"IFERROR(VLOOKUP(B3711,'Комиссии партнеров'!$A$2:$B$52,2,FALSE),\"\")","v":""}]
[179076,"Партнер номер 3","1945-05-20","оплачен",695,{"$f":"IFERROR(VLOOKUP(B3712,'Комиссии партнеров'!$A$2:$B$52,2,FALSE),\"\")","v":0.05},34.75]
[179080,"Партнер номер 3","1945-05-20","не оплачен",683,{"$f":"IFERROR(VLOOKUP(B3713,'Комиссии партнеров'!$A$2:$B$52,2,FALSE),\"\")","v":0.05},34.15]
[179083,"Партнер номер 1","1945-05-20","не оплачен",894,{"$f":"IFERROR(VLOOKUP(B3714,'Комиссии партнеров'!$A$2:$B$52,2,FALSE),\"\")","v":0.05},44.7]
[179087,"Партнер номер 6","1945-05-20","оплачен",1565,{"$f":"IFERROR(VLOOKUP(B3715,'Комиссии партнеров'!$A$2:$B$52,2,FALSE),\"\")","v":0.04},62.6]
[179092,"","1945-05-20","не оплачен",1484,{"$f":"IFERROR(VLOOKUP(B3716,'Комиссии партнеров'!$A$2:$B$52,2,FALSE),\"\")","v":""}]
[179097,"","1945-05-20","оплачен",1988,{"$f":"IFERROR(VLOOKUP(B3717,'Комиссии партнеров'!$A$2:$B$52,2,FALSE),\"\")","v":""}]
[179100,"Партнер номер 1","1945-05-20","оплачен",2399,{"$f":"IFERROR(VLOOKUP(B3718,'Комиссии партнеров'!$A$2:$B$52,2,FALSE),\"\")","v":0.05},119.95]
[179103,"Партнер номер 5","1945-05-20","оплачен",1838,{"$f":"IFERROR(VLOOKUP(B3719,'Комиссии партнеров'!$A$2:$B$52,2,FALSE),\"\")","v":0.03},55.14]
[179105,"","1945-05-20","оплачен",4594,{"$f":"IFERROR(VLOOKUP(B3720,'Комиссии партнеров'!$A$2:$B$52,2,FALSE),\"\")","v":""}]
[179110,"","1945-05-20","не оплачен",4937,{"$f":"IFERROR(VLOOKUP(B3721,'Комиссии партнеров'!$A$2:$B$52,2,FALSE),\"\")","v":""}]
[179115,"","1945-05-20","оплачен",1410,{"$f":"IFERROR(VLOOKUP(B3722,'Комиссии партнеров'!$A$2:$B$52,2,FALSE),\"\")","v":""}]
[179119,"Партнер номер 1","1945-05-20","оплачен",1410,{"$f":"IFERROR(VLOOKUP(B3723,'Комиссии партнеров'!$A$2:$B$52,2,FALSE),\"\")","v":0.05},70.5]
[179123,"Партнер номер 1","1945-05-20","оплачен",1403,{"$f":"IFERROR(VLOOKUP(B3724,'Комиссии партнеров'!$A$2:$B$52,2,FALSE),\"\")","v":0.05},70.150000000000006]
[179125,"","1945-05-20","оплачен",2018,{"$f":"IFERROR(VLOOKUP(B3725,'Комиссии партнеров'!$A$2:$B$52,2,FALSE),\"\")","v":""}]
[179128,"","1945-05-20","оплачен",2328,{"$f":"IFERROR(VLOOKUP(B3726,'Комиссии партнеров'!$A$2:$B$52,2,FALSE),\"\")","v":""}]
[179133,"Партнер номер 3","1945-05-20","не оплачен",6770,{"$f":"IFERROR(VLOOKUP(B3727,'Комиссии партнеров'!$A$2:$B$52,2,FALSE),\"\")","v":0.05},338.5]
[179136,"Партнер номер 1","1945-05-20","не оплачен",1070,{"$f":"IFERROR(VLOOKUP(B3728,'Комиссии партнеров'!$A$2:$B$52,2,FALSE),\"\")","v":0.05},53.5]
[179142,"Партнер номер 5","1945-05-20","не оплачен",1563,{"$f":"IFERROR(VLOOKUP(B3729,'Комиссии партнеров'!$A$2:$B$52,2,FALSE),\"\")","v":0.03},46.89]
[179146,"","1945-05-20","оплачен",1489,{"$f":"IFERROR(VLOOKUP(B3730,'Комиссии партнеров'!$A$2:$B$52,2,FALSE),\"\")","v":""}]
[179148,"","1945-05-20","оплачен",3344,{"$f":"IFERROR(VLOOKUP(B3731,'Комиссии партнеров'!$A$2:$B$52,2,FALSE),\"\")","v":""}]
[179150,"Партнер номер 1","1945-05-20","оплачен",1307,{"$f":"IFERROR(VLOOKUP(B3732,'Комиссии партнеров'!$A$2:$B$52,2,FALSE),\"\")","v":0.05},65.350000000000009]
[179152,"","1945-05-20","оплачен",2216,{"$f":"IFERROR(VLOOKUP(B3733,'Комиссии партнеров'!$A$2:$B$52,2,FALSE),\"\")","v":""}]
[179157,"Партнер номер 1","1945-05-20","оплачен",931,{"$f":"IFERROR(VLOOKUP(B3734,'Комиссии партнеров'!$A$2:$B$52,2,FALSE),\"\")","v":0.05},46.550000000000004]
[179159,"Партнер номер 7","1945-05-20","оплачен",1483,{"$f":"IFERROR(VLOOKUP(B3735,'Комиссии партнеров'!$A$2:$B$52,2,FALSE),\"\")","v":0.05},74.150000000000006]
[179161,"","1945-05-20","оплачен",559,{"$f":"IFERROR(VLOOKUP(B3736,'Комиссии партнеров'!$A$2:$B$52,2,FALSE),\"\")","v":""}]
[179164,"","1945-05-20","не оплачен",941,{"$f":"IFERROR(VLOOKUP(B3737,'Комиссии партнеров'!$A$2:$B$52,2,FALSE),\"\")","v":""}]
[179169,"Партнер номер 8","1945-05-20","не оплачен",3356,{"$f":"IFERROR(VLOOKUP(B3738,'Комиссии партнеров'!$A$2:$B$52,2,FALSE),\"\")","v":0.03},100.67999999999999]
[179172,"","1945-05-20","оплачен",3216,{"$f":"IFERROR(VLOOKUP(B3739,'Комиссии партнеров'!$A$2:$B$52,2,FALSE),\"\")","v":""}]
[179175,"Партнер номер 1","1945-05-20","оплачен",788,{"$f":"IFERROR(VLOOKUP(B3740,'Комиссии партнеров'!$A$2:$B$52,2,FALSE),\"\")","v":0.05},39.400000000000006]
[179180,"Партнер номер 1","1945-05-20","не оплачен",1092,{"$f":"IFERROR(VLOOKUP(B3741,'Комиссии партнеров'!$A$2:$B$52,2,FALSE),\"\")","v":0.05},54.6]
[179184,"Партнер номер 1","1945-05-20","не оплачен",667,{"$f":"IFERROR(VLOOKUP(B3742,'Комиссии партнеров'!$A$2:$B$52,2,FALSE),\"\")","v":0.05},33.35]
[179189,"Партнер номер 1","1945-05-20","не оплачен",1198,{"$f":"IFERROR(VLOOKUP(B3743,'Комиссии партнеров'!$A$2:$B$52,2,FALSE),\"\")","v":0.05},59.900000000000006]
[179194,"","1945-05-20","оплачен",1600,{"$f":"IFERROR(VLOOKUP(B3744,'Комиссии партнеров'!$A$2:$B$52,2,FALSE),\"\")","v":""}]
[179195,"Партнер номер 1","1945-05-20","оплачен",2454,{"$f":"IFERROR(VLOOKUP(B3745,'Комиссии партнеров'!$A$2:$B$52,2,FALSE),\"\")","v":0.05},122.7]
[179200,"","1945-05-20","оплачен",1532,{"$f":"IFERROR(VLOOKUP(B3746,'Комиссии партнеров'!$A$2:$B$52,2,FALSE),\"\")","v":""}]
[179204,"","1945-05-20","оплачен",862,{"$f":"IFERROR(VLOOKUP(B3747,'Комиссии партнеров'!$A$2:$B$52,2,FALSE),\"\")","v":""}]
[179208,"","1945-05-20","оплачен",1909,{"$f":"IFERROR(VLOOKUP(B3748,'Комиссии партнеров'!$A$2:$B$52,2,FALSE),\"\")","v":""}]
[179211,"Партнер номер 1","1945-05-20","не оплачен",3875,{"$f":"IFERROR(VLOOKUP(B3749,'Комиссии партнеров'!$A$2:$B$52,2,FALSE),\"\")","v":0.05},193.75]
[179215,"","1945-05-20","не оплачен",1042,{"$f":"IFERROR(VLOOKUP(B3750,'Комиссии партнеров'!$A$2:$B$52,2,FALSE),\"\")","v":""}]
[179217,"","1945-05-20","не оплачен",2136,{"$f":"IFERROR(VLOOKUP(B3751,'Комиссии партнеров'!$A$2:$B$52,2,FALSE),\"\")","v":""}]
[179220,"Партнер номер 1","1945-05-20","не оплачен",1538,{"$f":"IFERROR(VLOOKUP(B3752,'Комиссии партнеров'!$A$2:$B$52,2,FALSE),\"\")","v":0.05},76.900000000000006]
[179222,"","1945-05-20","оплачен",2410,{"$f":"IFERROR(VLOOKUP(B3753,'Комиссии партнеров'!$A$2:$B$52,2,FALSE),\"\")","v":""}]
[179228,"","1945-05-20","оплачен",775,{"$f":"IFERROR(VLOOKUP(B3754,'Комиссии партнеров'!$A$2:$B$52,2,FALSE),\"\")","v":""}]
[179230,"Партнер номер 46","1945-05-20","оплачен",961,{"$f":"IFERROR(VLOOKUP(B3755,'Комиссии партнеров'!$A$2:$B$52,2,FALSE),\"\")","v":0.05},48.050000000000004]
[179234,"","1945-05-20","оплачен",1595,{"$f":"IFERROR(VLOOKUP(B3756,'Комиссии партнеров'!$A$2:$B$52,2,FALSE),\"\")","v":""}]
[179239,"","1945-05-20","оплачен",1427,{"$f":"IFERROR(VLOOKUP(B3757,'Комиссии партнеров'!$A$2:$B$52,2,FALSE),\"\")","v":""}]
[179242,"","1945-05-20","не оплачен",3954,{"$f":"IFERROR(VLOOKUP(B3758,'Комиссии партнеров'!$A$2:$B$52,2,FALSE),\"\")","v":""}]
[179243,"Партнер номер 1","1945-05-20","не оплачен",1567,{"$f":"IFERROR(VLOOKUP(B3759,'Комиссии партнеров'!$A$2:$B$52,2,FALSE),\"\")","v":0.05},78.350000000000009]
[179247,"Партнер номер 6","1945-05-20","не оплачен",1236,{"$f":"IFERROR(VLOOKUP(B3760,'Комиссии партнеров'!$A$2:$B$52,2,FALSE),\"\")","v":0.04},49.44]
[179250,"Партнер номер 28","1945-05-20","оплачен",1514,{"$f":"IFERROR(VLOOKUP(B3761,'Комиссии партнеров'!$A$2:$B$52,2,FALSE),\"\")","v":0.05},75.7]
[179253,"","1945-05-20","не оплачен",278,{"$f":"IFERROR(VLOOKUP(B3762,'Комиссии партнеров'!$A$2:$B$52,2,FALSE),\"\")","v":""}]
[179258,"Партнер номер 1","1945-05-20","оплачен",4947,{"$f":"IFERROR(VLOOKUP(B3763,'Комиссии партнеров'!$A$2:$B$52,2,FALSE),\"\")","v":0.05},247.35000000000002]
[179264,"Партнер номер 1","1945-05-20","оплачен",2097,{"$f":"IFERROR(VLOOKUP(B3764,'Комиссии партнеров'!$A$2:$B$52,2,FALSE),\"\")","v":0.05},104.85000000000001]
[179265,"Партнер номер 1","1945-05-20","оплачен",1600,{"$f":"IFERROR(VLOOKUP(B3765,'Комиссии партнеров'!$A$2:$B$52,2,FALSE),\"\")","v":0.05},80]
[179268,"","1945-05-20","оплачен",1081,{"$f":"IFERROR(VLOOKUP(B3766,'Комиссии партнеров'!$A$2:$B$52,2,FALSE),\"\")","v":""}]
[179270,"Партнер номер 1","1945-05-20","не оплачен",2431,{"$f":"IFERROR(VLOOKUP(B3767,'Комиссии партнеров'!$A$2:$B$52,2,FALSE),\"\")","v":0.05},121.55000000000001]
[179274,"","1945-05-20","оплачен",3018,{"$f":"IFERROR(VLOOKUP(B3768,'Комиссии партнеров'!$A$2:$B$52,2,FALSE),\"\")","v":""}]
[179279,"Партнер номер 3","1945-05-20","не оплачен",5303,{"$f":"IFERROR(VLOOKUP(B3769,'Комиссии партнеров'!$A$2:$B$52,2,FALSE),\"\")","v":0.05},265.15000000000003]
[179284,"Партнер номер 3","1945-05-20","оплачен",2502,{"$f":"IFERROR(VLOOKUP(B3770,'Комиссии партнеров'!$A$2:$B$52,2,FALSE),\"\")","v":0.05},125.10000000000001]
[179289,"","1945-05-20","оплачен",634,{"$f":"IFERROR(VLOOKUP(B3771,'Комиссии партнеров'!$A$2:$B$52,2,FALSE),\"\")","v":""}]
[179294,"","1945-05-20","не оплачен",1036,{"$f":"IFERROR(VLOOKUP(B3772,'Комиссии партнеров'!$A$2:$B$52,2,FALSE),\"\")","v":""}]
[179300,"Партнер номер 1","1945-05-20","не оплачен",2482,{"$f":"IFERROR(VLOOKUP(B3773,'Комиссии партнеров'!$A$2:$B$52,2,FALSE),\"\")","v":0.05},124.10000000000001]
[179304,"Партнер номер 1","1945-05-20","оплачен",1286,{"$f":"IFERROR(VLOOKUP(B3774,'Комиссии партнеров'!$A$2:$B$52,2,FALSE),\"\")","v":0.05},64.3]
[179309,"","1945-05-20","оплачен",2553,{"$f":"IFERROR(VLOOKUP(B3775,'Комиссии партнеров'!$A$2:$B$52,2,FALSE),\"\")","v":""}]
[179318,"","1945-05-20","оплачен",1934,{"$f":"IFERROR(VLOOKUP(B3776,'Комиссии партнеров'!$A$2:$B$52,2,FALSE),\"\")","v":""}]
[179320,"Партнер номер 3","1945-05-21","оплачен",1128,{"$f":"IFERROR(VLOOKUP(B3777,'Комиссии партнеров'!$A$2:$B$52,2,FALSE),\"\")","v":0.05},56.400000000000006]
[179323,"","1945-05-21","оплачен",1694,{"$f":"IFERROR(VLOOKUP(B3778,'Комиссии партнеров'!$A$2:$B$52,2,FALSE),\"\")","v":""}]
[179328,"","1945-05-21","оплачен",1423,{"$f":"IFERROR(VLOOKUP(B3779,'Комиссии партнеров'!$A$2:$B$52,2,FALSE),\"\")","v":""}]
[179331,"Партнер номер 9","1945-05-21","не оплачен",834,{"$f":"IFERROR(VLOOKUP(B3780,'Комиссии партнеров'!$A$2:$B$52,2,FALSE),\"\")","v":0.05},41.7]
[179335,"","1945-05-21","оплачен",2309,{"$f":"IFERROR(VLOOKUP(B3781,'Комиссии партнеров'!$A$2:$B$52,2,FALSE),\"\")","v":""}]
[179338,"","1945-05-21","оплачен",2768,{"$f":"IFERROR(VLOOKUP(B3782,'Комиссии партнеров'!$A$2:$B$52,2,FALSE),\"\")","v":""}]
[179342,"","1945-05-21","оплачен",481,{"$f":"IFERROR(VLOOKUP(B3783,'Комиссии партнеров'!$A$2:$B$52,2,FALSE),\"\")","v":""}]
[179343,"","1945-05-21","оплачен",1901,{"$f":"IFERROR(VLOOKUP(B3784,'Комиссии партнеров'!$A$2:$B$52,2,FALSE),\"\")","v":""}]
[179347,"Партнер номер 11","1945-05-21","не оплачен",1315,{"$f":"IFERROR(VLOOKUP(B3785,'Комиссии партнеров'!$A$2:$B$52,2,FALSE),\"\")","v":0.05},65.75]
[179352,"Партнер номер 31","1945-05-21","не оплачен",1990,{"$f":"IFERROR(VLOOKUP(B3786,'Комиссии партнеров'!$A$2:$B$52,2,FALSE),\"\")","v":0.03},59.699999999999996]
[179357,"","1945-05-21","оплачен",1937,{"$f":"IFERROR(VLOOKUP(B3787,'Комиссии партнеров'!$A$2:$B$52,2,FALSE),\"\")","v":""}]
[179361,"Партнер номер 1","1945-05-21","оплачен",1478,{"$f":"IFERROR(VLOOKUP(B3788,'Комиссии партнеров'!$A$2:$B$52,2,FALSE),\"\")","v":0.05},73.900000000000006]
[179363,"","1945-05-21","не оплачен",1059,{"$f":"IFERROR(VLOOKUP(B3789,'Комиссии партнеров'!$A$2:$B$52,2,FALSE),\"\")","v":""}]
[179365,"","1945-05-21","оплачен",931,{"$f":"IFERROR(VLOOKUP(B3790,'Комиссии партнеров'!$A$2:$B$52,2,FALSE),\"\")","v":""}]
[179367,"Партнер номер 1","1945-05-21","оплачен",775,{"$f":"IFERROR(VLOOKUP(B3791,'Комиссии партнеров'!$A$2:$B$52,2,FALSE),\"\")","v":0.05},38.75]
[179369,"","1945-05-21","оплачен",2737,{"$f":"IFERROR(VLOOKUP(B3792,'Комиссии партнеров'!$A$2:$B$52,2,FALSE),\"\")","v":""}]
[179373,"","1945-05-21","не оплачен",1163,{"$f":"IFERROR(VLOOKUP(B3793,'Комиссии партнеров'!$A$2:$B$52,2,FALSE),\"\")","v":""}]
[179376,"","1945-05-21","оплачен",2616,{"$f":"IFERROR(VLOOKUP(B3794,'Комиссии партнеров'!$A$2:$B$52,2,FALSE),\"\")","v":""}]
[179378,"","1945-05-21","не оплачен",2054,{"$f":"IFERROR(VLOOKUP(B3795,'Комиссии партнеров'!$A$2:$B$52,2,FALSE),\"\")","v":""}]
[179382,"Партнер номер 1","1945-05-21","оплачен",1997,{"$f":"IFERROR(VLOOKUP(B3796,'Комиссии партнеров'!$A$2:$B$52,2,FALSE),\"\")","v":0.05},99.850000000000009]
[179385,"","1945-05-21","не оплачен",1458,{"$f":"IFERROR(VLOOKUP(B3797,'Комиссии партнеров'!$A$2:$B$52,2,FALSE),\"\")","v":""}]
[179389,"","1945-05-21","оплачен",2426,{"$f":"IFERROR(VLOOKUP(B3798,'Комиссии партнеров'!$A$2:$B$52,2,FALSE),\"\")","v":""}]
[179391,"Партнер номер 42","1945-05-21","не оплачен",2462,{"$f":"IFERROR(VLOOKUP(B3799,'Комиссии партнеров'!$A$2:$B$52,2,FALSE),\"\")","v":0.05},123.10000000000001]
[179394,"Партнер номер 11","1945-05-21","не оплачен",1403,{"$f":"IFERROR(VLOOKUP(B3800,'Комиссии партнеров'!$A$2:$B$52,2,FALSE),\"\")","v":0.05},70.150000000000006]
[179396,"","1945-05-21","оплачен",3300,{"$f":"IFERROR(VLOOKUP(B3801,'Комиссии партнеров'!$A$2:$B$52,2,FALSE),\"\")","v":""}]
[179400,"","1945-05-21","не оплачен",377,{"$f":"IFERROR(VLOOKUP(B3802,'Комиссии партнеров'!$A$2:$B$52,2,FALSE),\"\")","v":""}]
[179403,"","1945-05-21","не оплачен",2721,{"$f":"IFERROR(VLOOKUP(B3803,'Комиссии партнеров'!$A$2:$B$52,2,FALSE),\"\")","v":""}]
[179407,"Партнер номер 11","1945-05-21","оплачен",1299,{"$f":"IFERROR(VLOOKUP(B3804,'Комиссии партнеров'!$A$2:$B$52,2,FALSE),\"\")","v":0.05},64.95]
[179408,"","1945-05-21","оплачен",2721,{"$f":"IFERROR(VLOOKUP(B3805,'Комиссии партнеров'!$A$2:$B$52,2,FALSE),\"\")","v":""}]
[179412,"Партнер номер 3","1945-05-21","оплачен",1701,{"$f":"IFERROR(VLOOKUP(B3806,'Комиссии партнеров'!$A$2:$B$52,2,FALSE),\"\")","v":0.05},85.050000000000011]
[179413,"","1945-05-21","оплачен",2828,{"$f":"IFERROR(VLOOKUP(B3807,'Комиссии партнеров'!$A$2:$B$52,2,FALSE),\"\")","v":""}]
[179418,"","1945-05-21","не оплачен",2599,{"$f":"IFERROR(VLOOKUP(B3808,'Комиссии партнеров'!$A$2:$B$52,2,FALSE),\"\")","v":""}]
[179421,"","1945-05-21","оплачен",2410,{"$f":"IFERROR(VLOOKUP(B3809,'Комиссии партнеров'!$A$2:$B$52,2,FALSE),\"\")","v":""}]
[179425,"Партнер номер 1","1945-05-21","не оплачен",1112,{"$f":"IFERROR(VLOOKUP(B3810,'Комиссии партнеров'!$A$2:$B$52,2,FALSE),\"\")","v":0.05},55.6]
[179429,"","1945-05-21","не оплачен",4255,{"$f":"IFERROR(VLOOKUP(B3811,'Комиссии партнеров'!$A$2:$B$52,2,FALSE),\"\")","v":""}]
[179434,"Партнер номер 42","1945-05-21","не оплачен",2192,{"$f":"IFERROR(VLOOKUP(B3812,'Комиссии партнеров'!$A$2:$B$52,2,FALSE),\"\")","v":0.05},109.60000000000001]
[179437,"Партнер номер 3","1945-05-21","оплачен",1009,{"$f":"IFERROR(VLOOKUP(B3813,'Комиссии партнеров'!$A$2:$B$52,2,FALSE),\"\")","v":0.05},50.45]
[179439,"Партнер номер 1","1945-05-21","оплачен",2780,{"$f":"IFERROR(VLOOKUP(B3814,'Комиссии партнеров'!$A$2:$B$52,2,FALSE),\"\")","v":0.05},139]
[179443,"","1945-05-21","оплачен",916,{"$f":"IFERROR(VLOOKUP(B3815,'Комиссии партнеров'!$A$2:$B$52,2,FALSE),\"\")","v":""}]
[179448,"","1945-05-21","оплачен",3267,{"$f":"IFERROR(VLOOKUP(B3816,'Комиссии партнеров'!$A$2:$B$52,2,FALSE),\"\")","v":""}]
[179451,"Партнер номер 28","1945-05-21","не оплачен",1515,{"$f":"IFERROR(VLOOKUP(B3817,'Комиссии партнеров'!$A$2:$B$52,2,FALSE),\"\")","v":0.05},75.75]
[179455,"Партнер номер 3","1945-05-21","не оплачен",825,{"$f":"IFERROR(VLOOKUP(B3818,'Комиссии партнеров'!$A$2:$B$52,2,FALSE),\"\")","v":0.05},41.25]
[179461,"","1945-05-21","оплачен",0,{"$f":"IFERROR(VLOOKUP(B3819,'Комиссии партнеров'!$A$2:$B$52,2,FALSE),\"\")","v":""}]
[179465,"","1945-05-21","оплачен",0,{"$f":"IFERROR(VLOOKUP(B3820,'Комиссии партнеров'!$A$2:$B$52,2,FALSE),\"\")","v":""}]
[179468,"","1945-05-21","не оплачен",1569,{"$f":"IFERROR(VLOOKUP(B3821,'Комиссии партнеров'!$A$2:$B$52,2,FALSE),\"\")","v":""}]
[179473,"","1945-05-21","оплачен",0,{"$f":"IFERROR(VLOOKUP(B3822,'Комиссии партнеров'!$A$2:$B$52,2,FALSE),\"\")","v":""}]
[179477,"Партнер номер 7","1945-05-21","оплачен",1146,{"$f":"IFERROR(VLOOKUP(B3823,'Комиссии партнеров'!$A$2:$B$52,2,FALSE),\"\")","v":0.05},57.300000000000004]
[179482,"Партнер номер 11","1945-05-21","не оплачен",865,{"$f":"IFERROR(VLOOKUP(B3824,'Комиссии партнеров'!$A$2:$B$52,2,FALSE),\"\")","v":0.05},43.25]
[179486,"Партнер номер 2","1945-05-21","не оплачен",1861,{"$f":"IFERROR(VLOOKUP(B3825,'Комиссии партнеров'!$A$2:$B$52,2,FALSE),\"\")","v":0.04},74.44]
[179490,"Партнер номер 28","1945-05-21","не оплачен",1515,{"$f":"IFERROR(VLOOKUP(B3826,'Комиссии партнеров'!$A$2:$B$52,2,FALSE),\"\")","v":0.05},75.75]
[179493,"Партнер номер 5","1945-05-21","оплачен",2659,{"$f":"IFERROR(VLOOKUP(B3827,'Комиссии партнеров'!$A$2:$B$52,2,FALSE),\"\")","v":0.03},79.77]
[179497,"","1945-05-21","оплачен",806,{"$f":"IFERROR(VLOOKUP(B3828,'Комиссии партнеров'!$A$2:$B$52,2,FALSE),\"\")","v":""}]
[179502,"","1945-05-21","оплачен",10025,{"$f":"IFERROR(VLOOKUP(B3829,'Комиссии партнеров'!$A$2:$B$52,2,FALSE),\"\")","v":""}]
[179505,"Партнер номер 1","1945-05-21","не оплачен",745,{"$f":"IFERROR(VLOOKUP(B3830,'Комиссии партнеров'!$A$2:$B$52,2,FALSE),\"\")","v":0.05},37.25]
[179508,"","1945-05-21","оплачен",783,{"$f":"IFERROR(VLOOKUP(B3831,'Комиссии партнеров'!$A$2:$B$52,2,FALSE),\"\")","v":""}]
[179514,"Партнер номер 25","1945-05-21","не оплачен",2338,{"$f":"IFERROR(VLOOKUP(B3832,'Комиссии партнеров'!$A$2:$B$52,2,FALSE),\"\")","v":0.05},116.9]
[179519,"Партнер номер 6","1945-05-21","не оплачен",2705,{"$f":"IFERROR(VLOOKUP(B3833,'Комиссии партнеров'!$A$2:$B$52,2,FALSE),\"\")","v":0.04},108.2]
[179521,"","1945-05-21","не оплачен",2190,{"$f":"IFERROR(VLOOKUP(B3834,'Комиссии партнеров'!$A$2:$B$52,2,FALSE),\"\")","v":""}]
[179526,"Партнер номер 11","1945-05-21","не оплачен",1659,{"$f":"IFERROR(VLOOKUP(B3835,'Комиссии партнеров'!$A$2:$B$52,2,FALSE),\"\")","v":0.05},82.95]
[179531,"Партнер номер 25","1945-05-21","оплачен",2374,{"$f":"IFERROR(VLOOKUP(B3836,'Комиссии партнеров'!$A$2:$B$52,2,FALSE),\"\")","v":0.05},118.7]
[179537,"","1945-05-21","оплачен",1759,{"$f":"IFERROR(VLOOKUP(B3837,'Комиссии партнеров'!$A$2:$B$52,2,FALSE),\"\")","v":""}]
[179541,"","1945-05-21","оплачен",775,{"$f":"IFERROR(VLOOKUP(B3838,'Комиссии партнеров'!$A$2:$B$52,2,FALSE),\"\")","v":""}]
[179545,"","1945-05-21","оплачен",4807,{"$f":"IFERROR(VLOOKUP(B3839,'Комиссии партнеров'!$A$2:$B$52,2,FALSE),\"\")","v":""}]
[179550,"","1945-05-21","оплачен",991,{"$f":"IFERROR(VLOOKUP(B3840,'Комиссии партнеров'!$A$2:$B$52,2,FALSE),\"\")","v":""}]
[179555,"","1945-05-21","оплачен",1499,{"$f":"IFERROR(VLOOKUP(B3841,'Комиссии партнеров'!$A$2:$B$52,2,FALSE),\"\")","v":""}]
[179561,"","1945-05-21","оплачен",1301,{"$f":"IFERROR(VLOOKUP(B3842,'Комиссии партнеров'!$A$2:$B$52,2,FALSE),\"\")","v":""}]
[179564,"","1945-05-21","оплачен",3491,{"$f":"IFERROR(VLOOKUP(B3843,'Комиссии партнеров'!$A$2:$B$52,2,FALSE),\"\")","v":""}]
[179570,"","1945-05-21","оплачен",1130,{"$f":"IFERROR(VLOOKUP(B3844,'Комиссии партнеров'!$A$2:$B$52,2,FALSE),\"\")","v":""}]
[179574,"Партнер номер 1","1945-05-21","не оплачен",1796,{"$f":"IFERROR(VLOOKUP(B3845,'Комиссии партнеров'!$A$2:$B$52,2,FALSE),\"\")","v":0.05},89.800000000000011]
[179578,"Партнер номер 3","1945-05-21","не оплачен",2989,{"$f":"IFERROR(VLOOKUP(B3846,'Комиссии партнеров'!$A$2:$B$52,2,FALSE),\"\")","v":0.05},149.45000000000002]
[179584,"","1945-05-21","оплачен",1340,{"$f":"IFERROR(VLOOKUP(B3847,'Комиссии партнеров'!$A$2:$B$52,2,FALSE),\"\")","v":""}]
[179585,"","1945-05-21","не оплачен",2068,{"$f":"IFERROR(VLOOKUP(B3848,'Комиссии партнеров'!$A$2:$B$52,2,FALSE),\"\")","v":""}]
[179588,"","1945-05-21","оплачен",2292,{"$f":"IFERROR(VLOOKUP(B3849,'Комиссии партнеров'!$A$2:$B$52,2,FALSE),\"\")","v":""}]
[179593,"Партнер номер 6","1945-05-21","оплачен",979,{"$f":"IFERROR(VLOOKUP(B3850,'Комиссии партнеров'!$A$2:$B$52,2,FALSE),\"\")","v":0.04},39.160000000000004]
[179597,"","1945-05-21","оплачен",3725,{"$f":"IFERROR(VLOOKUP(B3851,'Комиссии партнеров'!$A$2:$B$52,2,FALSE),\"\")","v":""}]
[179599,"","1945-05-21","не оплачен",5902,{"$f":"IFERROR(VLOOKUP(B3852,'Комиссии партнеров'!$A$2:$B$52,2,FALSE),\"\")","v":""}]
[179604,"Партнер номер 8","1945-05-21","оплачен",2176,{"$f":"IFERROR(VLOOKUP(B3853,'Комиссии партнеров'!$A$2:$B$52,2,FALSE),\"\")","v":0.03},65.28]
[179610,"","1945-05-21","оплачен",2316,{"$f":"IFERROR(VLOOKUP(B3854,'Комиссии партнеров'!$A$2:$B$52,2,FALSE),\"\")","v":""}]
[179615,"","1945-05-21","оплачен",1229,{"$f":"IFERROR(VLOOKUP(B3855,'Комиссии партнеров'!$A$2:$B$52,2,FALSE),\"\")","v":""}]
[179617,"","1945-05-21","оплачен",1675,{"$f":"IFERROR(VLOOKUP(B3856,'Комиссии партнеров'!$A$2:$B$52,2,FALSE),\"\")","v":""}]
[179620,"Партнер номер 1","1945-05-21","оплачен",2112,{"$f":"IFERROR(VLOOKUP(B3857,'Комиссии партнеров'!$A$2:$B$52,2,FALSE),\"\")","v":0.05},105.60000000000001]
[179623,"","1945-05-21","оплачен",1329,{"$f":"IFERROR(VLOOKUP(B3858,'Комиссии партнеров'!$A$2:$B$52,2,FALSE),\"\")","v":""}]
[179626,"","1945-05-21","оплачен",1258,{"$f":"IFERROR(VLOOKUP(B3859,'Комиссии партнеров'!$A$2:$B$52,2,FALSE),\"\")","v":""}]
[179628,"","1945-05-21","не оплачен",1701,{"$f":"IFERROR(VLOOKUP(B3860,'Комиссии партнеров'!$A$2:$B$52,2,FALSE),\"\")","v":""}]
[179631,"Партнер номер 3","1945-05-21","оплачен",1720,{"$f":"IFERROR(VLOOKUP(B3861,'Комиссии партнеров'!$A$2:$B$52,2,FALSE),\"\")","v":0.05},86]
[179635,"Партнер номер 3","1945-05-21","оплачен",1220,{"$f":"IFERROR(VLOOKUP(B3862,'Комиссии партнеров'!$A$2:$B$52,2,FALSE),\"\")","v":0.05},61]
[179637,"Партнер номер 11","1945-05-21","оплачен",2630,{"$f":"IFERROR(VLOOKUP(B3863,'Комиссии партнеров'!$A$2:$B$52,2,FALSE),\"\")","v":0.05},131.5]
[179643,"Партнер номер 39","1945-05-21","оплачен",908,{"$f":"IFERROR(VLOOKUP(B3864,'Комиссии партнеров'!$A$2:$B$52,2,FALSE),\"\")","v":0.05},45.400000000000006]
[179646,"Партнер номер 5","1945-05-21","оплачен",1163,{"$f":"IFERROR(VLOOKUP(B3865,'Комиссии партнеров'!$A$2:$B$52,2,FALSE),\"\")","v":0.03},34.89]
[179651,"","1945-05-21","оплачен",1045,{"$f":"IFERROR(VLOOKUP(B3866,'Комиссии партнеров'!$A$2:$B$52,2,FALSE),\"\")","v":""}]
[179654,"Партнер номер 4","1945-05-21","не оплачен",4133,{"$f":"IFERROR(VLOOKUP(B3867,'Комиссии партнеров'!$A$2:$B$52,2,FALSE),\"\")","v":0.04},165.32]
[179658,"Партнер номер 1","1945-05-21","не оплачен",689,{"$f":"IFERROR(VLOOKUP(B3868,'Комиссии партнеров'!$A$2:$B$52,2,FALSE),\"\")","v":0.05},34.450000000000003]
[179663,"","1945-05-21","оплачен",3013,{"$f":"IFERROR(VLOOKUP(B3869,'Комиссии партнеров'!$A$2:$B$52,2,FALSE),\"\")","v":""}]
[179664,"Партнер номер 1","1945-05-21","оплачен",1447,{"$f":"IFERROR(VLOOKUP(B3870,'Комиссии партнеров'!$A$2:$B$52,2,FALSE),\"\")","v":0.05},72.350000000000009]
[179668,"Партнер номер 28","1945-05-21","не оплачен",1617,{"$f":"IFERROR(VLOOKUP(B3871,'Комиссии партнеров'!$A$2:$B$52,2,FALSE),\"\")","v":0.05},80.850000000000009]
[179670,"","1945-05-21","оплачен",521,{"$f":"IFERROR(VLOOKUP(B3872,'Комиссии партнеров'!$A$2:$B$52,2,FALSE),\"\")","v":""}]
[179675,"","1945-05-21","не оплачен",526,{"$f":"IFERROR(VLOOKUP(B3873,'Комиссии партнеров'!$A$2:$B$52,2,FALSE),\"\")","v":""}]
[179679,"Партнер номер 1","1945-05-21","оплачен",3035,{"$f":"IFERROR(VLOOKUP(B3874,'Комиссии партнеров'!$A$2:$B$52,2,FALSE),\"\")","v":0.05},151.75]
[179686,"Партнер номер 11","1945-05-21","оплачен",705,{"$f":"IFERROR(VLOOKUP(B3875,'Комиссии партнеров'!$A$2:$B$52,2,FALSE),\"\")","v":0.05},35.25]
[179691,"Партнер номер 3","1945-05-21","оплачен",937,{"$f":"IFERROR(VLOOKUP(B3876,'Комиссии партнеров'!$A$2:$B$52,2,FALSE),\"\")","v":0.05},46.85]
[179694,"Партнер номер 46","1945-05-21","оплачен",1063,{"$f":"IFERROR(VLOOKUP(B3877,'Комиссии партнеров'!$A$2:$B$52,2,FALSE),\"\")","v":0.05},53.150000000000006]
[179696,"Партнер номер 11","1945-05-21","оплачен",1502,{"$f":"IFERROR(VLOOKUP(B3878,'Комиссии партнеров'!$A$2:$B$52,2,FALSE),\"\")","v":0.05},75.100000000000009]
[179700,"Партнер номер 1","1945-05-21","оплачен",2488,{"$f":"IFERROR(VLOOKUP(B3879,'Комиссии партнеров'!$A$2:$B$52,2,FALSE),\"\")","v":0.05},124.4]
[179705,"","1945-05-21","не оплачен",4727,{"$f":"IFERROR(VLOOKUP(B3880,'Комиссии партнеров'!$A$2:$B$52,2,FALSE),\"\")","v":""}]
[179712,"Партнер номер 1","1945-05-21","не оплачен",2869,{"$f":"IFERROR(VLOOKUP(B3881,'Комиссии партнеров'!$A$2:$B$52,2,FALSE),\"\")","v":0.05},143.45000000000002]
[179715,"","1945-05-21","оплачен",5865,{"$f":"IFERROR(VLOOKUP(B3882,'Комиссии партнеров'!$A$2:$B$52,2,FALSE),\"\")","v":""}]
[179720,"Партнер номер 1","1945-05-21","оплачен",2869,{"$f":"IFERROR(VLOOKUP(B3883,'Комиссии партнеров'!$A$2:$B$52,2,FALSE),\"\")","v":0.05},143.45000000000002]
[179725,"","1945-05-21","оплачен",2501,{"$f":"IFERROR(VLOOKUP(B3884,'Комиссии партнеров'!$A$2:$B$52,2,FALSE),\"\")","v":""}]
[179730,"Партнер номер 46","1945-05-21","оплачен",1375,{"$f":"IFERROR(VLOOKUP(B3885,'Комиссии партнеров'!$A$2:$B$52,2,FALSE),\"\")","v":0.05},68.75]
[179734,"Партнер номер 6","1945-05-21","оплачен",2727,{"$f":"IFERROR(VLOOKUP(B3886,'Комиссии партнеров'!$A$2:$B$52,2,FALSE),\"\")","v":0.04},109.08]
[179738,"","1945-05-21","не оплачен",1556,{"$f":"IFERROR(VLOOKUP(B3887,'Комиссии партнеров'!$A$2:$B$52,2,FALSE),\"\")","v":""}]
[179740,"","1945-05-21","не оплачен",2569,{"$f":"IFERROR(VLOOKUP(B3888,'Комиссии партнеров'!$A$2:$B$52,2,FALSE),\"\")","v":""}]
[179750,"Партнер номер 1","1945-05-21","не оплачен",621,{"$f":"IFERROR(VLOOKUP(B3889,'Комиссии партнеров'!$A$2:$B$52,2,FALSE),\"\")","v":0.05},31.05]
[179755,"Партнер номер 1","1945-05-21","оплачен",2617,{"$f":"IFERROR(VLOOKUP(B3890,'Комиссии партнеров'!$A$2:$B$52,2,FALSE),\"\")","v":0.05},130.85]
[179757,"","1945-05-21","оплачен",2889,{"$f":"IFERROR(VLOOKUP(B3891,'Комиссии партнеров'!$A$2:$B$52,2,FALSE),\"\")","v":""}]
[179762,"Партнер номер 10","1945-05-21","не оплачен",971,{"$f":"IFERROR(VLOOKUP(B3892,'Комиссии партнеров'!$A$2:$B$52,2,FALSE),\"\")","v":0.04},38.840000000000003]
[179765,"","1945-05-21","оплачен",4237,{"$f":"IFERROR(VLOOKUP(B3893,'Комиссии партнеров'!$A$2:$B$52,2,FALSE),\"\")","v":""}]
[179770,"","1945-05-21","оплачен",367,{"$f":"IFERROR(VLOOKUP(B3894,'Комиссии партнеров'!$A$2:$B$52,2,FALSE),\"\")","v":""}]
[179775,"","1945-05-21","не оплачен",1171,{"$f":"IFERROR(VLOOKUP(B3895,'Комиссии партнеров'!$A$2:$B$52,2,FALSE),\"\")","v":""}]
[179780,"Партнер номер 10","1945-05-21","оплачен",1216,{"$f":"IFERROR(VLOOKUP(B3896,'Комиссии партнеров'!$A$2:$B$52,2,FALSE),\"\")","v":0.04},48.64]
[179782,"Партнер номер 1","1945-05-21","оплачен",976,{"$f":"IFERROR(VLOOKUP(B3897,'Комиссии партнеров'!$A$2:$B$52,2,FALSE),\"\")","v":0.05},48.800000000000004]
[179788,"Партнер номер 1","1945-05-21","оплачен",696,{"$f":"IFERROR(VLOOKUP(B3898,'Комиссии партнеров'!$A$2:$B$52,2,FALSE),\"\")","v":0.05},34.800000000000004]
[179792,"Партнер номер 3","1945-05-21","оплачен",1239,{"$f":"IFERROR(VLOOKUP(B3899,'Комиссии партнеров'!$A$2:$B$52,2,FALSE),\"\")","v":0.05},61.95]
[179797,"","1945-05-21","не оплачен",2417,{"$f":"IFERROR(VLOOKUP(B3900,'Комиссии партнеров'!$A$2:$B$52,2,FALSE),\"\")","v":""}]
[179801,"","1945-05-21","не оплачен",2215,{"$f":"IFERROR(VLOOKUP(B3901,'Комиссии партнеров'!$A$2:$B$52,2,FALSE),\"\")","v":""}]
[179806,"Партнер номер 11","1945-05-21","не оплачен",6797,{"$f":"IFERROR(VLOOKUP(B3902,'Комиссии партнеров'!$A$2:$B$52,2,FALSE),\"\")","v":0.05},339.85]
[179808,"Партнер номер 11","1945-05-21","оплачен",947,{"$f":"IFERROR(VLOOKUP(B3903,'Комиссии партнеров'!$A$2:$B$52,2,FALSE),\"\")","v":0.05},47.35]
[179810,"","1945-05-21","не оплачен",1328,{"$f":"IFERROR(VLOOKUP(B3904,'Комиссии партнеров'!$A$2:$B$52,2,FALSE),\"\")","v":""}]
[179818,"","1945-05-21","не оплачен",4651,{"$f":"IFERROR(VLOOKUP(B3905,'Комиссии партнеров'!$A$2:$B$52,2,FALSE),\"\")","v":""}]
[179823,"Партнер номер 1","1945-05-21","не оплачен",1291,{"$f":"IFERROR(VLOOKUP(B3906,'Комиссии партнеров'!$A$2:$B$52,2,FALSE),\"\")","v":0.05},64.55]
[179825,"","1945-05-21","оплачен",2956,{"$f":"IFERROR(VLOOKUP(B3907,'Комиссии партнеров'!$A$2:$B$52,2,FALSE),\"\")","v":""}]
[179833,"Партнер номер 1","1945-05-21","не оплачен",4948,{"$f":"IFERROR(VLOOKUP(B3908,'Комиссии партнеров'!$A$2:$B$52,2,FALSE),\"\")","v":0.05},247.4]
[179836,"Партнер номер 13","1945-05-21","оплачен",1282,{"$f":"IFERROR(VLOOKUP(B3909,'Комиссии партнеров'!$A$2:$B$52,2,FALSE),\"\")","v":0.05},64.100000000000009]
[179839,"","1945-05-21","оплачен",2082,{"$f":"IFERROR(VLOOKUP(B3910,'Комиссии партнеров'!$A$2:$B$52,2,FALSE),\"\")","v":""}]
[179841,"Партнер номер 1","1945-05-21","оплачен",5501,{"$f":"IFERROR(VLOOKUP(B3911,'Комиссии партнеров'!$A$2:$B$52,2,FALSE),\"\")","v":0.05},275.05]
[179844,"","1945-05-21","оплачен",869,{"$f":"IFERROR(VLOOKUP(B3912,'Комиссии партнеров'!$A$2:$B$52,2,FALSE),\"\")","v":""}]
[179853,"","1945-05-21","не оплачен",1435,{"$f":"IFERROR(VLOOKUP(B3913,'Комиссии партнеров'!$A$2:$B$52,2,FALSE),\"\")","v":""}]
[179857,"Партнер номер 1","1945-05-21","оплачен",2399,{"$f":"IFERROR(VLOOKUP(B3914,'Комиссии партнеров'!$A$2:$B$52,2,FALSE),\"\")","v":0.05},119.95]
[179859,"","1945-05-21","оплачен",2723,{"$f":"IFERROR(VLOOKUP(B3915,'Комиссии партнеров'!$A$2:$B$52,2,FALSE),\"\")","v":""}]
[179863,"","1945-05-21","не оплачен",1910,{"$f":"IFERROR(VLOOKUP(B3916,'Комиссии партнеров'!$A$2:$B$52,2,FALSE),\"\")","v":""}]
[179866,"","1945-05-21","не оплачен",1186,{"$f":"IFERROR(VLOOKUP(B3917,'Комиссии партнеров'!$A$2:$B$52,2,FALSE),\"\")","v":""}]
[179870,"Партнер номер 11","1945-05-21","не оплачен",709,{"$f":"IFERROR(VLOOKUP(B3918,'Комиссии партнеров'!$A$2:$B$52,2,FALSE),\"\")","v":0.05},35.450000000000003]
[179872,"","1945-05-21","оплачен",1834,{"$f":"IFERROR(VLOOKUP(B3919,'Комиссии партнеров'!$A$2:$B$52,2,FALSE),\"\")","v":""}]
[179875,"Партнер номер 10","1945-05-21","оплачен",1457,{"$f":"IFERROR(VLOOKUP(B3920,'Комиссии партнеров'!$A$2:$B$52,2,FALSE),\"\")","v":0.04},58.28]
[179882,"Партнер номер 7","1945-05-21","оплачен",1765,{"$f":"IFERROR(VLOOKUP(B3921,'Комиссии партнеров'!$A$2:$B$52,2,FALSE),\"\")","v":0.05},88.25]
[179886,"Партнер номер 10","1945-05-21","оплачен",2234,{"$f":"IFERROR(VLOOKUP(B3922,'Комиссии партнеров'!$A$2:$B$52,2,FALSE),\"\")","v":0.04},89.36]
[179889,"","1945-05-21","оплачен",3769,{"$f":"IFERROR(VLOOKUP(B3923,'Комиссии партнеров'!$A$2:$B$52,2,FALSE),\"\")","v":""}]
[179892,"Партнер номер 11","1945-05-21","не оплачен",747,{"$f":"IFERROR(VLOOKUP(B3924,'Комиссии партнеров'!$A$2:$B$52,2,FALSE),\"\")","v":0.05},37.35]
[179897,"Партнер номер 1","1945-05-21","не оплачен",1497,{"$f":"IFERROR(VLOOKUP(B3925,'Комиссии партнеров'!$A$2:$B$52,2,FALSE),\"\")","v":0.05},74.850000000000009]
[179901,"Партнер номер 1","1945-05-21","оплачен",2590,{"$f":"IFERROR(VLOOKUP(B3926,'Комиссии партнеров'!$A$2:$B$52,2,FALSE),\"\")","v":0.05},129.5]
[179904,"Партнер номер 1","1945-05-21","оплачен",1497,{"$f":"IFERROR(VLOOKUP(B3927,'Комиссии партнеров'!$A$2:$B$52,2,FALSE),\"\")","v":0.05},74.850000000000009]
[179906,"","1945-05-21","оплачен",3844,{"$f":"IFERROR(VLOOKUP(B3928,'Комиссии партнеров'!$A$2:$B$52,2,FALSE),\"\")","v":""}]
[179910,"","1945-05-21","оплачен",1377,{"$f":"IFERROR(VLOOKUP(B3929,'Комиссии партнеров'!$A$2:$B$52,2,FALSE),\"\")","v":""}]
[179913,"","1945-05-21","оплачен",1168,{"$f":"IFERROR(VLOOKUP(B3930,'Комиссии партнеров'!$A$2:$B$52,2,FALSE),\"\")","v":""}]
[179914,"","1945-05-21","оплачен",2684,{"$f":"IFERROR(VLOOKUP(B3931,'Комиссии партнеров'!$A$2:$B$52,2,FALSE),\"\")","v":""}]
[179917,"","1945-05-21","не оплачен",1237,{"$f":"IFERROR(VLOOKUP(B3932,'Комиссии партнеров'!$A$2:$B$52,2,FALSE),\"\")","v":""}]
[179921,"","1945-05-21","оплачен",2088,{"$f":"IFERROR(VLOOKUP(B3933,'Комиссии партнеров'!$A$2:$B$52,2,FALSE),\"\")","v":""}]
[179927,"","1945-05-21","не оплачен",875,{"$f":"IFERROR(VLOOKUP(B3934,'Комиссии партнеров'!$A$2:$B$52,2,FALSE),\"\")","v":""}]
[179932,"Партнер номер 1","1945-05-21","оплачен",793,{"$f":"IFERROR(VLOOKUP(B3935,'Комиссии партнеров'!$A$2:$B$52,2,FALSE),\"\")","v":0.05},39.650000000000006]
[179935,"Партнер номер 11","1945-05-21","оплачен",2826,{"$f":"IFERROR(VLOOKUP(B3936,'Комиссии партнеров'!$A$2:$B$52,2,FALSE),\"\")","v":0.05},141.30000000000001]
[179939,"","1945-05-21","оплачен",1006,{"$f":"IFERROR(VLOOKUP(B3937,'Комиссии партнеров'!$A$2:$B$52,2,FALSE),\"\")","v":""}]
[179941,"","1945-05-21","не оплачен",934,{"$f":"IFERROR(VLOOKUP(B3938,'Комиссии партнеров'!$A$2:$B$52,2,FALSE),\"\")","v":""}]
[179945,"Партнер номер 1","1945-05-21","не оплачен",772,{"$f":"IFERROR(VLOOKUP(B3939,'Комиссии партнеров'!$A$2:$B$52,2,FALSE),\"\")","v":0.05},38.6]
[179947,"Партнер номер 6","1945-05-21","не оплачен",2724,{"$f":"IFERROR(VLOOKUP(B3940,'Комиссии партнеров'!$A$2:$B$52,2,FALSE),\"\")","v":0.04},108.96000000000001]
[179951,"","1945-05-21","оплачен",2443,{"$f":"IFERROR(VLOOKUP(B3941,'Комиссии партнеров'!$A$2:$B$52,2,FALSE),\"\")","v":""}]
[179954,"","1945-05-21","оплачен",940,{"$f":"IFERROR(VLOOKUP(B3942,'Комиссии партнеров'!$A$2:$B$52,2,FALSE),\"\")","v":""}]
[179958,"","1945-05-21","оплачен",2919,{"$f":"IFERROR(VLOOKUP(B3943,'Комиссии партнеров'!$A$2:$B$52,2,FALSE),\"\")","v":""}]
[179960,"Партнер номер 11","1945-05-21","оплачен",1153,{"$f":"IFERROR(VLOOKUP(B3944,'Комиссии партнеров'!$A$2:$B$52,2,FALSE),\"\")","v":0.05},57.650000000000006]
[179964,"","1945-05-21","оплачен",1359,{"$f":"IFERROR(VLOOKUP(B3945,'Комиссии партнеров'!$A$2:$B$52,2,FALSE),\"\")","v":""}]
[179967,"","1945-05-21","не оплачен",676,{"$f":"IFERROR(VLOOKUP(B3946,'Комиссии партнеров'!$A$2:$B$52,2,FALSE),\"\")","v":""}]
[179969,"","1945-05-21","оплачен",1629,{"$f":"IFERROR(VLOOKUP(B3947,'Комиссии партнеров'!$A$2:$B$52,2,FALSE),\"\")","v":""}]
[179972,"","1945-05-21","оплачен",3531,{"$f":"IFERROR(VLOOKUP(B3948,'Комиссии партнеров'!$A$2:$B$52,2,FALSE),\"\")","v":""}]
[179975,"","1945-05-21","оплачен",5220,{"$f":"IFERROR(VLOOKUP(B3949,'Комиссии партнеров'!$A$2:$B$52,2,FALSE),\"\")","v":""}]
[179978,"Партнер номер 1","1945-05-21","оплачен",851,{"$f":"IFERROR(VLOOKUP(B3950,'Комиссии партнеров'!$A$2:$B$52,2,FALSE),\"\")","v":0.05},42.550000000000004]
[179982,"","1945-05-21","оплачен",1330,{"$f":"IFERROR(VLOOKUP(B3951,'Комиссии партнеров'!$A$2:$B$52,2,FALSE),\"\")","v":""}]
[179987,"","1945-05-21","оплачен",2202,{"$f":"IFERROR(VLOOKUP(B3952,'Комиссии партнеров'!$A$2:$B$52,2,FALSE),\"\")","v":""}]
[179990,"Партнер номер 5","1945-05-21","оплачен",2276,{"$f":"IFERROR(VLOOKUP(B3953,'Комиссии партнеров'!$A$2:$B$52,2,FALSE),\"\")","v":0.03},68.28]
[179995,"","1945-05-21","оплачен",2147,{"$f":"IFERROR(VLOOKUP(B3954,'Комиссии партнеров'!$A$2:$B$52,2,FALSE),\"\")","v":""}]
[180000,"Партнер номер 5","1945-05-21","оплачен",2440,{"$f":"IFERROR(VLOOKUP(B3955,'Комиссии партнеров'!$A$2:$B$52,2,FALSE),\"\")","v":0.03},73.2]
[180006,"Партнер номер 1","1945-05-21","оплачен",2836,{"$f":"IFERROR(VLOOKUP(B3956,'Комиссии партнеров'!$A$2:$B$52,2,FALSE),\"\")","v":0.05},141.80000000000001]
[180009,"","1945-05-21","оплачен",4912,{"$f":"IFERROR(VLOOKUP(B3957,'Комиссии партнеров'!$A$2:$B$52,2,FALSE),\"\")","v":""}]
[180011,"Партнер номер 1","1945-05-21","оплачен",1206,{"$f":"IFERROR(VLOOKUP(B3958,'Комиссии партнеров'!$A$2:$B$52,2,FALSE),\"\")","v":0.05},60.300000000000004]
[180014,"","1945-05-21","оплачен",3909,{"$f":"IFERROR(VLOOKUP(B3959,'Комиссии партнеров'!$A$2:$B$52,2,FALSE),\"\")","v":""}]
[180020,"Партнер номер 14","1945-05-21","не оплачен",3502,{"$f":"IFERROR(VLOOKUP(B3960,'Комиссии партнеров'!$A$2:$B$52,2,FALSE),\"\")","v":0.03},105.06]
[180025,"Партнер номер 5","1945-05-21","не оплачен",1989,{"$f":"IFERROR(VLOOKUP(B3961,'Комиссии партнеров'!$A$2:$B$52,2,FALSE),\"\")","v":0.03},59.669999999999995]
[180027,"Партнер номер 1","1945-05-21","оплачен",604,{"$f":"IFERROR(VLOOKUP(B3962,'Комиссии партнеров'!$A$2:$B$52,2,FALSE),\"\")","v":0.05},30.200000000000003]
[180029,"","1945-05-21","оплачен",1592,{"$f":"IFERROR(VLOOKUP(B3963,'Комиссии партнеров'!$A$2:$B$52,2,FALSE),\"\")","v":""}]
[180030,"Партнер номер 11","1945-05-21","оплачен",1441,{"$f":"IFERROR(VLOOKUP(B3964,'Комиссии партнеров'!$A$2:$B$52,2,FALSE),\"\")","v":0.05},72.05]
[180034,"","1945-05-22","не оплачен",1426,{"$f":"IFERROR(VLOOKUP(B3965,'Комиссии партнеров'!$A$2:$B$52,2,FALSE),\"\")","v":""}]
[180037,"","1945-05-22","не оплачен",653,{"$f":"IFERROR(VLOOKUP(B3966,'Комиссии партнеров'!$A$2:$B$52,2,FALSE),\"\")","v":""}]
[180041,"Партнер номер 2","1945-05-22","оплачен",1900,{"$f":"IFERROR(VLOOKUP(B3967,'Комиссии партнеров'!$A$2:$B$52,2,FALSE),\"\")","v":0.04},76]
[180043,"","1945-05-22","оплачен",735,{"$f":"IFERROR(VLOOKUP(B3968,'Комиссии партнеров'!$A$2:$B$52,2,FALSE),\"\")","v":""}]
[180045,"Партнер номер 11","1945-05-22","оплачен",637,{"$f":"IFERROR(VLOOKUP(B3969,'Комиссии партнеров'!$A$2:$B$52,2,FALSE),\"\")","v":0.05},31.85]
[180050,"Партнер номер 3","1945-05-22","оплачен",765,{"$f":"IFERROR(VLOOKUP(B3970,'Комиссии партнеров'!$A$2:$B$52,2,FALSE),\"\")","v":0.05},38.25]
[180054,"Партнер номер 1","1945-05-22","оплачен",1376,{"$f":"IFERROR(VLOOKUP(B3971,'Комиссии партнеров'!$A$2:$B$52,2,FALSE),\"\")","v":0.05},68.8]
[180059,"","1945-05-22","оплачен",4936,{"$f":"IFERROR(VLOOKUP(B3972,'Комиссии партнеров'!$A$2:$B$52,2,FALSE),\"\")","v":""}]
[180062,"","1945-05-22","не оплачен",5422,{"$f":"IFERROR(VLOOKUP(B3973,'Комиссии партнеров'!$A$2:$B$52,2,FALSE),\"\")","v":""}]
[180067,"","1945-05-22","оплачен",2441,{"$f":"IFERROR(VLOOKUP(B3974,'Комиссии партнеров'!$A$2:$B$52,2,FALSE),\"\")","v":""}]
[180072,"","1945-05-22","оплачен",947,{"$f":"IFERROR(VLOOKUP(B3975,'Комиссии партнеров'!$A$2:$B$52,2,FALSE),\"\")","v":""}]
[180077,"","1945-05-22","оплачен",2956,{"$f":"IFERROR(VLOOKUP(B3976,'Комиссии партнеров'!$A$2:$B$52,2,FALSE),\"\")","v":""}]
[180079,"Партнер номер 9","1945-05-22","оплачен",3330,{"$f":"IFERROR(VLOOKUP(B3977,'Комиссии партнеров'!$A$2:$B$52,2,FALSE),\"\")","v":0.05},166.5]
[180081,"Партнер номер 1","1945-05-22","не оплачен",1345,{"$f":"IFERROR(VLOOKUP(B3978,'Комиссии партнеров'!$A$2:$B$52,2,FALSE),\"\")","v":0.05},67.25]
[180084,"Партнер номер 1","1945-05-22","не оплачен",1132,{"$f":"IFERROR(VLOOKUP(B3979,'Комиссии партнеров'!$A$2:$B$52,2,FALSE),\"\")","v":0.05},56.6]
[180087,"Партнер номер 11","1945-05-22","не оплачен",943,{"$f":"IFERROR(VLOOKUP(B3980,'Комиссии партнеров'!$A$2:$B$52,2,FALSE),\"\")","v":0.05},47.150000000000006]
[180089,"","1945-05-22","оплачен",1513,{"$f":"IFERROR(VLOOKUP(B3981,'Комиссии партнеров'!$A$2:$B$52,2,FALSE),\"\")","v":""}]
[180094,"Партнер номер 11","1945-05-22","оплачен",971,{"$f":"IFERROR(VLOOKUP(B3982,'Комиссии партнеров'!$A$2:$B$52,2,FALSE),\"\")","v":0.05},48.550000000000004]
[180099,"Партнер номер 5","1945-05-22","оплачен",3864,{"$f":"IFERROR(VLOOKUP(B3983,'Комиссии партнеров'!$A$2:$B$52,2,FALSE),\"\")","v":0.03},115.92]
[180102,"","1945-05-22","оплачен",4350,{"$f":"IFERROR(VLOOKUP(B3984,'Комиссии партнеров'!$A$2:$B$52,2,FALSE),\"\")","v":""}]
[180107,"","1945-05-22","оплачен",1851,{"$f":"IFERROR(VLOOKUP(B3985,'Комиссии партнеров'!$A$2:$B$52,2,FALSE),\"\")","v":""}]
[180109,"","1945-05-22","оплачен",4518,{"$f":"IFERROR(VLOOKUP(B3986,'Комиссии партнеров'!$A$2:$B$52,2,FALSE),\"\")","v":""}]
[180111,"Партнер номер 1","1945-05-22","не оплачен",1273,{"$f":"IFERROR(VLOOKUP(B3987,'Комиссии партнеров'!$A$2:$B$52,2,FALSE),\"\")","v":0.05},63.650000000000006]
[180116,"","1945-05-22","оплачен",2731,{"$f":"IFERROR(VLOOKUP(B3988,'Комиссии партнеров'!$A$2:$B$52,2,FALSE),\"\")","v":""}]
[180119,"Партнер номер 11","1945-05-22","не оплачен",634,{"$f":"IFERROR(VLOOKUP(B3989,'Комиссии партнеров'!$A$2:$B$52,2,FALSE),\"\")","v":0.05},31.700000000000003]
[180122,"Партнер номер 1","1945-05-22","не оплачен",1071,{"$f":"IFERROR(VLOOKUP(B3990,'Комиссии партнеров'!$A$2:$B$52,2,FALSE),\"\")","v":0.05},53.550000000000004]
[180127,"Партнер номер 1","1945-05-22","не оплачен",1173,{"$f":"IFERROR(VLOOKUP(B3991,'Комиссии партнеров'!$A$2:$B$52,2,FALSE),\"\")","v":0.05},58.650000000000006]
[180129,"","1945-05-22","оплачен",3729,{"$f":"IFERROR(VLOOKUP(B3992,'Комиссии партнеров'!$A$2:$B$52,2,FALSE),\"\")","v":""}]
[180135,"","1945-05-22","оплачен",1298,{"$f":"IFERROR(VLOOKUP(B3993,'Комиссии партнеров'!$A$2:$B$52,2,FALSE),\"\")","v":""}]
[180137,"","1945-05-22","оплачен",785,{"$f":"IFERROR(VLOOKUP(B3994,'Комиссии партнеров'!$A$2:$B$52,2,FALSE),\"\")","v":""}]
[180138,"Партнер номер 1","1945-05-22","не оплачен",1323,{"$f":"IFERROR(VLOOKUP(B3995,'Комиссии партнеров'!$A$2:$B$52,2,FALSE),\"\")","v":0.05},66.150000000000006]
[180144,"","1945-05-22","оплачен",1354,{"$f":"IFERROR(VLOOKUP(B3996,'Комиссии партнеров'!$A$2:$B$52,2,FALSE),\"\")","v":""}]
[180148,"Партнер номер 1","1945-05-22","оплачен",2268,{"$f":"IFERROR(VLOOKUP(B3997,'Комиссии партнеров'!$A$2:$B$52,2,FALSE),\"\")","v":0.05},113.4]
[180149,"Партнер номер 1","1945-05-22","оплачен",1582,{"$f":"IFERROR(VLOOKUP(B3998,'Комиссии партнеров'!$A$2:$B$52,2,FALSE),\"\")","v":0.05},79.100000000000009]
[180154,"","1945-05-22","оплачен",5793,{"$f":"IFERROR(VLOOKUP(B3999,'Комиссии партнеров'!$A$2:$B$52,2,FALSE),\"\")","v":""}]
[180158,"","1945-05-22","не оплачен",1769,{"$f":"IFERROR(VLOOKUP(B4000,'Комиссии партнеров'!$A$2:$B$52,2,FALSE),\"\")","v":""}]
[180161,"","1945-05-22","не оплачен",2182,{"$f":"IFERROR(VLOOKUP(B4001,'Комиссии партнеров'!$A$2:$B$52,2,FALSE),\"\")","v":""}]
[180163,"","1945-05-22","оплачен",4731,{"$f":"IFERROR(VLOOKUP(B4002,'Комиссии партнеров'!$A$2:$B$52,2,FALSE),\"\")","v":""}]
[180166,"","1945-05-22","не оплачен",1312,{"$f":"IFERROR(VLOOKUP(B4003,'Комиссии партнеров'!$A$2:$B$52,2,FALSE),\"\")","v":""}]
[180169,"","1945-05-22","не оплачен",1900,{"$f":"IFERROR(VLOOKUP(B4004,'Комиссии партнеров'!$A$2:$B$52,2,FALSE),\"\")","v":""}]
[180171,"Партнер номер 1","1945-05-22","оплачен",2361,{"$f":"IFERROR(VLOOKUP(B4005,'Комиссии партнеров'!$A$2:$B$52,2,FALSE),\"\")","v":0.05},118.05000000000001]
[180174,"","1945-05-22","не оплачен",1663,{"$f":"IFERROR(VLOOKUP(B4006,'Комиссии партнеров'!$A$2:$B$52,2,FALSE),\"\")","v":""}]
[180178,"","1945-05-22","не оплачен",559,{"$f":"IFERROR(VLOOKUP(B4007,'Комиссии партнеров'!$A$2:$B$52,2,FALSE),\"\")","v":""}]
[180183,"Партнер номер 1","1945-05-22","оплачен",1608,{"$f":"IFERROR(VLOOKUP(B4008,'Комиссии партнеров'!$A$2:$B$52,2,FALSE),\"\")","v":0.05},80.400000000000006]
[180187,"Партнер номер 11","1945-05-22","не оплачен",1020,{"$f":"IFERROR(VLOOKUP(B4009,'Комиссии партнеров'!$A$2:$B$52,2,FALSE),\"\")","v":0.05},51]
[180190,"Партнер номер 1","1945-05-22","оплачен",634,{"$f":"IFERROR(VLOOKUP(B4010,'Комиссии партнеров'!$A$2:$B$52,2,FALSE),\"\")","v":0.05},31.700000000000003]
[180194,"","1945-05-22","оплачен",2424,{"$f":"IFERROR(VLOOKUP(B4011,'Комиссии партнеров'!$A$2:$B$52,2,FALSE),\"\")","v":""}]
[180199,"Партнер номер 3","1945-05-22","оплачен",2636,{"$f":"IFERROR(VLOOKUP(B4012,'Комиссии партнеров'!$A$2:$B$52,2,FALSE),\"\")","v":0.05},131.80000000000001]
[180205,"","1945-05-22","оплачен",1494,{"$f":"IFERROR(VLOOKUP(B4013,'Комиссии партнеров'!$A$2:$B$52,2,FALSE),\"\")","v":""}]
[180206,"Партнер номер 11","1945-05-22","оплачен",1173,{"$f":"IFERROR(VLOOKUP(B4014,'Комиссии партнеров'!$A$2:$B$52,2,FALSE),\"\")","v":0.05},58.650000000000006]
[180212,"Партнер номер 1","1945-05-22","оплачен",2181,{"$f":"IFERROR(VLOOKUP(B4015,'Комиссии партнеров'!$A$2:$B$52,2,FALSE),\"\")","v":0.05},109.05000000000001]
[180213,"Партнер номер 5","1945-05-22","не оплачен",2299,{"$f":"IFERROR(VLOOKUP(B4016,'Комиссии партнеров'!$A$2:$B$52,2,FALSE),\"\")","v":0.03},68.97]
[180218,"Партнер номер 46","1945-05-22","не оплачен",605,{"$f":"IFERROR(VLOOKUP(B4017,'Комиссии партнеров'!$A$2:$B$52,2,FALSE),\"\")","v":0.05},30.25]
[180221,"","1945-05-22","не оплачен",2408,{"$f":"IFERROR(VLOOKUP(B4018,'Комиссии партнеров'!$A$2:$B$52,2,FALSE),\"\")","v":""}]
[180225,"Партнер номер 9","1945-05-22","не оплачен",1184,{"$f":"IFERROR(VLOOKUP(B4019,'Комиссии партнеров'!$A$2:$B$52,2,FALSE),\"\")","v":0.05},59.2]
[180227,"Партнер номер 1","1945-05-22","оплачен",1541,{"$f":"IFERROR(VLOOKUP(B4020,'Комиссии партнеров'!$A$2:$B$52,2,FALSE),\"\")","v":0.05},77.050000000000011]
[180229,"Партнер номер 3","1945-05-22","не оплачен",1515,{"$f":"IFERROR(VLOOKUP(B4021,'Комиссии партнеров'!$A$2:$B$52,2,FALSE),\"\")","v":0.05},75.75]
[180230,"Партнер номер 5","1945-05-22","оплачен",2762,{"$f":"IFERROR(VLOOKUP(B4022,'Комиссии партнеров'!$A$2:$B$52,2,FALSE),\"\")","v":0.03},82.86]
[180236,"","1945-05-22","не оплачен",1321,{"$f":"IFERROR(VLOOKUP(B4023,'Комиссии партнеров'!$A$2:$B$52,2,FALSE),\"\")","v":""}]
[180238,"Партнер номер 4","1945-05-22","не оплачен",6082,{"$f":"IFERROR(VLOOKUP(B4024,'Комиссии партнеров'!$A$2:$B$52,2,FALSE),\"\")","v":0.04},243.28]
[180241,"","1945-05-22","не оплачен",1380,{"$f":"IFERROR(VLOOKUP(B4025,'Комиссии партнеров'!$A$2:$B$52,2,FALSE),\"\")","v":""}]
[180244,"","1945-05-22","оплачен",2937,{"$f":"IFERROR(VLOOKUP(B4026,'Комиссии партнеров'!$A$2:$B$52,2,FALSE),\"\")","v":""}]
[180249,"Партнер номер 6","1945-05-22","оплачен",2284,{"$f":"IFERROR(VLOOKUP(B4027,'Комиссии партнеров'!$A$2:$B$52,2,FALSE),\"\")","v":0.04},91.36]
[180250,"","1945-05-22","оплачен",2946,{"$f":"IFERROR(VLOOKUP(B4028,'Комиссии партнеров'!$A$2:$B$52,2,FALSE),\"\")","v":""}]
[180255,"Партнер номер 3","1945-05-22","не оплачен",0,{"$f":"IFERROR(VLOOKUP(B4029,'Комиссии партнеров'!$A$2:$B$52,2,FALSE),\"\")","v":0.05},0]
[180261,"","1945-05-22","оплачен",2287,{"$f":"IFERROR(VLOOKUP(B4030,'Комиссии партнеров'!$A$2:$B$52,2,FALSE),\"\")","v":""}]
[180262,"","1945-05-22","оплачен",1019,{"$f":"IFERROR(VLOOKUP(B4031,'Комиссии партнеров'!$A$2:$B$52,2,FALSE),\"\")","v":""}]
[180266,"","1945-05-22","оплачен",1409,{"$f":"IFERROR(VLOOKUP(B4032,'Комиссии партнеров'!$A$2:$B$52,2,FALSE),\"\")","v":""}]
[180271,"Партнер номер 5","1945-05-22","оплачен",811,{"$f":"IFERROR(VLOOKUP(B4033,'Комиссии партнеров'!$A$2:$B$52,2,FALSE),\"\")","v":0.03},24.33]
[180275,"","1945-05-22","оплачен",1964,{"$f":"IFERROR(VLOOKUP(B4034,'Комиссии партнеров'!$A$2:$B$52,2,FALSE),\"\")","v":""}]
[180278,"","1945-05-22","оплачен",2593,{"$f":"IFERROR(VLOOKUP(B4035,'Комиссии партнеров'!$A$2:$B$52,2,FALSE),\"\")","v":""}]
[180279,"","1945-05-22","оплачен",2089,{"$f":"IFERROR(VLOOKUP(B4036,'Комиссии партнеров'!$A$2:$B$52,2,FALSE),\"\")","v":""}]
[180282,"","1945-05-22","оплачен",1060,{"$f":"IFERROR(VLOOKUP(B4037,'Комиссии партнеров'!$A$2:$B$52,2,FALSE),\"\")","v":""}]
[180285,"","1945-05-22","оплачен",4053,{"$f":"IFERROR(VLOOKUP(B4038,'Комиссии партнеров'!$A$2:$B$52,2,FALSE),\"\")","v":""}]
[180290,"","1945-05-22","не оплачен",2312,{"$f":"IFERROR(VLOOKUP(B4039,'Комиссии партнеров'!$A$2:$B$52,2,FALSE),\"\")","v":""}]
[180295,"Партнер номер 1","1945-05-22","оплачен",1057,{"$f":"IFERROR(VLOOKUP(B4040,'Комиссии партнеров'!$A$2:$B$52,2,FALSE),\"\")","v":0.05},52.85]
[180297,"Партнер номер 17","1945-05-22","оплачен",3563,{"$f":"IFERROR(VLOOKUP(B4041,'Комиссии партнеров'!$A$2:$B$52,2,FALSE),\"\")","v":0.04},142.52000000000001]
[180299,"Партнер номер 1","1945-05-22","оплачен",2114,{"$f":"IFERROR(VLOOKUP(B4042,'Комиссии партнеров'!$A$2:$B$52,2,FALSE),\"\")","v":0.05},105.7]
[180301,"","1945-05-22","не оплачен",856,{"$f":"IFERROR(VLOOKUP(B4043,'Комиссии партнеров'!$A$2:$B$52,2,FALSE),\"\")","v":""}]
[180307,"","1945-05-22","оплачен",1257,{"$f":"IFERROR(VLOOKUP(B4044,'Комиссии партнеров'!$A$2:$B$52,2,FALSE),\"\")","v":""}]
[180311,"Партнер номер 7","1945-05-22","не оплачен",2168,{"$f":"IFERROR(VLOOKUP(B4045,'Комиссии партнеров'!$A$2:$B$52,2,FALSE),\"\")","v":0.05},108.4]
[180313,"","1945-05-22","оплачен",4300,{"$f":"IFERROR(VLOOKUP(B4046,'Комиссии партнеров'!$A$2:$B$52,2,FALSE),\"\")","v":""}]
[180315,"Партнер номер 1","1945-05-22","оплачен",1304,{"$f":"IFERROR(VLOOKUP(B4047,'Комиссии партнеров'!$A$2:$B$52,2,FALSE),\"\")","v":0.05},65.2]
[180319,"","1945-05-22","оплачен",2422,{"$f":"IFERROR(VLOOKUP(B4048,'Комиссии партнеров'!$A$2:$B$52,2,FALSE),\"\")","v":""}]
[180325,"","1945-05-22","оплачен",1086,{"$f":"IFERROR(VLOOKUP(B4049,'Комиссии партнеров'!$A$2:$B$52,2,FALSE),\"\")","v":""}]
[180326,"Партнер номер 16","1945-05-22","оплачен",1932,{"$f":"IFERROR(VLOOKUP(B4050,'Комиссии партнеров'!$A$2:$B$52,2,FALSE),\"\")","v":0.05},96.600000000000009]
[180331,"Партнер номер 16","1945-05-22","оплачен",1869,{"$f":"IFERROR(VLOOKUP(B4051,'Комиссии партнеров'!$A$2:$B$52,2,FALSE),\"\")","v":0.05},93.45]
[180334,"Партнер номер 1","1945-05-22","оплачен",663,{"$f":"IFERROR(VLOOKUP(B4052,'Комиссии партнеров'!$A$2:$B$52,2,FALSE),\"\")","v":0.05},33.15]
[180337,"Партнер номер 1","1945-05-22","не оплачен",1979,{"$f":"IFERROR(VLOOKUP(B4053,'Комиссии партнеров'!$A$2:$B$52,2,FALSE),\"\")","v":0.05},98.95]
[180342,"","1945-05-22","оплачен",3286,{"$f":"IFERROR(VLOOKUP(B4054,'Комиссии партнеров'!$A$2:$B$52,2,FALSE),\"\")","v":""}]
[180345,"","1945-05-22","оплачен",4178,{"$f":"IFERROR(VLOOKUP(B4055,'Комиссии партнеров'!$A$2:$B$52,2,FALSE),\"\")","v":""}]
[180347,"","1945-05-22","оплачен",1741,{"$f":"IFERROR(VLOOKUP(B4056,'Комиссии партнеров'!$A$2:$B$52,2,FALSE),\"\")","v":""}]
[180352,"Партнер номер 1","1945-05-22","не оплачен",2112,{"$f":"IFERROR(VLOOKUP(B4057,'Комиссии партнеров'!$A$2:$B$52,2,FALSE),\"\")","v":0.05},105.60000000000001]
[180355,"","1945-05-22","не оплачен",2964,{"$f":"IFERROR(VLOOKUP(B4058,'Комиссии партнеров'!$A$2:$B$52,2,FALSE),\"\")","v":""}]
[180358,"Партнер номер 11","1945-05-22","оплачен",1101,{"$f":"IFERROR(VLOOKUP(B4059,'Комиссии партнеров'!$A$2:$B$52,2,FALSE),\"\")","v":0.05},55.050000000000004]
[180363,"","1945-05-22","оплачен",1092,{"$f":"IFERROR(VLOOKUP(B4060,'Комиссии партнеров'!$A$2:$B$52,2,FALSE),\"\")","v":""}]
[180366,"","1945-05-22","оплачен",2429,{"$f":"IFERROR(VLOOKUP(B4061,'Комиссии партнеров'!$A$2:$B$52,2,FALSE),\"\")","v":""}]
[180371,"Партнер номер 1","1945-05-22","оплачен",632,{"$f":"IFERROR(VLOOKUP(B4062,'Комиссии партнеров'!$A$2:$B$52,2,FALSE),\"\")","v":0.05},31.6]
[180376,"Партнер номер 1","1945-05-22","оплачен",1202,{"$f":"IFERROR(VLOOKUP(B4063,'Комиссии партнеров'!$A$2:$B$52,2,FALSE),\"\")","v":0.05},60.1]
[180379,"","1945-05-22","оплачен",3380,{"$f":"IFERROR(VLOOKUP(B4064,'Комиссии партнеров'!$A$2:$B$52,2,FALSE),\"\")","v":""}]
[180384,"Партнер номер 1","1945-05-22","оплачен",2174,{"$f":"IFERROR(VLOOKUP(B4065,'Комиссии партнеров'!$A$2:$B$52,2,FALSE),\"\")","v":0.05},108.7]
[180387,"","1945-05-22","не оплачен",1357,{"$f":"IFERROR(VLOOKUP(B4066,'Комиссии партнеров'!$A$2:$B$52,2,FALSE),\"\")","v":""}]
[180393,"Партнер номер 1","1945-05-22","оплачен",884,{"$f":"IFERROR(VLOOKUP(B4067,'Комиссии партнеров'!$A$2:$B$52,2,FALSE),\"\")","v":0.05},44.2]
[180398,"","1945-05-22","оплачен",1380,{"$f":"IFERROR(VLOOKUP(B4068,'Комиссии партнеров'!$A$2:$B$52,2,FALSE),\"\")","v":""}]
[180401,"Партнер номер 11","1945-05-22","оплачен",1114,{"$f":"IFERROR(VLOOKUP(B4069,'Комиссии партнеров'!$A$2:$B$52,2,FALSE),\"\")","v":0.05},55.7]
[180402,"Партнер номер 30","1945-05-22","оплачен",2174,{"$f":"IFERROR(VLOOKUP(B4070,'Комиссии партнеров'!$A$2:$B$52,2,FALSE),\"\")","v":0.05},108.7]
[180407,"","1945-05-22","не оплачен",999,{"$f":"IFERROR(VLOOKUP(B4071,'Комиссии партнеров'!$A$2:$B$52,2,FALSE),\"\")","v":""}]
[180412,"","1945-05-22","оплачен",1176,{"$f":"IFERROR(VLOOKUP(B4072,'Комиссии партнеров'!$A$2:$B$52,2,FALSE),\"\")","v":""}]
[180417,"Партнер номер 11","1945-05-22","оплачен",1933,{"$f":"IFERROR(VLOOKUP(B4073,'Комиссии партнеров'!$A$2:$B$52,2,FALSE),\"\")","v":0.05},96.65]
[180419,"Партнер номер 3","1945-05-22","оплачен",809,{"$f":"IFERROR(VLOOKUP(B4074,'Комиссии партнеров'!$A$2:$B$52,2,FALSE),\"\")","v":0.05},40.450000000000003]
[180423,"","1945-05-22","не оплачен",582,{"$f":"IFERROR(VLOOKUP(B4075,'Комиссии партнеров'!$A$2:$B$52,2,FALSE),\"\")","v":""}]
[180426,"Партнер номер 7","1945-05-22","оплачен",562,{"$f":"IFERROR(VLOOKUP(B4076,'Комиссии партнеров'!$A$2:$B$52,2,FALSE),\"\")","v":0.05},28.1]
[180429,"","1945-05-22","оплачен",758,{"$f":"IFERROR(VLOOKUP(B4077,'Комиссии партнеров'!$A$2:$B$52,2,FALSE),\"\")","v":""}]
[180433,"Партнер номер 19","1945-05-22","не оплачен",611,{"$f":"IFERROR(VLOOKUP(B4078,'Комиссии партнеров'!$A$2:$B$52,2,FALSE),\"\")","v":0.05},30.55]
[180435,"Партнер номер 5","1945-05-22","оплачен",2813,{"$f":"IFERROR(VLOOKUP(B4079,'Комиссии партнеров'!$A$2:$B$52,2,FALSE),\"\")","v":0.03},84.39]
[180437,"Партнер номер 1","1945-05-22","оплачен",2112,{"$f":"IFERROR(VLOOKUP(B4080,'Комиссии партнеров'!$A$2:$B$52,2,FALSE),\"\")","v":0.05},105.60000000000001]
[180442,"Партнер номер 28","1945-05-22","не оплачен",2484,{"$f":"IFERROR(VLOOKUP(B4081,'Комиссии партнеров'!$A$2:$B$52,2,FALSE),\"\")","v":0.05},124.2]
[180447,"Партнер номер 1","1945-05-22","не оплачен",3313,{"$f":"IFERROR(VLOOKUP(B4082,'Комиссии партнеров'!$A$2:$B$52,2,FALSE),\"\")","v":0.05},165.65]
[180448,"Партнер номер 1","1945-05-22","оплачен",1170,{"$f":"IFERROR(VLOOKUP(B4083,'Комиссии партнеров'!$A$2:$B$52,2,FALSE),\"\")","v":0.05},58.5]
[180452,"","1945-05-22","оплачен",3600,{"$f":"IFERROR(VLOOKUP(B4084,'Комиссии партнеров'!$A$2:$B$52,2,FALSE),\"\")","v":""}]
[180454,"","1945-05-22","не оплачен",2628,{"$f":"IFERROR(VLOOKUP(B4085,'Комиссии партнеров'!$A$2:$B$52,2,FALSE),\"\")","v":""}]
[180456,"","1945-05-22","оплачен",2562,{"$f":"IFERROR(VLOOKUP(B4086,'Комиссии партнеров'!$A$2:$B$52,2,FALSE),\"\")","v":""}]
[180459,"Партнер номер 1","1945-05-22","не оплачен",2112,{"$f":"IFERROR(VLOOKUP(B4087,'Комиссии партнеров'!$A$2:$B$52,2,FALSE),\"\")","v":0.05},105.60000000000001]
[180463,"Партнер номер 1","1945-05-22","оплачен",4773,{"$f":"IFERROR(VLOOKUP(B4088,'Комиссии партнеров'!$A$2:$B$52,2,FALSE),\"\")","v":0.05},238.65]
[180467,"","1945-05-22","оплачен",4809,{"$f":"IFERROR(VLOOKUP(B4089,'Комиссии партнеров'!$A$2:$B$52,2,FALSE),\"\")","v":""}]
[180472,"Партнер номер 1","1945-05-22","не оплачен",2112,{"$f":"IFERROR(VLOOKUP(B4090,'Комиссии партнеров'!$A$2:$B$52,2,FALSE),\"\")","v":0.05},105.60000000000001]
[180474,"Партнер номер 7","1945-05-22","не оплачен",2174,{"$f":"IFERROR(VLOOKUP(B4091,'Комиссии партнеров'!$A$2:$B$52,2,FALSE),\"\")","v":0.05},108.7]
[180476,"Партнер номер 1","1945-05-22","не оплачен",1338,{"$f":"IFERROR(VLOOKUP(B4092,'Комиссии партнеров'!$A$2:$B$52,2,FALSE),\"\")","v":0.05},66.900000000000006]
[180479,"Партнер номер 1","1945-05-22","не оплачен",1338,{"$f":"IFERROR(VLOOKUP(B4093,'Комиссии партнеров'!$A$2:$B$52,2,FALSE),\"\")","v":0.05},66.900000000000006]
[180482,"","1945-05-22","оплачен",1188,{"$f":"IFERROR(VLOOKUP(B4094,'Комиссии партнеров'!$A$2:$B$52,2,FALSE),\"\")","v":""}]
[180484,"Партнер номер 1","1945-05-22","не оплачен",2112,{"$f":"IFERROR(VLOOKUP(B4095,'Комиссии партнеров'!$A$2:$B$52,2,FALSE),\"\")","v":0.05},105.60000000000001]
[180489,"Партнер номер 7","1945-05-22","не оплачен",489,{"$f":"IFERROR(VLOOKUP(B4096,'Комиссии партнеров'!$A$2:$B$52,2,FALSE),\"\")","v":0.05},24.450000000000003]
[180491,"","1945-05-22","не оплачен",5738,{"$f":"IFERROR(VLOOKUP(B4097,'Комиссии партнеров'!$A$2:$B$52,2,FALSE),\"\")","v":""}]
[180493,"","1945-05-22","не оплачен",1382,{"$f":"IFERROR(VLOOKUP(B4098,'Комиссии партнеров'!$A$2:$B$52,2,FALSE),\"\")","v":""}]
[180497,"","1945-05-22","оплачен",589,{"$f":"IFERROR(VLOOKUP(B4099,'Комиссии партнеров'!$A$2:$B$52,2,FALSE),\"\")","v":""}]
[180502,"Партнер номер 1","1945-05-22","оплачен",994,{"$f":"IFERROR(VLOOKUP(B4100,'Комиссии партнеров'!$A$2:$B$52,2,FALSE),\"\")","v":0.05},49.7]
[180507,"","1945-05-22","оплачен",1611,{"$f":"IFERROR(VLOOKUP(B4101,'Комиссии партнеров'!$A$2:$B$52,2,FALSE),\"\")","v":""}]
[180512,"Партнер номер 1","1945-05-22","не оплачен",1137,{"$f":"IFERROR(VLOOKUP(B4102,'Комиссии партнеров'!$A$2:$B$52,2,FALSE),\"\")","v":0.05},56.85]
[180517,"Партнер номер 1","1945-05-22","не оплачен",1793,{"$f":"IFERROR(VLOOKUP(B4103,'Комиссии партнеров'!$A$2:$B$52,2,FALSE),\"\")","v":0.05},89.65]
[180522,"","1945-05-22","не оплачен",726,{"$f":"IFERROR(VLOOKUP(B4104,'Комиссии партнеров'!$A$2:$B$52,2,FALSE),\"\")","v":""}]
[180527,"Партнер номер 12","1945-05-22","оплачен",1480,{"$f":"IFERROR(VLOOKUP(B4105,'Комиссии партнеров'!$A$2:$B$52,2,FALSE),\"\")","v":0.03},44.4]
[180531,"Партнер номер 1","1945-05-22","не оплачен",958,{"$f":"IFERROR(VLOOKUP(B4106,'Комиссии партнеров'!$A$2:$B$52,2,FALSE),\"\")","v":0.05},47.900000000000006]
[180534,"Партнер номер 1","1945-05-22","оплачен",2125,{"$f":"IFERROR(VLOOKUP(B4107,'Комиссии партнеров'!$A$2:$B$52,2,FALSE),\"\")","v":0.05},106.25]
[180538,"","1945-05-22","оплачен",838,{"$f":"IFERROR(VLOOKUP(B4108,'Комиссии партнеров'!$A$2:$B$52,2,FALSE),\"\")","v":""}]
[180542,"","1945-05-22","не оплачен",1935,{"$f":"IFERROR(VLOOKUP(B4109,'Комиссии партнеров'!$A$2:$B$52,2,FALSE),\"\")","v":""}]
[180550,"","1945-05-22","не оплачен",1215,{"$f":"IFERROR(VLOOKUP(B4110,'Комиссии партнеров'!$A$2:$B$52,2,FALSE),\"\")","v":""}]
[180554,"","1945-05-22","оплачен",3039,{"$f":"IFERROR(VLOOKUP(B4111,'Комиссии партнеров'!$A$2:$B$52,2,FALSE),\"\")","v":""}]
[180558,"","1945-05-22","оплачен",2103,{"$f":"IFERROR(VLOOKUP(B4112,'Комиссии партнеров'!$A$2:$B$52,2,FALSE),\"\")","v":""}]
[180561,"","1945-05-22","оплачен",4246,{"$f":"IFERROR(VLOOKUP(B4113,'Комиссии партнеров'!$A$2:$B$52,2,FALSE),\"\")","v":""}]
[180563,"Партнер номер 5","1945-05-22","не оплачен",1140,{"$f":"IFERROR(VLOOKUP(B4114,'Комиссии партнеров'!$A$2:$B$52,2,FALSE),\"\")","v":0.03},34.199999999999996]
[180568,"Партнер номер 7","1945-05-22","оплачен",1202,{"$f":"IFERROR(VLOOKUP(B4115,'Комиссии партнеров'!$A$2:$B$52,2,FALSE),\"\")","v":0.05},60.1]
[180572,"","1945-05-22","оплачен",1525,{"$f":"IFERROR(VLOOKUP(B4116,'Комиссии партнеров'!$A$2:$B$52,2,FALSE),\"\")","v":""}]
[180577,"Партнер номер 7","1945-05-22","не оплачен",1800,{"$f":"IFERROR(VLOOKUP(B4117,'Комиссии партнеров'!$A$2:$B$52,2,FALSE),\"\")","v":0.05},90]
[180581,"Партнер номер 1","1945-05-22","оплачен",1682,{"$f":"IFERROR(VLOOKUP(B4118,'Комиссии партнеров'!$A$2:$B$52,2,FALSE),\"\")","v":0.05},84.100000000000009]
[180585,"Партнер номер 11","1945-05-22","оплачен",1411,{"$f":"IFERROR(VLOOKUP(B4119,'Комиссии партнеров'!$A$2:$B$52,2,FALSE),\"\")","v":0.05},70.55]
[180588,"","1945-05-22","оплачен",3257,{"$f":"IFERROR(VLOOKUP(B4120,'Комиссии партнеров'!$A$2:$B$52,2,FALSE),\"\")","v":""}]
[180593,"Партнер номер 46","1945-05-22","не оплачен",625,{"$f":"IFERROR(VLOOKUP(B4121,'Комиссии партнеров'!$A$2:$B$52,2,FALSE),\"\")","v":0.05},31.25]
[180597,"Партнер номер 1","1945-05-22","не оплачен",1238,{"$f":"IFERROR(VLOOKUP(B4122,'Комиссии партнеров'!$A$2:$B$52,2,FALSE),\"\")","v":0.05},61.900000000000006]
[180599,"","1945-05-22","оплачен",2023,{"$f":"IFERROR(VLOOKUP(B4123,'Комиссии партнеров'!$A$2:$B$52,2,FALSE),\"\")","v":""}]
[180601,"Партнер номер 46","1945-05-22","оплачен",1649,{"$f":"IFERROR(VLOOKUP(B4124,'Комиссии партнеров'!$A$2:$B$52,2,FALSE),\"\")","v":0.05},82.45]
[180606,"","1945-05-22","оплачен",1982,{"$f":"IFERROR(VLOOKUP(B4125,'Комиссии партнеров'!$A$2:$B$52,2,FALSE),\"\")","v":""}]
[180611,"","1945-05-22","оплачен",11550,{"$f":"IFERROR(VLOOKUP(B4126,'Комиссии партнеров'!$A$2:$B$52,2,FALSE),\"\")","v":""}]
[180614,"Партнер номер 5","1945-05-22","не оплачен",2193,{"$f":"IFERROR(VLOOKUP(B4127,'Комиссии партнеров'!$A$2:$B$52,2,FALSE),\"\")","v":0.03},65.789999999999992]
[180618,"","1945-05-22","оплачен",820,{"$f":"IFERROR(VLOOKUP(B4128,'Комиссии партнеров'!$A$2:$B$52,2,FALSE),\"\")","v":""}]
[180624,"Партнер номер 1","1945-05-22","не оплачен",1333,{"$f":"IFERROR(VLOOKUP(B4129,'Комиссии партнеров'!$A$2:$B$52,2,FALSE),\"\")","v":0.05},66.650000000000006]
[180628,"Партнер номер 1","1945-05-22","не оплачен",1786,{"$f":"IFERROR(VLOOKUP(B4130,'Комиссии партнеров'!$A$2:$B$52,2,FALSE),\"\")","v":0.05},89.300000000000011]
[180632,"","1945-05-22","оплачен",2344,{"$f":"IFERROR(VLOOKUP(B4131,'Комиссии партнеров'!$A$2:$B$52,2,FALSE),\"\")","v":""}]
[180636,"Партнер номер 1","1945-05-22","оплачен",1395,{"$f":"IFERROR(VLOOKUP(B4132,'Комиссии партнеров'!$A$2:$B$52,2,FALSE),\"\")","v":0.05},69.75]
[180645,"","1945-05-22","не оплачен",1537,{"$f":"IFERROR(VLOOKUP(B4133,'Комиссии партнеров'!$A$2:$B$52,2,FALSE),\"\")","v":""}]
[180648,"Партнер номер 1","1945-05-22","оплачен",608,{"$f":"IFERROR(VLOOKUP(B4134,'Комиссии партнеров'!$A$2:$B$52,2,FALSE),\"\")","v":0.05},30.400000000000002]
[180652,"Партнер номер 5","1945-05-22","не оплачен",3559,{"$f":"IFERROR(VLOOKUP(B4135,'Комиссии партнеров'!$A$2:$B$52,2,FALSE),\"\")","v":0.03},106.77]
[180658,"","1945-05-22","оплачен",551,{"$f":"IFERROR(VLOOKUP(B4136,'Комиссии партнеров'!$A$2:$B$52,2,FALSE),\"\")","v":""}]
[180665,"","1945-05-22","не оплачен",1261,{"$f":"IFERROR(VLOOKUP(B4137,'Комиссии партнеров'!$A$2:$B$52,2,FALSE),\"\")","v":""}]
[180670,"Партнер номер 3","1945-05-22","не оплачен",1125,{"$f":"IFERROR(VLOOKUP(B4138,'Комиссии партнеров'!$A$2:$B$52,2,FALSE),\"\")","v":0.05},56.25]
[180673,"","1945-05-22","оплачен",920,{"$f":"IFERROR(VLOOKUP(B4139,'Комиссии партнеров'!$A$2:$B$52,2,FALSE),\"\")","v":""}]
[180675,"","1945-05-22","не оплачен",2613,{"$f":"IFERROR(VLOOKUP(B4140,'Комиссии партнеров'!$A$2:$B$52,2,FALSE),\"\")","v":""}]
[180679,"Партнер номер 2","1945-05-22","оплачен",1447,{"$f":"IFERROR(VLOOKUP(B4141,'Комиссии партнеров'!$A$2:$B$52,2,FALSE),\"\")","v":0.04},57.88]
[180684,"","1945-05-22","оплачен",2613,{"$f":"IFERROR(VLOOKUP(B4142,'Комиссии партнеров'!$A$2:$B$52,2,FALSE),\"\")","v":""}]
[180686,"Партнер номер 28","1945-05-22","оплачен",2589,{"$f":"IFERROR(VLOOKUP(B4143,'Комиссии партнеров'!$A$2:$B$52,2,FALSE),\"\")","v":0.05},129.45000000000002]
[180690,"Партнер номер 7","1945-05-22","не оплачен",3264,{"$f":"IFERROR(VLOOKUP(B4144,'Комиссии партнеров'!$A$2:$B$52,2,FALSE),\"\")","v":0.05},163.20000000000002]
[180692,"","1945-05-22","оплачен",1401,{"$f":"IFERROR(VLOOKUP(B4145,'Комиссии партнеров'!$A$2:$B$52,2,FALSE),\"\")","v":""}]
[180696,"","1945-05-22","не оплачен",583,{"$f":"IFERROR(VLOOKUP(B4146,'Комиссии партнеров'!$A$2:$B$52,2,FALSE),\"\")","v":""}]
[180697,"Партнер номер 11","1945-05-22","оплачен",611,{"$f":"IFERROR(VLOOKUP(B4147,'Комиссии партнеров'!$A$2:$B$52,2,FALSE),\"\")","v":0.05},30.55]
[180699,"","1945-05-22","не оплачен",2598,{"$f":"IFERROR(VLOOKUP(B4148,'Комиссии партнеров'!$A$2:$B$52,2,FALSE),\"\")","v":""}]
[180703,"","1945-05-22","оплачен",1635,{"$f":"IFERROR(VLOOKUP(B4149,'Комиссии партнеров'!$A$2:$B$52,2,FALSE),\"\")","v":""}]
[180708,"","1945-05-22","оплачен",2401,{"$f":"IFERROR(VLOOKUP(B4150,'Комиссии партнеров'!$A$2:$B$52,2,FALSE),\"\")","v":""}]
[180713,"","1945-05-22","не оплачен",3669,{"$f":"IFERROR(VLOOKUP(B4151,'Комиссии партнеров'!$A$2:$B$52,2,FALSE),\"\")","v":""}]
[180718,"Партнер номер 5","1945-05-22","оплачен",1670,{"$f":"IFERROR(VLOOKUP(B4152,'Комиссии партнеров'!$A$2:$B$52,2,FALSE),\"\")","v":0.03},50.1]
[180722,"Партнер номер 1","1945-05-22","оплачен",2457,{"$f":"IFERROR(VLOOKUP(B4153,'Комиссии партнеров'!$A$2:$B$52,2,FALSE),\"\")","v":0.05},122.85000000000001]
[180725,"","1945-05-22","оплачен",938,{"$f":"IFERROR(VLOOKUP(B4154,'Комиссии партнеров'!$A$2:$B$52,2,FALSE),\"\")","v":""}]
[180728,"Партнер номер 2","1945-05-22","не оплачен",1132,{"$f":"IFERROR(VLOOKUP(B4155,'Комиссии партнеров'!$A$2:$B$52,2,FALSE),\"\")","v":0.04},45.28]
[180730,"","1945-05-22","оплачен",699,{"$f":"IFERROR(VLOOKUP(B4156,'Комиссии партнеров'!$A$2:$B$52,2,FALSE),\"\")","v":""}]
[180734,"Партнер номер 5","1945-05-22","оплачен",4421,{"$f":"IFERROR(VLOOKUP(B4157,'Комиссии партнеров'!$A$2:$B$52,2,FALSE),\"\")","v":0.03},132.63]
[180735,"","1945-05-22","не оплачен",1570,{"$f":"IFERROR(VLOOKUP(B4158,'Комиссии партнеров'!$A$2:$B$52,2,FALSE),\"\")","v":""}]
[180739,"Партнер номер 11","1945-05-22","оплачен",674,{"$f":"IFERROR(VLOOKUP(B4159,'Комиссии партнеров'!$A$2:$B$52,2,FALSE),\"\")","v":0.05},33.700000000000003]
[180743,"","1945-05-22","оплачен",552,{"$f":"IFERROR(VLOOKUP(B4160,'Комиссии партнеров'!$A$2:$B$52,2,FALSE),\"\")","v":""}]
[180749,"","1945-05-22","оплачен",1398,{"$f":"IFERROR(VLOOKUP(B4161,'Комиссии партнеров'!$A$2:$B$52,2,FALSE),\"\")","v":""}]
[180755,"","1945-05-22","оплачен",1186,{"$f":"IFERROR(VLOOKUP(B4162,'Комиссии партнеров'!$A$2:$B$52,2,FALSE),\"\")","v":""}]
[180757,"","1945-05-22","оплачен",2822,{"$f":"IFERROR(VLOOKUP(B4163,'Комиссии партнеров'!$A$2:$B$52,2,FALSE),\"\")","v":""}]
[180760,"Партнер номер 46","1945-05-22","не оплачен",1435,{"$f":"IFERROR(VLOOKUP(B4164,'Комиссии партнеров'!$A$2:$B$52,2,FALSE),\"\")","v":0.05},71.75]
[180762,"Партнер номер 7","1945-05-22","оплачен",1279,{"$f":"IFERROR(VLOOKUP(B4165,'Комиссии партнеров'!$A$2:$B$52,2,FALSE),\"\")","v":0.05},63.95]
[180764,"Партнер номер 7","1945-05-22","не оплачен",1210,{"$f":"IFERROR(VLOOKUP(B4166,'Комиссии партнеров'!$A$2:$B$52,2,FALSE),\"\")","v":0.05},60.5]
[180767,"Партнер номер 10","1945-05-22","не оплачен",2854,{"$f":"IFERROR(VLOOKUP(B4167,'Комиссии партнеров'!$A$2:$B$52,2,FALSE),\"\")","v":0.04},114.16]
[180772,"Партнер номер 10","1945-05-22","не оплачен",2758,{"$f":"IFERROR(VLOOKUP(B4168,'Комиссии партнеров'!$A$2:$B$52,2,FALSE),\"\")","v":0.04},110.32000000000001]
[180775,"Партнер номер 1","1945-05-22","оплачен",3126,{"$f":"IFERROR(VLOOKUP(B4169,'Комиссии партнеров'!$A$2:$B$52,2,FALSE),\"\")","v":0.05},156.30000000000001]
[180779,"","1945-05-22","оплачен",2864,{"$f":"IFERROR(VLOOKUP(B4170,'Комиссии партнеров'!$A$2:$B$52,2,FALSE),\"\")","v":""}]
[180785,"Партнер номер 1","1945-05-22","оплачен",1347,{"$f":"IFERROR(VLOOKUP(B4171,'Комиссии партнеров'!$A$2:$B$52,2,FALSE),\"\")","v":0.05},67.350000000000009]
[180788,"Партнер номер 2","1945-05-22","не оплачен",952,{"$f":"IFERROR(VLOOKUP(B4172,'Комиссии партнеров'!$A$2:$B$52,2,FALSE),\"\")","v":0.04},38.08]
[180789,"","1945-05-22","оплачен",2618,{"$f":"IFERROR(VLOOKUP(B4173,'Комиссии партнеров'!$A$2:$B$52,2,FALSE),\"\")","v":""}]
[180794,"Партнер номер 1","1945-05-22","не оплачен",759,{"$f":"IFERROR(VLOOKUP(B4174,'Комиссии партнеров'!$A$2:$B$52,2,FALSE),\"\")","v":0.05},37.950000000000003]
[180797,"Партнер номер 11","1945-05-22","оплачен",2286,{"$f":"IFERROR(VLOOKUP(B4175,'Комиссии партнеров'!$A$2:$B$52,2,FALSE),\"\")","v":0.05},114.30000000000001]
[180803,"","1945-05-22","не оплачен",1053,{"$f":"IFERROR(VLOOKUP(B4176,'Комиссии партнеров'!$A$2:$B$52,2,FALSE),\"\")","v":""}]
[180806,"","1945-05-22","оплачен",1699,{"$f":"IFERROR(VLOOKUP(B4177,'Комиссии партнеров'!$A$2:$B$52,2,FALSE),\"\")","v":""}]
[180809,"","1945-05-22","оплачен",851,{"$f":"IFERROR(VLOOKUP(B4178,'Комиссии партнеров'!$A$2:$B$52,2,FALSE),\"\")","v":""}]
[180814,"","1945-05-22","оплачен",1292,{"$f":"IFERROR(VLOOKUP(B4179,'Комиссии партнеров'!$A$2:$B$52,2,FALSE),\"\")","v":""}]
[180818,"","1945-05-22","оплачен",2655,{"$f":"IFERROR(VLOOKUP(B4180,'Комиссии партнеров'!$A$2:$B$52,2,FALSE),\"\")","v":""}]
[180821,"","1945-05-22","оплачен",3816,{"$f":"IFERROR(VLOOKUP(B4181,'Комиссии партнеров'!$A$2:$B$52,2,FALSE),\"\")","v":""}]
[180826,"","1945-05-22","не оплачен",3209,{"$f":"IFERROR(VLOOKUP(B4182,'Комиссии партнеров'!$A$2:$B$52,2,FALSE),\"\")","v":""}]
[180830,"","1945-05-22","оплачен",1585,{"$f":"IFERROR(VLOOKUP(B4183,'Комиссии партнеров'!$A$2:$B$52,2,FALSE),\"\")","v":""}]
[180834,"Партнер номер 1","1945-05-22","оплачен",1894,{"$f":"IFERROR(VLOOKUP(B4184,'Комиссии партнеров'!$A$2:$B$52,2,FALSE),\"\")","v":0.05},94.7]
[180836,"Партнер номер 9","1945-05-22","оплачен",4351,{"$f":"IFERROR(VLOOKUP(B4185,'Комиссии партнеров'!$A$2:$B$52,2,FALSE),\"\")","v":0.05},217.55]
[180841,"Партнер номер 1","1945-05-22","не оплачен",2081,{"$f":"IFERROR(VLOOKUP(B4186,'Комиссии партнеров'!$A$2:$B$52,2,FALSE),\"\")","v":0.05},104.05000000000001]
[180845,"Партнер номер 1","1945-05-22","оплачен",2081,{"$f":"IFERROR(VLOOKUP(B4187,'Комиссии партнеров'!$A$2:$B$52,2,FALSE),\"\")","v":0.05},104.05000000000001]
[180848,"Партнер номер 3","1945-05-22","оплачен",3391,{"$f":"IFERROR(VLOOKUP(B4188,'Комиссии партнеров'!$A$2:$B$52,2,FALSE),\"\")","v":0.05},169.55]
[180852,"Партнер номер 2","1945-05-22","не оплачен",463,{"$f":"IFERROR(VLOOKUP(B4189,'Комиссии партнеров'!$A$2:$B$52,2,FALSE),\"\")","v":0.04},18.52]
[180853,"","1945-05-22","оплачен",2067,{"$f":"IFERROR(VLOOKUP(B4190,'Комиссии партнеров'!$A$2:$B$52,2,FALSE),\"\")","v":""}]
[180858,"Партнер номер 5","1945-05-22","не оплачен",3033,{"$f":"IFERROR(VLOOKUP(B4191,'Комиссии партнеров'!$A$2:$B$52,2,FALSE),\"\")","v":0.03},90.99]
[180862,"","1945-05-22","оплачен",1645,{"$f":"IFERROR(VLOOKUP(B4192,'Комиссии партнеров'!$A$2:$B$52,2,FALSE),\"\")","v":""}]
[180866,"","1945-05-22","оплачен",1671,{"$f":"IFERROR(VLOOKUP(B4193,'Комиссии партнеров'!$A$2:$B$52,2,FALSE),\"\")","v":""}]
[180870,"","1945-05-22","оплачен",1914,{"$f":"IFERROR(VLOOKUP(B4194,'Комиссии партнеров'!$A$2:$B$52,2,FALSE),\"\")","v":""}]
[180873,"","1945-05-22","не оплачен",2122,{"$f":"IFERROR(VLOOKUP(B4195,'Комиссии партнеров'!$A$2:$B$52,2,FALSE),\"\")","v":""}]
[180875,"Партнер номер 3","1945-05-22","оплачен",1743,{"$f":"IFERROR(VLOOKUP(B4196,'Комиссии партнеров'!$A$2:$B$52,2,FALSE),\"\")","v":0.05},87.15]
[180878,"","1945-05-22","оплачен",2200,{"$f":"IFERROR(VLOOKUP(B4197,'Комиссии партнеров'!$A$2:$B$52,2,FALSE),\"\")","v":""}]
[180880,"Партнер номер 3","1945-05-22","оплачен",2466,{"$f":"IFERROR(VLOOKUP(B4198,'Комиссии партнеров'!$A$2:$B$52,2,FALSE),\"\")","v":0.05},123.30000000000001]
[180883,"","1945-05-22","оплачен",1003,{"$f":"IFERROR(VLOOKUP(B4199,'Комиссии партнеров'!$A$2:$B$52,2,FALSE),\"\")","v":""}]
[180887,"","1945-05-22","оплачен",2768,{"$f":"IFERROR(VLOOKUP(B4200,'Комиссии партнеров'!$A$2:$B$52,2,FALSE),\"\")","v":""}]
[180892,"","1945-05-22","оплачен",2203,{"$f":"IFERROR(VLOOKUP(B4201,'Комиссии партнеров'!$A$2:$B$52,2,FALSE),\"\")","v":""}]
[180898,"Партнер номер 1","1945-05-22","оплачен",2462,{"$f":"IFERROR(VLOOKUP(B4202,'Комиссии партнеров'!$A$2:$B$52,2,FALSE),\"\")","v":0.05},123.10000000000001]
[180903,"Партнер номер 1","1945-05-22","не оплачен",1472,{"$f":"IFERROR(VLOOKUP(B4203,'Комиссии партнеров'!$A$2:$B$52,2,FALSE),\"\")","v":0.05},73.600000000000009]
[180905,"Партнер номер 2","1945-05-23","не оплачен",576,{"$f":"IFERROR(VLOOKUP(B4204,'Комиссии партнеров'!$A$2:$B$52,2,FALSE),\"\")","v":0.04},23.04]
[180908,"","1945-05-23","оплачен",956,{"$f":"IFERROR(VLOOKUP(B4205,'Комиссии партнеров'!$A$2:$B$52,2,FALSE),\"\")","v":""}]
[180911,"","1945-05-23","не оплачен",3026,{"$f":"IFERROR(VLOOKUP(B4206,'Комиссии партнеров'!$A$2:$B$52,2,FALSE),\"\")","v":""}]
[180915,"","1945-05-23","оплачен",928,{"$f":"IFERROR(VLOOKUP(B4207,'Комиссии партнеров'!$A$2:$B$52,2,FALSE),\"\")","v":""}]
[180920,"Партнер номер 2","1945-05-23","не оплачен",495,{"$f":"IFERROR(VLOOKUP(B4208,'Комиссии партнеров'!$A$2:$B$52,2,FALSE),\"\")","v":0.04},19.8]
[180922,"Партнер номер 1","1945-05-23","оплачен",813,{"$f":"IFERROR(VLOOKUP(B4209,'Комиссии партнеров'!$A$2:$B$52,2,FALSE),\"\")","v":0.05},40.650000000000006]
[180925,"Партнер номер 3","1945-05-23","не оплачен",2222,{"$f":"IFERROR(VLOOKUP(B4210,'Комиссии партнеров'!$A$2:$B$52,2,FALSE),\"\")","v":0.05},111.10000000000001]
[180926,"","1945-05-23","оплачен",4960,{"$f":"IFERROR(VLOOKUP(B4211,'Комиссии партнеров'!$A$2:$B$52,2,FALSE),\"\")","v":""}]
[180933,"Партнер номер 1","1945-05-23","оплачен",1938,{"$f":"IFERROR(VLOOKUP(B4212,'Комиссии партнеров'!$A$2:$B$52,2,FALSE),\"\")","v":0.05},96.9]
[180934,"Партнер номер 7","1945-05-23","оплачен",1322,{"$f":"IFERROR(VLOOKUP(B4213,'Комиссии партнеров'!$A$2:$B$52,2,FALSE),\"\")","v":0.05},66.100000000000009]
[180938,"Партнер номер 1","1945-05-23","не оплачен",1804,{"$f":"IFERROR(VLOOKUP(B4214,'Комиссии партнеров'!$A$2:$B$52,2,FALSE),\"\")","v":0.05},90.2]
[180942,"Партнер номер 1","1945-05-23","оплачен",1804,{"$f":"IFERROR(VLOOKUP(B4215,'Комиссии партнеров'!$A$2:$B$52,2,FALSE),\"\")","v":0.05},90.2]
[180947,"","1945-05-23","оплачен",1016,{"$f":"IFERROR(VLOOKUP(B4216,'Комиссии партнеров'!$A$2:$B$52,2,FALSE),\"\")","v":""}]
[180949,"","1945-05-23","не оплачен",1267,{"$f":"IFERROR(VLOOKUP(B4217,'Комиссии партнеров'!$A$2:$B$52,2,FALSE),\"\")","v":""}]
[180956,"","1945-05-23","оплачен",1572,{"$f":"IFERROR(VLOOKUP(B4218,'Комиссии партнеров'!$A$2:$B$52,2,FALSE),\"\")","v":""}]
[180958,"","1945-05-23","оплачен",2350,{"$f":"IFERROR(VLOOKUP(B4219,'Комиссии партнеров'!$A$2:$B$52,2,FALSE),\"\")","v":""}]
[180960,"Партнер номер 1","1945-05-23","не оплачен",930,{"$f":"IFERROR(VLOOKUP(B4220,'Комиссии партнеров'!$A$2:$B$52,2,FALSE),\"\")","v":0.05},46.5]
[180963,"Партнер номер 3","1945-05-23","оплачен",2123,{"$f":"IFERROR(VLOOKUP(B4221,'Комиссии партнеров'!$A$2:$B$52,2,FALSE),\"\")","v":0.05},106.15]
[180967,"Партнер номер 1","1945-05-23","не оплачен",1342,{"$f":"IFERROR(VLOOKUP(B4222,'Комиссии партнеров'!$A$2:$B$52,2,FALSE),\"\")","v":0.05},67.100000000000009]
[180969,"Партнер номер 10","1945-05-23","оплачен",4993,{"$f":"IFERROR(VLOOKUP(B4223,'Комиссии партнеров'!$A$2:$B$52,2,FALSE),\"\")","v":0.04},199.72]
[180972,"Партнер номер 1","1945-05-23","оплачен",3316,{"$f":"IFERROR(VLOOKUP(B4224,'Комиссии партнеров'!$A$2:$B$52,2,FALSE),\"\")","v":0.05},165.8]
[180975,"Партнер номер 2","1945-05-23","не оплачен",837,{"$f":"IFERROR(VLOOKUP(B4225,'Комиссии партнеров'!$A$2:$B$52,2,FALSE),\"\")","v":0.04},33.480000000000004]
[180980,"Партнер номер 1","1945-05-23","оплачен",882,{"$f":"IFERROR(VLOOKUP(B4226,'Комиссии партнеров'!$A$2:$B$52,2,FALSE),\"\")","v":0.05},44.1]
[180982,"Партнер номер 1","1945-05-23","оплачен",1137,{"$f":"IFERROR(VLOOKUP(B4227,'Комиссии партнеров'!$A$2:$B$52,2,FALSE),\"\")","v":0.05},56.85]
[180987,"Партнер номер 1","1945-05-23","не оплачен",1340,{"$f":"IFERROR(VLOOKUP(B4228,'Комиссии партнеров'!$A$2:$B$52,2,FALSE),\"\")","v":0.05},67]
[180992,"","1945-05-23","оплачен",1614,{"$f":"IFERROR(VLOOKUP(B4229,'Комиссии партнеров'!$A$2:$B$52,2,FALSE),\"\")","v":""}]
[180997,"Партнер номер 6","1945-05-23","оплачен",2596,{"$f":"IFERROR(VLOOKUP(B4230,'Комиссии партнеров'!$A$2:$B$52,2,FALSE),\"\")","v":0.04},103.84]
[181000,"","1945-05-23","не оплачен",4498,{"$f":"IFERROR(VLOOKUP(B4231,'Комиссии партнеров'!$A$2:$B$52,2,FALSE),\"\")","v":""}]
[181004,"","1945-05-23","не оплачен",1784,{"$f":"IFERROR(VLOOKUP(B4232,'Комиссии партнеров'!$A$2:$B$52,2,FALSE),\"\")","v":""}]
[181006,"Партнер номер 2","1945-05-23","оплачен",2492,{"$f":"IFERROR(VLOOKUP(B4233,'Комиссии партнеров'!$A$2:$B$52,2,FALSE),\"\")","v":0.04},99.68]
[181011,"Партнер номер 1","1945-05-23","оплачен",1233,{"$f":"IFERROR(VLOOKUP(B4234,'Комиссии партнеров'!$A$2:$B$52,2,FALSE),\"\")","v":0.05},61.650000000000006]
[181014,"","1945-05-23","оплачен",6089,{"$f":"IFERROR(VLOOKUP(B4235,'Комиссии партнеров'!$A$2:$B$52,2,FALSE),\"\")","v":""}]
[181019,"Партнер номер 1","1945-05-23","оплачен",1218,{"$f":"IFERROR(VLOOKUP(B4236,'Комиссии партнеров'!$A$2:$B$52,2,FALSE),\"\")","v":0.05},60.900000000000006]
[181021,"","1945-05-23","оплачен",636,{"$f":"IFERROR(VLOOKUP(B4237,'Комиссии партнеров'!$A$2:$B$52,2,FALSE),\"\")","v":""}]
[181022,"","1945-05-23","оплачен",536,{"$f":"IFERROR(VLOOKUP(B4238,'Комиссии партнеров'!$A$2:$B$52,2,FALSE),\"\")","v":""}]
[181025,"Партнер номер 1","1945-05-23","оплачен",1140,{"$f":"IFERROR(VLOOKUP(B4239,'Комиссии партнеров'!$A$2:$B$52,2,FALSE),\"\")","v":0.05},57]
[181028,"","1945-05-23","оплачен",968,{"$f":"IFERROR(VLOOKUP(B4240,'Комиссии партнеров'!$A$2:$B$52,2,FALSE),\"\")","v":""}]
[181033,"Партнер номер 28","1945-05-23","не оплачен",8719,{"$f":"IFERROR(VLOOKUP(B4241,'Комиссии партнеров'!$A$2:$B$52,2,FALSE),\"\")","v":0.05},435.95000000000005]
[181034,"Партнер номер 7","1945-05-23","оплачен",1106,{"$f":"IFERROR(VLOOKUP(B4242,'Комиссии партнеров'!$A$2:$B$52,2,FALSE),\"\")","v":0.05},55.300000000000004]
[181040,"Партнер номер 1","1945-05-23","не оплачен",1547,{"$f":"IFERROR(VLOOKUP(B4243,'Комиссии партнеров'!$A$2:$B$52,2,FALSE),\"\")","v":0.05},77.350000000000009]
[181042,"Партнер номер 1","1945-05-23","оплачен",5997,{"$f":"IFERROR(VLOOKUP(B4244,'Комиссии партнеров'!$A$2:$B$52,2,FALSE),\"\")","v":0.05},299.85000000000002]
[181047,"Партнер номер 1","1945-05-23","не оплачен",1259,{"$f":"IFERROR(VLOOKUP(B4245,'Комиссии партнеров'!$A$2:$B$52,2,FALSE),\"\")","v":0.05},62.95]
[181052,"Партнер номер 8","1945-05-23","оплачен",1202,{"$f":"IFERROR(VLOOKUP(B4246,'Комиссии партнеров'!$A$2:$B$52,2,FALSE),\"\")","v":0.03},36.059999999999995]
[181056,"Партнер номер 1","1945-05-23","не оплачен",1627,{"$f":"IFERROR(VLOOKUP(B4247,'Комиссии партнеров'!$A$2:$B$52,2,FALSE),\"\")","v":0.05},81.350000000000009]
[181057,"Партнер номер 3","1945-05-23","не оплачен",985,{"$f":"IFERROR(VLOOKUP(B4248,'Комиссии партнеров'!$A$2:$B$52,2,FALSE),\"\")","v":0.05},49.25]
[181062,"Партнер номер 1","1945-05-23","оплачен",1105,{"$f":"IFERROR(VLOOKUP(B4249,'Комиссии партнеров'!$A$2:$B$52,2,FALSE),\"\")","v":0.05},55.25]
[181064,"","1945-05-23","оплачен",2311,{"$f":"IFERROR(VLOOKUP(B4250,'Комиссии партнеров'!$A$2:$B$52,2,FALSE),\"\")","v":""}]
[181066,"Партнер номер 1","1945-05-23","оплачен",1487,{"$f":"IFERROR(VLOOKUP(B4251,'Комиссии партнеров'!$A$2:$B$52,2,FALSE),\"\")","v":0.05},74.350000000000009]
[181070,"Партнер номер 11","1945-05-23","оплачен",1124,{"$f":"IFERROR(VLOOKUP(B4252,'Комиссии партнеров'!$A$2:$B$52,2,FALSE),\"\")","v":0.05},56.2]
[181075,"","1945-05-23","оплачен",1326,{"$f":"IFERROR(VLOOKUP(B4253,'Комиссии партнеров'!$A$2:$B$52,2,FALSE),\"\")","v":""}]
[181079,"","1945-05-23","оплачен",1440,{"$f":"IFERROR(VLOOKUP(B4254,'Комиссии партнеров'!$A$2:$B$52,2,FALSE),\"\")","v":""}]
[181084,"Партнер номер 1","1945-05-23","оплачен",3391,{"$f":"IFERROR(VLOOKUP(B4255,'Комиссии партнеров'!$A$2:$B$52,2,FALSE),\"\")","v":0.05},169.55]
[181087,"","1945-05-23","оплачен",1770,{"$f":"IFERROR(VLOOKUP(B4256,'Комиссии партнеров'!$A$2:$B$52,2,FALSE),\"\")","v":""}]
[181092,"Партнер номер 2","1945-05-23","не оплачен",1356,{"$f":"IFERROR(VLOOKUP(B4257,'Комиссии партнеров'!$A$2:$B$52,2,FALSE),\"\")","v":0.04},54.24]
[181096,"Партнер номер 1","1945-05-23","оплачен",1218,{"$f":"IFERROR(VLOOKUP(B4258,'Комиссии партнеров'!$A$2:$B$52,2,FALSE),\"\")","v":0.05},60.900000000000006]
[181099,"Партнер номер 2","1945-05-23","не оплачен",3602,{"$f":"IFERROR(VLOOKUP(B4259,'Комиссии партнеров'!$A$2:$B$52,2,FALSE),\"\")","v":0.04},144.08000000000001]
[181100,"Партнер номер 16","1945-05-23","не оплачен",926,{"$f":"IFERROR(VLOOKUP(B4260,'Комиссии партнеров'!$A$2:$B$52,2,FALSE),\"\")","v":0.05},46.300000000000004]
[181103,"Партнер номер 7","1945-05-23","не оплачен",888,{"$f":"IFERROR(VLOOKUP(B4261,'Комиссии партнеров'!$A$2:$B$52,2,FALSE),\"\")","v":0.05},44.400000000000006]
[181105,"Партнер номер 11","1945-05-23","оплачен",1594,{"$f":"IFERROR(VLOOKUP(B4262,'Комиссии партнеров'!$A$2:$B$52,2,FALSE),\"\")","v":0.05},79.7]
[181112,"Партнер номер 1","1945-05-23","оплачен",1810,{"$f":"IFERROR(VLOOKUP(B4263,'Комиссии партнеров'!$A$2:$B$52,2,FALSE),\"\")","v":0.05},90.5]
[181116,"","1945-05-23","не оплачен",457,{"$f":"IFERROR(VLOOKUP(B4264,'Комиссии партнеров'!$A$2:$B$52,2,FALSE),\"\")","v":""}]
[181119,"","1945-05-23","оплачен",1888,{"$f":"IFERROR(VLOOKUP(B4265,'Комиссии партнеров'!$A$2:$B$52,2,FALSE),\"\")","v":""}]
[181122,"","1945-05-23","не оплачен",1955,{"$f":"IFERROR(VLOOKUP(B4266,'Комиссии партнеров'!$A$2:$B$52,2,FALSE),\"\")","v":""}]
[181126,"","1945-05-23","оплачен",2113,{"$f":"IFERROR(VLOOKUP(B4267,'Комиссии партнеров'!$A$2:$B$52,2,FALSE),\"\")","v":""}]
[181128,"Партнер номер 2","1945-05-23","не оплачен",848,{"$f":"IFERROR(VLOOKUP(B4268,'Комиссии партнеров'!$A$2:$B$52,2,FALSE),\"\")","v":0.04},33.92]
[181130,"","1945-05-23","не оплачен",1614,{"$f":"IFERROR(VLOOKUP(B4269,'Комиссии партнеров'!$A$2:$B$52,2,FALSE),\"\")","v":""}]
[181133,"Партнер номер 1","1945-05-23","оплачен",9598,{"$f":"IFERROR(VLOOKUP(B4270,'Комиссии партнеров'!$A$2:$B$52,2,FALSE),\"\")","v":0.05},479.90000000000003]
[181139,"Партнер номер 10","1945-05-23","оплачен",1614,{"$f":"IFERROR(VLOOKUP(B4271,'Комиссии партнеров'!$A$2:$B$52,2,FALSE),\"\")","v":0.04},64.56]
[181144,"","1945-05-23","оплачен",5273,{"$f":"IFERROR(VLOOKUP(B4272,'Комиссии партнеров'!$A$2:$B$52,2,FALSE),\"\")","v":""}]
[181147,"","1945-05-23","оплачен",2508,{"$f":"IFERROR(VLOOKUP(B4273,'Комиссии партнеров'!$A$2:$B$52,2,FALSE),\"\")","v":""}]
[181151,"","1945-05-23","оплачен",1263,{"$f":"IFERROR(VLOOKUP(B4274,'Комиссии партнеров'!$A$2:$B$52,2,FALSE),\"\")","v":""}]
[181154,"Партнер номер 7","1945-05-23","оплачен",1070,{"$f":"IFERROR(VLOOKUP(B4275,'Комиссии партнеров'!$A$2:$B$52,2,FALSE),\"\")","v":0.05},53.5]
[181156,"","1945-05-23","оплачен",831,{"$f":"IFERROR(VLOOKUP(B4276,'Комиссии партнеров'!$A$2:$B$52,2,FALSE),\"\")","v":""}]
[181161,"Партнер номер 1","1945-05-23","оплачен",1455,{"$f":"IFERROR(VLOOKUP(B4277,'Комиссии партнеров'!$A$2:$B$52,2,FALSE),\"\")","v":0.05},72.75]
[181167,"Партнер номер 2","1945-05-23","не оплачен",2460,{"$f":"IFERROR(VLOOKUP(B4278,'Комиссии партнеров'!$A$2:$B$52,2,FALSE),\"\")","v":0.04},98.4]
[181170,"","1945-05-23","оплачен",2573,{"$f":"IFERROR(VLOOKUP(B4279,'Комиссии партнеров'!$A$2:$B$52,2,FALSE),\"\")","v":""}]
[181174,"","1945-05-23","оплачен",4461,{"$f":"IFERROR(VLOOKUP(B4280,'Комиссии партнеров'!$A$2:$B$52,2,FALSE),\"\")","v":""}]
[181176,"Партнер номер 7","1945-05-23","оплачен",4413,{"$f":"IFERROR(VLOOKUP(B4281,'Комиссии партнеров'!$A$2:$B$52,2,FALSE),\"\")","v":0.05},220.65]
[181180,"Партнер номер 1","1945-05-23","оплачен",1392,{"$f":"IFERROR(VLOOKUP(B4282,'Комиссии партнеров'!$A$2:$B$52,2,FALSE),\"\")","v":0.05},69.600000000000009]
[181184,"","1945-05-23","оплачен",3313,{"$f":"IFERROR(VLOOKUP(B4283,'Комиссии партнеров'!$A$2:$B$52,2,FALSE),\"\")","v":""}]
[181187,"","1945-05-23","оплачен",1303,{"$f":"IFERROR(VLOOKUP(B4284,'Комиссии партнеров'!$A$2:$B$52,2,FALSE),\"\")","v":""}]
[181190,"Партнер номер 11","1945-05-23","оплачен",603,{"$f":"IFERROR(VLOOKUP(B4285,'Комиссии партнеров'!$A$2:$B$52,2,FALSE),\"\")","v":0.05},30.150000000000002]
[181193,"Партнер номер 11","1945-05-23","оплачен",2343,{"$f":"IFERROR(VLOOKUP(B4286,'Комиссии партнеров'!$A$2:$B$52,2,FALSE),\"\")","v":0.05},117.15]
[181196,"","1945-05-23","оплачен",4940,{"$f":"IFERROR(VLOOKUP(B4287,'Комиссии партнеров'!$A$2:$B$52,2,FALSE),\"\")","v":""}]
[181201,"Партнер номер 7","1945-05-23","оплачен",1148,{"$f":"IFERROR(VLOOKUP(B4288,'Комиссии партнеров'!$A$2:$B$52,2,FALSE),\"\")","v":0.05},57.400000000000006]
[181206,"Партнер номер 1","1945-05-23","оплачен",2029,{"$f":"IFERROR(VLOOKUP(B4289,'Комиссии партнеров'!$A$2:$B$52,2,FALSE),\"\")","v":0.05},101.45]
[181208,"Партнер номер 11","1945-05-23","не оплачен",807,{"$f":"IFERROR(VLOOKUP(B4290,'Комиссии партнеров'!$A$2:$B$52,2,FALSE),\"\")","v":0.05},40.35]
[181210,"","1945-05-23","оплачен",3098,{"$f":"IFERROR(VLOOKUP(B4291,'Комиссии партнеров'!$A$2:$B$52,2,FALSE),\"\")","v":""}]
[181214,"Партнер номер 3","1945-05-23","оплачен",1945,{"$f":"IFERROR(VLOOKUP(B4292,'Комиссии партнеров'!$A$2:$B$52,2,FALSE),\"\")","v":0.05},97.25]
[181217,"","1945-05-23","не оплачен",1874,{"$f":"IFERROR(VLOOKUP(B4293,'Комиссии партнеров'!$A$2:$B$52,2,FALSE),\"\")","v":""}]
[181220,"","1945-05-23","не оплачен",1105,{"$f":"IFERROR(VLOOKUP(B4294,'Комиссии партнеров'!$A$2:$B$52,2,FALSE),\"\")","v":""}]
[181224,"","1945-05-23","оплачен",2030,{"$f":"IFERROR(VLOOKUP(B4295,'Комиссии партнеров'!$A$2:$B$52,2,FALSE),\"\")","v":""}]
[181228,"Партнер номер 2","1945-05-23","не оплачен",1829,{"$f":"IFERROR(VLOOKUP(B4296,'Комиссии партнеров'!$A$2:$B$52,2,FALSE),\"\")","v":0.04},73.16]
[181234,"Партнер номер 1","1945-05-23","оплачен",1385,{"$f":"IFERROR(VLOOKUP(B4297,'Комиссии партнеров'!$A$2:$B$52,2,FALSE),\"\")","v":0.05},69.25]
[181238,"","1945-05-23","не оплачен",946,{"$f":"IFERROR(VLOOKUP(B4298,'Комиссии партнеров'!$A$2:$B$52,2,FALSE),\"\")","v":""}]
[181240,"Партнер номер 1","1945-05-23","оплачен",559,{"$f":"IFERROR(VLOOKUP(B4299,'Комиссии партнеров'!$A$2:$B$52,2,FALSE),\"\")","v":0.05},27.950000000000003]
[181243,"Партнер номер 7","1945-05-23","не оплачен",1582,{"$f":"IFERROR(VLOOKUP(B4300,'Комиссии партнеров'!$A$2:$B$52,2,FALSE),\"\")","v":0.05},79.100000000000009]
[181247,"","1945-05-23","оплачен",5818,{"$f":"IFERROR(VLOOKUP(B4301,'Комиссии партнеров'!$A$2:$B$52,2,FALSE),\"\")","v":""}]
[181250,"Партнер номер 1","1945-05-23","не оплачен",417,{"$f":"IFERROR(VLOOKUP(B4302,'Комиссии партнеров'!$A$2:$B$52,2,FALSE),\"\")","v":0.05},20.85]
[181254,"Партнер номер 2","1945-05-23","не оплачен",1794,{"$f":"IFERROR(VLOOKUP(B4303,'Комиссии партнеров'!$A$2:$B$52,2,FALSE),\"\")","v":0.04},71.760000000000005]
[181258,"Партнер номер 2","1945-05-23","оплачен",1829,{"$f":"IFERROR(VLOOKUP(B4304,'Комиссии партнеров'!$A$2:$B$52,2,FALSE),\"\")","v":0.04},73.16]
[181263,"","1945-05-23","оплачен",777,{"$f":"IFERROR(VLOOKUP(B4305,'Комиссии партнеров'!$A$2:$B$52,2,FALSE),\"\")","v":""}]
[181270,"Партнер номер 1","1945-05-23","не оплачен",1614,{"$f":"IFERROR(VLOOKUP(B4306,'Комиссии партнеров'!$A$2:$B$52,2,FALSE),\"\")","v":0.05},80.7]
[181273,"Партнер номер 2","1945-05-23","не оплачен",2220,{"$f":"IFERROR(VLOOKUP(B4307,'Комиссии партнеров'!$A$2:$B$52,2,FALSE),\"\")","v":0.04},88.8]
[181277,"","1945-05-23","оплачен",3767,{"$f":"IFERROR(VLOOKUP(B4308,'Комиссии партнеров'!$A$2:$B$52,2,FALSE),\"\")","v":""}]
[181282,"","1945-05-23","оплачен",1686,{"$f":"IFERROR(VLOOKUP(B4309,'Комиссии партнеров'!$A$2:$B$52,2,FALSE),\"\")","v":""}]
[181286,"","1945-05-23","не оплачен",2226,{"$f":"IFERROR(VLOOKUP(B4310,'Комиссии партнеров'!$A$2:$B$52,2,FALSE),\"\")","v":""}]
[181292,"Партнер номер 7","1945-05-23","не оплачен",2449,{"$f":"IFERROR(VLOOKUP(B4311,'Комиссии партнеров'!$A$2:$B$52,2,FALSE),\"\")","v":0.05},122.45]
[181296,"","1945-05-23","оплачен",1088,{"$f":"IFERROR(VLOOKUP(B4312,'Комиссии партнеров'!$A$2:$B$52,2,FALSE),\"\")","v":""}]
[181300,"Партнер номер 7","1945-05-23","не оплачен",1582,{"$f":"IFERROR(VLOOKUP(B4313,'Комиссии партнеров'!$A$2:$B$52,2,FALSE),\"\")","v":0.05},79.100000000000009]
[181302,"Партнер номер 7","1945-05-23","не оплачен",2355,{"$f":"IFERROR(VLOOKUP(B4314,'Комиссии партнеров'!$A$2:$B$52,2,FALSE),\"\")","v":0.05},117.75]
[181305,"","1945-05-23","оплачен",1350,{"$f":"IFERROR(VLOOKUP(B4315,'Комиссии партнеров'!$A$2:$B$52,2,FALSE),\"\")","v":""}]
[181307,"","1945-05-23","оплачен",1906,{"$f":"IFERROR(VLOOKUP(B4316,'Комиссии партнеров'!$A$2:$B$52,2,FALSE),\"\")","v":""}]
[181313,"","1945-05-23","оплачен",1274,{"$f":"IFERROR(VLOOKUP(B4317,'Комиссии партнеров'!$A$2:$B$52,2,FALSE),\"\")","v":""}]
[181317,"","1945-05-23","оплачен",1344,{"$f":"IFERROR(VLOOKUP(B4318,'Комиссии партнеров'!$A$2:$B$52,2,FALSE),\"\")","v":""}]
[181322,"Партнер номер 3","1945-05-23","оплачен",1646,{"$f":"IFERROR(VLOOKUP(B4319,'Комиссии партнеров'!$A$2:$B$52,2,FALSE),\"\")","v":0.05},82.300000000000011]
[181332,"Партнер номер 1","1945-05-23","не оплачен",2329,{"$f":"IFERROR(VLOOKUP(B4320,'Комиссии партнеров'!$A$2:$B$52,2,FALSE),\"\")","v":0.05},116.45]
[181335,"Партнер номер 5","1945-05-23","оплачен",746,{"$f":"IFERROR(VLOOKUP(B4321,'Комиссии партнеров'!$A$2:$B$52,2,FALSE),\"\")","v":0.03},22.38]
[181337,"Партнер номер 1","1945-05-23","не оплачен",1771,{"$f":"IFERROR(VLOOKUP(B4322,'Комиссии партнеров'!$A$2:$B$52,2,FALSE),\"\")","v":0.05},88.550000000000011]
[181339,"","1945-05-23","оплачен",2198,{"$f":"IFERROR(VLOOKUP(B4323,'Комиссии партнеров'!$A$2:$B$52,2,FALSE),\"\")","v":""}]
[181341,"Партнер номер 1","1945-05-23","не оплачен",551,{"$f":"IFERROR(VLOOKUP(B4324,'Комиссии партнеров'!$A$2:$B$52,2,FALSE),\"\")","v":0.05},27.55]
[181346,"Партнер номер 7","1945-05-23","оплачен",608,{"$f":"IFERROR(VLOOKUP(B4325,'Комиссии партнеров'!$A$2:$B$52,2,FALSE),\"\")","v":0.05},30.400000000000002]
[181346,"","1945-05-23","не оплачен",2402,{"$f":"IFERROR(VLOOKUP(B4326,'Комиссии партнеров'!$A$2:$B$52,2,FALSE),\"\")","v":""}]
[181350,"","1945-05-23","оплачен",1627,{"$f":"IFERROR(VLOOKUP(B4327,'Комиссии партнеров'!$A$2:$B$52,2,FALSE),\"\")","v":""}]
[181353,"Партнер номер 1","1945-05-23","не оплачен",2172,{"$f":"IFERROR(VLOOKUP(B4328,'Комиссии партнеров'!$A$2:$B$52,2,FALSE),\"\")","v":0.05},108.60000000000001]
[181356,"Партнер номер 1","1945-05-23","не оплачен",1759,{"$f":"IFERROR(VLOOKUP(B4329,'Комиссии партнеров'!$A$2:$B$52,2,FALSE),\"\")","v":0.05},87.95]
[181361,"Партнер номер 1","1945-05-23","оплачен",1759,{"$f":"IFERROR(VLOOKUP(B4330,'Комиссии партнеров'!$A$2:$B$52,2,FALSE),\"\")","v":0.05},87.95]
[181362,"","1945-05-23","оплачен",1746,{"$f":"IFERROR(VLOOKUP(B4331,'Комиссии партнеров'!$A$2:$B$52,2,FALSE),\"\")","v":""}]
[181366,"","1945-05-23","не оплачен",609,{"$f":"IFERROR(VLOOKUP(B4332,'Комиссии партнеров'!$A$2:$B$52,2,FALSE),\"\")","v":""}]
[181369,"","1945-05-23","оплачен",2427,{"$f":"IFERROR(VLOOKUP(B4333,'Комиссии партнеров'!$A$2:$B$52,2,FALSE),\"\")","v":""}]
[181372,"Партнер номер 5","1945-05-23","оплачен",6394,{"$f":"IFERROR(VLOOKUP(B4334,'Комиссии партнеров'!$A$2:$B$52,2,FALSE),\"\")","v":0.03},191.82]
[181376,"Партнер номер 11","1945-05-23","оплачен",1190,{"$f":"IFERROR(VLOOKUP(B4335,'Комиссии партнеров'!$A$2:$B$52,2,FALSE),\"\")","v":0.05},59.5]
[181378,"","1945-05-23","оплачен",449,{"$f":"IFERROR(VLOOKUP(B4336,'Комиссии партнеров'!$A$2:$B$52,2,FALSE),\"\")","v":""}]
[181379,"","1945-05-23","оплачен",746,{"$f":"IFERROR(VLOOKUP(B4337,'Комиссии партнеров'!$A$2:$B$52,2,FALSE),\"\")","v":""}]
[181383,"Партнер номер 1","1945-05-23","не оплачен",1289,{"$f":"IFERROR(VLOOKUP(B4338,'Комиссии партнеров'!$A$2:$B$52,2,FALSE),\"\")","v":0.05},64.45]
[181386,"","1945-05-23","оплачен",2149,{"$f":"IFERROR(VLOOKUP(B4339,'Комиссии партнеров'!$A$2:$B$52,2,FALSE),\"\")","v":""}]
[181390,"Партнер номер 3","1945-05-23","оплачен",3338,{"$f":"IFERROR(VLOOKUP(B4340,'Комиссии партнеров'!$A$2:$B$52,2,FALSE),\"\")","v":0.05},166.9]
[181391,"","1945-05-23","не оплачен",1328,{"$f":"IFERROR(VLOOKUP(B4341,'Комиссии партнеров'!$A$2:$B$52,2,FALSE),\"\")","v":""}]
[181395,"","1945-05-23","оплачен",1510,{"$f":"IFERROR(VLOOKUP(B4342,'Комиссии партнеров'!$A$2:$B$52,2,FALSE),\"\")","v":""}]
[181397,"Партнер номер 7","1945-05-23","не оплачен",886,{"$f":"IFERROR(VLOOKUP(B4343,'Комиссии партнеров'!$A$2:$B$52,2,FALSE),\"\")","v":0.05},44.300000000000004]
[181399,"Партнер номер 1","1945-05-23","оплачен",540,{"$f":"IFERROR(VLOOKUP(B4344,'Комиссии партнеров'!$A$2:$B$52,2,FALSE),\"\")","v":0.05},27]
[181404,"","1945-05-23","не оплачен",617,{"$f":"IFERROR(VLOOKUP(B4345,'Комиссии партнеров'!$A$2:$B$52,2,FALSE),\"\")","v":""}]
[181408,"","1945-05-23","оплачен",2517,{"$f":"IFERROR(VLOOKUP(B4346,'Комиссии партнеров'!$A$2:$B$52,2,FALSE),\"\")","v":""}]
[181413,"","1945-05-23","оплачен",1582,{"$f":"IFERROR(VLOOKUP(B4347,'Комиссии партнеров'!$A$2:$B$52,2,FALSE),\"\")","v":""}]
[181415,"","1945-05-23","оплачен",1122,{"$f":"IFERROR(VLOOKUP(B4348,'Комиссии партнеров'!$A$2:$B$52,2,FALSE),\"\")","v":""}]
[181417,"","1945-05-23","оплачен",1679,{"$f":"IFERROR(VLOOKUP(B4349,'Комиссии партнеров'!$A$2:$B$52,2,FALSE),\"\")","v":""}]
[181422,"","1945-05-23","оплачен",2282,{"$f":"IFERROR(VLOOKUP(B4350,'Комиссии партнеров'!$A$2:$B$52,2,FALSE),\"\")","v":""}]
[181424,"Партнер номер 1","1945-05-23","оплачен",1175,{"$f":"IFERROR(VLOOKUP(B4351,'Комиссии партнеров'!$A$2:$B$52,2,FALSE),\"\")","v":0.05},58.75]
[181427,"Партнер номер 7","1945-05-23","оплачен",1039,{"$f":"IFERROR(VLOOKUP(B4352,'Комиссии партнеров'!$A$2:$B$52,2,FALSE),\"\")","v":0.05},51.95]
[181430,"","1945-05-23","оплачен",1811,{"$f":"IFERROR(VLOOKUP(B4353,'Комиссии партнеров'!$A$2:$B$52,2,FALSE),\"\")","v":""}]
[181432,"Партнер номер 1","1945-05-23","оплачен",969,{"$f":"IFERROR(VLOOKUP(B4354,'Комиссии партнеров'!$A$2:$B$52,2,FALSE),\"\")","v":0.05},48.45]
[181436,"","1945-05-23","оплачен",1683,{"$f":"IFERROR(VLOOKUP(B4355,'Комиссии партнеров'!$A$2:$B$52,2,FALSE),\"\")","v":""}]
[181437,"","1945-05-23","оплачен",1242,{"$f":"IFERROR(VLOOKUP(B4356,'Комиссии партнеров'!$A$2:$B$52,2,FALSE),\"\")","v":""}]
[181441,"Партнер номер 6","1945-05-23","не оплачен",1582,{"$f":"IFERROR(VLOOKUP(B4357,'Комиссии партнеров'!$A$2:$B$52,2,FALSE),\"\")","v":0.04},63.28]
[181444,"","1945-05-23","не оплачен",1836,{"$f":"IFERROR(VLOOKUP(B4358,'Комиссии партнеров'!$A$2:$B$52,2,FALSE),\"\")","v":""}]
[181448,"","1945-05-23","оплачен",1280,{"$f":"IFERROR(VLOOKUP(B4359,'Комиссии партнеров'!$A$2:$B$52,2,FALSE),\"\")","v":""}]
[181452,"Партнер номер 1","1945-05-23","оплачен",1837,{"$f":"IFERROR(VLOOKUP(B4360,'Комиссии партнеров'!$A$2:$B$52,2,FALSE),\"\")","v":0.05},91.850000000000009]
[181458,"","1945-05-23","оплачен",2883,{"$f":"IFERROR(VLOOKUP(B4361,'Комиссии партнеров'!$A$2:$B$52,2,FALSE),\"\")","v":""}]
[181460,"Партнер номер 2","1945-05-23","не оплачен",2393,{"$f":"IFERROR(VLOOKUP(B4362,'Комиссии партнеров'!$A$2:$B$52,2,FALSE),\"\")","v":0.04},95.72]
[181464,"","1945-05-23","не оплачен",3044,{"$f":"IFERROR(VLOOKUP(B4363,'Комиссии партнеров'!$A$2:$B$52,2,FALSE),\"\")","v":""}]
[181468,"Партнер номер 1","1945-05-23","оплачен",1531,{"$f":"IFERROR(VLOOKUP(B4364,'Комиссии партнеров'!$A$2:$B$52,2,FALSE),\"\")","v":0.05},76.55]
[181470,"Партнер номер 5","1945-05-23","оплачен",1773,{"$f":"IFERROR(VLOOKUP(B4365,'Комиссии партнеров'!$A$2:$B$52,2,FALSE),\"\")","v":0.03},53.19]
[181472,"","1945-05-23","не оплачен",1969,{"$f":"IFERROR(VLOOKUP(B4366,'Комиссии партнеров'!$A$2:$B$52,2,FALSE),\"\")","v":""}]
[181476,"Партнер номер 5","1945-05-23","оплачен",1204,{"$f":"IFERROR(VLOOKUP(B4367,'Комиссии партнеров'!$A$2:$B$52,2,FALSE),\"\")","v":0.03},36.119999999999997]
[181479,"","1945-05-23","оплачен",2616,{"$f":"IFERROR(VLOOKUP(B4368,'Комиссии партнеров'!$A$2:$B$52,2,FALSE),\"\")","v":""}]
[181480,"Партнер номер 4","1945-05-23","оплачен",2032,{"$f":"IFERROR(VLOOKUP(B4369,'Комиссии партнеров'!$A$2:$B$52,2,FALSE),\"\")","v":0.04},81.28]
[181483,"","1945-05-23","не оплачен",728,{"$f":"IFERROR(VLOOKUP(B4370,'Комиссии партнеров'!$A$2:$B$52,2,FALSE),\"\")","v":""}]
[181484,"","1945-05-23","оплачен",4890,{"$f":"IFERROR(VLOOKUP(B4371,'Комиссии партнеров'!$A$2:$B$52,2,FALSE),\"\")","v":""}]
[181488,"Партнер номер 1","1945-05-23","не оплачен",1768,{"$f":"IFERROR(VLOOKUP(B4372,'Комиссии партнеров'!$A$2:$B$52,2,FALSE),\"\")","v":0.05},88.4]
[181493,"","1945-05-23","оплачен",3062,{"$f":"IFERROR(VLOOKUP(B4373,'Комиссии партнеров'!$A$2:$B$52,2,FALSE),\"\")","v":""}]
[181495,"Партнер номер 17","1945-05-23","оплачен",1610,{"$f":"IFERROR(VLOOKUP(B4374,'Комиссии партнеров'!$A$2:$B$52,2,FALSE),\"\")","v":0.04},64.400000000000006]
[181498,"","1945-05-23","оплачен",698,{"$f":"IFERROR(VLOOKUP(B4375,'Комиссии партнеров'!$A$2:$B$52,2,FALSE),\"\")","v":""}]
[181503,"","1945-05-23","оплачен",5550,{"$f":"IFERROR(VLOOKUP(B4376,'Комиссии партнеров'!$A$2:$B$52,2,FALSE),\"\")","v":""}]
[181506,"","1945-05-23","оплачен",3427,{"$f":"IFERROR(VLOOKUP(B4377,'Комиссии партнеров'!$A$2:$B$52,2,FALSE),\"\")","v":""}]
[181507,"","1945-05-23","оплачен",8002,{"$f":"IFERROR(VLOOKUP(B4378,'Комиссии партнеров'!$A$2:$B$52,2,FALSE),\"\")","v":""}]
[181511,"","1945-05-23","оплачен",3580,{"$f":"IFERROR(VLOOKUP(B4379,'Комиссии партнеров'!$A$2:$B$52,2,FALSE),\"\")","v":""}]
[181515,"","1945-05-23","оплачен",1995,{"$f":"IFERROR(VLOOKUP(B4380,'Комиссии партнеров'!$A$2:$B$52,2,FALSE),\"\")","v":""}]
[181518,"","1945-05-23","не оплачен",1583,{"$f":"IFERROR(VLOOKUP(B4381,'Комиссии партнеров'!$A$2:$B$52,2,FALSE),\"\")","v":""}]
[181522,"","1945-05-23","не оплачен",2134,{"$f":"IFERROR(VLOOKUP(B4382,'Комиссии партнеров'!$A$2:$B$52,2,FALSE),\"\")","v":""}]
[181526,"","1945-05-23","оплачен",1665,{"$f":"IFERROR(VLOOKUP(B4383,'Комиссии партнеров'!$A$2:$B$52,2,FALSE),\"\")","v":""}]
[181530,"Партнер номер 1","1945-05-23","не оплачен",1799,{"$f":"IFERROR(VLOOKUP(B4384,'Комиссии партнеров'!$A$2:$B$52,2,FALSE),\"\")","v":0.05},89.95]
[181533,"","1945-05-23","не оплачен",1583,{"$f":"IFERROR(VLOOKUP(B4385,'Комиссии партнеров'!$A$2:$B$52,2,FALSE),\"\")","v":""}]
[181536,"Партнер номер 1","1945-05-23","оплачен",2200,{"$f":"IFERROR(VLOOKUP(B4386,'Комиссии партнеров'!$A$2:$B$52,2,FALSE),\"\")","v":0.05},110]
[181539,"","1945-05-23","оплачен",4443,{"$f":"IFERROR(VLOOKUP(B4387,'Комиссии партнеров'!$A$2:$B$52,2,FALSE),\"\")","v":""}]
[181542,"","1945-05-23","не оплачен",2301,{"$f":"IFERROR(VLOOKUP(B4388,'Комиссии партнеров'!$A$2:$B$52,2,FALSE),\"\")","v":""}]
[181543,"Партнер номер 1","1945-05-23","не оплачен",1110,{"$f":"IFERROR(VLOOKUP(B4389,'Комиссии партнеров'!$A$2:$B$52,2,FALSE),\"\")","v":0.05},55.5]
[181546,"Партнер номер 6","1945-05-23","оплачен",1271,{"$f":"IFERROR(VLOOKUP(B4390,'Комиссии партнеров'!$A$2:$B$52,2,FALSE),\"\")","v":0.04},50.84]
[181549,"Партнер номер 5","1945-05-23","оплачен",2635,{"$f":"IFERROR(VLOOKUP(B4391,'Комиссии партнеров'!$A$2:$B$52,2,FALSE),\"\")","v":0.03},79.05]
[181555,"","1945-05-23","не оплачен",4503,{"$f":"IFERROR(VLOOKUP(B4392,'Комиссии партнеров'!$A$2:$B$52,2,FALSE),\"\")","v":""}]
[181557,"","1945-05-23","оплачен",1333,{"$f":"IFERROR(VLOOKUP(B4393,'Комиссии партнеров'!$A$2:$B$52,2,FALSE),\"\")","v":""}]
[181558,"","1945-05-23","не оплачен",1365,{"$f":"IFERROR(VLOOKUP(B4394,'Комиссии партнеров'!$A$2:$B$52,2,FALSE),\"\")","v":""}]
[181562,"","1945-05-23","оплачен",1554,{"$f":"IFERROR(VLOOKUP(B4395,'Комиссии партнеров'!$A$2:$B$52,2,FALSE),\"\")","v":""}]
[181566,"Партнер номер 3","1945-05-23","оплачен",1481,{"$f":"IFERROR(VLOOKUP(B4396,'Комиссии партнеров'!$A$2:$B$52,2,FALSE),\"\")","v":0.05},74.05]
[181572,"Партнер номер 1","1945-05-23","не оплачен",3785,{"$f":"IFERROR(VLOOKUP(B4397,'Комиссии партнеров'!$A$2:$B$52,2,FALSE),\"\")","v":0.05},189.25]
[181574,"","1945-05-24","оплачен",3821,{"$f":"IFERROR(VLOOKUP(B4398,'Комиссии партнеров'!$A$2:$B$52,2,FALSE),\"\")","v":""}]
[181576,"Партнер номер 4","1945-05-24","не оплачен",2260,{"$f":"IFERROR(VLOOKUP(B4399,'Комиссии партнеров'!$A$2:$B$52,2,FALSE),\"\")","v":0.04},90.4]
[181577,"","1945-05-24","оплачен",4176,{"$f":"IFERROR(VLOOKUP(B4400,'Комиссии партнеров'!$A$2:$B$52,2,FALSE),\"\")","v":""}]
[181582,"","1945-05-24","оплачен",1096,{"$f":"IFERROR(VLOOKUP(B4401,'Комиссии партнеров'!$A$2:$B$52,2,FALSE),\"\")","v":""}]
[181586,"","1945-05-24","оплачен",2089,{"$f":"IFERROR(VLOOKUP(B4402,'Комиссии партнеров'!$A$2:$B$52,2,FALSE),\"\")","v":""}]
[181591,"Партнер номер 11","1945-05-24","не оплачен",2172,{"$f":"IFERROR(VLOOKUP(B4403,'Комиссии партнеров'!$A$2:$B$52,2,FALSE),\"\")","v":0.05},108.60000000000001]
[181596,"","1945-05-24","оплачен",1269,{"$f":"IFERROR(VLOOKUP(B4404,'Комиссии партнеров'!$A$2:$B$52,2,FALSE),\"\")","v":""}]
[181600,"","1945-05-24","оплачен",2052,{"$f":"IFERROR(VLOOKUP(B4405,'Комиссии партнеров'!$A$2:$B$52,2,FALSE),\"\")","v":""}]
[181603,"","1945-05-24","оплачен",2576,{"$f":"IFERROR(VLOOKUP(B4406,'Комиссии партнеров'!$A$2:$B$52,2,FALSE),\"\")","v":""}]
[181608,"","1945-05-24","оплачен",3224,{"$f":"IFERROR(VLOOKUP(B4407,'Комиссии партнеров'!$A$2:$B$52,2,FALSE),\"\")","v":""}]
[181610,"Партнер номер 1","1945-05-24","оплачен",1168,{"$f":"IFERROR(VLOOKUP(B4408,'Комиссии партнеров'!$A$2:$B$52,2,FALSE),\"\")","v":0.05},58.400000000000006]
[181614,"Партнер номер 11","1945-05-24","оплачен",1634,{"$f":"IFERROR(VLOOKUP(B4409,'Комиссии партнеров'!$A$2:$B$52,2,FALSE),\"\")","v":0.05},81.7]
[181619,"","1945-05-24","оплачен",1575,{"$f":"IFERROR(VLOOKUP(B4410,'Комиссии партнеров'!$A$2:$B$52,2,FALSE),\"\")","v":""}]
[181623,"","1945-05-24","не оплачен",1216,{"$f":"IFERROR(VLOOKUP(B4411,'Комиссии партнеров'!$A$2:$B$52,2,FALSE),\"\")","v":""}]
[181629,"Партнер номер 13","1945-05-24","не оплачен",2260,{"$f":"IFERROR(VLOOKUP(B4412,'Комиссии партнеров'!$A$2:$B$52,2,FALSE),\"\")","v":0.05},113]
[181632,"Партнер номер 1","1945-05-24","оплачен",505,{"$f":"IFERROR(VLOOKUP(B4413,'Комиссии партнеров'!$A$2:$B$52,2,FALSE),\"\")","v":0.05},25.25]
[181637,"Партнер номер 5","1945-05-24","не оплачен",1832,{"$f":"IFERROR(VLOOKUP(B4414,'Комиссии партнеров'!$A$2:$B$52,2,FALSE),\"\")","v":0.03},54.96]
[181639,"","1945-05-24","оплачен",4351,{"$f":"IFERROR(VLOOKUP(B4415,'Комиссии партнеров'!$A$2:$B$52,2,FALSE),\"\")","v":""}]
[181644,"Партнер номер 1","1945-05-24","не оплачен",1822,{"$f":"IFERROR(VLOOKUP(B4416,'Комиссии партнеров'!$A$2:$B$52,2,FALSE),\"\")","v":0.05},91.100000000000009]
[181648,"Партнер номер 1","1945-05-24","оплачен",4780,{"$f":"IFERROR(VLOOKUP(B4417,'Комиссии партнеров'!$A$2:$B$52,2,FALSE),\"\")","v":0.05},239]
[181650,"","1945-05-24","оплачен",3570,{"$f":"IFERROR(VLOOKUP(B4418,'Комиссии партнеров'!$A$2:$B$52,2,FALSE),\"\")","v":""}]
[181651,"Партнер номер 11","1945-05-24","оплачен",1758,{"$f":"IFERROR(VLOOKUP(B4419,'Комиссии партнеров'!$A$2:$B$52,2,FALSE),\"\")","v":0.05},87.9]
[181653,"","1945-05-24","не оплачен",1534,{"$f":"IFERROR(VLOOKUP(B4420,'Комиссии партнеров'!$A$2:$B$52,2,FALSE),\"\")","v":""}]
[181657,"Партнер номер 1","1945-05-24","оплачен",1508,{"$f":"IFERROR(VLOOKUP(B4421,'Комиссии партнеров'!$A$2:$B$52,2,FALSE),\"\")","v":0.05},75.400000000000006]
[181659,"","1945-05-24","не оплачен",757,{"$f":"IFERROR(VLOOKUP(B4422,'Комиссии партнеров'!$A$2:$B$52,2,FALSE),\"\")","v":""}]
[181665,"Партнер номер 1","1945-05-24","не оплачен",1260,{"$f":"IFERROR(VLOOKUP(B4423,'Комиссии партнеров'!$A$2:$B$52,2,FALSE),\"\")","v":0.05},63]
[181667,"","1945-05-24","оплачен",1605,{"$f":"IFERROR(VLOOKUP(B4424,'Комиссии партнеров'!$A$2:$B$52,2,FALSE),\"\")","v":""}]
[181671,"","1945-05-24","оплачен",2215,{"$f":"IFERROR(VLOOKUP(B4425,'Комиссии партнеров'!$A$2:$B$52,2,FALSE),\"\")","v":""}]
[181677,"","1945-05-24","оплачен",1715,{"$f":"IFERROR(VLOOKUP(B4426,'Комиссии партнеров'!$A$2:$B$52,2,FALSE),\"\")","v":""}]
[181682,"","1945-05-24","не оплачен",674,{"$f":"IFERROR(VLOOKUP(B4427,'Комиссии партнеров'!$A$2:$B$52,2,FALSE),\"\")","v":""}]
[181686,"Партнер номер 3","1945-05-24","не оплачен",863,{"$f":"IFERROR(VLOOKUP(B4428,'Комиссии партнеров'!$A$2:$B$52,2,FALSE),\"\")","v":0.05},43.150000000000006]
[181690,"Партнер номер 13","1945-05-24","оплачен",2260,{"$f":"IFERROR(VLOOKUP(B4429,'Комиссии партнеров'!$A$2:$B$52,2,FALSE),\"\")","v":0.05},113]
[181693,"","1945-05-24","оплачен",3143,{"$f":"IFERROR(VLOOKUP(B4430,'Комиссии партнеров'!$A$2:$B$52,2,FALSE),\"\")","v":""}]
[181695,"Партнер номер 3","1945-05-24","оплачен",1989,{"$f":"IFERROR(VLOOKUP(B4431,'Комиссии партнеров'!$A$2:$B$52,2,FALSE),\"\")","v":0.05},99.45]
[181698,"Партнер номер 1","1945-05-24","оплачен",2068,{"$f":"IFERROR(VLOOKUP(B4432,'Комиссии партнеров'!$A$2:$B$52,2,FALSE),\"\")","v":0.05},103.4]
[181703,"","1945-05-24","оплачен",4164,{"$f":"IFERROR(VLOOKUP(B4433,'Комиссии партнеров'!$A$2:$B$52,2,FALSE),\"\")","v":""}]
[181707,"","1945-05-24","оплачен",6175,{"$f":"IFERROR(VLOOKUP(B4434,'Комиссии партнеров'!$A$2:$B$52,2,FALSE),\"\")","v":""}]
[181712,"","1945-05-24","не оплачен",2061,{"$f":"IFERROR(VLOOKUP(B4435,'Комиссии партнеров'!$A$2:$B$52,2,FALSE),\"\")","v":""}]
[181716,"Партнер номер 5","1945-05-24","оплачен",4839,{"$f":"IFERROR(VLOOKUP(B4436,'Комиссии партнеров'!$A$2:$B$52,2,FALSE),\"\")","v":0.03},145.16999999999999]
[181721,"Партнер номер 1","1945-05-24","не оплачен",827,{"$f":"IFERROR(VLOOKUP(B4437,'Комиссии партнеров'!$A$2:$B$52,2,FALSE),\"\")","v":0.05},41.35]
[181724,"Партнер номер 3","1945-05-24","не оплачен",1919,{"$f":"IFERROR(VLOOKUP(B4438,'Комиссии партнеров'!$A$2:$B$52,2,FALSE),\"\")","v":0.05},95.95]
[181726,"","1945-05-24","оплачен",553,{"$f":"IFERROR(VLOOKUP(B4439,'Комиссии партнеров'!$A$2:$B$52,2,FALSE),\"\")","v":""}]
[181729,"","1945-05-24","оплачен",4813,{"$f":"IFERROR(VLOOKUP(B4440,'Комиссии партнеров'!$A$2:$B$52,2,FALSE),\"\")","v":""}]
[181732,"","1945-05-24","оплачен",2348,{"$f":"IFERROR(VLOOKUP(B4441,'Комиссии партнеров'!$A$2:$B$52,2,FALSE),\"\")","v":""}]
[181734,"Партнер номер 1","1945-05-24","оплачен",670,{"$f":"IFERROR(VLOOKUP(B4442,'Комиссии партнеров'!$A$2:$B$52,2,FALSE),\"\")","v":0.05},33.5]
[181738,"Партнер номер 1","1945-05-24","оплачен",1413,{"$f":"IFERROR(VLOOKUP(B4443,'Комиссии партнеров'!$A$2:$B$52,2,FALSE),\"\")","v":0.05},70.650000000000006]
[181742,"Партнер номер 1","1945-05-24","не оплачен",725,{"$f":"IFERROR(VLOOKUP(B4444,'Комиссии партнеров'!$A$2:$B$52,2,FALSE),\"\")","v":0.05},36.25]
[181747,"Партнер номер 5","1945-05-24","не оплачен",677,{"$f":"IFERROR(VLOOKUP(B4445,'Комиссии партнеров'!$A$2:$B$52,2,FALSE),\"\")","v":0.03},20.309999999999999]
[181749,"","1945-05-24","не оплачен",1497,{"$f":"IFERROR(VLOOKUP(B4446,'Комиссии партнеров'!$A$2:$B$52,2,FALSE),\"\")","v":""}]
[181751,"Партнер номер 7","1945-05-24","оплачен",4083,{"$f":"IFERROR(VLOOKUP(B4447,'Комиссии партнеров'!$A$2:$B$52,2,FALSE),\"\")","v":0.05},204.15]
[181753,"","1945-05-24","оплачен",2088,{"$f":"IFERROR(VLOOKUP(B4448,'Комиссии партнеров'!$A$2:$B$52,2,FALSE),\"\")","v":""}]
[181757,"Партнер номер 11","1945-05-24","не оплачен",2172,{"$f":"IFERROR(VLOOKUP(B4449,'Комиссии партнеров'!$A$2:$B$52,2,FALSE),\"\")","v":0.05},108.60000000000001]
[181758,"","1945-05-24","оплачен",2086,{"$f":"IFERROR(VLOOKUP(B4450,'Комиссии партнеров'!$A$2:$B$52,2,FALSE),\"\")","v":""}]
[181764,"Партнер номер 1","1945-05-24","не оплачен",2884,{"$f":"IFERROR(VLOOKUP(B4451,'Комиссии партнеров'!$A$2:$B$52,2,FALSE),\"\")","v":0.05},144.20000000000002]
[181767,"","1945-05-24","оплачен",2617,{"$f":"IFERROR(VLOOKUP(B4452,'Комиссии партнеров'!$A$2:$B$52,2,FALSE),\"\")","v":""}]
[181772,"","1945-05-24","оплачен",2781,{"$f":"IFERROR(VLOOKUP(B4453,'Комиссии партнеров'!$A$2:$B$52,2,FALSE),\"\")","v":""}]
[181773,"","1945-05-24","оплачен",956,{"$f":"IFERROR(VLOOKUP(B4454,'Комиссии партнеров'!$A$2:$B$52,2,FALSE),\"\")","v":""}]
[181775,"Партнер номер 1","1945-05-24","оплачен",1064,{"$f":"IFERROR(VLOOKUP(B4455,'Комиссии партнеров'!$A$2:$B$52,2,FALSE),\"\")","v":0.05},53.2]
[181780,"Партнер номер 7","1945-05-24","не оплачен",2361,{"$f":"IFERROR(VLOOKUP(B4456,'Комиссии партнеров'!$A$2:$B$52,2,FALSE),\"\")","v":0.05},118.05000000000001]
[181784,"","1945-05-24","оплачен",1475,{"$f":"IFERROR(VLOOKUP(B4457,'Комиссии партнеров'!$A$2:$B$52,2,FALSE),\"\")","v":""}]
[181789,"Партнер номер 1","1945-05-24","оплачен",2884,{"$f":"IFERROR(VLOOKUP(B4458,'Комиссии партнеров'!$A$2:$B$52,2,FALSE),\"\")","v":0.05},144.20000000000002]
[181791,"Партнер номер 1","1945-05-24","не оплачен",941,{"$f":"IFERROR(VLOOKUP(B4459,'Комиссии партнеров'!$A$2:$B$52,2,FALSE),\"\")","v":0.05},47.050000000000004]
[181794,"","1945-05-24","оплачен",1625,{"$f":"IFERROR(VLOOKUP(B4460,'Комиссии партнеров'!$A$2:$B$52,2,FALSE),\"\")","v":""}]
[181797,"","1945-05-24","оплачен",2116,{"$f":"IFERROR(VLOOKUP(B4461,'Комиссии партнеров'!$A$2:$B$52,2,FALSE),\"\")","v":""}]
[181802,"Партнер номер 5","1945-05-24","оплачен",2712,{"$f":"IFERROR(VLOOKUP(B4462,'Комиссии партнеров'!$A$2:$B$52,2,FALSE),\"\")","v":0.03},81.36]
[181806,"Партнер номер 1","1945-05-24","оплачен",3679,{"$f":"IFERROR(VLOOKUP(B4463,'Комиссии партнеров'!$A$2:$B$52,2,FALSE),\"\")","v":0.05},183.95000000000002]
[181811,"Партнер номер 7","1945-05-24","оплачен",1179,{"$f":"IFERROR(VLOOKUP(B4464,'Комиссии партнеров'!$A$2:$B$52,2,FALSE),\"\")","v":0.05},58.95]
[181814,"Партнер номер 7","1945-05-24","не оплачен",1955,{"$f":"IFERROR(VLOOKUP(B4465,'Комиссии партнеров'!$A$2:$B$52,2,FALSE),\"\")","v":0.05},97.75]
[181819,"","1945-05-24","оплачен",1788,{"$f":"IFERROR(VLOOKUP(B4466,'Комиссии партнеров'!$A$2:$B$52,2,FALSE),\"\")","v":""}]
[181823,"Партнер номер 1","1945-05-24","не оплачен",1135,{"$f":"IFERROR(VLOOKUP(B4467,'Комиссии партнеров'!$A$2:$B$52,2,FALSE),\"\")","v":0.05},56.75]
[181827,"Партнер номер 1","1945-05-24","оплачен",1235,{"$f":"IFERROR(VLOOKUP(B4468,'Комиссии партнеров'!$A$2:$B$52,2,FALSE),\"\")","v":0.05},61.75]
[181830,"","1945-05-24","оплачен",5543,{"$f":"IFERROR(VLOOKUP(B4469,'Комиссии партнеров'!$A$2:$B$52,2,FALSE),\"\")","v":""}]
[181834,"Партнер номер 1","1945-05-24","оплачен",884,{"$f":"IFERROR(VLOOKUP(B4470,'Комиссии партнеров'!$A$2:$B$52,2,FALSE),\"\")","v":0.05},44.2]
[181836,"Партнер номер 13","1945-05-24","не оплачен",2278,{"$f":"IFERROR(VLOOKUP(B4471,'Комиссии партнеров'!$A$2:$B$52,2,FALSE),\"\")","v":0.05},113.9]
[181839,"","1945-05-24","оплачен",2304,{"$f":"IFERROR(VLOOKUP(B4472,'Комиссии партнеров'!$A$2:$B$52,2,FALSE),\"\")","v":""}]
[181845,"","1945-05-24","оплачен",3407,{"$f":"IFERROR(VLOOKUP(B4473,'Комиссии партнеров'!$A$2:$B$52,2,FALSE),\"\")","v":""}]
[181849,"","1945-05-24","оплачен",5992,{"$f":"IFERROR(VLOOKUP(B4474,'Комиссии партнеров'!$A$2:$B$52,2,FALSE),\"\")","v":""}]
[181854,"Партнер номер 1","1945-05-24","оплачен",1857,{"$f":"IFERROR(VLOOKUP(B4475,'Комиссии партнеров'!$A$2:$B$52,2,FALSE),\"\")","v":0.05},92.850000000000009]
[181859,"Партнер номер 3","1945-05-24","не оплачен",701,{"$f":"IFERROR(VLOOKUP(B4476,'Комиссии партнеров'!$A$2:$B$52,2,FALSE),\"\")","v":0.05},35.050000000000004]
[181862,"","1945-05-24","не оплачен",1325,{"$f":"IFERROR(VLOOKUP(B4477,'Комиссии партнеров'!$A$2:$B$52,2,FALSE),\"\")","v":""}]
[181866,"Партнер номер 7","1945-05-24","оплачен",1163,{"$f":"IFERROR(VLOOKUP(B4478,'Комиссии партнеров'!$A$2:$B$52,2,FALSE),\"\")","v":0.05},58.150000000000006]
[181868,"Партнер номер 2","1945-05-24","оплачен",1281,{"$f":"IFERROR(VLOOKUP(B4479,'Комиссии партнеров'!$A$2:$B$52,2,FALSE),\"\")","v":0.04},51.24]
[181871,"Партнер номер 1","1945-05-24","оплачен",1097,{"$f":"IFERROR(VLOOKUP(B4480,'Комиссии партнеров'!$A$2:$B$52,2,FALSE),\"\")","v":0.05},54.85]
[181875,"Партнер номер 7","1945-05-24","оплачен",1201,{"$f":"IFERROR(VLOOKUP(B4481,'Комиссии партнеров'!$A$2:$B$52,2,FALSE),\"\")","v":0.05},60.050000000000004]
[181880,"","1945-05-24","оплачен",2878,{"$f":"IFERROR(VLOOKUP(B4482,'Комиссии партнеров'!$A$2:$B$52,2,FALSE),\"\")","v":""}]
[181882,"","1945-05-24","не оплачен",2063,{"$f":"IFERROR(VLOOKUP(B4483,'Комиссии партнеров'!$A$2:$B$52,2,FALSE),\"\")","v":""}]
[181885,"","1945-05-24","не оплачен",2162,{"$f":"IFERROR(VLOOKUP(B4484,'Комиссии партнеров'!$A$2:$B$52,2,FALSE),\"\")","v":""}]
[181891,"Партнер номер 1","1945-05-24","оплачен",699,{"$f":"IFERROR(VLOOKUP(B4485,'Комиссии партнеров'!$A$2:$B$52,2,FALSE),\"\")","v":0.05},34.950000000000003]
[181893,"","1945-05-24","не оплачен",2769,{"$f":"IFERROR(VLOOKUP(B4486,'Комиссии партнеров'!$A$2:$B$52,2,FALSE),\"\")","v":""}]
[181895,"","1945-05-24","оплачен",3421,{"$f":"IFERROR(VLOOKUP(B4487,'Комиссии партнеров'!$A$2:$B$52,2,FALSE),\"\")","v":""}]
[181897,"","1945-05-24","оплачен",1276,{"$f":"IFERROR(VLOOKUP(B4488,'Комиссии партнеров'!$A$2:$B$52,2,FALSE),\"\")","v":""}]
[181906,"","1945-05-24","оплачен",2012,{"$f":"IFERROR(VLOOKUP(B4489,'Комиссии партнеров'!$A$2:$B$52,2,FALSE),\"\")","v":""}]
[181908,"","1945-05-24","не оплачен",674,{"$f":"IFERROR(VLOOKUP(B4490,'Комиссии партнеров'!$A$2:$B$52,2,FALSE),\"\")","v":""}]
[181910,"","1945-05-24","оплачен",638,{"$f":"IFERROR(VLOOKUP(B4491,'Комиссии партнеров'!$A$2:$B$52,2,FALSE),\"\")","v":""}]
[181912,"Партнер номер 1","1945-05-24","оплачен",3242,{"$f":"IFERROR(VLOOKUP(B4492,'Комиссии партнеров'!$A$2:$B$52,2,FALSE),\"\")","v":0.05},162.10000000000002]
[181918,"Партнер номер 1","1945-05-24","оплачен",1413,{"$f":"IFERROR(VLOOKUP(B4493,'Комиссии партнеров'!$A$2:$B$52,2,FALSE),\"\")","v":0.05},70.650000000000006]
[181922,"Партнер номер 1","1945-05-24","не оплачен",1805,{"$f":"IFERROR(VLOOKUP(B4494,'Комиссии партнеров'!$A$2:$B$52,2,FALSE),\"\")","v":0.05},90.25]
[181926,"","1945-05-24","не оплачен",1290,{"$f":"IFERROR(VLOOKUP(B4495,'Комиссии партнеров'!$A$2:$B$52,2,FALSE),\"\")","v":""}]
[181931,"Партнер номер 1","1945-05-24","оплачен",2118,{"$f":"IFERROR(VLOOKUP(B4496,'Комиссии партнеров'!$A$2:$B$52,2,FALSE),\"\")","v":0.05},105.9]
[181933,"Партнер номер 5","1945-05-24","оплачен",3779,{"$f":"IFERROR(VLOOKUP(B4497,'Комиссии партнеров'!$A$2:$B$52,2,FALSE),\"\")","v":0.03},113.36999999999999]
[181935,"","1945-05-24","оплачен",1905,{"$f":"IFERROR(VLOOKUP(B4498,'Комиссии партнеров'!$A$2:$B$52,2,FALSE),\"\")","v":""}]
[181938,"","1945-05-24","оплачен",1341,{"$f":"IFERROR(VLOOKUP(B4499,'Комиссии партнеров'!$A$2:$B$52,2,FALSE),\"\")","v":""}]
[181941,"","1945-05-24","не оплачен",1604,{"$f":"IFERROR(VLOOKUP(B4500,'Комиссии партнеров'!$A$2:$B$52,2,FALSE),\"\")","v":""}]
[181942,"Партнер номер 1","1945-05-24","оплачен",1235,{"$f":"IFERROR(VLOOKUP(B4501,'Комиссии партнеров'!$A$2:$B$52,2,FALSE),\"\")","v":0.05},61.75]
[181945,"","1945-05-24","оплачен",1604,{"$f":"IFERROR(VLOOKUP(B4502,'Комиссии партнеров'!$A$2:$B$52,2,FALSE),\"\")","v":""}]
[181948,"Партнер номер 7","1945-05-24","не оплачен",1394,{"$f":"IFERROR(VLOOKUP(B4503,'Комиссии партнеров'!$A$2:$B$52,2,FALSE),\"\")","v":0.05},69.7]
[181952,"","1945-05-24","не оплачен",1756,{"$f":"IFERROR(VLOOKUP(B4504,'Комиссии партнеров'!$A$2:$B$52,2,FALSE),\"\")","v":""}]
[181956,"","1945-05-24","не оплачен",6359,{"$f":"IFERROR(VLOOKUP(B4505,'Комиссии партнеров'!$A$2:$B$52,2,FALSE),\"\")","v":""}]
[181959,"","1945-05-24","оплачен",665,{"$f":"IFERROR(VLOOKUP(B4506,'Комиссии партнеров'!$A$2:$B$52,2,FALSE),\"\")","v":""}]
[181962,"","1945-05-24","не оплачен",6359,{"$f":"IFERROR(VLOOKUP(B4507,'Комиссии партнеров'!$A$2:$B$52,2,FALSE),\"\")","v":""}]
[181966,"","1945-05-24","оплачен",2642,{"$f":"IFERROR(VLOOKUP(B4508,'Комиссии партнеров'!$A$2:$B$52,2,FALSE),\"\")","v":""}]
[181969,"","1945-05-24","не оплачен",2300,{"$f":"IFERROR(VLOOKUP(B4509,'Комиссии партнеров'!$A$2:$B$52,2,FALSE),\"\")","v":""}]
[181973,"Партнер номер 2","1945-05-24","оплачен",3877,{"$f":"IFERROR(VLOOKUP(B4510,'Комиссии партнеров'!$A$2:$B$52,2,FALSE),\"\")","v":0.04},155.08000000000001]
[181975,"Партнер номер 5","1945-05-24","оплачен",1113,{"$f":"IFERROR(VLOOKUP(B4511,'Комиссии партнеров'!$A$2:$B$52,2,FALSE),\"\")","v":0.03},33.39]
[181978,"","1945-05-24","оплачен",2686,{"$f":"IFERROR(VLOOKUP(B4512,'Комиссии партнеров'!$A$2:$B$52,2,FALSE),\"\")","v":""}]
[181980,"","1945-05-24","не оплачен",2165,{"$f":"IFERROR(VLOOKUP(B4513,'Комиссии партнеров'!$A$2:$B$52,2,FALSE),\"\")","v":""}]
[181984,"Партнер номер 2","1945-05-24","оплачен",1036,{"$f":"IFERROR(VLOOKUP(B4514,'Комиссии партнеров'!$A$2:$B$52,2,FALSE),\"\")","v":0.04},41.44]
[181987,"Партнер номер 19","1945-05-24","не оплачен",396,{"$f":"IFERROR(VLOOKUP(B4515,'Комиссии партнеров'!$A$2:$B$52,2,FALSE),\"\")","v":0.05},19.8]
[181990,"Партнер номер 1","1945-05-24","оплачен",3207,{"$f":"IFERROR(VLOOKUP(B4516,'Комиссии партнеров'!$A$2:$B$52,2,FALSE),\"\")","v":0.05},160.35000000000002]
[181994,"","1945-05-24","не оплачен",1703,{"$f":"IFERROR(VLOOKUP(B4517,'Комиссии партнеров'!$A$2:$B$52,2,FALSE),\"\")","v":""}]
[181997,"Партнер номер 3","1945-05-24","не оплачен",1722,{"$f":"IFERROR(VLOOKUP(B4518,'Комиссии партнеров'!$A$2:$B$52,2,FALSE),\"\")","v":0.05},86.100000000000009]
[182003,"Партнер номер 11","1945-05-24","не оплачен",839,{"$f":"IFERROR(VLOOKUP(B4519,'Комиссии партнеров'!$A$2:$B$52,2,FALSE),\"\")","v":0.05},41.95]
[182005,"","1945-05-24","оплачен",1507,{"$f":"IFERROR(VLOOKUP(B4520,'Комиссии партнеров'!$A$2:$B$52,2,FALSE),\"\")","v":""}]
[182009,"","1945-05-24","оплачен",924,{"$f":"IFERROR(VLOOKUP(B4521,'Комиссии партнеров'!$A$2:$B$52,2,FALSE),\"\")","v":""}]
[182013,"Партнер номер 1","1945-05-24","оплачен",880,{"$f":"IFERROR(VLOOKUP(B4522,'Комиссии партнеров'!$A$2:$B$52,2,FALSE),\"\")","v":0.05},44]
[182017,"Партнер номер 2","1945-05-24","не оплачен",1305,{"$f":"IFERROR(VLOOKUP(B4523,'Комиссии партнеров'!$A$2:$B$52,2,FALSE),\"\")","v":0.04},52.2]
[182022,"Партнер номер 11","1945-05-24","оплачен",881,{"$f":"IFERROR(VLOOKUP(B4524,'Комиссии партнеров'!$A$2:$B$52,2,FALSE),\"\")","v":0.05},44.050000000000004]
[182025,"","1945-05-24","не оплачен",410,{"$f":"IFERROR(VLOOKUP(B4525,'Комиссии партнеров'!$A$2:$B$52,2,FALSE),\"\")","v":""}]
[182030,"Партнер номер 1","1945-05-24","оплачен",2420,{"$f":"IFERROR(VLOOKUP(B4526,'Комиссии партнеров'!$A$2:$B$52,2,FALSE),\"\")","v":0.05},121]
[182034,"Партнер номер 2","1945-05-24","оплачен",1305,{"$f":"IFERROR(VLOOKUP(B4527,'Комиссии партнеров'!$A$2:$B$52,2,FALSE),\"\")","v":0.04},52.2]
[182039,"","1945-05-24","не оплачен",2603,{"$f":"IFERROR(VLOOKUP(B4528,'Комиссии партнеров'!$A$2:$B$52,2,FALSE),\"\")","v":""}]
[182043,"Партнер номер 46","1945-05-24","не оплачен",634,{"$f":"IFERROR(VLOOKUP(B4529,'Комиссии партнеров'!$A$2:$B$52,2,FALSE),\"\")","v":0.05},31.700000000000003]
[182045,"Партнер номер 1","1945-05-24","оплачен",2086,{"$f":"IFERROR(VLOOKUP(B4530,'Комиссии партнеров'!$A$2:$B$52,2,FALSE),\"\")","v":0.05},104.30000000000001]
[182047,"","1945-05-24","оплачен",1170,{"$f":"IFERROR(VLOOKUP(B4531,'Комиссии партнеров'!$A$2:$B$52,2,FALSE),\"\")","v":""}]
[182052,"Партнер номер 1","1945-05-24","оплачен",1663,{"$f":"IFERROR(VLOOKUP(B4532,'Комиссии партнеров'!$A$2:$B$52,2,FALSE),\"\")","v":0.05},83.15]
[182057,"Партнер номер 5","1945-05-24","оплачен",663,{"$f":"IFERROR(VLOOKUP(B4533,'Комиссии партнеров'!$A$2:$B$52,2,FALSE),\"\")","v":0.03},19.89]
[182061,"Партнер номер 48","1945-05-24","оплачен",840,{"$f":"IFERROR(VLOOKUP(B4534,'Комиссии партнеров'!$A$2:$B$52,2,FALSE),\"\")","v":0.03},25.2]
[182066,"","1945-05-24","оплачен",2500,{"$f":"IFERROR(VLOOKUP(B4535,'Комиссии партнеров'!$A$2:$B$52,2,FALSE),\"\")","v":""}]
[182068,"Партнер номер 1","1945-05-24","не оплачен",3696,{"$f":"IFERROR(VLOOKUP(B4536,'Комиссии партнеров'!$A$2:$B$52,2,FALSE),\"\")","v":0.05},184.8]
[182072,"Партнер номер 11","1945-05-24","оплачен",1747,{"$f":"IFERROR(VLOOKUP(B4537,'Комиссии партнеров'!$A$2:$B$52,2,FALSE),\"\")","v":0.05},87.350000000000009]
[182074,"","1945-05-24","оплачен",1627,{"$f":"IFERROR(VLOOKUP(B4538,'Комиссии партнеров'!$A$2:$B$52,2,FALSE),\"\")","v":""}]
[182078,"Партнер номер 1","1945-05-24","оплачен",895,{"$f":"IFERROR(VLOOKUP(B4539,'Комиссии партнеров'!$A$2:$B$52,2,FALSE),\"\")","v":0.05},44.75]
[182081,"","1945-05-24","оплачен",617,{"$f":"IFERROR(VLOOKUP(B4540,'Комиссии партнеров'!$A$2:$B$52,2,FALSE),\"\")","v":""}]
[182083,"Партнер номер 1","1945-05-24","оплачен",1965,{"$f":"IFERROR(VLOOKUP(B4541,'Комиссии партнеров'!$A$2:$B$52,2,FALSE),\"\")","v":0.05},98.25]
[182085,"Партнер номер 46","1945-05-24","не оплачен",1291,{"$f":"IFERROR(VLOOKUP(B4542,'Комиссии партнеров'!$A$2:$B$52,2,FALSE),\"\")","v":0.05},64.55]
[182090,"Партнер номер 1","1945-05-24","не оплачен",2092,{"$f":"IFERROR(VLOOKUP(B4543,'Комиссии партнеров'!$A$2:$B$52,2,FALSE),\"\")","v":0.05},104.60000000000001]
[182092,"","1945-05-24","оплачен",2151,{"$f":"IFERROR(VLOOKUP(B4544,'Комиссии партнеров'!$A$2:$B$52,2,FALSE),\"\")","v":""}]
[182093,"Партнер номер 1","1945-05-24","оплачен",4447,{"$f":"IFERROR(VLOOKUP(B4545,'Комиссии партнеров'!$A$2:$B$52,2,FALSE),\"\")","v":0.05},222.35000000000002]
[182097,"","1945-05-24","оплачен",1829,{"$f":"IFERROR(VLOOKUP(B4546,'Комиссии партнеров'!$A$2:$B$52,2,FALSE),\"\")","v":""}]
[182101,"","1945-05-24","оплачен",3758,{"$f":"IFERROR(VLOOKUP(B4547,'Комиссии партнеров'!$A$2:$B$52,2,FALSE),\"\")","v":""}]
[182104,"Партнер номер 1","1945-05-24","оплачен",963,{"$f":"IFERROR(VLOOKUP(B4548,'Комиссии партнеров'!$A$2:$B$52,2,FALSE),\"\")","v":0.05},48.150000000000006]
[182109,"","1945-05-24","не оплачен",1667,{"$f":"IFERROR(VLOOKUP(B4549,'Комиссии партнеров'!$A$2:$B$52,2,FALSE),\"\")","v":""}]
[182112,"","1945-05-24","оплачен",1140,{"$f":"IFERROR(VLOOKUP(B4550,'Комиссии партнеров'!$A$2:$B$52,2,FALSE),\"\")","v":""}]
[182116,"","1945-05-24","оплачен",1160,{"$f":"IFERROR(VLOOKUP(B4551,'Комиссии партнеров'!$A$2:$B$52,2,FALSE),\"\")","v":""}]
[182118,"","1945-05-24","оплачен",1477,{"$f":"IFERROR(VLOOKUP(B4552,'Комиссии партнеров'!$A$2:$B$52,2,FALSE),\"\")","v":""}]
[182123,"Партнер номер 1","1945-05-24","оплачен",2175,{"$f":"IFERROR(VLOOKUP(B4553,'Комиссии партнеров'!$A$2:$B$52,2,FALSE),\"\")","v":0.05},108.75]
[182126,"Партнер номер 2","1945-05-24","не оплачен",726,{"$f":"IFERROR(VLOOKUP(B4554,'Комиссии партнеров'!$A$2:$B$52,2,FALSE),\"\")","v":0.04},29.04]
[182131,"","1945-05-24","оплачен",2650,{"$f":"IFERROR(VLOOKUP(B4555,'Комиссии партнеров'!$A$2:$B$52,2,FALSE),\"\")","v":""}]
[182135,"Партнер номер 1","1945-05-24","оплачен",3164,{"$f":"IFERROR(VLOOKUP(B4556,'Комиссии партнеров'!$A$2:$B$52,2,FALSE),\"\")","v":0.05},158.20000000000002]
[182138,"Партнер номер 11","1945-05-24","оплачен",1831,{"$f":"IFERROR(VLOOKUP(B4557,'Комиссии партнеров'!$A$2:$B$52,2,FALSE),\"\")","v":0.05},91.550000000000011]
[182140,"Партнер номер 4","1945-05-24","оплачен",1029,{"$f":"IFERROR(VLOOKUP(B4558,'Комиссии партнеров'!$A$2:$B$52,2,FALSE),\"\")","v":0.04},41.160000000000004]
[182145,"Партнер номер 1","1945-05-24","не оплачен",2134,{"$f":"IFERROR(VLOOKUP(B4559,'Комиссии партнеров'!$A$2:$B$52,2,FALSE),\"\")","v":0.05},106.7]
[182147,"Партнер номер 1","1945-05-24","оплачен",2239,{"$f":"IFERROR(VLOOKUP(B4560,'Комиссии партнеров'!$A$2:$B$52,2,FALSE),\"\")","v":0.05},111.95]
[182157,"Партнер номер 7","1945-05-24","оплачен",1872,{"$f":"IFERROR(VLOOKUP(B4561,'Комиссии партнеров'!$A$2:$B$52,2,FALSE),\"\")","v":0.05},93.600000000000009]
[182162,"","1945-05-24","оплачен",2277,{"$f":"IFERROR(VLOOKUP(B4562,'Комиссии партнеров'!$A$2:$B$52,2,FALSE),\"\")","v":""}]
[182165,"","1945-05-24","не оплачен",865,{"$f":"IFERROR(VLOOKUP(B4563,'Комиссии партнеров'!$A$2:$B$52,2,FALSE),\"\")","v":""}]
[182169,"Партнер номер 46","1945-05-24","оплачен",3309,{"$f":"IFERROR(VLOOKUP(B4564,'Комиссии партнеров'!$A$2:$B$52,2,FALSE),\"\")","v":0.05},165.45000000000002]
[182174,"Партнер номер 7","1945-05-24","оплачен",1836,{"$f":"IFERROR(VLOOKUP(B4565,'Комиссии партнеров'!$A$2:$B$52,2,FALSE),\"\")","v":0.05},91.800000000000011]
[182179,"Партнер номер 1","1945-05-24","оплачен",3081,{"$f":"IFERROR(VLOOKUP(B4566,'Комиссии партнеров'!$A$2:$B$52,2,FALSE),\"\")","v":0.05},154.05000000000001]
[182185,"","1945-05-24","не оплачен",3966,{"$f":"IFERROR(VLOOKUP(B4567,'Комиссии партнеров'!$A$2:$B$52,2,FALSE),\"\")","v":""}]
[182188,"","1945-05-24","не оплачен",907,{"$f":"IFERROR(VLOOKUP(B4568,'Комиссии партнеров'!$A$2:$B$52,2,FALSE),\"\")","v":""}]
[182193,"Партнер номер 1","1945-05-24","не оплачен",2035,{"$f":"IFERROR(VLOOKUP(B4569,'Комиссии партнеров'!$A$2:$B$52,2,FALSE),\"\")","v":0.05},101.75]
[182199,"Партнер номер 1","1945-05-24","оплачен",2547,{"$f":"IFERROR(VLOOKUP(B4570,'Комиссии партнеров'!$A$2:$B$52,2,FALSE),\"\")","v":0.05},127.35000000000001]
[182204,"","1945-05-24","оплачен",847,{"$f":"IFERROR(VLOOKUP(B4571,'Комиссии партнеров'!$A$2:$B$52,2,FALSE),\"\")","v":""}]
[182206,"","1945-05-24","оплачен",907,{"$f":"IFERROR(VLOOKUP(B4572,'Комиссии партнеров'!$A$2:$B$52,2,FALSE),\"\")","v":""}]
[182211,"","1945-05-24","оплачен",804,{"$f":"IFERROR(VLOOKUP(B4573,'Комиссии партнеров'!$A$2:$B$52,2,FALSE),\"\")","v":""}]
[182213,"Партнер номер 1","1945-05-24","оплачен",1204,{"$f":"IFERROR(VLOOKUP(B4574,'Комиссии партнеров'!$A$2:$B$52,2,FALSE),\"\")","v":0.05},60.2]
[182215,"","1945-05-24","оплачен",1866,{"$f":"IFERROR(VLOOKUP(B4575,'Комиссии партнеров'!$A$2:$B$52,2,FALSE),\"\")","v":""}]
[182219,"Партнер номер 1","1945-05-24","оплачен",2140,{"$f":"IFERROR(VLOOKUP(B4576,'Комиссии партнеров'!$A$2:$B$52,2,FALSE),\"\")","v":0.05},107]
[182222,"","1945-05-24","оплачен",932,{"$f":"IFERROR(VLOOKUP(B4577,'Комиссии партнеров'!$A$2:$B$52,2,FALSE),\"\")","v":""}]
[182225,"","1945-05-24","оплачен",1372,{"$f":"IFERROR(VLOOKUP(B4578,'Комиссии партнеров'!$A$2:$B$52,2,FALSE),\"\")","v":""}]
[182228,"","1945-05-24","не оплачен",2953,{"$f":"IFERROR(VLOOKUP(B4579,'Комиссии партнеров'!$A$2:$B$52,2,FALSE),\"\")","v":""}]
[182233,"","1945-05-24","не оплачен",2005,{"$f":"IFERROR(VLOOKUP(B4580,'Комиссии партнеров'!$A$2:$B$52,2,FALSE),\"\")","v":""}]
[182236,"","1945-05-24","оплачен",3018,{"$f":"IFERROR(VLOOKUP(B4581,'Комиссии партнеров'!$A$2:$B$52,2,FALSE),\"\")","v":""}]
[182238,"Партнер номер 9","1945-05-24","оплачен",2419,{"$f":"IFERROR(VLOOKUP(B4582,'Комиссии партнеров'!$A$2:$B$52,2,FALSE),\"\")","v":0.05},120.95]
[182242,"","1945-05-24","оплачен",952,{"$f":"IFERROR(VLOOKUP(B4583,'Комиссии партнеров'!$A$2:$B$52,2,FALSE),\"\")","v":""}]
[182245,"","1945-05-24","оплачен",889,{"$f":"IFERROR(VLOOKUP(B4584,'Комиссии партнеров'!$A$2:$B$52,2,FALSE),\"\")","v":""}]
[182248,"Партнер номер 1","1945-05-24","оплачен",5171,{"$f":"IFERROR(VLOOKUP(B4585,'Комиссии партнеров'!$A$2:$B$52,2,FALSE),\"\")","v":0.05},258.55]
[182251,"Партнер номер 9","1945-05-24","оплачен",8921,{"$f":"IFERROR(VLOOKUP(B4586,'Комиссии партнеров'!$A$2:$B$52,2,FALSE),\"\")","v":0.05},446.05]
[182254,"","1945-05-24","оплачен",2291,{"$f":"IFERROR(VLOOKUP(B4587,'Комиссии партнеров'!$A$2:$B$52,2,FALSE),\"\")","v":""}]
[182259,"","1945-05-24","не оплачен",2159,{"$f":"IFERROR(VLOOKUP(B4588,'Комиссии партнеров'!$A$2:$B$52,2,FALSE),\"\")","v":""}]
[182263,"","1945-05-24","не оплачен",2290,{"$f":"IFERROR(VLOOKUP(B4589,'Комиссии партнеров'!$A$2:$B$52,2,FALSE),\"\")","v":""}]
[182268,"","1945-05-24","оплачен",2241,{"$f":"IFERROR(VLOOKUP(B4590,'Комиссии партнеров'!$A$2:$B$52,2,FALSE),\"\")","v":""}]
[182272,"Партнер номер 11","1945-05-24","не оплачен",1591,{"$f":"IFERROR(VLOOKUP(B4591,'Комиссии партнеров'!$A$2:$B$52,2,FALSE),\"\")","v":0.05},79.550000000000011]
[182274,"Партнер номер 1","1945-05-24","оплачен",1351,{"$f":"IFERROR(VLOOKUP(B4592,'Комиссии партнеров'!$A$2:$B$52,2,FALSE),\"\")","v":0.05},67.55]
[182278,"","1945-05-24","оплачен",2291,{"$f":"IFERROR(VLOOKUP(B4593,'Комиссии партнеров'!$A$2:$B$52,2,FALSE),\"\")","v":""}]
[182279,"","1945-05-24","не оплачен",5782,{"$f":"IFERROR(VLOOKUP(B4594,'Комиссии партнеров'!$A$2:$B$52,2,FALSE),\"\")","v":""}]
[182282,"","1945-05-24","не оплачен",2518,{"$f":"IFERROR(VLOOKUP(B4595,'Комиссии партнеров'!$A$2:$B$52,2,FALSE),\"\")","v":""}]
[182284,"Партнер номер 3","1945-05-24","не оплачен",6500,{"$f":"IFERROR(VLOOKUP(B4596,'Комиссии партнеров'!$A$2:$B$52,2,FALSE),\"\")","v":0.05},325]
[182289,"","1945-05-24","оплачен",976,{"$f":"IFERROR(VLOOKUP(B4597,'Комиссии партнеров'!$A$2:$B$52,2,FALSE),\"\")","v":""}]
[182293,"Партнер номер 7","1945-05-24","оплачен",1341,{"$f":"IFERROR(VLOOKUP(B4598,'Комиссии партнеров'!$A$2:$B$52,2,FALSE),\"\")","v":0.05},67.05]
[182298,"","1945-05-24","оплачен",2086,{"$f":"IFERROR(VLOOKUP(B4599,'Комиссии партнеров'!$A$2:$B$52,2,FALSE),\"\")","v":""}]
[182301,"","1945-05-24","не оплачен",5166,{"$f":"IFERROR(VLOOKUP(B4600,'Комиссии партнеров'!$A$2:$B$52,2,FALSE),\"\")","v":""}]
[182303,"","1945-05-24","оплачен",1882,{"$f":"IFERROR(VLOOKUP(B4601,'Комиссии партнеров'!$A$2:$B$52,2,FALSE),\"\")","v":""}]
[182305,"","1945-05-24","оплачен",2086,{"$f":"IFERROR(VLOOKUP(B4602,'Комиссии партнеров'!$A$2:$B$52,2,FALSE),\"\")","v":""}]
[182306,"Партнер номер 1","1945-05-24","оплачен",1344,{"$f":"IFERROR(VLOOKUP(B4603,'Комиссии партнеров'!$A$2:$B$52,2,FALSE),\"\")","v":0.05},67.2]
[182308,"","1945-05-24","оплачен",2489,{"$f":"IFERROR(VLOOKUP(B4604,'Комиссии партнеров'!$A$2:$B$52,2,FALSE),\"\")","v":""}]
[182313,"","1945-05-24","оплачен",2530,{"$f":"IFERROR(VLOOKUP(B4605,'Комиссии партнеров'!$A$2:$B$52,2,FALSE),\"\")","v":""}]
[182316,"Партнер номер 11","1945-05-24","оплачен",1539,{"$f":"IFERROR(VLOOKUP(B4606,'Комиссии партнеров'!$A$2:$B$52,2,FALSE),\"\")","v":0.05},76.95]
[182322,"Партнер номер 1","1945-05-24","оплачен",1170,{"$f":"IFERROR(VLOOKUP(B4607,'Комиссии партнеров'!$A$2:$B$52,2,FALSE),\"\")","v":0.05},58.5]
[182323,"","1945-05-24","оплачен",1409,{"$f":"IFERROR(VLOOKUP(B4608,'Комиссии партнеров'!$A$2:$B$52,2,FALSE),\"\")","v":""}]
[182326,"Партнер номер 1","1945-05-24","не оплачен",1973,{"$f":"IFERROR(VLOOKUP(B4609,'Комиссии партнеров'!$A$2:$B$52,2,FALSE),\"\")","v":0.05},98.65]
[182331,"Партнер номер 6","1945-05-24","оплачен",3363,{"$f":"IFERROR(VLOOKUP(B4610,'Комиссии партнеров'!$A$2:$B$52,2,FALSE),\"\")","v":0.04},134.52000000000001]
[182337,"","1945-05-24","не оплачен",1153,{"$f":"IFERROR(VLOOKUP(B4611,'Комиссии партнеров'!$A$2:$B$52,2,FALSE),\"\")","v":""}]
[182342,"Партнер номер 7","1945-05-24","оплачен",1211,{"$f":"IFERROR(VLOOKUP(B4612,'Комиссии партнеров'!$A$2:$B$52,2,FALSE),\"\")","v":0.05},60.550000000000004]
[182345,"Партнер номер 10","1945-05-24","оплачен",3010,{"$f":"IFERROR(VLOOKUP(B4613,'Комиссии партнеров'!$A$2:$B$52,2,FALSE),\"\")","v":0.04},120.4]
[182349,"Партнер номер 5","1945-05-24","оплачен",2392,{"$f":"IFERROR(VLOOKUP(B4614,'Комиссии партнеров'!$A$2:$B$52,2,FALSE),\"\")","v":0.03},71.759999999999991]
[182354,"","1945-05-24","оплачен",1471,{"$f":"IFERROR(VLOOKUP(B4615,'Комиссии партнеров'!$A$2:$B$52,2,FALSE),\"\")","v":""}]
[182357,"","1945-05-24","оплачен",912,{"$f":"IFERROR(VLOOKUP(B4616,'Комиссии партнеров'!$A$2:$B$52,2,FALSE),\"\")","v":""}]
[182362,"","1945-05-24","оплачен",3381,{"$f":"IFERROR(VLOOKUP(B4617,'Комиссии партнеров'!$A$2:$B$52,2,FALSE),\"\")","v":""}]
[182365,"","1945-05-24","оплачен",1406,{"$f":"IFERROR(VLOOKUP(B4618,'Комиссии партнеров'!$A$2:$B$52,2,FALSE),\"\")","v":""}]
[182368,"","1945-05-24","оплачен",850,{"$f":"IFERROR(VLOOKUP(B4619,'Комиссии партнеров'!$A$2:$B$52,2,FALSE),\"\")","v":""}]
[182371,"Партнер номер 1","1945-05-24","оплачен",1223,{"$f":"IFERROR(VLOOKUP(B4620,'Комиссии партнеров'!$A$2:$B$52,2,FALSE),\"\")","v":0.05},61.150000000000006]
[182376,"Партнер номер 1","1945-05-25","не оплачен",1229,{"$f":"IFERROR(VLOOKUP(B4621,'Комиссии партнеров'!$A$2:$B$52,2,FALSE),\"\")","v":0.05},61.45]
[182378,"Партнер номер 11","1945-05-25","оплачен",2545,{"$f":"IFERROR(VLOOKUP(B4622,'Комиссии партнеров'!$A$2:$B$52,2,FALSE),\"\")","v":0.05},127.25]
[182383,"Партнер номер 4","1945-05-25","не оплачен",3048,{"$f":"IFERROR(VLOOKUP(B4623,'Комиссии партнеров'!$A$2:$B$52,2,FALSE),\"\")","v":0.04},121.92]
[182388,"Партнер номер 11","1945-05-25","оплачен",1850,{"$f":"IFERROR(VLOOKUP(B4624,'Комиссии партнеров'!$A$2:$B$52,2,FALSE),\"\")","v":0.05},92.5]
[182391,"Партнер номер 1","1945-05-25","оплачен",1173,{"$f":"IFERROR(VLOOKUP(B4625,'Комиссии партнеров'!$A$2:$B$52,2,FALSE),\"\")","v":0.05},58.650000000000006]
[182394,"Партнер номер 7","1945-05-25","оплачен",2085,{"$f":"IFERROR(VLOOKUP(B4626,'Комиссии партнеров'!$A$2:$B$52,2,FALSE),\"\")","v":0.05},104.25]
[182396,"Партнер номер 4","1945-05-25","оплачен",1866,{"$f":"IFERROR(VLOOKUP(B4627,'Комиссии партнеров'!$A$2:$B$52,2,FALSE),\"\")","v":0.04},74.64]
[182399,"Партнер номер 2","1945-05-25","не оплачен",4193,{"$f":"IFERROR(VLOOKUP(B4628,'Комиссии партнеров'!$A$2:$B$52,2,FALSE),\"\")","v":0.04},167.72]
[182404,"","1945-05-25","оплачен",531,{"$f":"IFERROR(VLOOKUP(B4629,'Комиссии партнеров'!$A$2:$B$52,2,FALSE),\"\")","v":""}]
[182406,"","1945-05-25","не оплачен",898,{"$f":"IFERROR(VLOOKUP(B4630,'Комиссии партнеров'!$A$2:$B$52,2,FALSE),\"\")","v":""}]
[182410,"","1945-05-25","не оплачен",898,{"$f":"IFERROR(VLOOKUP(B4631,'Комиссии партнеров'!$A$2:$B$52,2,FALSE),\"\")","v":""}]
[182415,"","1945-05-25","оплачен",4781,{"$f":"IFERROR(VLOOKUP(B4632,'Комиссии партнеров'!$A$2:$B$52,2,FALSE),\"\")","v":""}]
[182419,"Партнер номер 4","1945-05-25","не оплачен",1750,{"$f":"IFERROR(VLOOKUP(B4633,'Комиссии партнеров'!$A$2:$B$52,2,FALSE),\"\")","v":0.04},70]
[182424,"","1945-05-25","оплачен",12820,{"$f":"IFERROR(VLOOKUP(B4634,'Комиссии партнеров'!$A$2:$B$52,2,FALSE),\"\")","v":""}]
[182427,"","1945-05-25","оплачен",1023,{"$f":"IFERROR(VLOOKUP(B4635,'Комиссии партнеров'!$A$2:$B$52,2,FALSE),\"\")","v":""}]
[182432,"Партнер номер 1","1945-05-25","оплачен",2453,{"$f":"IFERROR(VLOOKUP(B4636,'Комиссии партнеров'!$A$2:$B$52,2,FALSE),\"\")","v":0.05},122.65]
[182437,"Партнер номер 1","1945-05-25","оплачен",4260,{"$f":"IFERROR(VLOOKUP(B4637,'Комиссии партнеров'!$A$2:$B$52,2,FALSE),\"\")","v":0.05},213]
[182441,"","1945-05-25","не оплачен",1337,{"$f":"IFERROR(VLOOKUP(B4638,'Комиссии партнеров'!$A$2:$B$52,2,FALSE),\"\")","v":""}]
[182444,"","1945-05-25","не оплачен",2232,{"$f":"IFERROR(VLOOKUP(B4639,'Комиссии партнеров'!$A$2:$B$52,2,FALSE),\"\")","v":""}]
[182445,"Партнер номер 1","1945-05-25","не оплачен",783,{"$f":"IFERROR(VLOOKUP(B4640,'Комиссии партнеров'!$A$2:$B$52,2,FALSE),\"\")","v":0.05},39.150000000000006]
[182448,"Партнер номер 1","1945-05-25","оплачен",1702,{"$f":"IFERROR(VLOOKUP(B4641,'Комиссии партнеров'!$A$2:$B$52,2,FALSE),\"\")","v":0.05},85.100000000000009]
[182453,"","1945-05-25","не оплачен",1211,{"$f":"IFERROR(VLOOKUP(B4642,'Комиссии партнеров'!$A$2:$B$52,2,FALSE),\"\")","v":""}]
[182457,"","1945-05-25","не оплачен",7318,{"$f":"IFERROR(VLOOKUP(B4643,'Комиссии партнеров'!$A$2:$B$52,2,FALSE),\"\")","v":""}]
[182459,"","1945-05-25","оплачен",982,{"$f":"IFERROR(VLOOKUP(B4644,'Комиссии партнеров'!$A$2:$B$52,2,FALSE),\"\")","v":""}]
[182461,"Партнер номер 31","1945-05-25","не оплачен",927,{"$f":"IFERROR(VLOOKUP(B4645,'Комиссии партнеров'!$A$2:$B$52,2,FALSE),\"\")","v":0.03},27.81]
[182464,"Партнер номер 31","1945-05-25","не оплачен",1211,{"$f":"IFERROR(VLOOKUP(B4646,'Комиссии партнеров'!$A$2:$B$52,2,FALSE),\"\")","v":0.03},36.33]
[182474,"","1945-05-25","не оплачен",5945,{"$f":"IFERROR(VLOOKUP(B4647,'Комиссии партнеров'!$A$2:$B$52,2,FALSE),\"\")","v":""}]
[182477,"Партнер номер 11","1945-05-25","оплачен",2416,{"$f":"IFERROR(VLOOKUP(B4648,'Комиссии партнеров'!$A$2:$B$52,2,FALSE),\"\")","v":0.05},120.80000000000001]
[182480,"","1945-05-25","оплачен",3894,{"$f":"IFERROR(VLOOKUP(B4649,'Комиссии партнеров'!$A$2:$B$52,2,FALSE),\"\")","v":""}]
[182484,"","1945-05-25","не оплачен",1487,{"$f":"IFERROR(VLOOKUP(B4650,'Комиссии партнеров'!$A$2:$B$52,2,FALSE),\"\")","v":""}]
[182487,"Партнер номер 5","1945-05-25","оплачен",1731,{"$f":"IFERROR(VLOOKUP(B4651,'Комиссии партнеров'!$A$2:$B$52,2,FALSE),\"\")","v":0.03},51.93]
[182490,"","1945-05-25","оплачен",881,{"$f":"IFERROR(VLOOKUP(B4652,'Комиссии партнеров'!$A$2:$B$52,2,FALSE),\"\")","v":""}]
[182494,"","1945-05-25","не оплачен",2536,{"$f":"IFERROR(VLOOKUP(B4653,'Комиссии партнеров'!$A$2:$B$52,2,FALSE),\"\")","v":""}]
[182495,"Партнер номер 1","1945-05-25","оплачен",800,{"$f":"IFERROR(VLOOKUP(B4654,'Комиссии партнеров'!$A$2:$B$52,2,FALSE),\"\")","v":0.05},40]
[182500,"","1945-05-25","оплачен",881,{"$f":"IFERROR(VLOOKUP(B4655,'Комиссии партнеров'!$A$2:$B$52,2,FALSE),\"\")","v":""}]
[182503,"Партнер номер 13","1945-05-25","не оплачен",2506,{"$f":"IFERROR(VLOOKUP(B4656,'Комиссии партнеров'!$A$2:$B$52,2,FALSE),\"\")","v":0.05},125.30000000000001]
[182506,"Партнер номер 1","1945-05-25","оплачен",1487,{"$f":"IFERROR(VLOOKUP(B4657,'Комиссии партнеров'!$A$2:$B$52,2,FALSE),\"\")","v":0.05},74.350000000000009]
[182510,"Партнер номер 11","1945-05-25","оплачен",2578,{"$f":"IFERROR(VLOOKUP(B4658,'Комиссии партнеров'!$A$2:$B$52,2,FALSE),\"\")","v":0.05},128.9]
[182514,"Партнер номер 5","1945-05-25","не оплачен",1000,{"$f":"IFERROR(VLOOKUP(B4659,'Комиссии партнеров'!$A$2:$B$52,2,FALSE),\"\")","v":0.03},30]
[182517,"Партнер номер 7","1945-05-25","оплачен",2116,{"$f":"IFERROR(VLOOKUP(B4660,'Комиссии партнеров'!$A$2:$B$52,2,FALSE),\"\")","v":0.05},105.80000000000001]
[182522,"Партнер номер 1","1945-05-25","оплачен",569,{"$f":"IFERROR(VLOOKUP(B4661,'Комиссии партнеров'!$A$2:$B$52,2,FALSE),\"\")","v":0.05},28.450000000000003]
[182527,"Партнер номер 1","1945-05-25","оплачен",2186,{"$f":"IFERROR(VLOOKUP(B4662,'Комиссии партнеров'!$A$2:$B$52,2,FALSE),\"\")","v":0.05},109.30000000000001]
[182533,"","1945-05-25","не оплачен",3016,{"$f":"IFERROR(VLOOKUP(B4663,'Комиссии партнеров'!$A$2:$B$52,2,FALSE),\"\")","v":""}]
[182538,"Партнер номер 1","1945-05-25","оплачен",947,{"$f":"IFERROR(VLOOKUP(B4664,'Комиссии партнеров'!$A$2:$B$52,2,FALSE),\"\")","v":0.05},47.35]
[182541,"Партнер номер 7","1945-05-25","оплачен",2116,{"$f":"IFERROR(VLOOKUP(B4665,'Комиссии партнеров'!$A$2:$B$52,2,FALSE),\"\")","v":0.05},105.80000000000001]
[182544,"Партнер номер 1","1945-05-25","оплачен",569,{"$f":"IFERROR(VLOOKUP(B4666,'Комиссии партнеров'!$A$2:$B$52,2,FALSE),\"\")","v":0.05},28.450000000000003]
[182546,"Партнер номер 7","1945-05-25","оплачен",2033,{"$f":"IFERROR(VLOOKUP(B4667,'Комиссии партнеров'!$A$2:$B$52,2,FALSE),\"\")","v":0.05},101.65]
[182551,"","1945-05-25","не оплачен",794,{"$f":"IFERROR(VLOOKUP(B4668,'Комиссии партнеров'!$A$2:$B$52,2,FALSE),\"\")","v":""}]
[182556,"Партнер номер 30","1945-05-25","не оплачен",774,{"$f":"IFERROR(VLOOKUP(B4669,'Комиссии партнеров'!$A$2:$B$52,2,FALSE),\"\")","v":0.05},38.700000000000003]
[182558,"","1945-05-25","не оплачен",2206,{"$f":"IFERROR(VLOOKUP(B4670,'Комиссии партнеров'!$A$2:$B$52,2,FALSE),\"\")","v":""}]
[182568,"Партнер номер 3","1945-05-25","не оплачен",946,{"$f":"IFERROR(VLOOKUP(B4671,'Комиссии партнеров'!$A$2:$B$52,2,FALSE),\"\")","v":0.05},47.300000000000004]
[182572,"","1945-05-25","не оплачен",2418,{"$f":"IFERROR(VLOOKUP(B4672,'Комиссии партнеров'!$A$2:$B$52,2,FALSE),\"\")","v":""}]
[182582,"","1945-05-25","оплачен",1735,{"$f":"IFERROR(VLOOKUP(B4673,'Комиссии партнеров'!$A$2:$B$52,2,FALSE),\"\")","v":""}]
[182589,"Партнер номер 5","1945-05-25","оплачен",773,{"$f":"IFERROR(VLOOKUP(B4674,'Комиссии партнеров'!$A$2:$B$52,2,FALSE),\"\")","v":0.03},23.189999999999998]
[182591,"","1945-05-25","не оплачен",705,{"$f":"IFERROR(VLOOKUP(B4675,'Комиссии партнеров'!$A$2:$B$52,2,FALSE),\"\")","v":""}]
[182600,"Партнер номер 1","1945-05-25","оплачен",1601,{"$f":"IFERROR(VLOOKUP(B4676,'Комиссии партнеров'!$A$2:$B$52,2,FALSE),\"\")","v":0.05},80.050000000000011]
[182602,"Партнер номер 4","1945-05-25","оплачен",1110,{"$f":"IFERROR(VLOOKUP(B4677,'Комиссии партнеров'!$A$2:$B$52,2,FALSE),\"\")","v":0.04},44.4]
[182606,"Партнер номер 7","1945-05-25","оплачен",1093,{"$f":"IFERROR(VLOOKUP(B4678,'Комиссии партнеров'!$A$2:$B$52,2,FALSE),\"\")","v":0.05},54.650000000000006]
[182615,"Партнер номер 7","1945-05-25","оплачен",1220,{"$f":"IFERROR(VLOOKUP(B4679,'Комиссии партнеров'!$A$2:$B$52,2,FALSE),\"\")","v":0.05},61]
[182619,"Партнер номер 5","1945-05-25","оплачен",1392,{"$f":"IFERROR(VLOOKUP(B4680,'Комиссии партнеров'!$A$2:$B$52,2,FALSE),\"\")","v":0.03},41.76]
[182625,"","1945-05-25","не оплачен",1127,{"$f":"IFERROR(VLOOKUP(B4681,'Комиссии партнеров'!$A$2:$B$52,2,FALSE),\"\")","v":""}]
[182628,"","1945-05-25","не оплачен",1638,{"$f":"IFERROR(VLOOKUP(B4682,'Комиссии партнеров'!$A$2:$B$52,2,FALSE),\"\")","v":""}]
[182630,"Партнер номер 46","1945-05-25","оплачен",1544,{"$f":"IFERROR(VLOOKUP(B4683,'Комиссии партнеров'!$A$2:$B$52,2,FALSE),\"\")","v":0.05},77.2]
[182635,"Партнер номер 1","1945-05-25","оплачен",676,{"$f":"IFERROR(VLOOKUP(B4684,'Комиссии партнеров'!$A$2:$B$52,2,FALSE),\"\")","v":0.05},33.800000000000004]
[182637,"Партнер номер 3","1945-05-25","оплачен",569,{"$f":"IFERROR(VLOOKUP(B4685,'Комиссии партнеров'!$A$2:$B$52,2,FALSE),\"\")","v":0.05},28.450000000000003]
[182642,"Партнер номер 3","1945-05-25","оплачен",1120,{"$f":"IFERROR(VLOOKUP(B4686,'Комиссии партнеров'!$A$2:$B$52,2,FALSE),\"\")","v":0.05},56]
[182647,"Партнер номер 5","1945-05-25","оплачен",1720,{"$f":"IFERROR(VLOOKUP(B4687,'Комиссии партнеров'!$A$2:$B$52,2,FALSE),\"\")","v":0.03},51.6]
[182652,"","1945-05-25","оплачен",1839,{"$f":"IFERROR(VLOOKUP(B4688,'Комиссии партнеров'!$A$2:$B$52,2,FALSE),\"\")","v":""}]
[182654,"Партнер номер 1","1945-05-25","оплачен",2127,{"$f":"IFERROR(VLOOKUP(B4689,'Комиссии партнеров'!$A$2:$B$52,2,FALSE),\"\")","v":0.05},106.35000000000001]
[182658,"Партнер номер 1","1945-05-25","не оплачен",627,{"$f":"IFERROR(VLOOKUP(B4690,'Комиссии партнеров'!$A$2:$B$52,2,FALSE),\"\")","v":0.05},31.35]
[182660,"","1945-05-25","оплачен",1390,{"$f":"IFERROR(VLOOKUP(B4691,'Комиссии партнеров'!$A$2:$B$52,2,FALSE),\"\")","v":""}]
[182665,"Партнер номер 3","1945-05-25","не оплачен",673,{"$f":"IFERROR(VLOOKUP(B4692,'Комиссии партнеров'!$A$2:$B$52,2,FALSE),\"\")","v":0.05},33.65]
[182670,"Партнер номер 1","1945-05-25","не оплачен",706,{"$f":"IFERROR(VLOOKUP(B4693,'Комиссии партнеров'!$A$2:$B$52,2,FALSE),\"\")","v":0.05},35.300000000000004]
[182673,"","1945-05-25","оплачен",1332,{"$f":"IFERROR(VLOOKUP(B4694,'Комиссии партнеров'!$A$2:$B$52,2,FALSE),\"\")","v":""}]
[182677,"Партнер номер 10","1945-05-25","оплачен",0,{"$f":"IFERROR(VLOOKUP(B4695,'Комиссии партнеров'!$A$2:$B$52,2,FALSE),\"\")","v":0.04},0]
[182681,"","1945-05-25","оплачен",2305,{"$f":"IFERROR(VLOOKUP(B4696,'Комиссии партнеров'!$A$2:$B$52,2,FALSE),\"\")","v":""}]
[182686,"","1945-05-25","оплачен",1846,{"$f":"IFERROR(VLOOKUP(B4697,'Комиссии партнеров'!$A$2:$B$52,2,FALSE),\"\")","v":""}]
[182690,"","1945-05-25","оплачен",941,{"$f":"IFERROR(VLOOKUP(B4698,'Комиссии партнеров'!$A$2:$B$52,2,FALSE),\"\")","v":""}]
[182692,"","1945-05-25","оплачен",969,{"$f":"IFERROR(VLOOKUP(B4699,'Комиссии партнеров'!$A$2:$B$52,2,FALSE),\"\")","v":""}]
[182697,"Партнер номер 46","1945-05-25","оплачен",1408,{"$f":"IFERROR(VLOOKUP(B4700,'Комиссии партнеров'!$A$2:$B$52,2,FALSE),\"\")","v":0.05},70.400000000000006]
[182700,"Партнер номер 1","1945-05-25","оплачен",666,{"$f":"IFERROR(VLOOKUP(B4701,'Комиссии партнеров'!$A$2:$B$52,2,FALSE),\"\")","v":0.05},33.300000000000004]
[182705,"","1945-05-25","оплачен",2203,{"$f":"IFERROR(VLOOKUP(B4702,'Комиссии партнеров'!$A$2:$B$52,2,FALSE),\"\")","v":""}]
[182707,"Партнер номер 1","1945-05-25","оплачен",1644,{"$f":"IFERROR(VLOOKUP(B4703,'Комиссии партнеров'!$A$2:$B$52,2,FALSE),\"\")","v":0.05},82.2]
[182712,"Партнер номер 1","1945-05-25","оплачен",542,{"$f":"IFERROR(VLOOKUP(B4704,'Комиссии партнеров'!$A$2:$B$52,2,FALSE),\"\")","v":0.05},27.1]
[182717,"","1945-05-25","оплачен",1924,{"$f":"IFERROR(VLOOKUP(B4705,'Комиссии партнеров'!$A$2:$B$52,2,FALSE),\"\")","v":""}]
[182722,"Партнер номер 5","1945-05-25","не оплачен",865,{"$f":"IFERROR(VLOOKUP(B4706,'Комиссии партнеров'!$A$2:$B$52,2,FALSE),\"\")","v":0.03},25.95]
[182725,"Партнер номер 1","1945-05-25","оплачен",1277,{"$f":"IFERROR(VLOOKUP(B4707,'Комиссии партнеров'!$A$2:$B$52,2,FALSE),\"\")","v":0.05},63.85]
[182729,"","1945-05-25","оплачен",3425,{"$f":"IFERROR(VLOOKUP(B4708,'Комиссии партнеров'!$A$2:$B$52,2,FALSE),\"\")","v":""}]
[182732,"Партнер номер 1","1945-05-25","не оплачен",992,{"$f":"IFERROR(VLOOKUP(B4709,'Комиссии партнеров'!$A$2:$B$52,2,FALSE),\"\")","v":0.05},49.6]
[182748,"Партнер номер 3","1945-05-25","не оплачен",1495,{"$f":"IFERROR(VLOOKUP(B4710,'Комиссии партнеров'!$A$2:$B$52,2,FALSE),\"\")","v":0.05},74.75]
[182754,"Партнер номер 7","1945-05-25","оплачен",1727,{"$f":"IFERROR(VLOOKUP(B4711,'Комиссии партнеров'!$A$2:$B$52,2,FALSE),\"\")","v":0.05},86.350000000000009]
[182755,"","1945-05-25","оплачен",450,{"$f":"IFERROR(VLOOKUP(B4712,'Комиссии партнеров'!$A$2:$B$52,2,FALSE),\"\")","v":""}]
[182757,"","1945-05-25","оплачен",2056,{"$f":"IFERROR(VLOOKUP(B4713,'Комиссии партнеров'!$A$2:$B$52,2,FALSE),\"\")","v":""}]
[182762,"","1945-05-25","не оплачен",1138,{"$f":"IFERROR(VLOOKUP(B4714,'Комиссии партнеров'!$A$2:$B$52,2,FALSE),\"\")","v":""}]
[182764,"Партнер номер 7","1945-05-25","не оплачен",3489,{"$f":"IFERROR(VLOOKUP(B4715,'Комиссии партнеров'!$A$2:$B$52,2,FALSE),\"\")","v":0.05},174.45000000000002]
[182767,"Партнер номер 28","1945-05-25","не оплачен",5017,{"$f":"IFERROR(VLOOKUP(B4716,'Комиссии партнеров'!$A$2:$B$52,2,FALSE),\"\")","v":0.05},250.85000000000002]
[182768,"Партнер номер 1","1945-05-25","не оплачен",932,{"$f":"IFERROR(VLOOKUP(B4717,'Комиссии партнеров'!$A$2:$B$52,2,FALSE),\"\")","v":0.05},46.6]
[182772,"Партнер номер 5","1945-05-25","оплачен",2964,{"$f":"IFERROR(VLOOKUP(B4718,'Комиссии партнеров'!$A$2:$B$52,2,FALSE),\"\")","v":0.03},88.92]
[182773,"Партнер номер 1","1945-05-25","не оплачен",754,{"$f":"IFERROR(VLOOKUP(B4719,'Комиссии партнеров'!$A$2:$B$52,2,FALSE),\"\")","v":0.05},37.700000000000003]
[182775,"Партнер номер 3","1945-05-25","не оплачен",2066,{"$f":"IFERROR(VLOOKUP(B4720,'Комиссии партнеров'!$A$2:$B$52,2,FALSE),\"\")","v":0.05},103.30000000000001]
[182780,"Партнер номер 7","1945-05-25","не оплачен",3307,{"$f":"IFERROR(VLOOKUP(B4721,'Комиссии партнеров'!$A$2:$B$52,2,FALSE),\"\")","v":0.05},165.35000000000002]
[182785,"","1945-05-25","оплачен",2190,{"$f":"IFERROR(VLOOKUP(B4722,'Комиссии партнеров'!$A$2:$B$52,2,FALSE),\"\")","v":""}]
[182788,"Партнер номер 6","1945-05-25","не оплачен",1559,{"$f":"IFERROR(VLOOKUP(B4723,'Комиссии партнеров'!$A$2:$B$52,2,FALSE),\"\")","v":0.04},62.36]
[182790,"Партнер номер 7","1945-05-25","оплачен",3716,{"$f":"IFERROR(VLOOKUP(B4724,'Комиссии партнеров'!$A$2:$B$52,2,FALSE),\"\")","v":0.05},185.8]
[182794,"","1945-05-25","не оплачен",4493,{"$f":"IFERROR(VLOOKUP(B4725,'Комиссии партнеров'!$A$2:$B$52,2,FALSE),\"\")","v":""}]
[182795,"Партнер номер 2","1945-05-25","оплачен",3172,{"$f":"IFERROR(VLOOKUP(B4726,'Комиссии партнеров'!$A$2:$B$52,2,FALSE),\"\")","v":0.04},126.88000000000001]
[182798,"Партнер номер 3","1945-05-25","оплачен",1751,{"$f":"IFERROR(VLOOKUP(B4727,'Комиссии партнеров'!$A$2:$B$52,2,FALSE),\"\")","v":0.05},87.550000000000011]
[182802,"Партнер номер 1","1945-05-25","не оплачен",1775,{"$f":"IFERROR(VLOOKUP(B4728,'Комиссии партнеров'!$A$2:$B$52,2,FALSE),\"\")","v":0.05},88.75]
[182805,"","1945-05-25","не оплачен",5499,{"$f":"IFERROR(VLOOKUP(B4729,'Комиссии партнеров'!$A$2:$B$52,2,FALSE),\"\")","v":""}]
[182807,"","1945-05-25","оплачен",1481,{"$f":"IFERROR(VLOOKUP(B4730,'Комиссии партнеров'!$A$2:$B$52,2,FALSE),\"\")","v":""}]
[182812,"","1945-05-25","оплачен",1654,{"$f":"IFERROR(VLOOKUP(B4731,'Комиссии партнеров'!$A$2:$B$52,2,FALSE),\"\")","v":""}]
[182817,"Партнер номер 22","1945-05-25","не оплачен",640,{"$f":"IFERROR(VLOOKUP(B4732,'Комиссии партнеров'!$A$2:$B$52,2,FALSE),\"\")","v":0.05},32]
[182821,"Партнер номер 1","1945-05-25","оплачен",3595,{"$f":"IFERROR(VLOOKUP(B4733,'Комиссии партнеров'!$A$2:$B$52,2,FALSE),\"\")","v":0.05},179.75]
[182823,"","1945-05-25","не оплачен",2359,{"$f":"IFERROR(VLOOKUP(B4734,'Комиссии партнеров'!$A$2:$B$52,2,FALSE),\"\")","v":""}]
[182829,"Партнер номер 11","1945-05-25","оплачен",1799,{"$f":"IFERROR(VLOOKUP(B4735,'Комиссии партнеров'!$A$2:$B$52,2,FALSE),\"\")","v":0.05},89.95]
[182834,"Партнер номер 1","1945-05-25","не оплачен",502,{"$f":"IFERROR(VLOOKUP(B4736,'Комиссии партнеров'!$A$2:$B$52,2,FALSE),\"\")","v":0.05},25.1]
[182839,"","1945-05-25","не оплачен",1342,{"$f":"IFERROR(VLOOKUP(B4737,'Комиссии партнеров'!$A$2:$B$52,2,FALSE),\"\")","v":""}]
[182842,"Партнер номер 1","1945-05-25","оплачен",5698,{"$f":"IFERROR(VLOOKUP(B4738,'Комиссии партнеров'!$A$2:$B$52,2,FALSE),\"\")","v":0.05},284.90000000000003]
[182844,"Партнер номер 1","1945-05-25","оплачен",930,{"$f":"IFERROR(VLOOKUP(B4739,'Комиссии партнеров'!$A$2:$B$52,2,FALSE),\"\")","v":0.05},46.5]
[182848,"Партнер номер 7","1945-05-25","оплачен",2747,{"$f":"IFERROR(VLOOKUP(B4740,'Комиссии партнеров'!$A$2:$B$52,2,FALSE),\"\")","v":0.05},137.35]
[182852,"Партнер номер 1","1945-05-25","оплачен",885,{"$f":"IFERROR(VLOOKUP(B4741,'Комиссии партнеров'!$A$2:$B$52,2,FALSE),\"\")","v":0.05},44.25]
[182855,"","1945-05-25","оплачен",1853,{"$f":"IFERROR(VLOOKUP(B4742,'Комиссии партнеров'!$A$2:$B$52,2,FALSE),\"\")","v":""}]
[182856,"","1945-05-25","не оплачен",1448,{"$f":"IFERROR(VLOOKUP(B4743,'Комиссии партнеров'!$A$2:$B$52,2,FALSE),\"\")","v":""}]
[182862,"","1945-05-25","не оплачен",1550,{"$f":"IFERROR(VLOOKUP(B4744,'Комиссии партнеров'!$A$2:$B$52,2,FALSE),\"\")","v":""}]
[182866,"Партнер номер 1","1945-05-25","не оплачен",5234,{"$f":"IFERROR(VLOOKUP(B4745,'Комиссии партнеров'!$A$2:$B$52,2,FALSE),\"\")","v":0.05},261.7]
[182870,"","1945-05-25","оплачен",1643,{"$f":"IFERROR(VLOOKUP(B4746,'Комиссии партнеров'!$A$2:$B$52,2,FALSE),\"\")","v":""}]
[182875,"","1945-05-25","оплачен",681,{"$f":"IFERROR(VLOOKUP(B4747,'Комиссии партнеров'!$A$2:$B$52,2,FALSE),\"\")","v":""}]
[182878,"","1945-05-25","оплачен",1216,{"$f":"IFERROR(VLOOKUP(B4748,'Комиссии партнеров'!$A$2:$B$52,2,FALSE),\"\")","v":""}]
[182879,"Партнер номер 1","1945-05-25","не оплачен",3956,{"$f":"IFERROR(VLOOKUP(B4749,'Комиссии партнеров'!$A$2:$B$52,2,FALSE),\"\")","v":0.05},197.8]
[182885,"Партнер номер 1","1945-05-25","оплачен",2117,{"$f":"IFERROR(VLOOKUP(B4750,'Комиссии партнеров'!$A$2:$B$52,2,FALSE),\"\")","v":0.05},105.85000000000001]
[182890,"Партнер номер 1","1945-05-25","оплачен",2238,{"$f":"IFERROR(VLOOKUP(B4751,'Комиссии партнеров'!$A$2:$B$52,2,FALSE),\"\")","v":0.05},111.9]
[182894,"Партнер номер 7","1945-05-25","оплачен",1543,{"$f":"IFERROR(VLOOKUP(B4752,'Комиссии партнеров'!$A$2:$B$52,2,FALSE),\"\")","v":0.05},77.150000000000006]
[182899,"","1945-05-26","оплачен",0,{"$f":"IFERROR(VLOOKUP(B4753,'Комиссии партнеров'!$A$2:$B$52,2,FALSE),\"\")","v":""}]
[182902,"","1945-05-26","оплачен",0,{"$f":"IFERROR(VLOOKUP(B4754,'Комиссии партнеров'!$A$2:$B$52,2,FALSE),\"\")","v":""}]
[182905,"","1945-05-26","оплачен",4236,{"$f":"IFERROR(VLOOKUP(B4755,'Комиссии партнеров'!$A$2:$B$52,2,FALSE),\"\")","v":""}]
[182908,"","1945-05-26","не оплачен",2329,{"$f":"IFERROR(VLOOKUP(B4756,'Комиссии партнеров'!$A$2:$B$52,2,FALSE),\"\")","v":""}]
[182911,"Партнер номер 1","1945-05-26","оплачен",1470,{"$f":"IFERROR(VLOOKUP(B4757,'Комиссии партнеров'!$A$2:$B$52,2,FALSE),\"\")","v":0.05},73.5]
[182914,"","1945-05-26","оплачен",4137,{"$f":"IFERROR(VLOOKUP(B4758,'Комиссии партнеров'!$A$2:$B$52,2,FALSE),\"\")","v":""}]
[182918,"","1945-05-26","не оплачен",1329,{"$f":"IFERROR(VLOOKUP(B4759,'Комиссии партнеров'!$A$2:$B$52,2,FALSE),\"\")","v":""}]
[182924,"Партнер номер 1","1945-05-26","оплачен",3347,{"$f":"IFERROR(VLOOKUP(B4760,'Комиссии партнеров'!$A$2:$B$52,2,FALSE),\"\")","v":0.05},167.35000000000002]
[182927,"","1945-05-26","не оплачен",1822,{"$f":"IFERROR(VLOOKUP(B4761,'Комиссии партнеров'!$A$2:$B$52,2,FALSE),\"\")","v":""}]
[182929,"","1945-05-26","оплачен",2170,{"$f":"IFERROR(VLOOKUP(B4762,'Комиссии партнеров'!$A$2:$B$52,2,FALSE),\"\")","v":""}]
[182932,"Партнер номер 9","1945-05-26","оплачен",1692,{"$f":"IFERROR(VLOOKUP(B4763,'Комиссии партнеров'!$A$2:$B$52,2,FALSE),\"\")","v":0.05},84.600000000000009]
[182936,"","1945-05-26","не оплачен",2460,{"$f":"IFERROR(VLOOKUP(B4764,'Комиссии партнеров'!$A$2:$B$52,2,FALSE),\"\")","v":""}]
[182940,"Партнер номер 4","1945-05-26","не оплачен",3006,{"$f":"IFERROR(VLOOKUP(B4765,'Комиссии партнеров'!$A$2:$B$52,2,FALSE),\"\")","v":0.04},120.24000000000001]
[182944,"","1945-05-26","оплачен",3974,{"$f":"IFERROR(VLOOKUP(B4766,'Комиссии партнеров'!$A$2:$B$52,2,FALSE),\"\")","v":""}]
[182946,"","1945-05-26","оплачен",7559,{"$f":"IFERROR(VLOOKUP(B4767,'Комиссии партнеров'!$A$2:$B$52,2,FALSE),\"\")","v":""}]
[182948,"Партнер номер 1","1945-05-26","не оплачен",774,{"$f":"IFERROR(VLOOKUP(B4768,'Комиссии партнеров'!$A$2:$B$52,2,FALSE),\"\")","v":0.05},38.700000000000003]
[182952,"","1945-05-26","оплачен",1602,{"$f":"IFERROR(VLOOKUP(B4769,'Комиссии партнеров'!$A$2:$B$52,2,FALSE),\"\")","v":""}]
[182957,"Партнер номер 1","1945-05-26","оплачен",1488,{"$f":"IFERROR(VLOOKUP(B4770,'Комиссии партнеров'!$A$2:$B$52,2,FALSE),\"\")","v":0.05},74.400000000000006]
[182958,"Партнер номер 11","1945-05-26","не оплачен",1188,{"$f":"IFERROR(VLOOKUP(B4771,'Комиссии партнеров'!$A$2:$B$52,2,FALSE),\"\")","v":0.05},59.400000000000006]
[182963,"","1945-05-26","не оплачен",8038,{"$f":"IFERROR(VLOOKUP(B4772,'Комиссии партнеров'!$A$2:$B$52,2,FALSE),\"\")","v":""}]
[182966,"","1945-05-26","не оплачен",4474,{"$f":"IFERROR(VLOOKUP(B4773,'Комиссии партнеров'!$A$2:$B$52,2,FALSE),\"\")","v":""}]
[182968,"","1945-05-26","не оплачен",826,{"$f":"IFERROR(VLOOKUP(B4774,'Комиссии партнеров'!$A$2:$B$52,2,FALSE),\"\")","v":""}]
[182970,"","1945-05-26","не оплачен",1120,{"$f":"IFERROR(VLOOKUP(B4775,'Комиссии партнеров'!$A$2:$B$52,2,FALSE),\"\")","v":""}]
[182971,"Партнер номер 1","1945-05-26","оплачен",2149,{"$f":"IFERROR(VLOOKUP(B4776,'Комиссии партнеров'!$A$2:$B$52,2,FALSE),\"\")","v":0.05},107.45]
[182974,"Партнер номер 10","1945-05-26","не оплачен",1537,{"$f":"IFERROR(VLOOKUP(B4777,'Комиссии партнеров'!$A$2:$B$52,2,FALSE),\"\")","v":0.04},61.480000000000004]
[182976,"Партнер номер 11","1945-05-26","не оплачен",2374,{"$f":"IFERROR(VLOOKUP(B4778,'Комиссии партнеров'!$A$2:$B$52,2,FALSE),\"\")","v":0.05},118.7]
[182980,"","1945-05-26","оплачен",1403,{"$f":"IFERROR(VLOOKUP(B4779,'Комиссии партнеров'!$A$2:$B$52,2,FALSE),\"\")","v":""}]
[182984,"","1945-05-26","оплачен",1294,{"$f":"IFERROR(VLOOKUP(B4780,'Комиссии партнеров'!$A$2:$B$52,2,FALSE),\"\")","v":""}]
[182987,"","1945-05-26","оплачен",2809,{"$f":"IFERROR(VLOOKUP(B4781,'Комиссии партнеров'!$A$2:$B$52,2,FALSE),\"\")","v":""}]
[182992,"Партнер номер 3","1945-05-26","оплачен",1694,{"$f":"IFERROR(VLOOKUP(B4782,'Комиссии партнеров'!$A$2:$B$52,2,FALSE),\"\")","v":0.05},84.7]
[182996,"Партнер номер 1","1945-05-26","оплачен",2208,{"$f":"IFERROR(VLOOKUP(B4783,'Комиссии партнеров'!$A$2:$B$52,2,FALSE),\"\")","v":0.05},110.4]
[183001,"","1945-05-26","оплачен",1439,{"$f":"IFERROR(VLOOKUP(B4784,'Комиссии партнеров'!$A$2:$B$52,2,FALSE),\"\")","v":""}]
[183006,"","1945-05-26","оплачен",510,{"$f":"IFERROR(VLOOKUP(B4785,'Комиссии партнеров'!$A$2:$B$52,2,FALSE),\"\")","v":""}]
[183009,"","1945-05-26","не оплачен",4736,{"$f":"IFERROR(VLOOKUP(B4786,'Комиссии партнеров'!$A$2:$B$52,2,FALSE),\"\")","v":""}]
[183013,"","1945-05-26","не оплачен",2565,{"$f":"IFERROR(VLOOKUP(B4787,'Комиссии партнеров'!$A$2:$B$52,2,FALSE),\"\")","v":""}]
[183019,"Партнер номер 28","1945-05-26","оплачен",809,{"$f":"IFERROR(VLOOKUP(B4788,'Комиссии партнеров'!$A$2:$B$52,2,FALSE),\"\")","v":0.05},40.450000000000003]
[183023,"Партнер номер 11","1945-05-26","оплачен",1743,{"$f":"IFERROR(VLOOKUP(B4789,'Комиссии партнеров'!$A$2:$B$52,2,FALSE),\"\")","v":0.05},87.15]
[183026,"","1945-05-26","оплачен",4736,{"$f":"IFERROR(VLOOKUP(B4790,'Комиссии партнеров'!$A$2:$B$52,2,FALSE),\"\")","v":""}]
[183029,"","1945-05-26","оплачен",864,{"$f":"IFERROR(VLOOKUP(B4791,'Комиссии партнеров'!$A$2:$B$52,2,FALSE),\"\")","v":""}]
[183034,"","1945-05-26","оплачен",1779,{"$f":"IFERROR(VLOOKUP(B4792,'Комиссии партнеров'!$A$2:$B$52,2,FALSE),\"\")","v":""}]
[183036,"","1945-05-26","оплачен",1120,{"$f":"IFERROR(VLOOKUP(B4793,'Комиссии партнеров'!$A$2:$B$52,2,FALSE),\"\")","v":""}]
[183040,"Партнер номер 19","1945-05-26","оплачен",681,{"$f":"IFERROR(VLOOKUP(B4794,'Комиссии партнеров'!$A$2:$B$52,2,FALSE),\"\")","v":0.05},34.050000000000004]
[183045,"","1945-05-26","оплачен",1370,{"$f":"IFERROR(VLOOKUP(B4795,'Комиссии партнеров'!$A$2:$B$52,2,FALSE),\"\")","v":""}]
[183047,"","1945-05-26","оплачен",2183,{"$f":"IFERROR(VLOOKUP(B4796,'Комиссии партнеров'!$A$2:$B$52,2,FALSE),\"\")","v":""}]
[183050,"Партнер номер 3","1945-05-26","оплачен",779,{"$f":"IFERROR(VLOOKUP(B4797,'Комиссии партнеров'!$A$2:$B$52,2,FALSE),\"\")","v":0.05},38.950000000000003]
[183052,"","1945-05-26","оплачен",1792,{"$f":"IFERROR(VLOOKUP(B4798,'Комиссии партнеров'!$A$2:$B$52,2,FALSE),\"\")","v":""}]
[183056,"Партнер номер 1","1945-05-26","не оплачен",2521,{"$f":"IFERROR(VLOOKUP(B4799,'Комиссии партнеров'!$A$2:$B$52,2,FALSE),\"\")","v":0.05},126.05000000000001]
[183059,"Партнер номер 6","1945-05-26","не оплачен",1269,{"$f":"IFERROR(VLOOKUP(B4800,'Комиссии партнеров'!$A$2:$B$52,2,FALSE),\"\")","v":0.04},50.76]
[183063,"Партнер номер 4","1945-05-26","не оплачен",1552,{"$f":"IFERROR(VLOOKUP(B4801,'Комиссии партнеров'!$A$2:$B$52,2,FALSE),\"\")","v":0.04},62.08]
[183068,"Партнер номер 3","1945-05-26","оплачен",2730,{"$f":"IFERROR(VLOOKUP(B4802,'Комиссии партнеров'!$A$2:$B$52,2,FALSE),\"\")","v":0.05},136.5]
[183070,"","1945-05-26","не оплачен",1480,{"$f":"IFERROR(VLOOKUP(B4803,'Комиссии партнеров'!$A$2:$B$52,2,FALSE),\"\")","v":""}]
[183075,"","1945-05-26","оплачен",3485,{"$f":"IFERROR(VLOOKUP(B4804,'Комиссии партнеров'!$A$2:$B$52,2,FALSE),\"\")","v":""}]
[183080,"Партнер номер 1","1945-05-26","оплачен",2254,{"$f":"IFERROR(VLOOKUP(B4805,'Комиссии партнеров'!$A$2:$B$52,2,FALSE),\"\")","v":0.05},112.7]
[183085,"Партнер номер 1","1945-05-26","не оплачен",1445,{"$f":"IFERROR(VLOOKUP(B4806,'Комиссии партнеров'!$A$2:$B$52,2,FALSE),\"\")","v":0.05},72.25]
[183087,"Партнер номер 1","1945-05-26","оплачен",719,{"$f":"IFERROR(VLOOKUP(B4807,'Комиссии партнеров'!$A$2:$B$52,2,FALSE),\"\")","v":0.05},35.950000000000003]
[183089,"","1945-05-26","не оплачен",2225,{"$f":"IFERROR(VLOOKUP(B4808,'Комиссии партнеров'!$A$2:$B$52,2,FALSE),\"\")","v":""}]
[183094,"","1945-05-26","оплачен",1034,{"$f":"IFERROR(VLOOKUP(B4809,'Комиссии партнеров'!$A$2:$B$52,2,FALSE),\"\")","v":""}]
[183096,"","1945-05-26","оплачен",2412,{"$f":"IFERROR(VLOOKUP(B4810,'Комиссии партнеров'!$A$2:$B$52,2,FALSE),\"\")","v":""}]
[183101,"Партнер номер 4","1945-05-26","не оплачен",1949,{"$f":"IFERROR(VLOOKUP(B4811,'Комиссии партнеров'!$A$2:$B$52,2,FALSE),\"\")","v":0.04},77.960000000000008]
[183105,"","1945-05-26","оплачен",1724,{"$f":"IFERROR(VLOOKUP(B4812,'Комиссии партнеров'!$A$2:$B$52,2,FALSE),\"\")","v":""}]
[183107,"","1945-05-26","не оплачен",1680,{"$f":"IFERROR(VLOOKUP(B4813,'Комиссии партнеров'!$A$2:$B$52,2,FALSE),\"\")","v":""}]
[183109,"","1945-05-26","оплачен",3882,{"$f":"IFERROR(VLOOKUP(B4814,'Комиссии партнеров'!$A$2:$B$52,2,FALSE),\"\")","v":""}]
[183113,"Партнер номер 1","1945-05-26","оплачен",5558,{"$f":"IFERROR(VLOOKUP(B4815,'Комиссии партнеров'!$A$2:$B$52,2,FALSE),\"\")","v":0.05},277.90000000000003]
[183115,"Партнер номер 1","1945-05-26","оплачен",1959,{"$f":"IFERROR(VLOOKUP(B4816,'Комиссии партнеров'!$A$2:$B$52,2,FALSE),\"\")","v":0.05},97.95]
[183119,"Партнер номер 1","1945-05-26","не оплачен",1648,{"$f":"IFERROR(VLOOKUP(B4817,'Комиссии партнеров'!$A$2:$B$52,2,FALSE),\"\")","v":0.05},82.4]
[183121,"Партнер номер 25","1945-05-26","оплачен",2988,{"$f":"IFERROR(VLOOKUP(B4818,'Комиссии партнеров'!$A$2:$B$52,2,FALSE),\"\")","v":0.05},149.4]
[183125,"Партнер номер 11","1945-05-26","оплачен",1224,{"$f":"IFERROR(VLOOKUP(B4819,'Комиссии партнеров'!$A$2:$B$52,2,FALSE),\"\")","v":0.05},61.2]
[183131,"","1945-05-26","оплачен",2540,{"$f":"IFERROR(VLOOKUP(B4820,'Комиссии партнеров'!$A$2:$B$52,2,FALSE),\"\")","v":""}]
[183135,"","1945-05-26","оплачен",1481,{"$f":"IFERROR(VLOOKUP(B4821,'Комиссии партнеров'!$A$2:$B$52,2,FALSE),\"\")","v":""}]
[183140,"Партнер номер 1","1945-05-26","не оплачен",2925,{"$f":"IFERROR(VLOOKUP(B4822,'Комиссии партнеров'!$A$2:$B$52,2,FALSE),\"\")","v":0.05},146.25]
[183142,"","1945-05-26","оплачен",1472,{"$f":"IFERROR(VLOOKUP(B4823,'Комиссии партнеров'!$A$2:$B$52,2,FALSE),\"\")","v":""}]
[183144,"","1945-05-26","оплачен",4872,{"$f":"IFERROR(VLOOKUP(B4824,'Комиссии партнеров'!$A$2:$B$52,2,FALSE),\"\")","v":""}]
[183149,"Партнер номер 1","1945-05-26","оплачен",1901,{"$f":"IFERROR(VLOOKUP(B4825,'Комиссии партнеров'!$A$2:$B$52,2,FALSE),\"\")","v":0.05},95.050000000000011]
[183153,"Партнер номер 4","1945-05-26","оплачен",1647,{"$f":"IFERROR(VLOOKUP(B4826,'Комиссии партнеров'!$A$2:$B$52,2,FALSE),\"\")","v":0.04},65.88]
[183158,"","1945-05-26","не оплачен",305,{"$f":"IFERROR(VLOOKUP(B4827,'Комиссии партнеров'!$A$2:$B$52,2,FALSE),\"\")","v":""}]
[183162,"Партнер номер 48","1945-05-26","оплачен",1018,{"$f":"IFERROR(VLOOKUP(B4828,'Комиссии партнеров'!$A$2:$B$52,2,FALSE),\"\")","v":0.03},30.54]
[183167,"","1945-05-26","не оплачен",329,{"$f":"IFERROR(VLOOKUP(B4829,'Комиссии партнеров'!$A$2:$B$52,2,FALSE),\"\")","v":""}]
[183173,"","1945-05-26","не оплачен",6488,{"$f":"IFERROR(VLOOKUP(B4830,'Комиссии партнеров'!$A$2:$B$52,2,FALSE),\"\")","v":""}]
[183178,"","1945-05-26","оплачен",5535,{"$f":"IFERROR(VLOOKUP(B4831,'Комиссии партнеров'!$A$2:$B$52,2,FALSE),\"\")","v":""}]
[183182,"","1945-05-26","оплачен",2050,{"$f":"IFERROR(VLOOKUP(B4832,'Комиссии партнеров'!$A$2:$B$52,2,FALSE),\"\")","v":""}]
[183185,"","1945-05-26","оплачен",1294,{"$f":"IFERROR(VLOOKUP(B4833,'Комиссии партнеров'!$A$2:$B$52,2,FALSE),\"\")","v":""}]
[183189,"","1945-05-26","не оплачен",5763,{"$f":"IFERROR(VLOOKUP(B4834,'Комиссии партнеров'!$A$2:$B$52,2,FALSE),\"\")","v":""}]
[183190,"Партнер номер 1","1945-05-26","не оплачен",2321,{"$f":"IFERROR(VLOOKUP(B4835,'Комиссии партнеров'!$A$2:$B$52,2,FALSE),\"\")","v":0.05},116.05000000000001]
[183193,"","1945-05-26","оплачен",1053,{"$f":"IFERROR(VLOOKUP(B4836,'Комиссии партнеров'!$A$2:$B$52,2,FALSE),\"\")","v":""}]
[183198,"","1945-05-26","оплачен",2986,{"$f":"IFERROR(VLOOKUP(B4837,'Комиссии партнеров'!$A$2:$B$52,2,FALSE),\"\")","v":""}]
[183200,"","1945-05-26","не оплачен",2155,{"$f":"IFERROR(VLOOKUP(B4838,'Комиссии партнеров'!$A$2:$B$52,2,FALSE),\"\")","v":""}]
[183203,"","1945-05-26","оплачен",3779,{"$f":"IFERROR(VLOOKUP(B4839,'Комиссии партнеров'!$A$2:$B$52,2,FALSE),\"\")","v":""}]
[183208,"Партнер номер 5","1945-05-26","не оплачен",839,{"$f":"IFERROR(VLOOKUP(B4840,'Комиссии партнеров'!$A$2:$B$52,2,FALSE),\"\")","v":0.03},25.169999999999998]
[183210,"","1945-05-26","оплачен",1266,{"$f":"IFERROR(VLOOKUP(B4841,'Комиссии партнеров'!$A$2:$B$52,2,FALSE),\"\")","v":""}]
[183215,"Партнер номер 3","1945-05-26","не оплачен",1444,{"$f":"IFERROR(VLOOKUP(B4842,'Комиссии партнеров'!$A$2:$B$52,2,FALSE),\"\")","v":0.05},72.2]
[183220,"","1945-05-26","оплачен",823,{"$f":"IFERROR(VLOOKUP(B4843,'Комиссии партнеров'!$A$2:$B$52,2,FALSE),\"\")","v":""}]
[183223,"","1945-05-26","оплачен",813,{"$f":"IFERROR(VLOOKUP(B4844,'Комиссии партнеров'!$A$2:$B$52,2,FALSE),\"\")","v":""}]
[183226,"","1945-05-26","не оплачен",1298,{"$f":"IFERROR(VLOOKUP(B4845,'Комиссии партнеров'!$A$2:$B$52,2,FALSE),\"\")","v":""}]
[183229,"","1945-05-26","оплачен",2908,{"$f":"IFERROR(VLOOKUP(B4846,'Комиссии партнеров'!$A$2:$B$52,2,FALSE),\"\")","v":""}]
[183231,"","1945-05-26","оплачен",1210,{"$f":"IFERROR(VLOOKUP(B4847,'Комиссии партнеров'!$A$2:$B$52,2,FALSE),\"\")","v":""}]
[183235,"","1945-05-26","оплачен",2695,{"$f":"IFERROR(VLOOKUP(B4848,'Комиссии партнеров'!$A$2:$B$52,2,FALSE),\"\")","v":""}]
[183239,"","1945-05-26","не оплачен",2512,{"$f":"IFERROR(VLOOKUP(B4849,'Комиссии партнеров'!$A$2:$B$52,2,FALSE),\"\")","v":""}]
[183244,"Партнер номер 28","1945-05-26","оплачен",2880,{"$f":"IFERROR(VLOOKUP(B4850,'Комиссии партнеров'!$A$2:$B$52,2,FALSE),\"\")","v":0.05},144]
[183247,"Партнер номер 1","1945-05-26","оплачен",1079,{"$f":"IFERROR(VLOOKUP(B4851,'Комиссии партнеров'!$A$2:$B$52,2,FALSE),\"\")","v":0.05},53.95]
[183251,"","1945-05-26","оплачен",737,{"$f":"IFERROR(VLOOKUP(B4852,'Комиссии партнеров'!$A$2:$B$52,2,FALSE),\"\")","v":""}]
[183256,"Партнер номер 10","1945-05-26","оплачен",866,{"$f":"IFERROR(VLOOKUP(B4853,'Комиссии партнеров'!$A$2:$B$52,2,FALSE),\"\")","v":0.04},34.64]
[183262,"Партнер номер 3","1945-05-26","не оплачен",2077,{"$f":"IFERROR(VLOOKUP(B4854,'Комиссии партнеров'!$A$2:$B$52,2,FALSE),\"\")","v":0.05},103.85000000000001]
[183264,"Партнер номер 1","1945-05-26","оплачен",2522,{"$f":"IFERROR(VLOOKUP(B4855,'Комиссии партнеров'!$A$2:$B$52,2,FALSE),\"\")","v":0.05},126.10000000000001]
[183271,"Партнер номер 5","1945-05-26","оплачен",3539,{"$f":"IFERROR(VLOOKUP(B4856,'Комиссии партнеров'!$A$2:$B$52,2,FALSE),\"\")","v":0.03},106.17]
[183275,"","1945-05-26","оплачен",3229,{"$f":"IFERROR(VLOOKUP(B4857,'Комиссии партнеров'!$A$2:$B$52,2,FALSE),\"\")","v":""}]
[183277,"Партнер номер 3","1945-05-26","не оплачен",2572,{"$f":"IFERROR(VLOOKUP(B4858,'Комиссии партнеров'!$A$2:$B$52,2,FALSE),\"\")","v":0.05},128.6]
[183279,"","1945-05-26","не оплачен",3412,{"$f":"IFERROR(VLOOKUP(B4859,'Комиссии партнеров'!$A$2:$B$52,2,FALSE),\"\")","v":""}]
[183284,"Партнер номер 1","1945-05-26","оплачен",2403,{"$f":"IFERROR(VLOOKUP(B4860,'Комиссии партнеров'!$A$2:$B$52,2,FALSE),\"\")","v":0.05},120.15]
[183288,"Партнер номер 3","1945-05-26","оплачен",2547,{"$f":"IFERROR(VLOOKUP(B4861,'Комиссии партнеров'!$A$2:$B$52,2,FALSE),\"\")","v":0.05},127.35000000000001]
[183293,"Партнер номер 11","1945-05-26","не оплачен",452,{"$f":"IFERROR(VLOOKUP(B4862,'Комиссии партнеров'!$A$2:$B$52,2,FALSE),\"\")","v":0.05},22.6]
[183295,"","1945-05-26","не оплачен",3279,{"$f":"IFERROR(VLOOKUP(B4863,'Комиссии партнеров'!$A$2:$B$52,2,FALSE),\"\")","v":""}]
[183298,"Партнер номер 1","1945-05-26","оплачен",3279,{"$f":"IFERROR(VLOOKUP(B4864,'Комиссии партнеров'!$A$2:$B$52,2,FALSE),\"\")","v":0.05},163.95000000000002]
[183304,"Партнер номер 1","1945-05-26","оплачен",2538,{"$f":"IFERROR(VLOOKUP(B4865,'Комиссии партнеров'!$A$2:$B$52,2,FALSE),\"\")","v":0.05},126.9]
[183309,"","1945-05-26","оплачен",2745,{"$f":"IFERROR(VLOOKUP(B4866,'Комиссии партнеров'!$A$2:$B$52,2,FALSE),\"\")","v":""}]
[183312,"","1945-05-26","оплачен",2167,{"$f":"IFERROR(VLOOKUP(B4867,'Комиссии партнеров'!$A$2:$B$52,2,FALSE),\"\")","v":""}]
[183316,"","1945-05-26","оплачен",3380,{"$f":"IFERROR(VLOOKUP(B4868,'Комиссии партнеров'!$A$2:$B$52,2,FALSE),\"\")","v":""}]
[183318,"","1945-05-26","оплачен",1684,{"$f":"IFERROR(VLOOKUP(B4869,'Комиссии партнеров'!$A$2:$B$52,2,FALSE),\"\")","v":""}]
[183319,"Партнер номер 1","1945-05-26","не оплачен",1195,{"$f":"IFERROR(VLOOKUP(B4870,'Комиссии партнеров'!$A$2:$B$52,2,FALSE),\"\")","v":0.05},59.75]
[183323,"","1945-05-26","оплачен",3785,{"$f":"IFERROR(VLOOKUP(B4871,'Комиссии партнеров'!$A$2:$B$52,2,FALSE),\"\")","v":""}]
[183325,"","1945-05-26","оплачен",3915,{"$f":"IFERROR(VLOOKUP(B4872,'Комиссии партнеров'!$A$2:$B$52,2,FALSE),\"\")","v":""}]
[183330,"","1945-05-26","оплачен",990,{"$f":"IFERROR(VLOOKUP(B4873,'Комиссии партнеров'!$A$2:$B$52,2,FALSE),\"\")","v":""}]
[183335,"","1945-05-26","оплачен",1773,{"$f":"IFERROR(VLOOKUP(B4874,'Комиссии партнеров'!$A$2:$B$52,2,FALSE),\"\")","v":""}]
[183339,"","1945-05-26","оплачен",5873,{"$f":"IFERROR(VLOOKUP(B4875,'Комиссии партнеров'!$A$2:$B$52,2,FALSE),\"\")","v":""}]
[183344,"","1945-05-26","оплачен",2125,{"$f":"IFERROR(VLOOKUP(B4876,'Комиссии партнеров'!$A$2:$B$52,2,FALSE),\"\")","v":""}]
[183348,"Партнер номер 1","1945-05-26","оплачен",3996,{"$f":"IFERROR(VLOOKUP(B4877,'Комиссии партнеров'!$A$2:$B$52,2,FALSE),\"\")","v":0.05},199.8]
[183351,"Партнер номер 1","1945-05-26","оплачен",6436,{"$f":"IFERROR(VLOOKUP(B4878,'Комиссии партнеров'!$A$2:$B$52,2,FALSE),\"\")","v":0.05},321.8]
[183356,"Партнер номер 7","1945-05-26","оплачен",3233,{"$f":"IFERROR(VLOOKUP(B4879,'Комиссии партнеров'!$A$2:$B$52,2,FALSE),\"\")","v":0.05},161.65]
[183360,"","1945-05-26","оплачен",1315,{"$f":"IFERROR(VLOOKUP(B4880,'Комиссии партнеров'!$A$2:$B$52,2,FALSE),\"\")","v":""}]
[183362,"Партнер номер 7","1945-05-26","не оплачен",3170,{"$f":"IFERROR(VLOOKUP(B4881,'Комиссии партнеров'!$A$2:$B$52,2,FALSE),\"\")","v":0.05},158.5]
[183367,"","1945-05-26","не оплачен",1511,{"$f":"IFERROR(VLOOKUP(B4882,'Комиссии партнеров'!$A$2:$B$52,2,FALSE),\"\")","v":""}]
[183370,"Партнер номер 5","1945-05-26","не оплачен",5397,{"$f":"IFERROR(VLOOKUP(B4883,'Комиссии партнеров'!$A$2:$B$52,2,FALSE),\"\")","v":0.03},161.91]
[183373,"Партнер номер 1","1945-05-26","оплачен",4230,{"$f":"IFERROR(VLOOKUP(B4884,'Комиссии партнеров'!$A$2:$B$52,2,FALSE),\"\")","v":0.05},211.5]
[183376,"Партнер номер 3","1945-05-27","оплачен",1772,{"$f":"IFERROR(VLOOKUP(B4885,'Комиссии партнеров'!$A$2:$B$52,2,FALSE),\"\")","v":0.05},88.600000000000009]
[183382,"Партнер номер 1","1945-05-27","не оплачен",1069,{"$f":"IFERROR(VLOOKUP(B4886,'Комиссии партнеров'!$A$2:$B$52,2,FALSE),\"\")","v":0.05},53.45]
[183385,"","1945-05-27","не оплачен",1090,{"$f":"IFERROR(VLOOKUP(B4887,'Комиссии партнеров'!$A$2:$B$52,2,FALSE),\"\")","v":""}]
[183387,"","1945-05-27","оплачен",899,{"$f":"IFERROR(VLOOKUP(B4888,'Комиссии партнеров'!$A$2:$B$52,2,FALSE),\"\")","v":""}]
[183391,"","1945-05-27","оплачен",5474,{"$f":"IFERROR(VLOOKUP(B4889,'Комиссии партнеров'!$A$2:$B$52,2,FALSE),\"\")","v":""}]
[183393,"","1945-05-27","не оплачен",2559,{"$f":"IFERROR(VLOOKUP(B4890,'Комиссии партнеров'!$A$2:$B$52,2,FALSE),\"\")","v":""}]
[183396,"","1945-05-27","оплачен",1456,{"$f":"IFERROR(VLOOKUP(B4891,'Комиссии партнеров'!$A$2:$B$52,2,FALSE),\"\")","v":""}]
[183402,"Партнер номер 1","1945-05-27","оплачен",1383,{"$f":"IFERROR(VLOOKUP(B4892,'Комиссии партнеров'!$A$2:$B$52,2,FALSE),\"\")","v":0.05},69.150000000000006]
[183406,"Партнер номер 3","1945-05-27","оплачен",460,{"$f":"IFERROR(VLOOKUP(B4893,'Комиссии партнеров'!$A$2:$B$52,2,FALSE),\"\")","v":0.05},23]
[183408,"Партнер номер 13","1945-05-27","не оплачен",2407,{"$f":"IFERROR(VLOOKUP(B4894,'Комиссии партнеров'!$A$2:$B$52,2,FALSE),\"\")","v":0.05},120.35000000000001]
[183411,"","1945-05-27","оплачен",1130,{"$f":"IFERROR(VLOOKUP(B4895,'Комиссии партнеров'!$A$2:$B$52,2,FALSE),\"\")","v":""}]
[183413,"","1945-05-27","не оплачен",1155,{"$f":"IFERROR(VLOOKUP(B4896,'Комиссии партнеров'!$A$2:$B$52,2,FALSE),\"\")","v":""}]
[183415,"","1945-05-27","оплачен",4580,{"$f":"IFERROR(VLOOKUP(B4897,'Комиссии партнеров'!$A$2:$B$52,2,FALSE),\"\")","v":""}]
[183420,"","1945-05-27","оплачен",2087,{"$f":"IFERROR(VLOOKUP(B4898,'Комиссии партнеров'!$A$2:$B$52,2,FALSE),\"\")","v":""}]
[183424,"Партнер номер 46","1945-05-27","не оплачен",781,{"$f":"IFERROR(VLOOKUP(B4899,'Комиссии партнеров'!$A$2:$B$52,2,FALSE),\"\")","v":0.05},39.050000000000004]
[183425,"Партнер номер 46","1945-05-27","оплачен",452,{"$f":"IFERROR(VLOOKUP(B4900,'Комиссии партнеров'!$A$2:$B$52,2,FALSE),\"\")","v":0.05},22.6]
[183428,"","1945-05-27","оплачен",409,{"$f":"IFERROR(VLOOKUP(B4901,'Комиссии партнеров'!$A$2:$B$52,2,FALSE),\"\")","v":""}]
[183429,"Партнер номер 1","1945-05-27","оплачен",1259,{"$f":"IFERROR(VLOOKUP(B4902,'Комиссии партнеров'!$A$2:$B$52,2,FALSE),\"\")","v":0.05},62.95]
[183434,"Партнер номер 11","1945-05-27","оплачен",1408,{"$f":"IFERROR(VLOOKUP(B4903,'Комиссии партнеров'!$A$2:$B$52,2,FALSE),\"\")","v":0.05},70.400000000000006]
[183435,"","1945-05-27","оплачен",1408,{"$f":"IFERROR(VLOOKUP(B4904,'Комиссии партнеров'!$A$2:$B$52,2,FALSE),\"\")","v":""}]
[183438,"","1945-05-27","оплачен",510,{"$f":"IFERROR(VLOOKUP(B4905,'Комиссии партнеров'!$A$2:$B$52,2,FALSE),\"\")","v":""}]
[183442,"Партнер номер 5","1945-05-27","оплачен",3946,{"$f":"IFERROR(VLOOKUP(B4906,'Комиссии партнеров'!$A$2:$B$52,2,FALSE),\"\")","v":0.03},118.38]
[183444,"Партнер номер 1","1945-05-27","оплачен",1756,{"$f":"IFERROR(VLOOKUP(B4907,'Комиссии партнеров'!$A$2:$B$52,2,FALSE),\"\")","v":0.05},87.800000000000011]
[183446,"Партнер номер 1","1945-05-27","оплачен",1240,{"$f":"IFERROR(VLOOKUP(B4908,'Комиссии партнеров'!$A$2:$B$52,2,FALSE),\"\")","v":0.05},62]
[183448,"","1945-05-27","оплачен",1280,{"$f":"IFERROR(VLOOKUP(B4909,'Комиссии партнеров'!$A$2:$B$52,2,FALSE),\"\")","v":""}]
[183452,"Партнер номер 3","1945-05-27","не оплачен",2878,{"$f":"IFERROR(VLOOKUP(B4910,'Комиссии партнеров'!$A$2:$B$52,2,FALSE),\"\")","v":0.05},143.9]
[183454,"Партнер номер 7","1945-05-27","не оплачен",1380,{"$f":"IFERROR(VLOOKUP(B4911,'Комиссии партнеров'!$A$2:$B$52,2,FALSE),\"\")","v":0.05},69]
[183460,"Партнер номер 1","1945-05-27","оплачен",2950,{"$f":"IFERROR(VLOOKUP(B4912,'Комиссии партнеров'!$A$2:$B$52,2,FALSE),\"\")","v":0.05},147.5]
[183465,"Партнер номер 10","1945-05-27","оплачен",326,{"$f":"IFERROR(VLOOKUP(B4913,'Комиссии партнеров'!$A$2:$B$52,2,FALSE),\"\")","v":0.04},13.040000000000001]
[183468,"Партнер номер 7","1945-05-27","оплачен",1538,{"$f":"IFERROR(VLOOKUP(B4914,'Комиссии партнеров'!$A$2:$B$52,2,FALSE),\"\")","v":0.05},76.900000000000006]
[183473,"","1945-05-27","оплачен",570,{"$f":"IFERROR(VLOOKUP(B4915,'Комиссии партнеров'!$A$2:$B$52,2,FALSE),\"\")","v":""}]
[183478,"Партнер номер 7","1945-05-27","оплачен",1538,{"$f":"IFERROR(VLOOKUP(B4916,'Комиссии партнеров'!$A$2:$B$52,2,FALSE),\"\")","v":0.05},76.900000000000006]
[183483,"Партнер номер 11","1945-05-27","не оплачен",437,{"$f":"IFERROR(VLOOKUP(B4917,'Комиссии партнеров'!$A$2:$B$52,2,FALSE),\"\")","v":0.05},21.85]
[183486,"","1945-05-27","не оплачен",662,{"$f":"IFERROR(VLOOKUP(B4918,'Комиссии партнеров'!$A$2:$B$52,2,FALSE),\"\")","v":""}]
[183491,"Партнер номер 1","1945-05-27","оплачен",937,{"$f":"IFERROR(VLOOKUP(B4919,'Комиссии партнеров'!$A$2:$B$52,2,FALSE),\"\")","v":0.05},46.85]
[183495,"","1945-05-27","оплачен",5042,{"$f":"IFERROR(VLOOKUP(B4920,'Комиссии партнеров'!$A$2:$B$52,2,FALSE),\"\")","v":""}]
[183501,"Партнер номер 6","1945-05-27","оплачен",2280,{"$f":"IFERROR(VLOOKUP(B4921,'Комиссии партнеров'!$A$2:$B$52,2,FALSE),\"\")","v":0.04},91.2]
[183505,"","1945-05-27","оплачен",809,{"$f":"IFERROR(VLOOKUP(B4922,'Комиссии партнеров'!$A$2:$B$52,2,FALSE),\"\")","v":""}]
[183508,"Партнер номер 7","1945-05-27","оплачен",978,{"$f":"IFERROR(VLOOKUP(B4923,'Комиссии партнеров'!$A$2:$B$52,2,FALSE),\"\")","v":0.05},48.900000000000006]
[183514,"Партнер номер 1","1945-05-27","не оплачен",2435,{"$f":"IFERROR(VLOOKUP(B4924,'Комиссии партнеров'!$A$2:$B$52,2,FALSE),\"\")","v":0.05},121.75]
[183519,"","1945-05-27","не оплачен",4759,{"$f":"IFERROR(VLOOKUP(B4925,'Комиссии партнеров'!$A$2:$B$52,2,FALSE),\"\")","v":""}]
[183523,"Партнер номер 1","1945-05-27","оплачен",1124,{"$f":"IFERROR(VLOOKUP(B4926,'Комиссии партнеров'!$A$2:$B$52,2,FALSE),\"\")","v":0.05},56.2]
[183526,"Партнер номер 3","1945-05-27","не оплачен",1802,{"$f":"IFERROR(VLOOKUP(B4927,'Комиссии партнеров'!$A$2:$B$52,2,FALSE),\"\")","v":0.05},90.100000000000009]
[183531,"","1945-05-27","оплачен",1914,{"$f":"IFERROR(VLOOKUP(B4928,'Комиссии партнеров'!$A$2:$B$52,2,FALSE),\"\")","v":""}]
[183537,"","1945-05-27","оплачен",2070,{"$f":"IFERROR(VLOOKUP(B4929,'Комиссии партнеров'!$A$2:$B$52,2,FALSE),\"\")","v":""}]
[183541,"","1945-05-27","оплачен",2935,{"$f":"IFERROR(VLOOKUP(B4930,'Комиссии партнеров'!$A$2:$B$52,2,FALSE),\"\")","v":""}]
[183546,"Партнер номер 1","1945-05-27","оплачен",1115,{"$f":"IFERROR(VLOOKUP(B4931,'Комиссии партнеров'!$A$2:$B$52,2,FALSE),\"\")","v":0.05},55.75]
[183548,"Партнер номер 3","1945-05-27","оплачен",2439,{"$f":"IFERROR(VLOOKUP(B4932,'Комиссии партнеров'!$A$2:$B$52,2,FALSE),\"\")","v":0.05},121.95]
[183553,"","1945-05-27","не оплачен",1162,{"$f":"IFERROR(VLOOKUP(B4933,'Комиссии партнеров'!$A$2:$B$52,2,FALSE),\"\")","v":""}]
[183555,"","1945-05-27","оплачен",2748,{"$f":"IFERROR(VLOOKUP(B4934,'Комиссии партнеров'!$A$2:$B$52,2,FALSE),\"\")","v":""}]
[183560,"Партнер номер 46","1945-05-27","оплачен",2220,{"$f":"IFERROR(VLOOKUP(B4935,'Комиссии партнеров'!$A$2:$B$52,2,FALSE),\"\")","v":0.05},111]
[183561,"","1945-05-27","оплачен",1796,{"$f":"IFERROR(VLOOKUP(B4936,'Комиссии партнеров'!$A$2:$B$52,2,FALSE),\"\")","v":""}]
[183563,"Партнер номер 5","1945-05-27","не оплачен",686,{"$f":"IFERROR(VLOOKUP(B4937,'Комиссии партнеров'!$A$2:$B$52,2,FALSE),\"\")","v":0.03},20.58]
[183567,"","1945-05-27","оплачен",1472,{"$f":"IFERROR(VLOOKUP(B4938,'Комиссии партнеров'!$A$2:$B$52,2,FALSE),\"\")","v":""}]
[183571,"","1945-05-27","оплачен",935,{"$f":"IFERROR(VLOOKUP(B4939,'Комиссии партнеров'!$A$2:$B$52,2,FALSE),\"\")","v":""}]
[183576,"","1945-05-27","оплачен",1458,{"$f":"IFERROR(VLOOKUP(B4940,'Комиссии партнеров'!$A$2:$B$52,2,FALSE),\"\")","v":""}]
[183579,"Партнер номер 1","1945-05-27","не оплачен",503,{"$f":"IFERROR(VLOOKUP(B4941,'Комиссии партнеров'!$A$2:$B$52,2,FALSE),\"\")","v":0.05},25.150000000000002]
[183583,"","1945-05-27","оплачен",5973,{"$f":"IFERROR(VLOOKUP(B4942,'Комиссии партнеров'!$A$2:$B$52,2,FALSE),\"\")","v":""}]
[183585,"","1945-05-27","оплачен",999,{"$f":"IFERROR(VLOOKUP(B4943,'Комиссии партнеров'!$A$2:$B$52,2,FALSE),\"\")","v":""}]
[183587,"Партнер номер 1","1945-05-27","оплачен",2010,{"$f":"IFERROR(VLOOKUP(B4944,'Комиссии партнеров'!$A$2:$B$52,2,FALSE),\"\")","v":0.05},100.5]
[183589,"","1945-05-27","оплачен",1838,{"$f":"IFERROR(VLOOKUP(B4945,'Комиссии партнеров'!$A$2:$B$52,2,FALSE),\"\")","v":""}]
[183594,"","1945-05-27","оплачен",1502,{"$f":"IFERROR(VLOOKUP(B4946,'Комиссии партнеров'!$A$2:$B$52,2,FALSE),\"\")","v":""}]
[183599,"","1945-05-27","оплачен",945,{"$f":"IFERROR(VLOOKUP(B4947,'Комиссии партнеров'!$A$2:$B$52,2,FALSE),\"\")","v":""}]
[183601,"","1945-05-27","оплачен",1183,{"$f":"IFERROR(VLOOKUP(B4948,'Комиссии партнеров'!$A$2:$B$52,2,FALSE),\"\")","v":""}]
[183605,"","1945-05-27","не оплачен",3498,{"$f":"IFERROR(VLOOKUP(B4949,'Комиссии партнеров'!$A$2:$B$52,2,FALSE),\"\")","v":""}]
[183610,"","1945-05-27","не оплачен",3212,{"$f":"IFERROR(VLOOKUP(B4950,'Комиссии партнеров'!$A$2:$B$52,2,FALSE),\"\")","v":""}]
[183614,"","1945-05-27","оплачен",3387,{"$f":"IFERROR(VLOOKUP(B4951,'Комиссии партнеров'!$A$2:$B$52,2,FALSE),\"\")","v":""}]
[183619,"","1945-05-27","не оплачен",2056,{"$f":"IFERROR(VLOOKUP(B4952,'Комиссии партнеров'!$A$2:$B$52,2,FALSE),\"\")","v":""}]
[183621,"Партнер номер 11","1945-05-27","оплачен",3119,{"$f":"IFERROR(VLOOKUP(B4953,'Комиссии партнеров'!$A$2:$B$52,2,FALSE),\"\")","v":0.05},155.95000000000002]
[183626,"","1945-05-27","оплачен",1724,{"$f":"IFERROR(VLOOKUP(B4954,'Комиссии партнеров'!$A$2:$B$52,2,FALSE),\"\")","v":""}]
[183629,"","1945-05-27","оплачен",5180,{"$f":"IFERROR(VLOOKUP(B4955,'Комиссии партнеров'!$A$2:$B$52,2,FALSE),\"\")","v":""}]
[183634,"","1945-05-27","не оплачен",615,{"$f":"IFERROR(VLOOKUP(B4956,'Комиссии партнеров'!$A$2:$B$52,2,FALSE),\"\")","v":""}]
[183639,"","1945-05-27","оплачен",565,{"$f":"IFERROR(VLOOKUP(B4957,'Комиссии партнеров'!$A$2:$B$52,2,FALSE),\"\")","v":""}]
[183642,"Партнер номер 1","1945-05-27","оплачен",3890,{"$f":"IFERROR(VLOOKUP(B4958,'Комиссии партнеров'!$A$2:$B$52,2,FALSE),\"\")","v":0.05},194.5]
[183645,"Партнер номер 1","1945-05-27","оплачен",4066,{"$f":"IFERROR(VLOOKUP(B4959,'Комиссии партнеров'!$A$2:$B$52,2,FALSE),\"\")","v":0.05},203.3]
[183647,"Партнер номер 4","1945-05-27","не оплачен",2803,{"$f":"IFERROR(VLOOKUP(B4960,'Комиссии партнеров'!$A$2:$B$52,2,FALSE),\"\")","v":0.04},112.12]
[183652,"Партнер номер 11","1945-05-27","оплачен",1120,{"$f":"IFERROR(VLOOKUP(B4961,'Комиссии партнеров'!$A$2:$B$52,2,FALSE),\"\")","v":0.05},56]
[183655,"Партнер номер 4","1945-05-27","не оплачен",2627,{"$f":"IFERROR(VLOOKUP(B4962,'Комиссии партнеров'!$A$2:$B$52,2,FALSE),\"\")","v":0.04},105.08]
[183659,"","1945-05-27","оплачен",2396,{"$f":"IFERROR(VLOOKUP(B4963,'Комиссии партнеров'!$A$2:$B$52,2,FALSE),\"\")","v":""}]
[183665,"Партнер номер 46","1945-05-27","не оплачен",521,{"$f":"IFERROR(VLOOKUP(B4964,'Комиссии партнеров'!$A$2:$B$52,2,FALSE),\"\")","v":0.05},26.05]
[183669,"","1945-05-27","оплачен",935,{"$f":"IFERROR(VLOOKUP(B4965,'Комиссии партнеров'!$A$2:$B$52,2,FALSE),\"\")","v":""}]
[183671,"","1945-05-27","не оплачен",268,{"$f":"IFERROR(VLOOKUP(B4966,'Комиссии партнеров'!$A$2:$B$52,2,FALSE),\"\")","v":""}]
[183675,"","1945-05-27","оплачен",2596,{"$f":"IFERROR(VLOOKUP(B4967,'Комиссии партнеров'!$A$2:$B$52,2,FALSE),\"\")","v":""}]
[183680,"Партнер номер 1","1945-05-27","оплачен",3203,{"$f":"IFERROR(VLOOKUP(B4968,'Комиссии партнеров'!$A$2:$B$52,2,FALSE),\"\")","v":0.05},160.15]
[183684,"Партнер номер 1","1945-05-27","не оплачен",2442,{"$f":"IFERROR(VLOOKUP(B4969,'Комиссии партнеров'!$A$2:$B$52,2,FALSE),\"\")","v":0.05},122.10000000000001]
[183685,"Партнер номер 1","1945-05-27","оплачен",957,{"$f":"IFERROR(VLOOKUP(B4970,'Комиссии партнеров'!$A$2:$B$52,2,FALSE),\"\")","v":0.05},47.85]
[183689,"Партнер номер 1","1945-05-27","не оплачен",326,{"$f":"IFERROR(VLOOKUP(B4971,'Комиссии партнеров'!$A$2:$B$52,2,FALSE),\"\")","v":0.05},16.3]
[183691,"","1945-05-27","оплачен",2644,{"$f":"IFERROR(VLOOKUP(B4972,'Комиссии партнеров'!$A$2:$B$52,2,FALSE),\"\")","v":""}]
[183693,"","1945-05-27","оплачен",538,{"$f":"IFERROR(VLOOKUP(B4973,'Комиссии партнеров'!$A$2:$B$52,2,FALSE),\"\")","v":""}]
[183696,"","1945-05-27","оплачен",9448,{"$f":"IFERROR(VLOOKUP(B4974,'Комиссии партнеров'!$A$2:$B$52,2,FALSE),\"\")","v":""}]
[183698,"","1945-05-27","оплачен",1571,{"$f":"IFERROR(VLOOKUP(B4975,'Комиссии партнеров'!$A$2:$B$52,2,FALSE),\"\")","v":""}]
[183701,"Партнер номер 1","1945-05-27","оплачен",522,{"$f":"IFERROR(VLOOKUP(B4976,'Комиссии партнеров'!$A$2:$B$52,2,FALSE),\"\")","v":0.05},26.1]
[183705,"Партнер номер 1","1945-05-27","не оплачен",1149,{"$f":"IFERROR(VLOOKUP(B4977,'Комиссии партнеров'!$A$2:$B$52,2,FALSE),\"\")","v":0.05},57.45]
[183709,"","1945-05-27","оплачен",2194,{"$f":"IFERROR(VLOOKUP(B4978,'Комиссии партнеров'!$A$2:$B$52,2,FALSE),\"\")","v":""}]
[183713,"Партнер номер 1","1945-05-27","оплачен",1971,{"$f":"IFERROR(VLOOKUP(B4979,'Комиссии партнеров'!$A$2:$B$52,2,FALSE),\"\")","v":0.05},98.550000000000011]
[183717,"Партнер номер 28","1945-05-27","не оплачен",890,{"$f":"IFERROR(VLOOKUP(B4980,'Комиссии партнеров'!$A$2:$B$52,2,FALSE),\"\")","v":0.05},44.5]
[183720,"","1945-05-27","оплачен",3365,{"$f":"IFERROR(VLOOKUP(B4981,'Комиссии партнеров'!$A$2:$B$52,2,FALSE),\"\")","v":""}]
[183725,"","1945-05-27","не оплачен",2295,{"$f":"IFERROR(VLOOKUP(B4982,'Комиссии партнеров'!$A$2:$B$52,2,FALSE),\"\")","v":""}]
[183729,"Партнер номер 1","1945-05-27","оплачен",1293,{"$f":"IFERROR(VLOOKUP(B4983,'Комиссии партнеров'!$A$2:$B$52,2,FALSE),\"\")","v":0.05},64.650000000000006]
[183731,"","1945-05-27","оплачен",1016,{"$f":"IFERROR(VLOOKUP(B4984,'Комиссии партнеров'!$A$2:$B$52,2,FALSE),\"\")","v":""}]
[183736,"Партнер номер 1","1945-05-27","оплачен",2546,{"$f":"IFERROR(VLOOKUP(B4985,'Комиссии партнеров'!$A$2:$B$52,2,FALSE),\"\")","v":0.05},127.30000000000001]
[183738,"Партнер номер 1","1945-05-27","оплачен",1799,{"$f":"IFERROR(VLOOKUP(B4986,'Комиссии партнеров'!$A$2:$B$52,2,FALSE),\"\")","v":0.05},89.95]
[183743,"Партнер номер 3","1945-05-27","оплачен",1228,{"$f":"IFERROR(VLOOKUP(B4987,'Комиссии партнеров'!$A$2:$B$52,2,FALSE),\"\")","v":0.05},61.400000000000006]
[183747,"Партнер номер 7","1945-05-27","оплачен",2908,{"$f":"IFERROR(VLOOKUP(B4988,'Комиссии партнеров'!$A$2:$B$52,2,FALSE),\"\")","v":0.05},145.4]
[183750,"Партнер номер 1","1945-05-27","оплачен",1799,{"$f":"IFERROR(VLOOKUP(B4989,'Комиссии партнеров'!$A$2:$B$52,2,FALSE),\"\")","v":0.05},89.95]
[183755,"","1945-05-27","оплачен",2512,{"$f":"IFERROR(VLOOKUP(B4990,'Комиссии партнеров'!$A$2:$B$52,2,FALSE),\"\")","v":""}]
[183760,"Партнер номер 1","1945-05-27","оплачен",4133,{"$f":"IFERROR(VLOOKUP(B4991,'Комиссии партнеров'!$A$2:$B$52,2,FALSE),\"\")","v":0.05},206.65]
[183761,"","1945-05-27","оплачен",775,{"$f":"IFERROR(VLOOKUP(B4992,'Комиссии партнеров'!$A$2:$B$52,2,FALSE),\"\")","v":""}]
[183764,"","1945-05-28","не оплачен",1185,{"$f":"IFERROR(VLOOKUP(B4993,'Комиссии партнеров'!$A$2:$B$52,2,FALSE),\"\")","v":""}]
[183767,"","1945-05-28","оплачен",2357,{"$f":"IFERROR(VLOOKUP(B4994,'Комиссии партнеров'!$A$2:$B$52,2,FALSE),\"\")","v":""}]
[183771,"","1945-05-28","не оплачен",3807,{"$f":"IFERROR(VLOOKUP(B4995,'Комиссии партнеров'!$A$2:$B$52,2,FALSE),\"\")","v":""}]
[183776,"","1945-05-28","оплачен",1952,{"$f":"IFERROR(VLOOKUP(B4996,'Комиссии партнеров'!$A$2:$B$52,2,FALSE),\"\")","v":""}]
[183780,"Партнер номер 10","1945-05-28","оплачен",2491,{"$f":"IFERROR(VLOOKUP(B4997,'Комиссии партнеров'!$A$2:$B$52,2,FALSE),\"\")","v":0.04},99.64]
[183783,"","1945-05-28","оплачен",1789,{"$f":"IFERROR(VLOOKUP(B4998,'Комиссии партнеров'!$A$2:$B$52,2,FALSE),\"\")","v":""}]
[183787,"","1945-05-28","не оплачен",2614,{"$f":"IFERROR(VLOOKUP(B4999,'Комиссии партнеров'!$A$2:$B$52,2,FALSE),\"\")","v":""}]
[183789,"Партнер номер 11","1945-05-28","оплачен",1649,{"$f":"IFERROR(VLOOKUP(B5000,'Комиссии партнеров'!$A$2:$B$52,2,FALSE),\"\")","v":0.05},82.45]
[183794,"Партнер номер 5","1945-05-28","не оплачен",1705,{"$f":"IFERROR(VLOOKUP(B5001,'Комиссии партнеров'!$A$2:$B$52,2,FALSE),\"\")","v":0.03},51.15]
[183796,"","1945-05-28","оплачен",5016,{"$f":"IFERROR(VLOOKUP(B5002,'Комиссии партнеров'!$A$2:$B$52,2,FALSE),\"\")","v":""}]
[183800,"Партнер номер 1","1945-05-28","оплачен",1190,{"$f":"IFERROR(VLOOKUP(B5003,'Комиссии партнеров'!$A$2:$B$52,2,FALSE),\"\")","v":0.05},59.5]
[183801,"Партнер номер 7","1945-05-28","не оплачен",1107,{"$f":"IFERROR(VLOOKUP(B5004,'Комиссии партнеров'!$A$2:$B$52,2,FALSE),\"\")","v":0.05},55.35]
[183803,"Партнер номер 46","1945-05-28","не оплачен",2349,{"$f":"IFERROR(VLOOKUP(B5005,'Комиссии партнеров'!$A$2:$B$52,2,FALSE),\"\")","v":0.05},117.45]
[183807,"Партнер номер 1","1945-05-28","оплачен",2673,{"$f":"IFERROR(VLOOKUP(B5006,'Комиссии партнеров'!$A$2:$B$52,2,FALSE),\"\")","v":0.05},133.65]
[183811,"","1945-05-28","оплачен",3307,{"$f":"IFERROR(VLOOKUP(B5007,'Комиссии партнеров'!$A$2:$B$52,2,FALSE),\"\")","v":""}]
[183816,"Партнер номер 5","1945-05-28","оплачен",2276,{"$f":"IFERROR(VLOOKUP(B5008,'Комиссии партнеров'!$A$2:$B$52,2,FALSE),\"\")","v":0.03},68.28]
[183817,"Партнер номер 1","1945-05-28","оплачен",2438,{"$f":"IFERROR(VLOOKUP(B5009,'Комиссии партнеров'!$A$2:$B$52,2,FALSE),\"\")","v":0.05},121.9]
[183823,"Партнер номер 7","1945-05-28","оплачен",3676,{"$f":"IFERROR(VLOOKUP(B5010,'Комиссии партнеров'!$A$2:$B$52,2,FALSE),\"\")","v":0.05},183.8]
[183828,"","1945-05-28","оплачен",1950,{"$f":"IFERROR(VLOOKUP(B5011,'Комиссии партнеров'!$A$2:$B$52,2,FALSE),\"\")","v":""}]
[183829,"Партнер номер 7","1945-05-28","оплачен",3503,{"$f":"IFERROR(VLOOKUP(B5012,'Комиссии партнеров'!$A$2:$B$52,2,FALSE),\"\")","v":0.05},175.15]
[183834,"Партнер номер 1","1945-05-28","оплачен",2239,{"$f":"IFERROR(VLOOKUP(B5013,'Комиссии партнеров'!$A$2:$B$52,2,FALSE),\"\")","v":0.05},111.95]
[183838,"Партнер номер 5","1945-05-28","не оплачен",2168,{"$f":"IFERROR(VLOOKUP(B5014,'Комиссии партнеров'!$A$2:$B$52,2,FALSE),\"\")","v":0.03},65.039999999999992]
[183841,"Партнер номер 7","1945-05-28","не оплачен",1499,{"$f":"IFERROR(VLOOKUP(B5015,'Комиссии партнеров'!$A$2:$B$52,2,FALSE),\"\")","v":0.05},74.95]
[183845,"Партнер номер 7","1945-05-28","оплачен",3131,{"$f":"IFERROR(VLOOKUP(B5016,'Комиссии партнеров'!$A$2:$B$52,2,FALSE),\"\")","v":0.05},156.55000000000001]
[183851,"","1945-05-28","оплачен",445,{"$f":"IFERROR(VLOOKUP(B5017,'Комиссии партнеров'!$A$2:$B$52,2,FALSE),\"\")","v":""}]
[183854,"Партнер номер 11","1945-05-28","не оплачен",1119,{"$f":"IFERROR(VLOOKUP(B5018,'Комиссии партнеров'!$A$2:$B$52,2,FALSE),\"\")","v":0.05},55.95]
[183858,"","1945-05-28","не оплачен",2329,{"$f":"IFERROR(VLOOKUP(B5019,'Комиссии партнеров'!$A$2:$B$52,2,FALSE),\"\")","v":""}]
[183863,"","1945-05-28","оплачен",1386,{"$f":"IFERROR(VLOOKUP(B5020,'Комиссии партнеров'!$A$2:$B$52,2,FALSE),\"\")","v":""}]
[183871,"","1945-05-28","оплачен",4064,{"$f":"IFERROR(VLOOKUP(B5021,'Комиссии партнеров'!$A$2:$B$52,2,FALSE),\"\")","v":""}]
[183874,"","1945-05-28","оплачен",1619,{"$f":"IFERROR(VLOOKUP(B5022,'Комиссии партнеров'!$A$2:$B$52,2,FALSE),\"\")","v":""}]
[183875,"Партнер номер 1","1945-05-28","оплачен",1084,{"$f":"IFERROR(VLOOKUP(B5023,'Комиссии партнеров'!$A$2:$B$52,2,FALSE),\"\")","v":0.05},54.2]
[183877,"Партнер номер 46","1945-05-28","оплачен",1305,{"$f":"IFERROR(VLOOKUP(B5024,'Комиссии партнеров'!$A$2:$B$52,2,FALSE),\"\")","v":0.05},65.25]
[183879,"Партнер номер 11","1945-05-28","оплачен",927,{"$f":"IFERROR(VLOOKUP(B5025,'Комиссии партнеров'!$A$2:$B$52,2,FALSE),\"\")","v":0.05},46.35]
[183881,"Партнер номер 1","1945-05-28","не оплачен",1451,{"$f":"IFERROR(VLOOKUP(B5026,'Комиссии партнеров'!$A$2:$B$52,2,FALSE),\"\")","v":0.05},72.55]
[183884,"","1945-05-28","не оплачен",1819,{"$f":"IFERROR(VLOOKUP(B5027,'Комиссии партнеров'!$A$2:$B$52,2,FALSE),\"\")","v":""}]
[183887,"","1945-05-28","оплачен",4669,{"$f":"IFERROR(VLOOKUP(B5028,'Комиссии партнеров'!$A$2:$B$52,2,FALSE),\"\")","v":""}]
[183889,"","1945-05-28","не оплачен",1107,{"$f":"IFERROR(VLOOKUP(B5029,'Комиссии партнеров'!$A$2:$B$52,2,FALSE),\"\")","v":""}]
[183890,"Партнер номер 1","1945-05-28","оплачен",1571,{"$f":"IFERROR(VLOOKUP(B5030,'Комиссии партнеров'!$A$2:$B$52,2,FALSE),\"\")","v":0.05},78.550000000000011]
[183893,"Партнер номер 1","1945-05-28","не оплачен",541,{"$f":"IFERROR(VLOOKUP(B5031,'Комиссии партнеров'!$A$2:$B$52,2,FALSE),\"\")","v":0.05},27.05]
[183895,"Партнер номер 1","1945-05-28","оплачен",1324,{"$f":"IFERROR(VLOOKUP(B5032,'Комиссии партнеров'!$A$2:$B$52,2,FALSE),\"\")","v":0.05},66.2]
[183900,"Партнер номер 4","1945-05-28","не оплачен",1398,{"$f":"IFERROR(VLOOKUP(B5033,'Комиссии партнеров'!$A$2:$B$52,2,FALSE),\"\")","v":0.04},55.92]
[183902,"Партнер номер 4","1945-05-28","не оплачен",1725,{"$f":"IFERROR(VLOOKUP(B5034,'Комиссии партнеров'!$A$2:$B$52,2,FALSE),\"\")","v":0.04},69]
[183908,"Партнер номер 7","1945-05-28","не оплачен",1107,{"$f":"IFERROR(VLOOKUP(B5035,'Комиссии партнеров'!$A$2:$B$52,2,FALSE),\"\")","v":0.05},55.35]
[183912,"Партнер номер 4","1945-05-28","не оплачен",1722,{"$f":"IFERROR(VLOOKUP(B5036,'Комиссии партнеров'!$A$2:$B$52,2,FALSE),\"\")","v":0.04},68.88]
[183915,"","1945-05-28","не оплачен",2175,{"$f":"IFERROR(VLOOKUP(B5037,'Комиссии партнеров'!$A$2:$B$52,2,FALSE),\"\")","v":""}]
[183918,"","1945-05-28","не оплачен",1684,{"$f":"IFERROR(VLOOKUP(B5038,'Комиссии партнеров'!$A$2:$B$52,2,FALSE),\"\")","v":""}]
[183921,"","1945-05-28","оплачен",1024,{"$f":"IFERROR(VLOOKUP(B5039,'Комиссии партнеров'!$A$2:$B$52,2,FALSE),\"\")","v":""}]
[183926,"Партнер номер 1","1945-05-28","не оплачен",2038,{"$f":"IFERROR(VLOOKUP(B5040,'Комиссии партнеров'!$A$2:$B$52,2,FALSE),\"\")","v":0.05},101.9]
[183930,"","1945-05-28","не оплачен",2389,{"$f":"IFERROR(VLOOKUP(B5041,'Комиссии партнеров'!$A$2:$B$52,2,FALSE),\"\")","v":""}]
[183933,"","1945-05-28","оплачен",3238,{"$f":"IFERROR(VLOOKUP(B5042,'Комиссии партнеров'!$A$2:$B$52,2,FALSE),\"\")","v":""}]
[183937,"Партнер номер 3","1945-05-28","оплачен",1100,{"$f":"IFERROR(VLOOKUP(B5043,'Комиссии партнеров'!$A$2:$B$52,2,FALSE),\"\")","v":0.05},55]
[183953,"","1945-05-28","оплачен",3705,{"$f":"IFERROR(VLOOKUP(B5044,'Комиссии партнеров'!$A$2:$B$52,2,FALSE),\"\")","v":""}]
[183955,"","1945-05-28","оплачен",2786,{"$f":"IFERROR(VLOOKUP(B5045,'Комиссии партнеров'!$A$2:$B$52,2,FALSE),\"\")","v":""}]
[183957,"","1945-05-28","оплачен",948,{"$f":"IFERROR(VLOOKUP(B5046,'Комиссии партнеров'!$A$2:$B$52,2,FALSE),\"\")","v":""}]
[183959,"Партнер номер 5","1945-05-28","оплачен",4803,{"$f":"IFERROR(VLOOKUP(B5047,'Комиссии партнеров'!$A$2:$B$52,2,FALSE),\"\")","v":0.03},144.09]
[183962,"Партнер номер 7","1945-05-28","оплачен",1112,{"$f":"IFERROR(VLOOKUP(B5048,'Комиссии партнеров'!$A$2:$B$52,2,FALSE),\"\")","v":0.05},55.6]
[183967,"Партнер номер 46","1945-05-28","оплачен",772,{"$f":"IFERROR(VLOOKUP(B5049,'Комиссии партнеров'!$A$2:$B$52,2,FALSE),\"\")","v":0.05},38.6]
[183972,"Партнер номер 11","1945-05-28","оплачен",3655,{"$f":"IFERROR(VLOOKUP(B5050,'Комиссии партнеров'!$A$2:$B$52,2,FALSE),\"\")","v":0.05},182.75]
[183975,"","1945-05-28","не оплачен",1615,{"$f":"IFERROR(VLOOKUP(B5051,'Комиссии партнеров'!$A$2:$B$52,2,FALSE),\"\")","v":""}]
[183979,"Партнер номер 1","1945-05-28","оплачен",698,{"$f":"IFERROR(VLOOKUP(B5052,'Комиссии партнеров'!$A$2:$B$52,2,FALSE),\"\")","v":0.05},34.9]
[183980,"","1945-05-28","не оплачен",2359,{"$f":"IFERROR(VLOOKUP(B5053,'Комиссии партнеров'!$A$2:$B$52,2,FALSE),\"\")","v":""}]
[183983,"","1945-05-28","оплачен",787,{"$f":"IFERROR(VLOOKUP(B5054,'Комиссии партнеров'!$A$2:$B$52,2,FALSE),\"\")","v":""}]
[183986,"","1945-05-28","оплачен",670,{"$f":"IFERROR(VLOOKUP(B5055,'Комиссии партнеров'!$A$2:$B$52,2,FALSE),\"\")","v":""}]
[183990,"","1945-05-28","оплачен",1860,{"$f":"IFERROR(VLOOKUP(B5056,'Комиссии партнеров'!$A$2:$B$52,2,FALSE),\"\")","v":""}]
[183994,"","1945-05-28","оплачен",3308,{"$f":"IFERROR(VLOOKUP(B5057,'Комиссии партнеров'!$A$2:$B$52,2,FALSE),\"\")","v":""}]
[183997,"","1945-05-28","не оплачен",964,{"$f":"IFERROR(VLOOKUP(B5058,'Комиссии партнеров'!$A$2:$B$52,2,FALSE),\"\")","v":""}]
[184002,"","1945-05-28","не оплачен",2543,{"$f":"IFERROR(VLOOKUP(B5059,'Комиссии партнеров'!$A$2:$B$52,2,FALSE),\"\")","v":""}]
[184006,"Партнер номер 1","1945-05-28","не оплачен",4715,{"$f":"IFERROR(VLOOKUP(B5060,'Комиссии партнеров'!$A$2:$B$52,2,FALSE),\"\")","v":0.05},235.75]
[184007,"","1945-05-28","оплачен",2796,{"$f":"IFERROR(VLOOKUP(B5061,'Комиссии партнеров'!$A$2:$B$52,2,FALSE),\"\")","v":""}]
[184010,"","1945-05-28","оплачен",2303,{"$f":"IFERROR(VLOOKUP(B5062,'Комиссии партнеров'!$A$2:$B$52,2,FALSE),\"\")","v":""}]
[184013,"Партнер номер 2","1945-05-28","не оплачен",4238,{"$f":"IFERROR(VLOOKUP(B5063,'Комиссии партнеров'!$A$2:$B$52,2,FALSE),\"\")","v":0.04},169.52]
[184016,"","1945-05-28","оплачен",3201,{"$f":"IFERROR(VLOOKUP(B5064,'Комиссии партнеров'!$A$2:$B$52,2,FALSE),\"\")","v":""}]
[184030,"","1945-05-28","оплачен",5774,{"$f":"IFERROR(VLOOKUP(B5065,'Комиссии партнеров'!$A$2:$B$52,2,FALSE),\"\")","v":""}]
[184033,"Партнер номер 1","1945-05-28","оплачен",1428,{"$f":"IFERROR(VLOOKUP(B5066,'Комиссии партнеров'!$A$2:$B$52,2,FALSE),\"\")","v":0.05},71.400000000000006]
[184038,"Партнер номер 5","1945-05-28","оплачен",3698,{"$f":"IFERROR(VLOOKUP(B5067,'Комиссии партнеров'!$A$2:$B$52,2,FALSE),\"\")","v":0.03},110.94]
[184042,"Партнер номер 1","1945-05-28","оплачен",1479,{"$f":"IFERROR(VLOOKUP(B5068,'Комиссии партнеров'!$A$2:$B$52,2,FALSE),\"\")","v":0.05},73.95]
[184045,"","1945-05-28","оплачен",2026,{"$f":"IFERROR(VLOOKUP(B5069,'Комиссии партнеров'!$A$2:$B$52,2,FALSE),\"\")","v":""}]
[184048,"","1945-05-28","оплачен",1799,{"$f":"IFERROR(VLOOKUP(B5070,'Комиссии партнеров'!$A$2:$B$52,2,FALSE),\"\")","v":""}]
[184050,"","1945-05-28","не оплачен",1914,{"$f":"IFERROR(VLOOKUP(B5071,'Комиссии партнеров'!$A$2:$B$52,2,FALSE),\"\")","v":""}]
[184052,"Партнер номер 11","1945-05-28","оплачен",1649,{"$f":"IFERROR(VLOOKUP(B5072,'Комиссии партнеров'!$A$2:$B$52,2,FALSE),\"\")","v":0.05},82.45]
[184056,"Партнер номер 11","1945-05-28","оплачен",1476,{"$f":"IFERROR(VLOOKUP(B5073,'Комиссии партнеров'!$A$2:$B$52,2,FALSE),\"\")","v":0.05},73.8]
[184058,"","1945-05-28","оплачен",2375,{"$f":"IFERROR(VLOOKUP(B5074,'Комиссии партнеров'!$A$2:$B$52,2,FALSE),\"\")","v":""}]
[184063,"Партнер номер 5","1945-05-28","оплачен",1021,{"$f":"IFERROR(VLOOKUP(B5075,'Комиссии партнеров'!$A$2:$B$52,2,FALSE),\"\")","v":0.03},30.63]
[184067,"","1945-05-28","оплачен",1327,{"$f":"IFERROR(VLOOKUP(B5076,'Комиссии партнеров'!$A$2:$B$52,2,FALSE),\"\")","v":""}]
[184070,"","1945-05-28","не оплачен",2852,{"$f":"IFERROR(VLOOKUP(B5077,'Комиссии партнеров'!$A$2:$B$52,2,FALSE),\"\")","v":""}]
[184072,"Партнер номер 5","1945-05-28","оплачен",7417,{"$f":"IFERROR(VLOOKUP(B5078,'Комиссии партнеров'!$A$2:$B$52,2,FALSE),\"\")","v":0.03},222.51]
[184074,"Партнер номер 5","1945-05-28","оплачен",1021,{"$f":"IFERROR(VLOOKUP(B5079,'Комиссии партнеров'!$A$2:$B$52,2,FALSE),\"\")","v":0.03},30.63]
[184076,"","1945-05-28","не оплачен",915,{"$f":"IFERROR(VLOOKUP(B5080,'Комиссии партнеров'!$A$2:$B$52,2,FALSE),\"\")","v":""}]
[184078,"Партнер номер 1","1945-05-28","оплачен",949,{"$f":"IFERROR(VLOOKUP(B5081,'Комиссии партнеров'!$A$2:$B$52,2,FALSE),\"\")","v":0.05},47.45]
[184082,"","1945-05-28","оплачен",3140,{"$f":"IFERROR(VLOOKUP(B5082,'Комиссии партнеров'!$A$2:$B$52,2,FALSE),\"\")","v":""}]
[184084,"","1945-05-28","не оплачен",937,{"$f":"IFERROR(VLOOKUP(B5083,'Комиссии партнеров'!$A$2:$B$52,2,FALSE),\"\")","v":""}]
[184088,"","1945-05-28","оплачен",3073,{"$f":"IFERROR(VLOOKUP(B5084,'Комиссии партнеров'!$A$2:$B$52,2,FALSE),\"\")","v":""}]
[184094,"Партнер номер 1","1945-05-28","оплачен",1731,{"$f":"IFERROR(VLOOKUP(B5085,'Комиссии партнеров'!$A$2:$B$52,2,FALSE),\"\")","v":0.05},86.550000000000011]
[184097,"Партнер номер 8","1945-05-28","оплачен",3841,{"$f":"IFERROR(VLOOKUP(B5086,'Комиссии партнеров'!$A$2:$B$52,2,FALSE),\"\")","v":0.03},115.22999999999999]
[184103,"Партнер номер 1","1945-05-28","оплачен",1404,{"$f":"IFERROR(VLOOKUP(B5087,'Комиссии партнеров'!$A$2:$B$52,2,FALSE),\"\")","v":0.05},70.2]
[184108,"","1945-05-28","оплачен",821,{"$f":"IFERROR(VLOOKUP(B5088,'Комиссии партнеров'!$A$2:$B$52,2,FALSE),\"\")","v":""}]
[184110,"","1945-05-28","не оплачен",3871,{"$f":"IFERROR(VLOOKUP(B5089,'Комиссии партнеров'!$A$2:$B$52,2,FALSE),\"\")","v":""}]
[184115,"","1945-05-28","оплачен",1887,{"$f":"IFERROR(VLOOKUP(B5090,'Комиссии партнеров'!$A$2:$B$52,2,FALSE),\"\")","v":""}]
[184117,"Партнер номер 11","1945-05-28","не оплачен",1218,{"$f":"IFERROR(VLOOKUP(B5091,'Комиссии партнеров'!$A$2:$B$52,2,FALSE),\"\")","v":0.05},60.900000000000006]
[184123,"","1945-05-28","оплачен",533,{"$f":"IFERROR(VLOOKUP(B5092,'Комиссии партнеров'!$A$2:$B$52,2,FALSE),\"\")","v":""}]
[184127,"","1945-05-28","оплачен",1315,{"$f":"IFERROR(VLOOKUP(B5093,'Комиссии партнеров'!$A$2:$B$52,2,FALSE),\"\")","v":""}]
[184130,"","1945-05-28","оплачен",3871,{"$f":"IFERROR(VLOOKUP(B5094,'Комиссии партнеров'!$A$2:$B$52,2,FALSE),\"\")","v":""}]
[184135,"","1945-05-28","оплачен",2434,{"$f":"IFERROR(VLOOKUP(B5095,'Комиссии партнеров'!$A$2:$B$52,2,FALSE),\"\")","v":""}]
[184136,"Партнер номер 11","1945-05-28","оплачен",1069,{"$f":"IFERROR(VLOOKUP(B5096,'Комиссии партнеров'!$A$2:$B$52,2,FALSE),\"\")","v":0.05},53.45]
[184150,"","1945-05-28","оплачен",2431,{"$f":"IFERROR(VLOOKUP(B5097,'Комиссии партнеров'!$A$2:$B$52,2,FALSE),\"\")","v":""}]
[184158,"","1945-05-28","не оплачен",2192,{"$f":"IFERROR(VLOOKUP(B5098,'Комиссии партнеров'!$A$2:$B$52,2,FALSE),\"\")","v":""}]
[184161,"Партнер номер 12","1945-05-28","не оплачен",2301,{"$f":"IFERROR(VLOOKUP(B5099,'Комиссии партнеров'!$A$2:$B$52,2,FALSE),\"\")","v":0.03},69.03]
[184163,"Партнер номер 47","1945-05-28","оплачен",3952,{"$f":"IFERROR(VLOOKUP(B5100,'Комиссии партнеров'!$A$2:$B$52,2,FALSE),\"\")","v":0.05},197.60000000000002]
[184169,"Партнер номер 47","1945-05-28","оплачен",3225,{"$f":"IFERROR(VLOOKUP(B5101,'Комиссии партнеров'!$A$2:$B$52,2,FALSE),\"\")","v":0.05},161.25]
[184171,"Партнер номер 1","1945-05-28","не оплачен",4339,{"$f":"IFERROR(VLOOKUP(B5102,'Комиссии партнеров'!$A$2:$B$52,2,FALSE),\"\")","v":0.05},216.95000000000002]
[184174,"","1945-05-28","оплачен",1333,{"$f":"IFERROR(VLOOKUP(B5103,'Комиссии партнеров'!$A$2:$B$52,2,FALSE),\"\")","v":""}]
[184176,"","1945-05-28","оплачен",2138,{"$f":"IFERROR(VLOOKUP(B5104,'Комиссии партнеров'!$A$2:$B$52,2,FALSE),\"\")","v":""}]
[184179,"Партнер номер 1","1945-05-28","оплачен",1007,{"$f":"IFERROR(VLOOKUP(B5105,'Комиссии партнеров'!$A$2:$B$52,2,FALSE),\"\")","v":0.05},50.35]
[184186,"","1945-05-28","оплачен",443,{"$f":"IFERROR(VLOOKUP(B5106,'Комиссии партнеров'!$A$2:$B$52,2,FALSE),\"\")","v":""}]
[184189,"","1945-05-28","оплачен",1461,{"$f":"IFERROR(VLOOKUP(B5107,'Комиссии партнеров'!$A$2:$B$52,2,FALSE),\"\")","v":""}]
[184194,"","1945-05-28","оплачен",1721,{"$f":"IFERROR(VLOOKUP(B5108,'Комиссии партнеров'!$A$2:$B$52,2,FALSE),\"\")","v":""}]
[184196,"Партнер номер 7","1945-05-28","не оплачен",630,{"$f":"IFERROR(VLOOKUP(B5109,'Комиссии партнеров'!$A$2:$B$52,2,FALSE),\"\")","v":0.05},31.5]
[184201,"","1945-05-28","оплачен",3190,{"$f":"IFERROR(VLOOKUP(B5110,'Комиссии партнеров'!$A$2:$B$52,2,FALSE),\"\")","v":""}]
[184205,"Партнер номер 7","1945-05-28","оплачен",630,{"$f":"IFERROR(VLOOKUP(B5111,'Комиссии партнеров'!$A$2:$B$52,2,FALSE),\"\")","v":0.05},31.5]
[184206,"Партнер номер 11","1945-05-28","оплачен",2911,{"$f":"IFERROR(VLOOKUP(B5112,'Комиссии партнеров'!$A$2:$B$52,2,FALSE),\"\")","v":0.05},145.55000000000001]
[184209,"Партнер номер 1","1945-05-28","оплачен",2290,{"$f":"IFERROR(VLOOKUP(B5113,'Комиссии партнеров'!$A$2:$B$52,2,FALSE),\"\")","v":0.05},114.5]
[184213,"Партнер номер 1","1945-05-28","оплачен",1609,{"$f":"IFERROR(VLOOKUP(B5114,'Комиссии партнеров'!$A$2:$B$52,2,FALSE),\"\")","v":0.05},80.45]
[184215,"","1945-05-28","оплачен",3645,{"$f":"IFERROR(VLOOKUP(B5115,'Комиссии партнеров'!$A$2:$B$52,2,FALSE),\"\")","v":""}]
[184217,"","1945-05-28","не оплачен",3298,{"$f":"IFERROR(VLOOKUP(B5116,'Комиссии партнеров'!$A$2:$B$52,2,FALSE),\"\")","v":""}]
[184220,"Партнер номер 7","1945-05-28","оплачен",2346,{"$f":"IFERROR(VLOOKUP(B5117,'Комиссии партнеров'!$A$2:$B$52,2,FALSE),\"\")","v":0.05},117.30000000000001]
[184222,"","1945-05-28","оплачен",2169,{"$f":"IFERROR(VLOOKUP(B5118,'Комиссии партнеров'!$A$2:$B$52,2,FALSE),\"\")","v":""}]
[184223,"Партнер номер 1","1945-05-28","оплачен",2241,{"$f":"IFERROR(VLOOKUP(B5119,'Комиссии партнеров'!$A$2:$B$52,2,FALSE),\"\")","v":0.05},112.05000000000001]
[184228,"Партнер номер 7","1945-05-28","не оплачен",2296,{"$f":"IFERROR(VLOOKUP(B5120,'Комиссии партнеров'!$A$2:$B$52,2,FALSE),\"\")","v":0.05},114.80000000000001]
[184231,"","1945-05-28","оплачен",2241,{"$f":"IFERROR(VLOOKUP(B5121,'Комиссии партнеров'!$A$2:$B$52,2,FALSE),\"\")","v":""}]
[184234,"","1945-05-28","оплачен",1735,{"$f":"IFERROR(VLOOKUP(B5122,'Комиссии партнеров'!$A$2:$B$52,2,FALSE),\"\")","v":""}]
[184236,"Партнер номер 2","1945-05-28","не оплачен",1197,{"$f":"IFERROR(VLOOKUP(B5123,'Комиссии партнеров'!$A$2:$B$52,2,FALSE),\"\")","v":0.04},47.88]
[184240,"Партнер номер 31","1945-05-28","не оплачен",4447,{"$f":"IFERROR(VLOOKUP(B5124,'Комиссии партнеров'!$A$2:$B$52,2,FALSE),\"\")","v":0.03},133.41]
[184244,"Партнер номер 7","1945-05-28","не оплачен",1535,{"$f":"IFERROR(VLOOKUP(B5125,'Комиссии партнеров'!$A$2:$B$52,2,FALSE),\"\")","v":0.05},76.75]
[184246,"Партнер номер 39","1945-05-28","оплачен",4302,{"$f":"IFERROR(VLOOKUP(B5126,'Комиссии партнеров'!$A$2:$B$52,2,FALSE),\"\")","v":0.05},215.10000000000002]
[184249,"Партнер номер 1","1945-05-28","оплачен",950,{"$f":"IFERROR(VLOOKUP(B5127,'Комиссии партнеров'!$A$2:$B$52,2,FALSE),\"\")","v":0.05},47.5]
[184252,"","1945-05-28","оплачен",1180,{"$f":"IFERROR(VLOOKUP(B5128,'Комиссии партнеров'!$A$2:$B$52,2,FALSE),\"\")","v":""}]
[184254,"","1945-05-28","не оплачен",1403,{"$f":"IFERROR(VLOOKUP(B5129,'Комиссии партнеров'!$A$2:$B$52,2,FALSE),\"\")","v":""}]
[184256,"","1945-05-28","оплачен",1565,{"$f":"IFERROR(VLOOKUP(B5130,'Комиссии партнеров'!$A$2:$B$52,2,FALSE),\"\")","v":""}]
[184257,"","1945-05-28","оплачен",2267,{"$f":"IFERROR(VLOOKUP(B5131,'Комиссии партнеров'!$A$2:$B$52,2,FALSE),\"\")","v":""}]
[184259,"","1945-05-28","не оплачен",2733,{"$f":"IFERROR(VLOOKUP(B5132,'Комиссии партнеров'!$A$2:$B$52,2,FALSE),\"\")","v":""}]
[184265,"","1945-05-28","оплачен",2291,{"$f":"IFERROR(VLOOKUP(B5133,'Комиссии партнеров'!$A$2:$B$52,2,FALSE),\"\")","v":""}]
[184269,"Партнер номер 17","1945-05-28","оплачен",4807,{"$f":"IFERROR(VLOOKUP(B5134,'Комиссии партнеров'!$A$2:$B$52,2,FALSE),\"\")","v":0.04},192.28]
[184273,"Партнер номер 2","1945-05-28","не оплачен",1028,{"$f":"IFERROR(VLOOKUP(B5135,'Комиссии партнеров'!$A$2:$B$52,2,FALSE),\"\")","v":0.04},41.12]
[184276,"","1945-05-28","оплачен",1490,{"$f":"IFERROR(VLOOKUP(B5136,'Комиссии партнеров'!$A$2:$B$52,2,FALSE),\"\")","v":""}]
[184281,"Партнер номер 3","1945-05-28","оплачен",2336,{"$f":"IFERROR(VLOOKUP(B5137,'Комиссии партнеров'!$A$2:$B$52,2,FALSE),\"\")","v":0.05},116.80000000000001]
[184285,"","1945-05-28","оплачен",1360,{"$f":"IFERROR(VLOOKUP(B5138,'Комиссии партнеров'!$A$2:$B$52,2,FALSE),\"\")","v":""}]
[184288,"Партнер номер 3","1945-05-28","оплачен",2678,{"$f":"IFERROR(VLOOKUP(B5139,'Комиссии партнеров'!$A$2:$B$52,2,FALSE),\"\")","v":0.05},133.9]
[184292,"","1945-05-28","оплачен",2831,{"$f":"IFERROR(VLOOKUP(B5140,'Комиссии партнеров'!$A$2:$B$52,2,FALSE),\"\")","v":""}]
[184296,"Партнер номер 1","1945-05-28","оплачен",2032,{"$f":"IFERROR(VLOOKUP(B5141,'Комиссии партнеров'!$A$2:$B$52,2,FALSE),\"\")","v":0.05},101.60000000000001]
[184299,"Партнер номер 49","1945-05-28","не оплачен",1812,{"$f":"IFERROR(VLOOKUP(B5142,'Комиссии партнеров'!$A$2:$B$52,2,FALSE),\"\")","v":0.05},90.600000000000009]
[184303,"Партнер номер 11","1945-05-28","оплачен",1266,{"$f":"IFERROR(VLOOKUP(B5143,'Комиссии партнеров'!$A$2:$B$52,2,FALSE),\"\")","v":0.05},63.300000000000004]
[184307,"Партнер номер 7","1945-05-28","оплачен",712,{"$f":"IFERROR(VLOOKUP(B5144,'Комиссии партнеров'!$A$2:$B$52,2,FALSE),\"\")","v":0.05},35.6]
[184311,"","1945-05-28","оплачен",4622,{"$f":"IFERROR(VLOOKUP(B5145,'Комиссии партнеров'!$A$2:$B$52,2,FALSE),\"\")","v":""}]
[184315,"","1945-05-28","не оплачен",3914,{"$f":"IFERROR(VLOOKUP(B5146,'Комиссии партнеров'!$A$2:$B$52,2,FALSE),\"\")","v":""}]
[184317,"","1945-05-28","оплачен",2424,{"$f":"IFERROR(VLOOKUP(B5147,'Комиссии партнеров'!$A$2:$B$52,2,FALSE),\"\")","v":""}]
[184319,"","1945-05-28","не оплачен",1933,{"$f":"IFERROR(VLOOKUP(B5148,'Комиссии партнеров'!$A$2:$B$52,2,FALSE),\"\")","v":""}]
[184325,"","1945-05-28","оплачен",1089,{"$f":"IFERROR(VLOOKUP(B5149,'Комиссии партнеров'!$A$2:$B$52,2,FALSE),\"\")","v":""}]
[184328,"","1945-05-28","оплачен",2184,{"$f":"IFERROR(VLOOKUP(B5150,'Комиссии партнеров'!$A$2:$B$52,2,FALSE),\"\")","v":""}]
[184331,"Партнер номер 11","1945-05-28","не оплачен",1386,{"$f":"IFERROR(VLOOKUP(B5151,'Комиссии партнеров'!$A$2:$B$52,2,FALSE),\"\")","v":0.05},69.3]
[184333,"","1945-05-29","оплачен",850,{"$f":"IFERROR(VLOOKUP(B5152,'Комиссии партнеров'!$A$2:$B$52,2,FALSE),\"\")","v":""}]
[184335,"","1945-05-29","оплачен",2580,{"$f":"IFERROR(VLOOKUP(B5153,'Комиссии партнеров'!$A$2:$B$52,2,FALSE),\"\")","v":""}]
[184338,"Партнер номер 5","1945-05-29","оплачен",2718,{"$f":"IFERROR(VLOOKUP(B5154,'Комиссии партнеров'!$A$2:$B$52,2,FALSE),\"\")","v":0.03},81.539999999999992]
[184340,"Партнер номер 1","1945-05-29","оплачен",4912,{"$f":"IFERROR(VLOOKUP(B5155,'Комиссии партнеров'!$A$2:$B$52,2,FALSE),\"\")","v":0.05},245.60000000000002]
[184346,"Партнер номер 1","1945-05-29","не оплачен",5523,{"$f":"IFERROR(VLOOKUP(B5156,'Комиссии партнеров'!$A$2:$B$52,2,FALSE),\"\")","v":0.05},276.15000000000003]
[184349,"Партнер номер 1","1945-05-29","не оплачен",2021,{"$f":"IFERROR(VLOOKUP(B5157,'Комиссии партнеров'!$A$2:$B$52,2,FALSE),\"\")","v":0.05},101.05000000000001]
[184351,"","1945-05-29","оплачен",634,{"$f":"IFERROR(VLOOKUP(B5158,'Комиссии партнеров'!$A$2:$B$52,2,FALSE),\"\")","v":""}]
[184356,"","1945-05-29","оплачен",4551,{"$f":"IFERROR(VLOOKUP(B5159,'Комиссии партнеров'!$A$2:$B$52,2,FALSE),\"\")","v":""}]
[184358,"","1945-05-29","оплачен",877,{"$f":"IFERROR(VLOOKUP(B5160,'Комиссии партнеров'!$A$2:$B$52,2,FALSE),\"\")","v":""}]
[184361,"Партнер номер 1","1945-05-29","оплачен",3737,{"$f":"IFERROR(VLOOKUP(B5161,'Комиссии партнеров'!$A$2:$B$52,2,FALSE),\"\")","v":0.05},186.85000000000002]
[184365,"","1945-05-29","оплачен",4159,{"$f":"IFERROR(VLOOKUP(B5162,'Комиссии партнеров'!$A$2:$B$52,2,FALSE),\"\")","v":""}]
[184368,"","1945-05-29","не оплачен",1962,{"$f":"IFERROR(VLOOKUP(B5163,'Комиссии партнеров'!$A$2:$B$52,2,FALSE),\"\")","v":""}]
[184371,"","1945-05-29","не оплачен",2955,{"$f":"IFERROR(VLOOKUP(B5164,'Комиссии партнеров'!$A$2:$B$52,2,FALSE),\"\")","v":""}]
[184375,"Партнер номер 50","1945-05-29","не оплачен",2059,{"$f":"IFERROR(VLOOKUP(B5165,'Комиссии партнеров'!$A$2:$B$52,2,FALSE),\"\")","v":0.04},82.36]
[184376,"","1945-05-29","оплачен",2698,{"$f":"IFERROR(VLOOKUP(B5166,'Комиссии партнеров'!$A$2:$B$52,2,FALSE),\"\")","v":""}]
[184379,"Партнер номер 5","1945-05-29","оплачен",3952,{"$f":"IFERROR(VLOOKUP(B5167,'Комиссии партнеров'!$A$2:$B$52,2,FALSE),\"\")","v":0.03},118.56]
[184383,"","1945-05-29","не оплачен",1555,{"$f":"IFERROR(VLOOKUP(B5168,'Комиссии партнеров'!$A$2:$B$52,2,FALSE),\"\")","v":""}]
[184388,"","1945-05-29","не оплачен",856,{"$f":"IFERROR(VLOOKUP(B5169,'Комиссии партнеров'!$A$2:$B$52,2,FALSE),\"\")","v":""}]
[184391,"","1945-05-29","оплачен",2334,{"$f":"IFERROR(VLOOKUP(B5170,'Комиссии партнеров'!$A$2:$B$52,2,FALSE),\"\")","v":""}]
[184396,"Партнер номер 11","1945-05-29","не оплачен",2117,{"$f":"IFERROR(VLOOKUP(B5171,'Комиссии партнеров'!$A$2:$B$52,2,FALSE),\"\")","v":0.05},105.85000000000001]
[184399,"Партнер номер 25","1945-05-29","оплачен",3058,{"$f":"IFERROR(VLOOKUP(B5172,'Комиссии партнеров'!$A$2:$B$52,2,FALSE),\"\")","v":0.05},152.9]
[184405,"","1945-05-29","оплачен",856,{"$f":"IFERROR(VLOOKUP(B5173,'Комиссии партнеров'!$A$2:$B$52,2,FALSE),\"\")","v":""}]
[184407,"Партнер номер 7","1945-05-29","не оплачен",1477,{"$f":"IFERROR(VLOOKUP(B5174,'Комиссии партнеров'!$A$2:$B$52,2,FALSE),\"\")","v":0.05},73.850000000000009]
[184410,"","1945-05-29","не оплачен",3640,{"$f":"IFERROR(VLOOKUP(B5175,'Комиссии партнеров'!$A$2:$B$52,2,FALSE),\"\")","v":""}]
[184416,"","1945-05-29","не оплачен",2797,{"$f":"IFERROR(VLOOKUP(B5176,'Комиссии партнеров'!$A$2:$B$52,2,FALSE),\"\")","v":""}]
[184420,"","1945-05-29","не оплачен",445,{"$f":"IFERROR(VLOOKUP(B5177,'Комиссии партнеров'!$A$2:$B$52,2,FALSE),\"\")","v":""}]
[184424,"Партнер номер 1","1945-05-29","оплачен",683,{"$f":"IFERROR(VLOOKUP(B5178,'Комиссии партнеров'!$A$2:$B$52,2,FALSE),\"\")","v":0.05},34.15]
[184425,"Партнер номер 1","1945-05-29","не оплачен",1200,{"$f":"IFERROR(VLOOKUP(B5179,'Комиссии партнеров'!$A$2:$B$52,2,FALSE),\"\")","v":0.05},60]
[184427,"","1945-05-29","оплачен",2982,{"$f":"IFERROR(VLOOKUP(B5180,'Комиссии партнеров'!$A$2:$B$52,2,FALSE),\"\")","v":""}]
[184429,"","1945-05-29","оплачен",506,{"$f":"IFERROR(VLOOKUP(B5181,'Комиссии партнеров'!$A$2:$B$52,2,FALSE),\"\")","v":""}]
[184431,"Партнер номер 1","1945-05-29","не оплачен",1200,{"$f":"IFERROR(VLOOKUP(B5182,'Комиссии партнеров'!$A$2:$B$52,2,FALSE),\"\")","v":0.05},60]
[184434,"","1945-05-29","оплачен",651,{"$f":"IFERROR(VLOOKUP(B5183,'Комиссии партнеров'!$A$2:$B$52,2,FALSE),\"\")","v":""}]
[184435,"Партнер номер 1","1945-05-29","не оплачен",909,{"$f":"IFERROR(VLOOKUP(B5184,'Комиссии партнеров'!$A$2:$B$52,2,FALSE),\"\")","v":0.05},45.45]
[184437,"","1945-05-29","не оплачен",1763,{"$f":"IFERROR(VLOOKUP(B5185,'Комиссии партнеров'!$A$2:$B$52,2,FALSE),\"\")","v":""}]
[184441,"Партнер номер 7","1945-05-29","оплачен",1573,{"$f":"IFERROR(VLOOKUP(B5186,'Комиссии партнеров'!$A$2:$B$52,2,FALSE),\"\")","v":0.05},78.650000000000006]
[184442,"","1945-05-29","не оплачен",2353,{"$f":"IFERROR(VLOOKUP(B5187,'Комиссии партнеров'!$A$2:$B$52,2,FALSE),\"\")","v":""}]
[184444,"","1945-05-29","оплачен",2123,{"$f":"IFERROR(VLOOKUP(B5188,'Комиссии партнеров'!$A$2:$B$52,2,FALSE),\"\")","v":""}]
[184447,"","1945-05-29","не оплачен",2624,{"$f":"IFERROR(VLOOKUP(B5189,'Комиссии партнеров'!$A$2:$B$52,2,FALSE),\"\")","v":""}]
[184451,"","1945-05-29","оплачен",1115,{"$f":"IFERROR(VLOOKUP(B5190,'Комиссии партнеров'!$A$2:$B$52,2,FALSE),\"\")","v":""}]
[184453,"Партнер номер 11","1945-05-29","оплачен",2495,{"$f":"IFERROR(VLOOKUP(B5191,'Комиссии партнеров'!$A$2:$B$52,2,FALSE),\"\")","v":0.05},124.75]
[184455,"Партнер номер 11","1945-05-29","оплачен",1255,{"$f":"IFERROR(VLOOKUP(B5192,'Комиссии партнеров'!$A$2:$B$52,2,FALSE),\"\")","v":0.05},62.75]
[184458,"","1945-05-29","не оплачен",2898,{"$f":"IFERROR(VLOOKUP(B5193,'Комиссии партнеров'!$A$2:$B$52,2,FALSE),\"\")","v":""}]
[184463,"","1945-05-29","не оплачен",1757,{"$f":"IFERROR(VLOOKUP(B5194,'Комиссии партнеров'!$A$2:$B$52,2,FALSE),\"\")","v":""}]
[184465,"Партнер номер 1","1945-05-29","оплачен",1423,{"$f":"IFERROR(VLOOKUP(B5195,'Комиссии партнеров'!$A$2:$B$52,2,FALSE),\"\")","v":0.05},71.150000000000006]
[184470,"","1945-05-29","оплачен",3813,{"$f":"IFERROR(VLOOKUP(B5196,'Комиссии партнеров'!$A$2:$B$52,2,FALSE),\"\")","v":""}]
[184475,"","1945-05-29","оплачен",3813,{"$f":"IFERROR(VLOOKUP(B5197,'Комиссии партнеров'!$A$2:$B$52,2,FALSE),\"\")","v":""}]
[184484,"","1945-05-29","не оплачен",1158,{"$f":"IFERROR(VLOOKUP(B5198,'Комиссии партнеров'!$A$2:$B$52,2,FALSE),\"\")","v":""}]
[184488,"","1945-05-29","оплачен",1568,{"$f":"IFERROR(VLOOKUP(B5199,'Комиссии партнеров'!$A$2:$B$52,2,FALSE),\"\")","v":""}]
[184493,"Партнер номер 5","1945-05-29","оплачен",1507,{"$f":"IFERROR(VLOOKUP(B5200,'Комиссии партнеров'!$A$2:$B$52,2,FALSE),\"\")","v":0.03},45.21]
[184495,"","1945-05-29","оплачен",1807,{"$f":"IFERROR(VLOOKUP(B5201,'Комиссии партнеров'!$A$2:$B$52,2,FALSE),\"\")","v":""}]
[184497,"Партнер номер 1","1945-05-29","оплачен",1721,{"$f":"IFERROR(VLOOKUP(B5202,'Комиссии партнеров'!$A$2:$B$52,2,FALSE),\"\")","v":0.05},86.050000000000011]
[184499,"","1945-05-29","оплачен",4205,{"$f":"IFERROR(VLOOKUP(B5203,'Комиссии партнеров'!$A$2:$B$52,2,FALSE),\"\")","v":""}]
[184503,"","1945-05-29","не оплачен",2602,{"$f":"IFERROR(VLOOKUP(B5204,'Комиссии партнеров'!$A$2:$B$52,2,FALSE),\"\")","v":""}]
[184508,"","1945-05-29","оплачен",951,{"$f":"IFERROR(VLOOKUP(B5205,'Комиссии партнеров'!$A$2:$B$52,2,FALSE),\"\")","v":""}]
[184513,"Партнер номер 1","1945-05-29","не оплачен",1237,{"$f":"IFERROR(VLOOKUP(B5206,'Комиссии партнеров'!$A$2:$B$52,2,FALSE),\"\")","v":0.05},61.85]
[184514,"Партнер номер 4","1945-05-29","оплачен",2486,{"$f":"IFERROR(VLOOKUP(B5207,'Комиссии партнеров'!$A$2:$B$52,2,FALSE),\"\")","v":0.04},99.44]
[184516,"","1945-05-29","оплачен",5607,{"$f":"IFERROR(VLOOKUP(B5208,'Комиссии партнеров'!$A$2:$B$52,2,FALSE),\"\")","v":""}]
[184519,"Партнер номер 1","1945-05-29","не оплачен",684,{"$f":"IFERROR(VLOOKUP(B5209,'Комиссии партнеров'!$A$2:$B$52,2,FALSE),\"\")","v":0.05},34.200000000000003]
[184521,"","1945-05-29","оплачен",1449,{"$f":"IFERROR(VLOOKUP(B5210,'Комиссии партнеров'!$A$2:$B$52,2,FALSE),\"\")","v":""}]
[184526,"Партнер номер 1","1945-05-29","оплачен",1148,{"$f":"IFERROR(VLOOKUP(B5211,'Комиссии партнеров'!$A$2:$B$52,2,FALSE),\"\")","v":0.05},57.400000000000006]
[184531,"Партнер номер 4","1945-05-29","не оплачен",2447,{"$f":"IFERROR(VLOOKUP(B5212,'Комиссии партнеров'!$A$2:$B$52,2,FALSE),\"\")","v":0.04},97.88]
[184534,"Партнер номер 1","1945-05-29","оплачен",772,{"$f":"IFERROR(VLOOKUP(B5213,'Комиссии партнеров'!$A$2:$B$52,2,FALSE),\"\")","v":0.05},38.6]
[184538,"","1945-05-29","не оплачен",0,{"$f":"IFERROR(VLOOKUP(B5214,'Комиссии партнеров'!$A$2:$B$52,2,FALSE),\"\")","v":""}]
[184543,"Партнер номер 4","1945-05-29","оплачен",1785,{"$f":"IFERROR(VLOOKUP(B5215,'Комиссии партнеров'!$A$2:$B$52,2,FALSE),\"\")","v":0.04},71.400000000000006]
[184547,"Партнер номер 4","1945-05-29","не оплачен",2549,{"$f":"IFERROR(VLOOKUP(B5216,'Комиссии партнеров'!$A$2:$B$52,2,FALSE),\"\")","v":0.04},101.96000000000001]
[184550,"","1945-05-29","не оплачен",0,{"$f":"IFERROR(VLOOKUP(B5217,'Комиссии партнеров'!$A$2:$B$52,2,FALSE),\"\")","v":""}]
[184553,"","1945-05-29","оплачен",951,{"$f":"IFERROR(VLOOKUP(B5218,'Комиссии партнеров'!$A$2:$B$52,2,FALSE),\"\")","v":""}]
[184556,"Партнер номер 1","1945-05-29","оплачен",1288,{"$f":"IFERROR(VLOOKUP(B5219,'Комиссии партнеров'!$A$2:$B$52,2,FALSE),\"\")","v":0.05},64.400000000000006]
[184565,"","1945-05-29","оплачен",1882,{"$f":"IFERROR(VLOOKUP(B5220,'Комиссии партнеров'!$A$2:$B$52,2,FALSE),\"\")","v":""}]
[184570,"Партнер номер 1","1945-05-29","не оплачен",2017,{"$f":"IFERROR(VLOOKUP(B5221,'Комиссии партнеров'!$A$2:$B$52,2,FALSE),\"\")","v":0.05},100.85000000000001]
[184575,"Партнер номер 8","1945-05-29","не оплачен",852,{"$f":"IFERROR(VLOOKUP(B5222,'Комиссии партнеров'!$A$2:$B$52,2,FALSE),\"\")","v":0.03},25.56]
[184582,"Партнер номер 1","1945-05-29","оплачен",2131,{"$f":"IFERROR(VLOOKUP(B5223,'Комиссии партнеров'!$A$2:$B$52,2,FALSE),\"\")","v":0.05},106.55000000000001]
[184585,"","1945-05-29","оплачен",1245,{"$f":"IFERROR(VLOOKUP(B5224,'Комиссии партнеров'!$A$2:$B$52,2,FALSE),\"\")","v":""}]
[184589,"","1945-05-29","оплачен",1333,{"$f":"IFERROR(VLOOKUP(B5225,'Комиссии партнеров'!$A$2:$B$52,2,FALSE),\"\")","v":""}]
[184595,"","1945-05-29","оплачен",2712,{"$f":"IFERROR(VLOOKUP(B5226,'Комиссии партнеров'!$A$2:$B$52,2,FALSE),\"\")","v":""}]
[184612,"","1945-05-29","не оплачен",2485,{"$f":"IFERROR(VLOOKUP(B5227,'Комиссии партнеров'!$A$2:$B$52,2,FALSE),\"\")","v":""}]
[184615,"","1945-05-29","оплачен",2440,{"$f":"IFERROR(VLOOKUP(B5228,'Комиссии партнеров'!$A$2:$B$52,2,FALSE),\"\")","v":""}]
[184619,"Партнер номер 1","1945-05-29","оплачен",3629,{"$f":"IFERROR(VLOOKUP(B5229,'Комиссии партнеров'!$A$2:$B$52,2,FALSE),\"\")","v":0.05},181.45000000000002]
[184622,"","1945-05-29","не оплачен",2358,{"$f":"IFERROR(VLOOKUP(B5230,'Комиссии партнеров'!$A$2:$B$52,2,FALSE),\"\")","v":""}]
[184624,"","1945-05-29","оплачен",5874,{"$f":"IFERROR(VLOOKUP(B5231,'Комиссии партнеров'!$A$2:$B$52,2,FALSE),\"\")","v":""}]
[184627,"","1945-05-29","оплачен",2222,{"$f":"IFERROR(VLOOKUP(B5232,'Комиссии партнеров'!$A$2:$B$52,2,FALSE),\"\")","v":""}]
[184632,"Партнер номер 1","1945-05-29","не оплачен",2162,{"$f":"IFERROR(VLOOKUP(B5233,'Комиссии партнеров'!$A$2:$B$52,2,FALSE),\"\")","v":0.05},108.10000000000001]
[184637,"Партнер номер 11","1945-05-29","оплачен",681,{"$f":"IFERROR(VLOOKUP(B5234,'Комиссии партнеров'!$A$2:$B$52,2,FALSE),\"\")","v":0.05},34.050000000000004]
[184642,"Партнер номер 5","1945-05-29","не оплачен",660,{"$f":"IFERROR(VLOOKUP(B5235,'Комиссии партнеров'!$A$2:$B$52,2,FALSE),\"\")","v":0.03},19.8]
[184646,"","1945-05-29","не оплачен",1614,{"$f":"IFERROR(VLOOKUP(B5236,'Комиссии партнеров'!$A$2:$B$52,2,FALSE),\"\")","v":""}]
[184659,"Партнер номер 1","1945-05-29","не оплачен",800,{"$f":"IFERROR(VLOOKUP(B5237,'Комиссии партнеров'!$A$2:$B$52,2,FALSE),\"\")","v":0.05},40]
[184661,"","1945-05-29","оплачен",1348,{"$f":"IFERROR(VLOOKUP(B5238,'Комиссии партнеров'!$A$2:$B$52,2,FALSE),\"\")","v":""}]
[184664,"Партнер номер 1","1945-05-29","оплачен",800,{"$f":"IFERROR(VLOOKUP(B5239,'Комиссии партнеров'!$A$2:$B$52,2,FALSE),\"\")","v":0.05},40]
[184666,"","1945-05-29","не оплачен",617,{"$f":"IFERROR(VLOOKUP(B5240,'Комиссии партнеров'!$A$2:$B$52,2,FALSE),\"\")","v":""}]
[184671,"","1945-05-29","оплачен",2210,{"$f":"IFERROR(VLOOKUP(B5241,'Комиссии партнеров'!$A$2:$B$52,2,FALSE),\"\")","v":""}]
[184674,"","1945-05-29","оплачен",1633,{"$f":"IFERROR(VLOOKUP(B5242,'Комиссии партнеров'!$A$2:$B$52,2,FALSE),\"\")","v":""}]
[184679,"","1945-05-29","оплачен",2225,{"$f":"IFERROR(VLOOKUP(B5243,'Комиссии партнеров'!$A$2:$B$52,2,FALSE),\"\")","v":""}]
[184682,"","1945-05-29","оплачен",2658,{"$f":"IFERROR(VLOOKUP(B5244,'Комиссии партнеров'!$A$2:$B$52,2,FALSE),\"\")","v":""}]
[184687,"Партнер номер 1","1945-05-29","оплачен",2710,{"$f":"IFERROR(VLOOKUP(B5245,'Комиссии партнеров'!$A$2:$B$52,2,FALSE),\"\")","v":0.05},135.5]
[184690,"","1945-05-29","не оплачен",2054,{"$f":"IFERROR(VLOOKUP(B5246,'Комиссии партнеров'!$A$2:$B$52,2,FALSE),\"\")","v":""}]
[184692,"","1945-05-29","оплачен",2013,{"$f":"IFERROR(VLOOKUP(B5247,'Комиссии партнеров'!$A$2:$B$52,2,FALSE),\"\")","v":""}]
[184696,"","1945-05-29","не оплачен",1476,{"$f":"IFERROR(VLOOKUP(B5248,'Комиссии партнеров'!$A$2:$B$52,2,FALSE),\"\")","v":""}]
[184699,"","1945-05-29","оплачен",2549,{"$f":"IFERROR(VLOOKUP(B5249,'Комиссии партнеров'!$A$2:$B$52,2,FALSE),\"\")","v":""}]
[184701,"","1945-05-29","оплачен",1238,{"$f":"IFERROR(VLOOKUP(B5250,'Комиссии партнеров'!$A$2:$B$52,2,FALSE),\"\")","v":""}]
[184706,"","1945-05-29","оплачен",1581,{"$f":"IFERROR(VLOOKUP(B5251,'Комиссии партнеров'!$A$2:$B$52,2,FALSE),\"\")","v":""}]
[184711,"Партнер номер 1","1945-05-29","оплачен",1752,{"$f":"IFERROR(VLOOKUP(B5252,'Комиссии партнеров'!$A$2:$B$52,2,FALSE),\"\")","v":0.05},87.600000000000009]
[184712,"","1945-05-29","оплачен",599,{"$f":"IFERROR(VLOOKUP(B5253,'Комиссии партнеров'!$A$2:$B$52,2,FALSE),\"\")","v":""}]
[184714,"Партнер номер 46","1945-05-29","оплачен",1834,{"$f":"IFERROR(VLOOKUP(B5254,'Комиссии партнеров'!$A$2:$B$52,2,FALSE),\"\")","v":0.05},91.7]
[184719,"Партнер номер 1","1945-05-29","оплачен",732,{"$f":"IFERROR(VLOOKUP(B5255,'Комиссии партнеров'!$A$2:$B$52,2,FALSE),\"\")","v":0.05},36.6]
[184721,"Партнер номер 3","1945-05-29","не оплачен",1186,{"$f":"IFERROR(VLOOKUP(B5256,'Комиссии партнеров'!$A$2:$B$52,2,FALSE),\"\")","v":0.05},59.300000000000004]
[184724,"","1945-05-29","не оплачен",299,{"$f":"IFERROR(VLOOKUP(B5257,'Комиссии партнеров'!$A$2:$B$52,2,FALSE),\"\")","v":""}]
[184726,"","1945-05-29","оплачен",1248,{"$f":"IFERROR(VLOOKUP(B5258,'Комиссии партнеров'!$A$2:$B$52,2,FALSE),\"\")","v":""}]
[184729,"","1945-05-29","оплачен",2054,{"$f":"IFERROR(VLOOKUP(B5259,'Комиссии партнеров'!$A$2:$B$52,2,FALSE),\"\")","v":""}]
[184734,"","1945-05-29","не оплачен",395,{"$f":"IFERROR(VLOOKUP(B5260,'Комиссии партнеров'!$A$2:$B$52,2,FALSE),\"\")","v":""}]
[184739,"Партнер номер 1","1945-05-29","оплачен",1504,{"$f":"IFERROR(VLOOKUP(B5261,'Комиссии партнеров'!$A$2:$B$52,2,FALSE),\"\")","v":0.05},75.2]
[184741,"Партнер номер 2","1945-05-29","не оплачен",1347,{"$f":"IFERROR(VLOOKUP(B5262,'Комиссии партнеров'!$A$2:$B$52,2,FALSE),\"\")","v":0.04},53.88]
[184744,"","1945-05-29","оплачен",3888,{"$f":"IFERROR(VLOOKUP(B5263,'Комиссии партнеров'!$A$2:$B$52,2,FALSE),\"\")","v":""}]
[184750,"","1945-05-29","оплачен",978,{"$f":"IFERROR(VLOOKUP(B5264,'Комиссии партнеров'!$A$2:$B$52,2,FALSE),\"\")","v":""}]
[184755,"","1945-05-29","оплачен",1612,{"$f":"IFERROR(VLOOKUP(B5265,'Комиссии партнеров'!$A$2:$B$52,2,FALSE),\"\")","v":""}]
[184760,"","1945-05-29","не оплачен",2367,{"$f":"IFERROR(VLOOKUP(B5266,'Комиссии партнеров'!$A$2:$B$52,2,FALSE),\"\")","v":""}]
[184763,"","1945-05-29","оплачен",1832,{"$f":"IFERROR(VLOOKUP(B5267,'Комиссии партнеров'!$A$2:$B$52,2,FALSE),\"\")","v":""}]
[184768,"","1945-05-29","оплачен",4416,{"$f":"IFERROR(VLOOKUP(B5268,'Комиссии партнеров'!$A$2:$B$52,2,FALSE),\"\")","v":""}]
[184773,"Партнер номер 1","1945-05-29","не оплачен",3917,{"$f":"IFERROR(VLOOKUP(B5269,'Комиссии партнеров'!$A$2:$B$52,2,FALSE),\"\")","v":0.05},195.85000000000002]
[184777,"Партнер номер 1","1945-05-29","оплачен",1748,{"$f":"IFERROR(VLOOKUP(B5270,'Комиссии партнеров'!$A$2:$B$52,2,FALSE),\"\")","v":0.05},87.4]
[184782,"","1945-05-29","оплачен",616,{"$f":"IFERROR(VLOOKUP(B5271,'Комиссии партнеров'!$A$2:$B$52,2,FALSE),\"\")","v":""}]
[184787,"Партнер номер 11","1945-05-29","не оплачен",458,{"$f":"IFERROR(VLOOKUP(B5272,'Комиссии партнеров'!$A$2:$B$52,2,FALSE),\"\")","v":0.05},22.900000000000002]
[184791,"Партнер номер 11","1945-05-29","оплачен",458,{"$f":"IFERROR(VLOOKUP(B5273,'Комиссии партнеров'!$A$2:$B$52,2,FALSE),\"\")","v":0.05},22.900000000000002]
[184795,"","1945-05-29","оплачен",2190,{"$f":"IFERROR(VLOOKUP(B5274,'Комиссии партнеров'!$A$2:$B$52,2,FALSE),\"\")","v":""}]
[184798,"Партнер номер 3","1945-05-29","не оплачен",2518,{"$f":"IFERROR(VLOOKUP(B5275,'Комиссии партнеров'!$A$2:$B$52,2,FALSE),\"\")","v":0.05},125.9]
[184801,"Партнер номер 11","1945-05-29","оплачен",458,{"$f":"IFERROR(VLOOKUP(B5276,'Комиссии партнеров'!$A$2:$B$52,2,FALSE),\"\")","v":0.05},22.900000000000002]
[184805,"","1945-05-29","не оплачен",558,{"$f":"IFERROR(VLOOKUP(B5277,'Комиссии партнеров'!$A$2:$B$52,2,FALSE),\"\")","v":""}]
[184809,"","1945-05-29","оплачен",4913,{"$f":"IFERROR(VLOOKUP(B5278,'Комиссии партнеров'!$A$2:$B$52,2,FALSE),\"\")","v":""}]
[184812,"","1945-05-29","оплачен",1386,{"$f":"IFERROR(VLOOKUP(B5279,'Комиссии партнеров'!$A$2:$B$52,2,FALSE),\"\")","v":""}]
[184816,"Партнер номер 1","1945-05-29","не оплачен",2501,{"$f":"IFERROR(VLOOKUP(B5280,'Комиссии партнеров'!$A$2:$B$52,2,FALSE),\"\")","v":0.05},125.05000000000001]
[184819,"","1945-05-29","оплачен",2592,{"$f":"IFERROR(VLOOKUP(B5281,'Комиссии партнеров'!$A$2:$B$52,2,FALSE),\"\")","v":""}]
[184824,"Партнер номер 30","1945-05-29","оплачен",983,{"$f":"IFERROR(VLOOKUP(B5282,'Комиссии партнеров'!$A$2:$B$52,2,FALSE),\"\")","v":0.05},49.150000000000006]
[184828,"Партнер номер 46","1945-05-29","не оплачен",1076,{"$f":"IFERROR(VLOOKUP(B5283,'Комиссии партнеров'!$A$2:$B$52,2,FALSE),\"\")","v":0.05},53.800000000000004]
[184831,"Партнер номер 2","1945-05-29","не оплачен",1998,{"$f":"IFERROR(VLOOKUP(B5284,'Комиссии партнеров'!$A$2:$B$52,2,FALSE),\"\")","v":0.04},79.92]
[184835,"Партнер номер 1","1945-05-29","не оплачен",2394,{"$f":"IFERROR(VLOOKUP(B5285,'Комиссии партнеров'!$A$2:$B$52,2,FALSE),\"\")","v":0.05},119.7]
[184838,"Партнер номер 1","1945-05-29","оплачен",1496,{"$f":"IFERROR(VLOOKUP(B5286,'Комиссии партнеров'!$A$2:$B$52,2,FALSE),\"\")","v":0.05},74.8]
[184841,"","1945-05-29","не оплачен",1848,{"$f":"IFERROR(VLOOKUP(B5287,'Комиссии партнеров'!$A$2:$B$52,2,FALSE),\"\")","v":""}]
[184845,"","1945-05-29","оплачен",6569,{"$f":"IFERROR(VLOOKUP(B5288,'Комиссии партнеров'!$A$2:$B$52,2,FALSE),\"\")","v":""}]
[184848,"Партнер номер 1","1945-05-29","не оплачен",2394,{"$f":"IFERROR(VLOOKUP(B5289,'Комиссии партнеров'!$A$2:$B$52,2,FALSE),\"\")","v":0.05},119.7]
[184853,"Партнер номер 46","1945-05-29","оплачен",477,{"$f":"IFERROR(VLOOKUP(B5290,'Комиссии партнеров'!$A$2:$B$52,2,FALSE),\"\")","v":0.05},23.85]
[184859,"Партнер номер 3","1945-05-29","оплачен",2905,{"$f":"IFERROR(VLOOKUP(B5291,'Комиссии партнеров'!$A$2:$B$52,2,FALSE),\"\")","v":0.05},145.25]
[184864,"","1945-05-29","оплачен",1100,{"$f":"IFERROR(VLOOKUP(B5292,'Комиссии партнеров'!$A$2:$B$52,2,FALSE),\"\")","v":""}]
[184865,"","1945-05-29","не оплачен",662,{"$f":"IFERROR(VLOOKUP(B5293,'Комиссии партнеров'!$A$2:$B$52,2,FALSE),\"\")","v":""}]
[184867,"","1945-05-29","оплачен",3065,{"$f":"IFERROR(VLOOKUP(B5294,'Комиссии партнеров'!$A$2:$B$52,2,FALSE),\"\")","v":""}]
[184869,"Партнер номер 1","1945-05-29","оплачен",2564,{"$f":"IFERROR(VLOOKUP(B5295,'Комиссии партнеров'!$A$2:$B$52,2,FALSE),\"\")","v":0.05},128.20000000000002]
[184874,"","1945-05-29","оплачен",1701,{"$f":"IFERROR(VLOOKUP(B5296,'Комиссии партнеров'!$A$2:$B$52,2,FALSE),\"\")","v":""}]
[184879,"","1945-05-29","оплачен",662,{"$f":"IFERROR(VLOOKUP(B5297,'Комиссии партнеров'!$A$2:$B$52,2,FALSE),\"\")","v":""}]
[184882,"","1945-05-29","оплачен",1960,{"$f":"IFERROR(VLOOKUP(B5298,'Комиссии партнеров'!$A$2:$B$52,2,FALSE),\"\")","v":""}]
[184885,"","1945-05-29","не оплачен",1264,{"$f":"IFERROR(VLOOKUP(B5299,'Комиссии партнеров'!$A$2:$B$52,2,FALSE),\"\")","v":""}]
[184889,"","1945-05-29","оплачен",2702,{"$f":"IFERROR(VLOOKUP(B5300,'Комиссии партнеров'!$A$2:$B$52,2,FALSE),\"\")","v":""}]
[184893,"","1945-05-29","оплачен",6828,{"$f":"IFERROR(VLOOKUP(B5301,'Комиссии партнеров'!$A$2:$B$52,2,FALSE),\"\")","v":""}]
[184895,"Партнер номер 51","1945-05-29","оплачен",3058,{"$f":"IFERROR(VLOOKUP(B5302,'Комиссии партнеров'!$A$2:$B$52,2,FALSE),\"\")","v":0.04},122.32000000000001]
[184897,"Партнер номер 1","1945-05-29","оплачен",2293,{"$f":"IFERROR(VLOOKUP(B5303,'Комиссии партнеров'!$A$2:$B$52,2,FALSE),\"\")","v":0.05},114.65]
[184900,"","1945-05-29","не оплачен",978,{"$f":"IFERROR(VLOOKUP(B5304,'Комиссии партнеров'!$A$2:$B$52,2,FALSE),\"\")","v":""}]
[184904,"","1945-05-29","оплачен",5487,{"$f":"IFERROR(VLOOKUP(B5305,'Комиссии партнеров'!$A$2:$B$52,2,FALSE),\"\")","v":""}]
[184908,"","1945-05-29","оплачен",1201,{"$f":"IFERROR(VLOOKUP(B5306,'Комиссии партнеров'!$A$2:$B$52,2,FALSE),\"\")","v":""}]
[184910,"","1945-05-29","оплачен",674,{"$f":"IFERROR(VLOOKUP(B5307,'Комиссии партнеров'!$A$2:$B$52,2,FALSE),\"\")","v":""}]
[184914,"","1945-05-29","не оплачен",1602,{"$f":"IFERROR(VLOOKUP(B5308,'Комиссии партнеров'!$A$2:$B$52,2,FALSE),\"\")","v":""}]
[184918,"Партнер номер 1","1945-05-29","не оплачен",846,{"$f":"IFERROR(VLOOKUP(B5309,'Комиссии партнеров'!$A$2:$B$52,2,FALSE),\"\")","v":0.05},42.300000000000004]
[184919,"","1945-05-29","оплачен",4294,{"$f":"IFERROR(VLOOKUP(B5310,'Комиссии партнеров'!$A$2:$B$52,2,FALSE),\"\")","v":""}]
[184923,"Партнер номер 5","1945-05-29","оплачен",1898,{"$f":"IFERROR(VLOOKUP(B5311,'Комиссии партнеров'!$A$2:$B$52,2,FALSE),\"\")","v":0.03},56.94]
[184924,"","1945-05-29","оплачен",2456,{"$f":"IFERROR(VLOOKUP(B5312,'Комиссии партнеров'!$A$2:$B$52,2,FALSE),\"\")","v":""}]
[184928,"Партнер номер 1","1945-05-29","не оплачен",654,{"$f":"IFERROR(VLOOKUP(B5313,'Комиссии партнеров'!$A$2:$B$52,2,FALSE),\"\")","v":0.05},32.700000000000003]
[184933,"","1945-05-29","оплачен",2351,{"$f":"IFERROR(VLOOKUP(B5314,'Комиссии партнеров'!$A$2:$B$52,2,FALSE),\"\")","v":""}]
[184938,"","1945-05-29","оплачен",1484,{"$f":"IFERROR(VLOOKUP(B5315,'Комиссии партнеров'!$A$2:$B$52,2,FALSE),\"\")","v":""}]
[184942,"","1945-05-29","оплачен",1804,{"$f":"IFERROR(VLOOKUP(B5316,'Комиссии партнеров'!$A$2:$B$52,2,FALSE),\"\")","v":""}]
[184946,"Партнер номер 5","1945-05-29","не оплачен",2905,{"$f":"IFERROR(VLOOKUP(B5317,'Комиссии партнеров'!$A$2:$B$52,2,FALSE),\"\")","v":0.03},87.149999999999991]
[184950,"Партнер номер 1","1945-05-29","не оплачен",259,{"$f":"IFERROR(VLOOKUP(B5318,'Комиссии партнеров'!$A$2:$B$52,2,FALSE),\"\")","v":0.05},12.950000000000001]
[184951,"","1945-05-29","оплачен",4344,{"$f":"IFERROR(VLOOKUP(B5319,'Комиссии партнеров'!$A$2:$B$52,2,FALSE),\"\")","v":""}]
[184955,"Партнер номер 11","1945-05-29","оплачен",515,{"$f":"IFERROR(VLOOKUP(B5320,'Комиссии партнеров'!$A$2:$B$52,2,FALSE),\"\")","v":0.05},25.75]
[184958,"Партнер номер 3","1945-05-29","не оплачен",3433,{"$f":"IFERROR(VLOOKUP(B5321,'Комиссии партнеров'!$A$2:$B$52,2,FALSE),\"\")","v":0.05},171.65]
[184960,"Партнер номер 5","1945-05-29","оплачен",2817,{"$f":"IFERROR(VLOOKUP(B5322,'Комиссии партнеров'!$A$2:$B$52,2,FALSE),\"\")","v":0.03},84.509999999999991]
[184964,"","1945-05-29","оплачен",2148,{"$f":"IFERROR(VLOOKUP(B5323,'Комиссии партнеров'!$A$2:$B$52,2,FALSE),\"\")","v":""}]
[184968,"","1945-05-29","оплачен",1923,{"$f":"IFERROR(VLOOKUP(B5324,'Комиссии партнеров'!$A$2:$B$52,2,FALSE),\"\")","v":""}]
[184973,"","1945-05-29","оплачен",2306,{"$f":"IFERROR(VLOOKUP(B5325,'Комиссии партнеров'!$A$2:$B$52,2,FALSE),\"\")","v":""}]
[184978,"Партнер номер 25","1945-05-29","оплачен",2994,{"$f":"IFERROR(VLOOKUP(B5326,'Комиссии партнеров'!$A$2:$B$52,2,FALSE),\"\")","v":0.05},149.70000000000002]
[184983,"","1945-05-29","оплачен",1279,{"$f":"IFERROR(VLOOKUP(B5327,'Комиссии партнеров'!$A$2:$B$52,2,FALSE),\"\")","v":""}]
[184985,"Партнер номер 10","1945-05-29","оплачен",2795,{"$f":"IFERROR(VLOOKUP(B5328,'Комиссии партнеров'!$A$2:$B$52,2,FALSE),\"\")","v":0.04},111.8]
[184990,"","1945-05-29","оплачен",678,{"$f":"IFERROR(VLOOKUP(B5329,'Комиссии партнеров'!$A$2:$B$52,2,FALSE),\"\")","v":""}]
[184993,"","1945-05-29","оплачен",1847,{"$f":"IFERROR(VLOOKUP(B5330,'Комиссии партнеров'!$A$2:$B$52,2,FALSE),\"\")","v":""}]
[184997,"Партнер номер 1","1945-05-29","оплачен",2583,{"$f":"IFERROR(VLOOKUP(B5331,'Комиссии партнеров'!$A$2:$B$52,2,FALSE),\"\")","v":0.05},129.15]
[184999,"","1945-05-29","не оплачен",2684,{"$f":"IFERROR(VLOOKUP(B5332,'Комиссии партнеров'!$A$2:$B$52,2,FALSE),\"\")","v":""}]
[185004,"Партнер номер 1","1945-05-29","не оплачен",357,{"$f":"IFERROR(VLOOKUP(B5333,'Комиссии партнеров'!$A$2:$B$52,2,FALSE),\"\")","v":0.05},17.850000000000001]
[185008,"","1945-05-29","оплачен",3276,{"$f":"IFERROR(VLOOKUP(B5334,'Комиссии партнеров'!$A$2:$B$52,2,FALSE),\"\")","v":""}]
[185011,"","1945-05-29","оплачен",1900,{"$f":"IFERROR(VLOOKUP(B5335,'Комиссии партнеров'!$A$2:$B$52,2,FALSE),\"\")","v":""}]
[185013,"","1945-05-29","оплачен",2320,{"$f":"IFERROR(VLOOKUP(B5336,'Комиссии партнеров'!$A$2:$B$52,2,FALSE),\"\")","v":""}]
[185015,"Партнер номер 3","1945-05-29","оплачен",1122,{"$f":"IFERROR(VLOOKUP(B5337,'Комиссии партнеров'!$A$2:$B$52,2,FALSE),\"\")","v":0.05},56.1]
[185018,"Партнер номер 3","1945-05-29","оплачен",1160,{"$f":"IFERROR(VLOOKUP(B5338,'Комиссии партнеров'!$A$2:$B$52,2,FALSE),\"\")","v":0.05},58]
[185023,"Партнер номер 11","1945-05-29","оплачен",3509,{"$f":"IFERROR(VLOOKUP(B5339,'Комиссии партнеров'!$A$2:$B$52,2,FALSE),\"\")","v":0.05},175.45000000000002]
[185028,"","1945-05-30","оплачен",771,{"$f":"IFERROR(VLOOKUP(B5340,'Комиссии партнеров'!$A$2:$B$52,2,FALSE),\"\")","v":""}]
[185031,"Партнер номер 1","1945-05-30","оплачен",2085,{"$f":"IFERROR(VLOOKUP(B5341,'Комиссии партнеров'!$A$2:$B$52,2,FALSE),\"\")","v":0.05},104.25]
[185035,"Партнер номер 7","1945-05-30","оплачен",1021,{"$f":"IFERROR(VLOOKUP(B5342,'Комиссии партнеров'!$A$2:$B$52,2,FALSE),\"\")","v":0.05},51.050000000000004]
[185036,"","1945-05-30","не оплачен",1262,{"$f":"IFERROR(VLOOKUP(B5343,'Комиссии партнеров'!$A$2:$B$52,2,FALSE),\"\")","v":""}]
[185040,"","1945-05-30","не оплачен",2348,{"$f":"IFERROR(VLOOKUP(B5344,'Комиссии партнеров'!$A$2:$B$52,2,FALSE),\"\")","v":""}]
[185045,"Партнер номер 1","1945-05-30","оплачен",391,{"$f":"IFERROR(VLOOKUP(B5345,'Комиссии партнеров'!$A$2:$B$52,2,FALSE),\"\")","v":0.05},19.55]
[185050,"","1945-05-30","не оплачен",1083,{"$f":"IFERROR(VLOOKUP(B5346,'Комиссии партнеров'!$A$2:$B$52,2,FALSE),\"\")","v":""}]
[185053,"Партнер номер 3","1945-05-30","оплачен",1535,{"$f":"IFERROR(VLOOKUP(B5347,'Комиссии партнеров'!$A$2:$B$52,2,FALSE),\"\")","v":0.05},76.75]
[185054,"Партнер номер 1","1945-05-30","оплачен",310,{"$f":"IFERROR(VLOOKUP(B5348,'Комиссии партнеров'!$A$2:$B$52,2,FALSE),\"\")","v":0.05},15.5]
[185057,"","1945-05-30","оплачен",543,{"$f":"IFERROR(VLOOKUP(B5349,'Комиссии партнеров'!$A$2:$B$52,2,FALSE),\"\")","v":""}]
[185060,"","1945-05-30","оплачен",1965,{"$f":"IFERROR(VLOOKUP(B5350,'Комиссии партнеров'!$A$2:$B$52,2,FALSE),\"\")","v":""}]
[185065,"Партнер номер 1","1945-05-30","не оплачен",2736,{"$f":"IFERROR(VLOOKUP(B5351,'Комиссии партнеров'!$A$2:$B$52,2,FALSE),\"\")","v":0.05},136.80000000000001]
[185069,"","1945-05-30","не оплачен",740,{"$f":"IFERROR(VLOOKUP(B5352,'Комиссии партнеров'!$A$2:$B$52,2,FALSE),\"\")","v":""}]
[185072,"","1945-05-30","оплачен",2783,{"$f":"IFERROR(VLOOKUP(B5353,'Комиссии партнеров'!$A$2:$B$52,2,FALSE),\"\")","v":""}]
[185077,"Партнер номер 3","1945-05-30","оплачен",1735,{"$f":"IFERROR(VLOOKUP(B5354,'Комиссии партнеров'!$A$2:$B$52,2,FALSE),\"\")","v":0.05},86.75]
[185081,"Партнер номер 2","1945-05-30","не оплачен",9056,{"$f":"IFERROR(VLOOKUP(B5355,'Комиссии партнеров'!$A$2:$B$52,2,FALSE),\"\")","v":0.04},362.24]
[185085,"Партнер номер 11","1945-05-30","оплачен",500,{"$f":"IFERROR(VLOOKUP(B5356,'Комиссии партнеров'!$A$2:$B$52,2,FALSE),\"\")","v":0.05},25]
[185090,"Партнер номер 9","1945-05-30","оплачен",2148,{"$f":"IFERROR(VLOOKUP(B5357,'Комиссии партнеров'!$A$2:$B$52,2,FALSE),\"\")","v":0.05},107.4]
[185094,"","1945-05-30","не оплачен",1788,{"$f":"IFERROR(VLOOKUP(B5358,'Комиссии партнеров'!$A$2:$B$52,2,FALSE),\"\")","v":""}]
[185099,"","1945-05-30","оплачен",950,{"$f":"IFERROR(VLOOKUP(B5359,'Комиссии партнеров'!$A$2:$B$52,2,FALSE),\"\")","v":""}]
[185102,"Партнер номер 3","1945-05-30","не оплачен",1233,{"$f":"IFERROR(VLOOKUP(B5360,'Комиссии партнеров'!$A$2:$B$52,2,FALSE),\"\")","v":0.05},61.650000000000006]
[185106,"Партнер номер 1","1945-05-30","не оплачен",7620,{"$f":"IFERROR(VLOOKUP(B5361,'Комиссии партнеров'!$A$2:$B$52,2,FALSE),\"\")","v":0.05},381]
[185108,"Партнер номер 2","1945-05-30","оплачен",4398,{"$f":"IFERROR(VLOOKUP(B5362,'Комиссии партнеров'!$A$2:$B$52,2,FALSE),\"\")","v":0.04},175.92000000000002]
[185113,"","1945-05-30","оплачен",1105,{"$f":"IFERROR(VLOOKUP(B5363,'Комиссии партнеров'!$A$2:$B$52,2,FALSE),\"\")","v":""}]
[185115,"Партнер номер 1","1945-05-30","оплачен",1593,{"$f":"IFERROR(VLOOKUP(B5364,'Комиссии партнеров'!$A$2:$B$52,2,FALSE),\"\")","v":0.05},79.650000000000006]
[185120,"Партнер номер 46","1945-05-30","не оплачен",3607,{"$f":"IFERROR(VLOOKUP(B5365,'Комиссии партнеров'!$A$2:$B$52,2,FALSE),\"\")","v":0.05},180.35000000000002]
[185122,"Партнер номер 11","1945-05-30","не оплачен",1693,{"$f":"IFERROR(VLOOKUP(B5366,'Комиссии партнеров'!$A$2:$B$52,2,FALSE),\"\")","v":0.05},84.65]
[185127,"Партнер номер 5","1945-05-30","оплачен",657,{"$f":"IFERROR(VLOOKUP(B5367,'Комиссии партнеров'!$A$2:$B$52,2,FALSE),\"\")","v":0.03},19.71]
[185132,"","1945-05-30","оплачен",1182,{"$f":"IFERROR(VLOOKUP(B5368,'Комиссии партнеров'!$A$2:$B$52,2,FALSE),\"\")","v":""}]
[185135,"Партнер номер 1","1945-05-30","не оплачен",1904,{"$f":"IFERROR(VLOOKUP(B5369,'Комиссии партнеров'!$A$2:$B$52,2,FALSE),\"\")","v":0.05},95.2]
[185138,"Партнер номер 7","1945-05-30","оплачен",339,{"$f":"IFERROR(VLOOKUP(B5370,'Комиссии партнеров'!$A$2:$B$52,2,FALSE),\"\")","v":0.05},16.95]
[185140,"","1945-05-30","оплачен",1483,{"$f":"IFERROR(VLOOKUP(B5371,'Комиссии партнеров'!$A$2:$B$52,2,FALSE),\"\")","v":""}]
[185144,"Партнер номер 1","1945-05-30","оплачен",2457,{"$f":"IFERROR(VLOOKUP(B5372,'Комиссии партнеров'!$A$2:$B$52,2,FALSE),\"\")","v":0.05},122.85000000000001]
[185146,"Партнер номер 7","1945-05-30","оплачен",238,{"$f":"IFERROR(VLOOKUP(B5373,'Комиссии партнеров'!$A$2:$B$52,2,FALSE),\"\")","v":0.05},11.9]
[185149,"Партнер номер 1","1945-05-30","оплачен",734,{"$f":"IFERROR(VLOOKUP(B5374,'Комиссии партнеров'!$A$2:$B$52,2,FALSE),\"\")","v":0.05},36.700000000000003]
[185150,"","1945-05-30","оплачен",1202,{"$f":"IFERROR(VLOOKUP(B5375,'Комиссии партнеров'!$A$2:$B$52,2,FALSE),\"\")","v":""}]
[185153,"Партнер номер 7","1945-05-30","оплачен",2240,{"$f":"IFERROR(VLOOKUP(B5376,'Комиссии партнеров'!$A$2:$B$52,2,FALSE),\"\")","v":0.05},112]
[185157,"Партнер номер 5","1945-05-30","не оплачен",5124,{"$f":"IFERROR(VLOOKUP(B5377,'Комиссии партнеров'!$A$2:$B$52,2,FALSE),\"\")","v":0.03},153.72]
[185163,"Партнер номер 1","1945-05-30","оплачен",991,{"$f":"IFERROR(VLOOKUP(B5378,'Комиссии партнеров'!$A$2:$B$52,2,FALSE),\"\")","v":0.05},49.550000000000004]
[185166,"Партнер номер 7","1945-05-30","оплачен",238,{"$f":"IFERROR(VLOOKUP(B5379,'Комиссии партнеров'!$A$2:$B$52,2,FALSE),\"\")","v":0.05},11.9]
[185170,"Партнер номер 2","1945-05-30","оплачен",367,{"$f":"IFERROR(VLOOKUP(B5380,'Комиссии партнеров'!$A$2:$B$52,2,FALSE),\"\")","v":0.04},14.68]
[185173,"","1945-05-30","оплачен",2186,{"$f":"IFERROR(VLOOKUP(B5381,'Комиссии партнеров'!$A$2:$B$52,2,FALSE),\"\")","v":""}]
[185176,"Партнер номер 1","1945-05-30","не оплачен",1823,{"$f":"IFERROR(VLOOKUP(B5382,'Комиссии партнеров'!$A$2:$B$52,2,FALSE),\"\")","v":0.05},91.15]
[185179,"","1945-05-30","оплачен",3364,{"$f":"IFERROR(VLOOKUP(B5383,'Комиссии партнеров'!$A$2:$B$52,2,FALSE),\"\")","v":""}]
[185180,"","1945-05-30","оплачен",4643,{"$f":"IFERROR(VLOOKUP(B5384,'Комиссии партнеров'!$A$2:$B$52,2,FALSE),\"\")","v":""}]
[185186,"","1945-05-30","оплачен",2265,{"$f":"IFERROR(VLOOKUP(B5385,'Комиссии партнеров'!$A$2:$B$52,2,FALSE),\"\")","v":""}]
[185191,"Партнер номер 7","1945-05-30","оплачен",424,{"$f":"IFERROR(VLOOKUP(B5386,'Комиссии партнеров'!$A$2:$B$52,2,FALSE),\"\")","v":0.05},21.200000000000003]
[185197,"","1945-05-30","не оплачен",2472,{"$f":"IFERROR(VLOOKUP(B5387,'Комиссии партнеров'!$A$2:$B$52,2,FALSE),\"\")","v":""}]
[185199,"","1945-05-30","оплачен",998,{"$f":"IFERROR(VLOOKUP(B5388,'Комиссии партнеров'!$A$2:$B$52,2,FALSE),\"\")","v":""}]
[185204,"","1945-05-30","оплачен",2179,{"$f":"IFERROR(VLOOKUP(B5389,'Комиссии партнеров'!$A$2:$B$52,2,FALSE),\"\")","v":""}]
[185205,"Партнер номер 7","1945-05-30","оплачен",1125,{"$f":"IFERROR(VLOOKUP(B5390,'Комиссии партнеров'!$A$2:$B$52,2,FALSE),\"\")","v":0.05},56.25]
[185206,"","1945-05-30","оплачен",1006,{"$f":"IFERROR(VLOOKUP(B5391,'Комиссии партнеров'!$A$2:$B$52,2,FALSE),\"\")","v":""}]
[185208,"","1945-05-30","не оплачен",7025,{"$f":"IFERROR(VLOOKUP(B5392,'Комиссии партнеров'!$A$2:$B$52,2,FALSE),\"\")","v":""}]
[185211,"","1945-05-30","оплачен",5656,{"$f":"IFERROR(VLOOKUP(B5393,'Комиссии партнеров'!$A$2:$B$52,2,FALSE),\"\")","v":""}]
[185213,"Партнер номер 10","1945-05-30","оплачен",2951,{"$f":"IFERROR(VLOOKUP(B5394,'Комиссии партнеров'!$A$2:$B$52,2,FALSE),\"\")","v":0.04},118.04]
[185219,"","1945-05-30","оплачен",1195,{"$f":"IFERROR(VLOOKUP(B5395,'Комиссии партнеров'!$A$2:$B$52,2,FALSE),\"\")","v":""}]
[185221,"","1945-05-30","оплачен",1001,{"$f":"IFERROR(VLOOKUP(B5396,'Комиссии партнеров'!$A$2:$B$52,2,FALSE),\"\")","v":""}]
[185223,"","1945-05-30","не оплачен",255,{"$f":"IFERROR(VLOOKUP(B5397,'Комиссии партнеров'!$A$2:$B$52,2,FALSE),\"\")","v":""}]
[185227,"Партнер номер 11","1945-05-30","оплачен",1164,{"$f":"IFERROR(VLOOKUP(B5398,'Комиссии партнеров'!$A$2:$B$52,2,FALSE),\"\")","v":0.05},58.2]
[185228,"","1945-05-30","оплачен",3131,{"$f":"IFERROR(VLOOKUP(B5399,'Комиссии партнеров'!$A$2:$B$52,2,FALSE),\"\")","v":""}]
[185230,"","1945-05-30","оплачен",1753,{"$f":"IFERROR(VLOOKUP(B5400,'Комиссии партнеров'!$A$2:$B$52,2,FALSE),\"\")","v":""}]
[185232,"Партнер номер 7","1945-05-30","оплачен",757,{"$f":"IFERROR(VLOOKUP(B5401,'Комиссии партнеров'!$A$2:$B$52,2,FALSE),\"\")","v":0.05},37.85]
[185237,"Партнер номер 7","1945-05-30","оплачен",1042,{"$f":"IFERROR(VLOOKUP(B5402,'Комиссии партнеров'!$A$2:$B$52,2,FALSE),\"\")","v":0.05},52.1]
[185243,"","1945-05-30","оплачен",2899,{"$f":"IFERROR(VLOOKUP(B5403,'Комиссии партнеров'!$A$2:$B$52,2,FALSE),\"\")","v":""}]
[185248,"","1945-05-30","не оплачен",4232,{"$f":"IFERROR(VLOOKUP(B5404,'Комиссии партнеров'!$A$2:$B$52,2,FALSE),\"\")","v":""}]
[185250,"Партнер номер 13","1945-05-30","оплачен",13323,{"$f":"IFERROR(VLOOKUP(B5405,'Комиссии партнеров'!$A$2:$B$52,2,FALSE),\"\")","v":0.05},666.15000000000009]
[185254,"","1945-05-30","оплачен",4320,{"$f":"IFERROR(VLOOKUP(B5406,'Комиссии партнеров'!$A$2:$B$52,2,FALSE),\"\")","v":""}]
[185256,"Партнер номер 2","1945-05-30","оплачен",910,{"$f":"IFERROR(VLOOKUP(B5407,'Комиссии партнеров'!$A$2:$B$52,2,FALSE),\"\")","v":0.04},36.4]
[185266,"","1945-05-30","не оплачен",1723,{"$f":"IFERROR(VLOOKUP(B5408,'Комиссии партнеров'!$A$2:$B$52,2,FALSE),\"\")","v":""}]
[185267,"Партнер номер 1","1945-05-30","оплачен",2551,{"$f":"IFERROR(VLOOKUP(B5409,'Комиссии партнеров'!$A$2:$B$52,2,FALSE),\"\")","v":0.05},127.55000000000001]
[185271,"Партнер номер 1","1945-05-30","не оплачен",3565,{"$f":"IFERROR(VLOOKUP(B5410,'Комиссии партнеров'!$A$2:$B$52,2,FALSE),\"\")","v":0.05},178.25]
[185275,"","1945-05-30","не оплачен",2556,{"$f":"IFERROR(VLOOKUP(B5411,'Комиссии партнеров'!$A$2:$B$52,2,FALSE),\"\")","v":""}]
[185280,"","1945-05-30","оплачен",2556,{"$f":"IFERROR(VLOOKUP(B5412,'Комиссии партнеров'!$A$2:$B$52,2,FALSE),\"\")","v":""}]
[185284,"","1945-05-30","оплачен",1373,{"$f":"IFERROR(VLOOKUP(B5413,'Комиссии партнеров'!$A$2:$B$52,2,FALSE),\"\")","v":""}]
[185286,"","1945-05-30","не оплачен",922,{"$f":"IFERROR(VLOOKUP(B5414,'Комиссии партнеров'!$A$2:$B$52,2,FALSE),\"\")","v":""}]
[185290,"","1945-05-30","оплачен",1291,{"$f":"IFERROR(VLOOKUP(B5415,'Комиссии партнеров'!$A$2:$B$52,2,FALSE),\"\")","v":""}]
[185291,"","1945-05-30","оплачен",1359,{"$f":"IFERROR(VLOOKUP(B5416,'Комиссии партнеров'!$A$2:$B$52,2,FALSE),\"\")","v":""}]
[185296,"","1945-05-30","оплачен",1964,{"$f":"IFERROR(VLOOKUP(B5417,'Комиссии партнеров'!$A$2:$B$52,2,FALSE),\"\")","v":""}]
[185299,"Партнер номер 1","1945-05-30","оплачен",2678,{"$f":"IFERROR(VLOOKUP(B5418,'Комиссии партнеров'!$A$2:$B$52,2,FALSE),\"\")","v":0.05},133.9]
[185305,"Партнер номер 7","1945-05-30","оплачен",408,{"$f":"IFERROR(VLOOKUP(B5419,'Комиссии партнеров'!$A$2:$B$52,2,FALSE),\"\")","v":0.05},20.400000000000002]
[185309,"","1945-05-30","не оплачен",922,{"$f":"IFERROR(VLOOKUP(B5420,'Комиссии партнеров'!$A$2:$B$52,2,FALSE),\"\")","v":""}]
[185312,"Партнер номер 1","1945-05-30","не оплачен",2457,{"$f":"IFERROR(VLOOKUP(B5421,'Комиссии партнеров'!$A$2:$B$52,2,FALSE),\"\")","v":0.05},122.85000000000001]
[185315,"Партнер номер 11","1945-05-30","оплачен",2148,{"$f":"IFERROR(VLOOKUP(B5422,'Комиссии партнеров'!$A$2:$B$52,2,FALSE),\"\")","v":0.05},107.4]
[185320,"Партнер номер 7","1945-05-30","оплачен",329,{"$f":"IFERROR(VLOOKUP(B5423,'Комиссии партнеров'!$A$2:$B$52,2,FALSE),\"\")","v":0.05},16.45]
[185325,"Партнер номер 4","1945-05-30","не оплачен",4679,{"$f":"IFERROR(VLOOKUP(B5424,'Комиссии партнеров'!$A$2:$B$52,2,FALSE),\"\")","v":0.04},187.16]
[185330,"Партнер номер 3","1945-05-30","оплачен",4807,{"$f":"IFERROR(VLOOKUP(B5425,'Комиссии партнеров'!$A$2:$B$52,2,FALSE),\"\")","v":0.05},240.35000000000002]
[185334,"Партнер номер 1","1945-05-30","оплачен",905,{"$f":"IFERROR(VLOOKUP(B5426,'Комиссии партнеров'!$A$2:$B$52,2,FALSE),\"\")","v":0.05},45.25]
[185338,"Партнер номер 1","1945-05-30","не оплачен",2173,{"$f":"IFERROR(VLOOKUP(B5427,'Комиссии партнеров'!$A$2:$B$52,2,FALSE),\"\")","v":0.05},108.65]
[185341,"Партнер номер 1","1945-05-30","оплачен",1393,{"$f":"IFERROR(VLOOKUP(B5428,'Комиссии партнеров'!$A$2:$B$52,2,FALSE),\"\")","v":0.05},69.650000000000006]
[185352,"","1945-05-30","оплачен",3497,{"$f":"IFERROR(VLOOKUP(B5429,'Комиссии партнеров'!$A$2:$B$52,2,FALSE),\"\")","v":""}]
[185357,"Партнер номер 7","1945-05-30","оплачен",424,{"$f":"IFERROR(VLOOKUP(B5430,'Комиссии партнеров'!$A$2:$B$52,2,FALSE),\"\")","v":0.05},21.200000000000003]
[185362,"Партнер номер 7","1945-05-30","не оплачен",2790,{"$f":"IFERROR(VLOOKUP(B5431,'Комиссии партнеров'!$A$2:$B$52,2,FALSE),\"\")","v":0.05},139.5]
[185367,"Партнер номер 10","1945-05-30","оплачен",2556,{"$f":"IFERROR(VLOOKUP(B5432,'Комиссии партнеров'!$A$2:$B$52,2,FALSE),\"\")","v":0.04},102.24000000000001]
[185373,"","1945-05-30","не оплачен",1332,{"$f":"IFERROR(VLOOKUP(B5433,'Комиссии партнеров'!$A$2:$B$52,2,FALSE),\"\")","v":""}]
[185375,"Партнер номер 11","1945-05-30","не оплачен",2258,{"$f":"IFERROR(VLOOKUP(B5434,'Комиссии партнеров'!$A$2:$B$52,2,FALSE),\"\")","v":0.05},112.9]
[185379,"","1945-05-30","оплачен",2025,{"$f":"IFERROR(VLOOKUP(B5435,'Комиссии партнеров'!$A$2:$B$52,2,FALSE),\"\")","v":""}]
[185382,"","1945-05-30","не оплачен",2405,{"$f":"IFERROR(VLOOKUP(B5436,'Комиссии партнеров'!$A$2:$B$52,2,FALSE),\"\")","v":""}]
[185385,"Партнер номер 2","1945-05-30","не оплачен",1063,{"$f":"IFERROR(VLOOKUP(B5437,'Комиссии партнеров'!$A$2:$B$52,2,FALSE),\"\")","v":0.04},42.52]
[185392,"","1945-05-30","оплачен",624,{"$f":"IFERROR(VLOOKUP(B5438,'Комиссии партнеров'!$A$2:$B$52,2,FALSE),\"\")","v":""}]
[185394,"Партнер номер 7","1945-05-30","оплачен",506,{"$f":"IFERROR(VLOOKUP(B5439,'Комиссии партнеров'!$A$2:$B$52,2,FALSE),\"\")","v":0.05},25.3]
[185398,"","1945-05-30","оплачен",4277,{"$f":"IFERROR(VLOOKUP(B5440,'Комиссии партнеров'!$A$2:$B$52,2,FALSE),\"\")","v":""}]
[185409,"Партнер номер 7","1945-05-30","оплачен",2181,{"$f":"IFERROR(VLOOKUP(B5441,'Комиссии партнеров'!$A$2:$B$52,2,FALSE),\"\")","v":0.05},109.05000000000001]
[185412,"","1945-05-30","оплачен",1470,{"$f":"IFERROR(VLOOKUP(B5442,'Комиссии партнеров'!$A$2:$B$52,2,FALSE),\"\")","v":""}]
[185417,"","1945-05-30","не оплачен",2658,{"$f":"IFERROR(VLOOKUP(B5443,'Комиссии партнеров'!$A$2:$B$52,2,FALSE),\"\")","v":""}]
[185419,"Партнер номер 2","1945-05-30","не оплачен",518,{"$f":"IFERROR(VLOOKUP(B5444,'Комиссии партнеров'!$A$2:$B$52,2,FALSE),\"\")","v":0.04},20.72]
[185420,"Партнер номер 1","1945-05-30","оплачен",3044,{"$f":"IFERROR(VLOOKUP(B5445,'Комиссии партнеров'!$A$2:$B$52,2,FALSE),\"\")","v":0.05},152.20000000000002]
[185422,"","1945-05-30","оплачен",408,{"$f":"IFERROR(VLOOKUP(B5446,'Комиссии партнеров'!$A$2:$B$52,2,FALSE),\"\")","v":""}]
[185425,"","1945-05-30","оплачен",1246,{"$f":"IFERROR(VLOOKUP(B5447,'Комиссии партнеров'!$A$2:$B$52,2,FALSE),\"\")","v":""}]
[185429,"","1945-05-30","оплачен",1081,{"$f":"IFERROR(VLOOKUP(B5448,'Комиссии партнеров'!$A$2:$B$52,2,FALSE),\"\")","v":""}]
[185432,"","1945-05-30","не оплачен",547,{"$f":"IFERROR(VLOOKUP(B5449,'Комиссии партнеров'!$A$2:$B$52,2,FALSE),\"\")","v":""}]
[185437,"","1945-05-30","оплачен",2448,{"$f":"IFERROR(VLOOKUP(B5450,'Комиссии партнеров'!$A$2:$B$52,2,FALSE),\"\")","v":""}]
[185442,"","1945-05-30","не оплачен",448,{"$f":"IFERROR(VLOOKUP(B5451,'Комиссии партнеров'!$A$2:$B$52,2,FALSE),\"\")","v":""}]
[185444,"Партнер номер 2","1945-05-30","не оплачен",518,{"$f":"IFERROR(VLOOKUP(B5452,'Комиссии партнеров'!$A$2:$B$52,2,FALSE),\"\")","v":0.04},20.72]
[185447,"Партнер номер 3","1945-05-30","оплачен",2082,{"$f":"IFERROR(VLOOKUP(B5453,'Комиссии партнеров'!$A$2:$B$52,2,FALSE),\"\")","v":0.05},104.10000000000001]
[185452,"","1945-05-30","оплачен",1413,{"$f":"IFERROR(VLOOKUP(B5454,'Комиссии партнеров'!$A$2:$B$52,2,FALSE),\"\")","v":""}]
[185458,"Партнер номер 1","1945-05-30","оплачен",2553,{"$f":"IFERROR(VLOOKUP(B5455,'Комиссии партнеров'!$A$2:$B$52,2,FALSE),\"\")","v":0.05},127.65]
[185462,"Партнер номер 2","1945-05-30","не оплачен",518,{"$f":"IFERROR(VLOOKUP(B5456,'Комиссии партнеров'!$A$2:$B$52,2,FALSE),\"\")","v":0.04},20.72]
[185466,"Партнер номер 11","1945-05-30","оплачен",1564,{"$f":"IFERROR(VLOOKUP(B5457,'Комиссии партнеров'!$A$2:$B$52,2,FALSE),\"\")","v":0.05},78.2]
[185469,"","1945-05-30","оплачен",1412,{"$f":"IFERROR(VLOOKUP(B5458,'Комиссии партнеров'!$A$2:$B$52,2,FALSE),\"\")","v":""}]
[185474,"","1945-05-30","не оплачен",814,{"$f":"IFERROR(VLOOKUP(B5459,'Комиссии партнеров'!$A$2:$B$52,2,FALSE),\"\")","v":""}]
[185478,"Партнер номер 1","1945-05-30","оплачен",1978,{"$f":"IFERROR(VLOOKUP(B5460,'Комиссии партнеров'!$A$2:$B$52,2,FALSE),\"\")","v":0.05},98.9]
[185481,"Партнер номер 2","1945-05-30","оплачен",518,{"$f":"IFERROR(VLOOKUP(B5461,'Комиссии партнеров'!$A$2:$B$52,2,FALSE),\"\")","v":0.04},20.72]
[185487,"Партнер номер 5","1945-05-30","оплачен",2753,{"$f":"IFERROR(VLOOKUP(B5462,'Комиссии партнеров'!$A$2:$B$52,2,FALSE),\"\")","v":0.03},82.59]
[185491,"Партнер номер 1","1945-05-30","оплачен",1503,{"$f":"IFERROR(VLOOKUP(B5463,'Комиссии партнеров'!$A$2:$B$52,2,FALSE),\"\")","v":0.05},75.150000000000006]
[185492,"Партнер номер 1","1945-05-30","оплачен",2766,{"$f":"IFERROR(VLOOKUP(B5464,'Комиссии партнеров'!$A$2:$B$52,2,FALSE),\"\")","v":0.05},138.30000000000001]
[185497,"Партнер номер 5","1945-05-30","не оплачен",4627,{"$f":"IFERROR(VLOOKUP(B5465,'Комиссии партнеров'!$A$2:$B$52,2,FALSE),\"\")","v":0.03},138.81]
[185501,"Партнер номер 7","1945-05-30","оплачен",925,{"$f":"IFERROR(VLOOKUP(B5466,'Комиссии партнеров'!$A$2:$B$52,2,FALSE),\"\")","v":0.05},46.25]
[185506,"","1945-05-30","оплачен",1290,{"$f":"IFERROR(VLOOKUP(B5467,'Комиссии партнеров'!$A$2:$B$52,2,FALSE),\"\")","v":""}]
[185508,"Партнер номер 1","1945-05-30","оплачен",1250,{"$f":"IFERROR(VLOOKUP(B5468,'Комиссии партнеров'!$A$2:$B$52,2,FALSE),\"\")","v":0.05},62.5]
[185513,"","1945-05-30","оплачен",2151,{"$f":"IFERROR(VLOOKUP(B5469,'Комиссии партнеров'!$A$2:$B$52,2,FALSE),\"\")","v":""}]
[185517,"","1945-05-30","оплачен",2151,{"$f":"IFERROR(VLOOKUP(B5470,'Комиссии партнеров'!$A$2:$B$52,2,FALSE),\"\")","v":""}]
[185518,"Партнер номер 7","1945-05-30","не оплачен",1743,{"$f":"IFERROR(VLOOKUP(B5471,'Комиссии партнеров'!$A$2:$B$52,2,FALSE),\"\")","v":0.05},87.15]
[185523,"","1945-05-30","оплачен",4555,{"$f":"IFERROR(VLOOKUP(B5472,'Комиссии партнеров'!$A$2:$B$52,2,FALSE),\"\")","v":""}]
[185527,"","1945-05-30","оплачен",1479,{"$f":"IFERROR(VLOOKUP(B5473,'Комиссии партнеров'!$A$2:$B$52,2,FALSE),\"\")","v":""}]
[185530,"","1945-05-30","оплачен",1008,{"$f":"IFERROR(VLOOKUP(B5474,'Комиссии партнеров'!$A$2:$B$52,2,FALSE),\"\")","v":""}]
[185536,"","1945-05-30","не оплачен",1279,{"$f":"IFERROR(VLOOKUP(B5475,'Комиссии партнеров'!$A$2:$B$52,2,FALSE),\"\")","v":""}]
[185537,"","1945-05-30","оплачен",5328,{"$f":"IFERROR(VLOOKUP(B5476,'Комиссии партнеров'!$A$2:$B$52,2,FALSE),\"\")","v":""}]
[185541,"Партнер номер 7","1945-05-30","не оплачен",1265,{"$f":"IFERROR(VLOOKUP(B5477,'Комиссии партнеров'!$A$2:$B$52,2,FALSE),\"\")","v":0.05},63.25]
[185542,"","1945-05-30","оплачен",1479,{"$f":"IFERROR(VLOOKUP(B5478,'Комиссии партнеров'!$A$2:$B$52,2,FALSE),\"\")","v":""}]
[185545,"Партнер номер 1","1945-05-30","оплачен",2193,{"$f":"IFERROR(VLOOKUP(B5479,'Комиссии партнеров'!$A$2:$B$52,2,FALSE),\"\")","v":0.05},109.65]
[185549,"","1945-05-30","оплачен",1479,{"$f":"IFERROR(VLOOKUP(B5480,'Комиссии партнеров'!$A$2:$B$52,2,FALSE),\"\")","v":""}]
[185553,"Партнер номер 1","1945-05-30","оплачен",848,{"$f":"IFERROR(VLOOKUP(B5481,'Комиссии партнеров'!$A$2:$B$52,2,FALSE),\"\")","v":0.05},42.400000000000006]
[185558,"","1945-05-30","не оплачен",1923,{"$f":"IFERROR(VLOOKUP(B5482,'Комиссии партнеров'!$A$2:$B$52,2,FALSE),\"\")","v":""}]
[185567,"","1945-05-30","оплачен",1321,{"$f":"IFERROR(VLOOKUP(B5483,'Комиссии партнеров'!$A$2:$B$52,2,FALSE),\"\")","v":""}]
[185571,"","1945-05-30","оплачен",3229,{"$f":"IFERROR(VLOOKUP(B5484,'Комиссии партнеров'!$A$2:$B$52,2,FALSE),\"\")","v":""}]
[185576,"","1945-05-30","оплачен",3064,{"$f":"IFERROR(VLOOKUP(B5485,'Комиссии партнеров'!$A$2:$B$52,2,FALSE),\"\")","v":""}]
[185581,"","1945-05-30","оплачен",2991,{"$f":"IFERROR(VLOOKUP(B5486,'Комиссии партнеров'!$A$2:$B$52,2,FALSE),\"\")","v":""}]
[185585,"","1945-05-30","не оплачен",972,{"$f":"IFERROR(VLOOKUP(B5487,'Комиссии партнеров'!$A$2:$B$52,2,FALSE),\"\")","v":""}]
[185589,"","1945-05-30","оплачен",2086,{"$f":"IFERROR(VLOOKUP(B5488,'Комиссии партнеров'!$A$2:$B$52,2,FALSE),\"\")","v":""}]
[185596,"Партнер номер 1","1945-05-30","оплачен",689,{"$f":"IFERROR(VLOOKUP(B5489,'Комиссии партнеров'!$A$2:$B$52,2,FALSE),\"\")","v":0.05},34.450000000000003]
[185599,"Партнер номер 11","1945-05-30","оплачен",5689,{"$f":"IFERROR(VLOOKUP(B5490,'Комиссии партнеров'!$A$2:$B$52,2,FALSE),\"\")","v":0.05},284.45]
[185600,"Партнер номер 1","1945-05-30","оплачен",779,{"$f":"IFERROR(VLOOKUP(B5491,'Комиссии партнеров'!$A$2:$B$52,2,FALSE),\"\")","v":0.05},38.950000000000003]
[185602,"","1945-05-30","не оплачен",1662,{"$f":"IFERROR(VLOOKUP(B5492,'Комиссии партнеров'!$A$2:$B$52,2,FALSE),\"\")","v":""}]
[185604,"","1945-05-30","не оплачен",1662,{"$f":"IFERROR(VLOOKUP(B5493,'Комиссии партнеров'!$A$2:$B$52,2,FALSE),\"\")","v":""}]
[185610,"Партнер номер 5","1945-05-30","оплачен",4399,{"$f":"IFERROR(VLOOKUP(B5494,'Комиссии партнеров'!$A$2:$B$52,2,FALSE),\"\")","v":0.03},131.97]
[185611,"Партнер номер 5","1945-05-30","не оплачен",2542,{"$f":"IFERROR(VLOOKUP(B5495,'Комиссии партнеров'!$A$2:$B$52,2,FALSE),\"\")","v":0.03},76.259999999999991]
[185615,"Партнер номер 11","1945-05-30","не оплачен",1667,{"$f":"IFERROR(VLOOKUP(B5496,'Комиссии партнеров'!$A$2:$B$52,2,FALSE),\"\")","v":0.05},83.350000000000009]
[185618,"","1945-05-30","оплачен",1690,{"$f":"IFERROR(VLOOKUP(B5497,'Комиссии партнеров'!$A$2:$B$52,2,FALSE),\"\")","v":""}]
[185620,"Партнер номер 12","1945-05-30","оплачен",1805,{"$f":"IFERROR(VLOOKUP(B5498,'Комиссии партнеров'!$A$2:$B$52,2,FALSE),\"\")","v":0.03},54.15]
[185623,"","1945-05-30","оплачен",1996,{"$f":"IFERROR(VLOOKUP(B5499,'Комиссии партнеров'!$A$2:$B$52,2,FALSE),\"\")","v":""}]
[185624,"Партнер номер 1","1945-05-30","не оплачен",2760,{"$f":"IFERROR(VLOOKUP(B5500,'Комиссии партнеров'!$A$2:$B$52,2,FALSE),\"\")","v":0.05},138]
[185628,"","1945-05-30","не оплачен",4259,{"$f":"IFERROR(VLOOKUP(B5501,'Комиссии партнеров'!$A$2:$B$52,2,FALSE),\"\")","v":""}]
[185631,"Партнер номер 11","1945-05-30","оплачен",1667,{"$f":"IFERROR(VLOOKUP(B5502,'Комиссии партнеров'!$A$2:$B$52,2,FALSE),\"\")","v":0.05},83.350000000000009]
[185636,"Партнер номер 2","1945-05-30","не оплачен",1732,{"$f":"IFERROR(VLOOKUP(B5503,'Комиссии партнеров'!$A$2:$B$52,2,FALSE),\"\")","v":0.04},69.28]
[185639,"Партнер номер 1","1945-05-30","оплачен",2592,{"$f":"IFERROR(VLOOKUP(B5504,'Комиссии партнеров'!$A$2:$B$52,2,FALSE),\"\")","v":0.05},129.6]
[185641,"","1945-05-30","оплачен",723,{"$f":"IFERROR(VLOOKUP(B5505,'Комиссии партнеров'!$A$2:$B$52,2,FALSE),\"\")","v":""}]
[185645,"Партнер номер 1","1945-05-30","оплачен",955,{"$f":"IFERROR(VLOOKUP(B5506,'Комиссии партнеров'!$A$2:$B$52,2,FALSE),\"\")","v":0.05},47.75]
[185648,"Партнер номер 1","1945-05-30","оплачен",808,{"$f":"IFERROR(VLOOKUP(B5507,'Комиссии партнеров'!$A$2:$B$52,2,FALSE),\"\")","v":0.05},40.400000000000006]
[185653,"","1945-05-30","не оплачен",4259,{"$f":"IFERROR(VLOOKUP(B5508,'Комиссии партнеров'!$A$2:$B$52,2,FALSE),\"\")","v":""}]
[185658,"","1945-05-30","оплачен",1372,{"$f":"IFERROR(VLOOKUP(B5509,'Комиссии партнеров'!$A$2:$B$52,2,FALSE),\"\")","v":""}]
[185660,"","1945-05-30","оплачен",2412,{"$f":"IFERROR(VLOOKUP(B5510,'Комиссии партнеров'!$A$2:$B$52,2,FALSE),\"\")","v":""}]
[185663,"","1945-05-30","оплачен",4902,{"$f":"IFERROR(VLOOKUP(B5511,'Комиссии партнеров'!$A$2:$B$52,2,FALSE),\"\")","v":""}]
[185669,"","1945-05-30","оплачен",1625,{"$f":"IFERROR(VLOOKUP(B5512,'Комиссии партнеров'!$A$2:$B$52,2,FALSE),\"\")","v":""}]
[185674,"Партнер номер 2","1945-05-30","оплачен",1732,{"$f":"IFERROR(VLOOKUP(B5513,'Комиссии партнеров'!$A$2:$B$52,2,FALSE),\"\")","v":0.04},69.28]
[185678,"","1945-05-30","оплачен",1645,{"$f":"IFERROR(VLOOKUP(B5514,'Комиссии партнеров'!$A$2:$B$52,2,FALSE),\"\")","v":""}]
[185683,"","1945-05-30","оплачен",2533,{"$f":"IFERROR(VLOOKUP(B5515,'Комиссии партнеров'!$A$2:$B$52,2,FALSE),\"\")","v":""}]
[185685,"","1945-05-30","не оплачен",5004,{"$f":"IFERROR(VLOOKUP(B5516,'Комиссии партнеров'!$A$2:$B$52,2,FALSE),\"\")","v":""}]
[185688,"","1945-05-30","не оплачен",1156,{"$f":"IFERROR(VLOOKUP(B5517,'Комиссии партнеров'!$A$2:$B$52,2,FALSE),\"\")","v":""}]
[185690,"","1945-05-30","не оплачен",467,{"$f":"IFERROR(VLOOKUP(B5518,'Комиссии партнеров'!$A$2:$B$52,2,FALSE),\"\")","v":""}]
[185693,"","1945-05-30","оплачен",4414,{"$f":"IFERROR(VLOOKUP(B5519,'Комиссии партнеров'!$A$2:$B$52,2,FALSE),\"\")","v":""}]
[185697,"","1945-05-30","не оплачен",766,{"$f":"IFERROR(VLOOKUP(B5520,'Комиссии партнеров'!$A$2:$B$52,2,FALSE),\"\")","v":""}]
[185701,"Партнер номер 2","1945-05-30","не оплачен",1987,{"$f":"IFERROR(VLOOKUP(B5521,'Комиссии партнеров'!$A$2:$B$52,2,FALSE),\"\")","v":0.04},79.48]
[185704,"Партнер номер 1","1945-05-30","оплачен",4110,{"$f":"IFERROR(VLOOKUP(B5522,'Комиссии партнеров'!$A$2:$B$52,2,FALSE),\"\")","v":0.05},205.5]
[185706,"","1945-05-30","оплачен",4201,{"$f":"IFERROR(VLOOKUP(B5523,'Комиссии партнеров'!$A$2:$B$52,2,FALSE),\"\")","v":""}]
[185711,"Партнер номер 3","1945-05-30","оплачен",5162,{"$f":"IFERROR(VLOOKUP(B5524,'Комиссии партнеров'!$A$2:$B$52,2,FALSE),\"\")","v":0.05},258.10000000000002]
[185712,"Партнер номер 11","1945-05-30","не оплачен",751,{"$f":"IFERROR(VLOOKUP(B5525,'Комиссии партнеров'!$A$2:$B$52,2,FALSE),\"\")","v":0.05},37.550000000000004]
[185716,"Партнер номер 1","1945-05-30","оплачен",1689,{"$f":"IFERROR(VLOOKUP(B5526,'Комиссии партнеров'!$A$2:$B$52,2,FALSE),\"\")","v":0.05},84.45]
[185719,"Партнер номер 1","1945-05-30","оплачен",1845,{"$f":"IFERROR(VLOOKUP(B5527,'Комиссии партнеров'!$A$2:$B$52,2,FALSE),\"\")","v":0.05},92.25]
[185722,"","1945-05-30","оплачен",8575,{"$f":"IFERROR(VLOOKUP(B5528,'Комиссии партнеров'!$A$2:$B$52,2,FALSE),\"\")","v":""}]
[185724,"Партнер номер 5","1945-05-30","не оплачен",4457,{"$f":"IFERROR(VLOOKUP(B5529,'Комиссии партнеров'!$A$2:$B$52,2,FALSE),\"\")","v":0.03},133.71]
[185727,"","1945-05-30","не оплачен",1051,{"$f":"IFERROR(VLOOKUP(B5530,'Комиссии партнеров'!$A$2:$B$52,2,FALSE),\"\")","v":""}]
[185730,"Партнер номер 5","1945-05-30","оплачен",4457,{"$f":"IFERROR(VLOOKUP(B5531,'Комиссии партнеров'!$A$2:$B$52,2,FALSE),\"\")","v":0.03},133.71]
[185734,"","1945-05-30","оплачен",1058,{"$f":"IFERROR(VLOOKUP(B5532,'Комиссии партнеров'!$A$2:$B$52,2,FALSE),\"\")","v":""}]
[185736,"","1945-05-30","оплачен",1248,{"$f":"IFERROR(VLOOKUP(B5533,'Комиссии партнеров'!$A$2:$B$52,2,FALSE),\"\")","v":""}]
[185739,"Партнер номер 7","1945-05-30","оплачен",4326,{"$f":"IFERROR(VLOOKUP(B5534,'Комиссии партнеров'!$A$2:$B$52,2,FALSE),\"\")","v":0.05},216.3]
[185743,"","1945-05-31","оплачен",2482,{"$f":"IFERROR(VLOOKUP(B5535,'Комиссии партнеров'!$A$2:$B$52,2,FALSE),\"\")","v":""}]
[185748,"","1945-05-31","оплачен",2164,{"$f":"IFERROR(VLOOKUP(B5536,'Комиссии партнеров'!$A$2:$B$52,2,FALSE),\"\")","v":""}]
[185753,"Партнер номер 2","1945-05-31","оплачен",1095,{"$f":"IFERROR(VLOOKUP(B5537,'Комиссии партнеров'!$A$2:$B$52,2,FALSE),\"\")","v":0.04},43.800000000000004]
[185757,"","1945-05-31","не оплачен",4519,{"$f":"IFERROR(VLOOKUP(B5538,'Комиссии партнеров'!$A$2:$B$52,2,FALSE),\"\")","v":""}]
[185761,"Партнер номер 3","1945-05-31","оплачен",1274,{"$f":"IFERROR(VLOOKUP(B5539,'Комиссии партнеров'!$A$2:$B$52,2,FALSE),\"\")","v":0.05},63.7]
[185763,"","1945-05-31","не оплачен",2490,{"$f":"IFERROR(VLOOKUP(B5540,'Комиссии партнеров'!$A$2:$B$52,2,FALSE),\"\")","v":""}]
[185765,"Партнер номер 3","1945-05-31","не оплачен",1712,{"$f":"IFERROR(VLOOKUP(B5541,'Комиссии партнеров'!$A$2:$B$52,2,FALSE),\"\")","v":0.05},85.600000000000009]
[185767,"","1945-05-31","оплачен",1314,{"$f":"IFERROR(VLOOKUP(B5542,'Комиссии партнеров'!$A$2:$B$52,2,FALSE),\"\")","v":""}]
[185771,"Партнер номер 1","1945-05-31","оплачен",1904,{"$f":"IFERROR(VLOOKUP(B5543,'Комиссии партнеров'!$A$2:$B$52,2,FALSE),\"\")","v":0.05},95.2]
[185775,"","1945-05-31","оплачен",2001,{"$f":"IFERROR(VLOOKUP(B5544,'Комиссии партнеров'!$A$2:$B$52,2,FALSE),\"\")","v":""}]
[185779,"Партнер номер 2","1945-05-31","не оплачен",5247,{"$f":"IFERROR(VLOOKUP(B5545,'Комиссии партнеров'!$A$2:$B$52,2,FALSE),\"\")","v":0.04},209.88]
[185783,"","1945-05-31","оплачен",2887,{"$f":"IFERROR(VLOOKUP(B5546,'Комиссии партнеров'!$A$2:$B$52,2,FALSE),\"\")","v":""}]
[185786,"Партнер номер 5","1945-05-31","не оплачен",1130,{"$f":"IFERROR(VLOOKUP(B5547,'Комиссии партнеров'!$A$2:$B$52,2,FALSE),\"\")","v":0.03},33.9]
[185789,"Партнер номер 29","1945-05-31","оплачен",2568,{"$f":"IFERROR(VLOOKUP(B5548,'Комиссии партнеров'!$A$2:$B$52,2,FALSE),\"\")","v":0.05},128.4]
[185794,"Партнер номер 12","1945-05-31","оплачен",1910,{"$f":"IFERROR(VLOOKUP(B5549,'Комиссии партнеров'!$A$2:$B$52,2,FALSE),\"\")","v":0.03},57.3]
[185796,"Партнер номер 46","1945-05-31","не оплачен",2986,{"$f":"IFERROR(VLOOKUP(B5550,'Комиссии партнеров'!$A$2:$B$52,2,FALSE),\"\")","v":0.05},149.30000000000001]
[185798,"Партнер номер 7","1945-05-31","оплачен",3279,{"$f":"IFERROR(VLOOKUP(B5551,'Комиссии партнеров'!$A$2:$B$52,2,FALSE),\"\")","v":0.05},163.95000000000002]
[185801,"Партнер номер 1","1945-05-31","оплачен",2111,{"$f":"IFERROR(VLOOKUP(B5552,'Комиссии партнеров'!$A$2:$B$52,2,FALSE),\"\")","v":0.05},105.55000000000001]
[185807,"Партнер номер 1","1945-05-31","оплачен",1485,{"$f":"IFERROR(VLOOKUP(B5553,'Комиссии партнеров'!$A$2:$B$52,2,FALSE),\"\")","v":0.05},74.25]
[185812,"","1945-05-31","оплачен",762,{"$f":"IFERROR(VLOOKUP(B5554,'Комиссии партнеров'!$A$2:$B$52,2,FALSE),\"\")","v":""}]
[185815,"Партнер номер 7","1945-05-31","не оплачен",1575,{"$f":"IFERROR(VLOOKUP(B5555,'Комиссии партнеров'!$A$2:$B$52,2,FALSE),\"\")","v":0.05},78.75]
[185819,"","1945-05-31","оплачен",1638,{"$f":"IFERROR(VLOOKUP(B5556,'Комиссии партнеров'!$A$2:$B$52,2,FALSE),\"\")","v":""}]
[185821,"Партнер номер 7","1945-05-31","оплачен",4240,{"$f":"IFERROR(VLOOKUP(B5557,'Комиссии партнеров'!$A$2:$B$52,2,FALSE),\"\")","v":0.05},212]
[185824,"","1945-05-31","оплачен",594,{"$f":"IFERROR(VLOOKUP(B5558,'Комиссии партнеров'!$A$2:$B$52,2,FALSE),\"\")","v":""}]
[185826,"","1945-05-31","оплачен",941,{"$f":"IFERROR(VLOOKUP(B5559,'Комиссии партнеров'!$A$2:$B$52,2,FALSE),\"\")","v":""}]
[185831,"Партнер номер 1","1945-05-31","оплачен",2242,{"$f":"IFERROR(VLOOKUP(B5560,'Комиссии партнеров'!$A$2:$B$52,2,FALSE),\"\")","v":0.05},112.10000000000001]
[185835,"Партнер номер 1","1945-05-31","оплачен",2242,{"$f":"IFERROR(VLOOKUP(B5561,'Комиссии партнеров'!$A$2:$B$52,2,FALSE),\"\")","v":0.05},112.10000000000001]
[185840,"Партнер номер 1","1945-05-31","оплачен",2805,{"$f":"IFERROR(VLOOKUP(B5562,'Комиссии партнеров'!$A$2:$B$52,2,FALSE),\"\")","v":0.05},140.25]
[185842,"","1945-05-31","оплачен",1298,{"$f":"IFERROR(VLOOKUP(B5563,'Комиссии партнеров'!$A$2:$B$52,2,FALSE),\"\")","v":""}]
[185845,"Партнер номер 1","1945-05-31","оплачен",2739,{"$f":"IFERROR(VLOOKUP(B5564,'Комиссии партнеров'!$A$2:$B$52,2,FALSE),\"\")","v":0.05},136.95000000000002]
[185849,"Партнер номер 5","1945-05-31","оплачен",4801,{"$f":"IFERROR(VLOOKUP(B5565,'Комиссии партнеров'!$A$2:$B$52,2,FALSE),\"\")","v":0.03},144.03]
[185852,"","1945-05-31","не оплачен",1587,{"$f":"IFERROR(VLOOKUP(B5566,'Комиссии партнеров'!$A$2:$B$52,2,FALSE),\"\")","v":""}]
[185856,"","1945-05-31","не оплачен",3233,{"$f":"IFERROR(VLOOKUP(B5567,'Комиссии партнеров'!$A$2:$B$52,2,FALSE),\"\")","v":""}]
[185861,"Партнер номер 1","1945-05-31","оплачен",1202,{"$f":"IFERROR(VLOOKUP(B5568,'Комиссии партнеров'!$A$2:$B$52,2,FALSE),\"\")","v":0.05},60.1]
[185864,"Партнер номер 1","1945-05-31","не оплачен",1107,{"$f":"IFERROR(VLOOKUP(B5569,'Комиссии партнеров'!$A$2:$B$52,2,FALSE),\"\")","v":0.05},55.35]
[185869,"","1945-05-31","оплачен",1742,{"$f":"IFERROR(VLOOKUP(B5570,'Комиссии партнеров'!$A$2:$B$52,2,FALSE),\"\")","v":""}]
[185871,"","1945-05-31","оплачен",1686,{"$f":"IFERROR(VLOOKUP(B5571,'Комиссии партнеров'!$A$2:$B$52,2,FALSE),\"\")","v":""}]
[185875,"","1945-05-31","не оплачен",1700,{"$f":"IFERROR(VLOOKUP(B5572,'Комиссии партнеров'!$A$2:$B$52,2,FALSE),\"\")","v":""}]
[185879,"Партнер номер 11","1945-05-31","оплачен",1819,{"$f":"IFERROR(VLOOKUP(B5573,'Комиссии партнеров'!$A$2:$B$52,2,FALSE),\"\")","v":0.05},90.95]
[185884,"Партнер номер 7","1945-05-31","не оплачен",931,{"$f":"IFERROR(VLOOKUP(B5574,'Комиссии партнеров'!$A$2:$B$52,2,FALSE),\"\")","v":0.05},46.550000000000004]
[185889,"","1945-05-31","оплачен",1700,{"$f":"IFERROR(VLOOKUP(B5575,'Комиссии партнеров'!$A$2:$B$52,2,FALSE),\"\")","v":""}]
[185890,"Партнер номер 1","1945-05-31","оплачен",911,{"$f":"IFERROR(VLOOKUP(B5576,'Комиссии партнеров'!$A$2:$B$52,2,FALSE),\"\")","v":0.05},45.550000000000004]
[185892,"Партнер номер 7","1945-05-31","оплачен",1182,{"$f":"IFERROR(VLOOKUP(B5577,'Комиссии партнеров'!$A$2:$B$52,2,FALSE),\"\")","v":0.05},59.1]
[185895,"Партнер номер 1","1945-05-31","не оплачен",287,{"$f":"IFERROR(VLOOKUP(B5578,'Комиссии партнеров'!$A$2:$B$52,2,FALSE),\"\")","v":0.05},14.350000000000001]
[185900,"","1945-05-31","оплачен",570,{"$f":"IFERROR(VLOOKUP(B5579,'Комиссии партнеров'!$A$2:$B$52,2,FALSE),\"\")","v":""}]
[185904,"Партнер номер 3","1945-05-31","оплачен",2254,{"$f":"IFERROR(VLOOKUP(B5580,'Комиссии партнеров'!$A$2:$B$52,2,FALSE),\"\")","v":0.05},112.7]
[185909,"Партнер номер 1","1945-05-31","не оплачен",931,{"$f":"IFERROR(VLOOKUP(B5581,'Комиссии партнеров'!$A$2:$B$52,2,FALSE),\"\")","v":0.05},46.550000000000004]
[185911,"Партнер номер 2","1945-05-31","не оплачен",939,{"$f":"IFERROR(VLOOKUP(B5582,'Комиссии партнеров'!$A$2:$B$52,2,FALSE),\"\")","v":0.04},37.56]
[185916,"Партнер номер 5","1945-05-31","оплачен",2000,{"$f":"IFERROR(VLOOKUP(B5583,'Комиссии партнеров'!$A$2:$B$52,2,FALSE),\"\")","v":0.03},60]
[185922,"Партнер номер 3","1945-05-31","не оплачен",931,{"$f":"IFERROR(VLOOKUP(B5584,'Комиссии партнеров'!$A$2:$B$52,2,FALSE),\"\")","v":0.05},46.550000000000004]
[185926,"Партнер номер 1","1945-05-31","оплачен",2300,{"$f":"IFERROR(VLOOKUP(B5585,'Комиссии партнеров'!$A$2:$B$52,2,FALSE),\"\")","v":0.05},115]
[185930,"","1945-05-31","не оплачен",4832,{"$f":"IFERROR(VLOOKUP(B5586,'Комиссии партнеров'!$A$2:$B$52,2,FALSE),\"\")","v":""}]
[185933,"Партнер номер 1","1945-05-31","оплачен",1525,{"$f":"IFERROR(VLOOKUP(B5587,'Комиссии партнеров'!$A$2:$B$52,2,FALSE),\"\")","v":0.05},76.25]
[185936,"","1945-05-31","оплачен",1927,{"$f":"IFERROR(VLOOKUP(B5588,'Комиссии партнеров'!$A$2:$B$52,2,FALSE),\"\")","v":""}]
[185939,"Партнер номер 2","1945-05-31","не оплачен",2126,{"$f":"IFERROR(VLOOKUP(B5589,'Комиссии партнеров'!$A$2:$B$52,2,FALSE),\"\")","v":0.04},85.04]
[185942,"Партнер номер 2","1945-05-31","не оплачен",937,{"$f":"IFERROR(VLOOKUP(B5590,'Комиссии партнеров'!$A$2:$B$52,2,FALSE),\"\")","v":0.04},37.480000000000004]
[185945,"Партнер номер 2","1945-05-31","оплачен",744,{"$f":"IFERROR(VLOOKUP(B5591,'Комиссии партнеров'!$A$2:$B$52,2,FALSE),\"\")","v":0.04},29.76]
[185950,"Партнер номер 1","1945-05-31","оплачен",1959,{"$f":"IFERROR(VLOOKUP(B5592,'Комиссии партнеров'!$A$2:$B$52,2,FALSE),\"\")","v":0.05},97.95]
[185955,"","1945-05-31","не оплачен",3957,{"$f":"IFERROR(VLOOKUP(B5593,'Комиссии партнеров'!$A$2:$B$52,2,FALSE),\"\")","v":""}]
[185960,"","1945-05-31","оплачен",1987,{"$f":"IFERROR(VLOOKUP(B5594,'Комиссии партнеров'!$A$2:$B$52,2,FALSE),\"\")","v":""}]
[185965,"Партнер номер 2","1945-05-31","не оплачен",2126,{"$f":"IFERROR(VLOOKUP(B5595,'Комиссии партнеров'!$A$2:$B$52,2,FALSE),\"\")","v":0.04},85.04]
[185967,"Партнер номер 1","1945-05-31","не оплачен",2328,{"$f":"IFERROR(VLOOKUP(B5596,'Комиссии партнеров'!$A$2:$B$52,2,FALSE),\"\")","v":0.05},116.4]
[185969,"","1945-05-31","оплачен",2121,{"$f":"IFERROR(VLOOKUP(B5597,'Комиссии партнеров'!$A$2:$B$52,2,FALSE),\"\")","v":""}]
[185975,"Партнер номер 11","1945-05-31","оплачен",951,{"$f":"IFERROR(VLOOKUP(B5598,'Комиссии партнеров'!$A$2:$B$52,2,FALSE),\"\")","v":0.05},47.550000000000004]
[185977,"Партнер номер 2","1945-05-31","оплачен",1755,{"$f":"IFERROR(VLOOKUP(B5599,'Комиссии партнеров'!$A$2:$B$52,2,FALSE),\"\")","v":0.04},70.2]
[185980,"Партнер номер 2","1945-05-31","не оплачен",2055,{"$f":"IFERROR(VLOOKUP(B5600,'Комиссии партнеров'!$A$2:$B$52,2,FALSE),\"\")","v":0.04},82.2]
[185984,"Партнер номер 7","1945-05-31","оплачен",1512,{"$f":"IFERROR(VLOOKUP(B5601,'Комиссии партнеров'!$A$2:$B$52,2,FALSE),\"\")","v":0.05},75.600000000000009]
[185986,"","1945-05-31","не оплачен",1874,{"$f":"IFERROR(VLOOKUP(B5602,'Комиссии партнеров'!$A$2:$B$52,2,FALSE),\"\")","v":""}]
[185991,"Партнер номер 1","1945-05-31","оплачен",2739,{"$f":"IFERROR(VLOOKUP(B5603,'Комиссии партнеров'!$A$2:$B$52,2,FALSE),\"\")","v":0.05},136.95000000000002]
[185993,"","1945-05-31","оплачен",2076,{"$f":"IFERROR(VLOOKUP(B5604,'Комиссии партнеров'!$A$2:$B$52,2,FALSE),\"\")","v":""}]
[185995,"Партнер номер 46","1945-05-31","оплачен",1628,{"$f":"IFERROR(VLOOKUP(B5605,'Комиссии партнеров'!$A$2:$B$52,2,FALSE),\"\")","v":0.05},81.400000000000006]
[185997,"Партнер номер 2","1945-05-31","не оплачен",364,{"$f":"IFERROR(VLOOKUP(B5606,'Комиссии партнеров'!$A$2:$B$52,2,FALSE),\"\")","v":0.04},14.56]
[186000,"","1945-05-31","оплачен",4231,{"$f":"IFERROR(VLOOKUP(B5607,'Комиссии партнеров'!$A$2:$B$52,2,FALSE),\"\")","v":""}]
[186003,"Партнер номер 7","1945-05-31","не оплачен",1182,{"$f":"IFERROR(VLOOKUP(B5608,'Комиссии партнеров'!$A$2:$B$52,2,FALSE),\"\")","v":0.05},59.1]
[186007,"Партнер номер 3","1945-05-31","оплачен",2193,{"$f":"IFERROR(VLOOKUP(B5609,'Комиссии партнеров'!$A$2:$B$52,2,FALSE),\"\")","v":0.05},109.65]
[186011,"Партнер номер 5","1945-05-31","оплачен",1607,{"$f":"IFERROR(VLOOKUP(B5610,'Комиссии партнеров'!$A$2:$B$52,2,FALSE),\"\")","v":0.03},48.21]
[186013,"Партнер номер 12","1945-05-31","не оплачен",771,{"$f":"IFERROR(VLOOKUP(B5611,'Комиссии партнеров'!$A$2:$B$52,2,FALSE),\"\")","v":0.03},23.13]
[186016,"","1945-05-31","не оплачен",1614,{"$f":"IFERROR(VLOOKUP(B5612,'Комиссии партнеров'!$A$2:$B$52,2,FALSE),\"\")","v":""}]
[186019,"Партнер номер 2","1945-05-31","не оплачен",364,{"$f":"IFERROR(VLOOKUP(B5613,'Комиссии партнеров'!$A$2:$B$52,2,FALSE),\"\")","v":0.04},14.56]
[186023,"","1945-05-31","оплачен",2487,{"$f":"IFERROR(VLOOKUP(B5614,'Комиссии партнеров'!$A$2:$B$52,2,FALSE),\"\")","v":""}]
[186028,"Партнер номер 2","1945-05-31","оплачен",809,{"$f":"IFERROR(VLOOKUP(B5615,'Комиссии партнеров'!$A$2:$B$52,2,FALSE),\"\")","v":0.04},32.36]
[186029,"","1945-05-31","не оплачен",1614,{"$f":"IFERROR(VLOOKUP(B5616,'Комиссии партнеров'!$A$2:$B$52,2,FALSE),\"\")","v":""}]
[186033,"","1945-05-31","оплачен",1790,{"$f":"IFERROR(VLOOKUP(B5617,'Комиссии партнеров'!$A$2:$B$52,2,FALSE),\"\")","v":""}]
[186037,"Партнер номер 11","1945-05-31","оплачен",1207,{"$f":"IFERROR(VLOOKUP(B5618,'Комиссии партнеров'!$A$2:$B$52,2,FALSE),\"\")","v":0.05},60.35]
[186039,"","1945-05-31","оплачен",1614,{"$f":"IFERROR(VLOOKUP(B5619,'Комиссии партнеров'!$A$2:$B$52,2,FALSE),\"\")","v":""}]
[186043,"Партнер номер 2","1945-05-31","не оплачен",2055,{"$f":"IFERROR(VLOOKUP(B5620,'Комиссии партнеров'!$A$2:$B$52,2,FALSE),\"\")","v":0.04},82.2]
[186045,"","1945-05-31","оплачен",1589,{"$f":"IFERROR(VLOOKUP(B5621,'Комиссии партнеров'!$A$2:$B$52,2,FALSE),\"\")","v":""}]
[186051,"","1945-05-31","оплачен",2487,{"$f":"IFERROR(VLOOKUP(B5622,'Комиссии партнеров'!$A$2:$B$52,2,FALSE),\"\")","v":""}]
[186053,"Партнер номер 11","1945-05-31","не оплачен",975,{"$f":"IFERROR(VLOOKUP(B5623,'Комиссии партнеров'!$A$2:$B$52,2,FALSE),\"\")","v":0.05},48.75]
[186058,"","1945-05-31","оплачен",3177,{"$f":"IFERROR(VLOOKUP(B5624,'Комиссии партнеров'!$A$2:$B$52,2,FALSE),\"\")","v":""}]
[186060,"","1945-05-31","не оплачен",2237,{"$f":"IFERROR(VLOOKUP(B5625,'Комиссии партнеров'!$A$2:$B$52,2,FALSE),\"\")","v":""}]
[186061,"Партнер номер 1","1945-05-31","не оплачен",1269,{"$f":"IFERROR(VLOOKUP(B5626,'Комиссии партнеров'!$A$2:$B$52,2,FALSE),\"\")","v":0.05},63.45]
[186063,"Партнер номер 3","1945-05-31","оплачен",9251,{"$f":"IFERROR(VLOOKUP(B5627,'Комиссии партнеров'!$A$2:$B$52,2,FALSE),\"\")","v":0.05},462.55]
[186066,"Партнер номер 1","1945-05-31","оплачен",795,{"$f":"IFERROR(VLOOKUP(B5628,'Комиссии партнеров'!$A$2:$B$52,2,FALSE),\"\")","v":0.05},39.75]
[186070,"Партнер номер 7","1945-05-31","оплачен",2626,{"$f":"IFERROR(VLOOKUP(B5629,'Комиссии партнеров'!$A$2:$B$52,2,FALSE),\"\")","v":0.05},131.30000000000001]
[186072,"","1945-05-31","оплачен",2991,{"$f":"IFERROR(VLOOKUP(B5630,'Комиссии партнеров'!$A$2:$B$52,2,FALSE),\"\")","v":""}]
[186075,"Партнер номер 2","1945-05-31","оплачен",2126,{"$f":"IFERROR(VLOOKUP(B5631,'Комиссии партнеров'!$A$2:$B$52,2,FALSE),\"\")","v":0.04},85.04]
[186079,"Партнер номер 1","1945-05-31","оплачен",920,{"$f":"IFERROR(VLOOKUP(B5632,'Комиссии партнеров'!$A$2:$B$52,2,FALSE),\"\")","v":0.05},46]
[186084,"Партнер номер 11","1945-05-31","оплачен",2059,{"$f":"IFERROR(VLOOKUP(B5633,'Комиссии партнеров'!$A$2:$B$52,2,FALSE),\"\")","v":0.05},102.95]
[186087,"Партнер номер 7","1945-05-31","оплачен",1432,{"$f":"IFERROR(VLOOKUP(B5634,'Комиссии партнеров'!$A$2:$B$52,2,FALSE),\"\")","v":0.05},71.600000000000009]
[186093,"Партнер номер 1","1945-05-31","оплачен",2115,{"$f":"IFERROR(VLOOKUP(B5635,'Комиссии партнеров'!$A$2:$B$52,2,FALSE),\"\")","v":0.05},105.75]
[186096,"Партнер номер 3","1945-05-31","оплачен",2379,{"$f":"IFERROR(VLOOKUP(B5636,'Комиссии партнеров'!$A$2:$B$52,2,FALSE),\"\")","v":0.05},118.95]
[186104,"Партнер номер 2","1945-05-31","не оплачен",889,{"$f":"IFERROR(VLOOKUP(B5637,'Комиссии партнеров'!$A$2:$B$52,2,FALSE),\"\")","v":0.04},35.56]
[186108,"Партнер номер 2","1945-05-31","оплачен",3478,{"$f":"IFERROR(VLOOKUP(B5638,'Комиссии партнеров'!$A$2:$B$52,2,FALSE),\"\")","v":0.04},139.12]
[186110,"Партнер номер 2","1945-05-31","оплачен",2076,{"$f":"IFERROR(VLOOKUP(B5639,'Комиссии партнеров'!$A$2:$B$52,2,FALSE),\"\")","v":0.04},83.04]
[186114,"Партнер номер 2","1945-05-31","оплачен",977,{"$f":"IFERROR(VLOOKUP(B5640,'Комиссии партнеров'!$A$2:$B$52,2,FALSE),\"\")","v":0.04},39.08]
[186117,"Партнер номер 5","1945-05-31","не оплачен",1935,{"$f":"IFERROR(VLOOKUP(B5641,'Комиссии партнеров'!$A$2:$B$52,2,FALSE),\"\")","v":0.03},58.05]
[186120,"Партнер номер 2","1945-05-31","оплачен",989,{"$f":"IFERROR(VLOOKUP(B5642,'Комиссии партнеров'!$A$2:$B$52,2,FALSE),\"\")","v":0.04},39.56]
[186126,"Партнер номер 1","1945-05-31","не оплачен",1059,{"$f":"IFERROR(VLOOKUP(B5643,'Комиссии партнеров'!$A$2:$B$52,2,FALSE),\"\")","v":0.05},52.95]
[186131,"","1945-05-31","оплачен",613,{"$f":"IFERROR(VLOOKUP(B5644,'Комиссии партнеров'!$A$2:$B$52,2,FALSE),\"\")","v":""}]
[186132,"Партнер номер 2","1945-05-31","оплачен",373,{"$f":"IFERROR(VLOOKUP(B5645,'Комиссии партнеров'!$A$2:$B$52,2,FALSE),\"\")","v":0.04},14.92]
[186136,"","1945-05-31","оплачен",2912,{"$f":"IFERROR(VLOOKUP(B5646,'Комиссии партнеров'!$A$2:$B$52,2,FALSE),\"\")","v":""}]
[186139,"Партнер номер 3","1945-05-31","не оплачен",460,{"$f":"IFERROR(VLOOKUP(B5647,'Комиссии партнеров'!$A$2:$B$52,2,FALSE),\"\")","v":0.05},23]
[186144,"Партнер номер 2","1945-05-31","оплачен",373,{"$f":"IFERROR(VLOOKUP(B5648,'Комиссии партнеров'!$A$2:$B$52,2,FALSE),\"\")","v":0.04},14.92]
[186148,"","1945-05-31","не оплачен",3037,{"$f":"IFERROR(VLOOKUP(B5649,'Комиссии партнеров'!$A$2:$B$52,2,FALSE),\"\")","v":""}]
[186153,"","1945-05-31","оплачен",4083,{"$f":"IFERROR(VLOOKUP(B5650,'Комиссии партнеров'!$A$2:$B$52,2,FALSE),\"\")","v":""}]
[186158,"","1945-05-31","не оплачен",4249,{"$f":"IFERROR(VLOOKUP(B5651,'Комиссии партнеров'!$A$2:$B$52,2,FALSE),\"\")","v":""}]
[186161,"Партнер номер 1","1945-05-31","оплачен",789,{"$f":"IFERROR(VLOOKUP(B5652,'Комиссии партнеров'!$A$2:$B$52,2,FALSE),\"\")","v":0.05},39.450000000000003]
[186163,"Партнер номер 1","1945-05-31","не оплачен",899,{"$f":"IFERROR(VLOOKUP(B5653,'Комиссии партнеров'!$A$2:$B$52,2,FALSE),\"\")","v":0.05},44.95]
[186165,"","1945-05-31","оплачен",2270,{"$f":"IFERROR(VLOOKUP(B5654,'Комиссии партнеров'!$A$2:$B$52,2,FALSE),\"\")","v":""}]
[186168,"Партнер номер 2","1945-05-31","оплачен",979,{"$f":"IFERROR(VLOOKUP(B5655,'Комиссии партнеров'!$A$2:$B$52,2,FALSE),\"\")","v":0.04},39.160000000000004]
[186172,"Партнер номер 8","1945-05-31","оплачен",460,{"$f":"IFERROR(VLOOKUP(B5656,'Комиссии партнеров'!$A$2:$B$52,2,FALSE),\"\")","v":0.03},13.799999999999999]
[186177,"Партнер номер 3","1945-05-31","оплачен",2289,{"$f":"IFERROR(VLOOKUP(B5657,'Комиссии партнеров'!$A$2:$B$52,2,FALSE),\"\")","v":0.05},114.45]
[186179,"","1945-05-31","оплачен",2274,{"$f":"IFERROR(VLOOKUP(B5658,'Комиссии партнеров'!$A$2:$B$52,2,FALSE),\"\")","v":""}]
[186183,"","1945-05-31","оплачен",2408,{"$f":"IFERROR(VLOOKUP(B5659,'Комиссии партнеров'!$A$2:$B$52,2,FALSE),\"\")","v":""}]
[186188,"Партнер номер 7","1945-05-31","оплачен",1510,{"$f":"IFERROR(VLOOKUP(B5660,'Комиссии партнеров'!$A$2:$B$52,2,FALSE),\"\")","v":0.05},75.5]
[186193,"","1945-05-31","оплачен",3001,{"$f":"IFERROR(VLOOKUP(B5661,'Комиссии партнеров'!$A$2:$B$52,2,FALSE),\"\")","v":""}]
[186194,"Партнер номер 1","1945-05-31","оплачен",3149,{"$f":"IFERROR(VLOOKUP(B5662,'Комиссии партнеров'!$A$2:$B$52,2,FALSE),\"\")","v":0.05},157.45000000000002]
[186200,"Партнер номер 1","1945-05-31","не оплачен",1535,{"$f":"IFERROR(VLOOKUP(B5663,'Комиссии партнеров'!$A$2:$B$52,2,FALSE),\"\")","v":0.05},76.75]
[186201,"Партнер номер 2","1945-05-31","оплачен",1188,{"$f":"IFERROR(VLOOKUP(B5664,'Комиссии партнеров'!$A$2:$B$52,2,FALSE),\"\")","v":0.04},47.52]
[186203,"","1945-05-31","оплачен",2470,{"$f":"IFERROR(VLOOKUP(B5665,'Комиссии партнеров'!$A$2:$B$52,2,FALSE),\"\")","v":""}]
[186207,"","1945-05-31","оплачен",2381,{"$f":"IFERROR(VLOOKUP(B5666,'Комиссии партнеров'!$A$2:$B$52,2,FALSE),\"\")","v":""}]
[186209,"Партнер номер 11","1945-05-31","не оплачен",542,{"$f":"IFERROR(VLOOKUP(B5667,'Комиссии партнеров'!$A$2:$B$52,2,FALSE),\"\")","v":0.05},27.1]
[186213,"Партнер номер 1","1945-05-31","оплачен",2522,{"$f":"IFERROR(VLOOKUP(B5668,'Комиссии партнеров'!$A$2:$B$52,2,FALSE),\"\")","v":0.05},126.10000000000001]
[186219,"","1945-05-31","оплачен",2217,{"$f":"IFERROR(VLOOKUP(B5669,'Комиссии партнеров'!$A$2:$B$52,2,FALSE),\"\")","v":""}]
[186223,"","1945-05-31","не оплачен",1308,{"$f":"IFERROR(VLOOKUP(B5670,'Комиссии партнеров'!$A$2:$B$52,2,FALSE),\"\")","v":""}]
[186225,"","1945-05-31","оплачен",7298,{"$f":"IFERROR(VLOOKUP(B5671,'Комиссии партнеров'!$A$2:$B$52,2,FALSE),\"\")","v":""}]
[186229,"","1945-05-31","оплачен",610,{"$f":"IFERROR(VLOOKUP(B5672,'Комиссии партнеров'!$A$2:$B$52,2,FALSE),\"\")","v":""}]
[186232,"Партнер номер 11","1945-05-31","оплачен",6429,{"$f":"IFERROR(VLOOKUP(B5673,'Комиссии партнеров'!$A$2:$B$52,2,FALSE),\"\")","v":0.05},321.45000000000005]
[186234,"Партнер номер 51","1945-05-31","оплачен",3015,{"$f":"IFERROR(VLOOKUP(B5674,'Комиссии партнеров'!$A$2:$B$52,2,FALSE),\"\")","v":0.04},120.60000000000001]
[186236,"","1945-05-31","оплачен",2093,{"$f":"IFERROR(VLOOKUP(B5675,'Комиссии партнеров'!$A$2:$B$52,2,FALSE),\"\")","v":""}]
[186239,"","1945-05-31","оплачен",1503,{"$f":"IFERROR(VLOOKUP(B5676,'Комиссии партнеров'!$A$2:$B$52,2,FALSE),\"\")","v":""}]
[186243,"","1945-05-31","оплачен",1268,{"$f":"IFERROR(VLOOKUP(B5677,'Комиссии партнеров'!$A$2:$B$52,2,FALSE),\"\")","v":""}]
[186244,"Партнер номер 1","1945-05-31","оплачен",2276,{"$f":"IFERROR(VLOOKUP(B5678,'Комиссии партнеров'!$A$2:$B$52,2,FALSE),\"\")","v":0.05},113.80000000000001]
[186246,"Партнер номер 7","1945-05-31","не оплачен",3025,{"$f":"IFERROR(VLOOKUP(B5679,'Комиссии партнеров'!$A$2:$B$52,2,FALSE),\"\")","v":0.05},151.25]
[186249,"Партнер номер 1","1945-05-31","не оплачен",1878,{"$f":"IFERROR(VLOOKUP(B5680,'Комиссии партнеров'!$A$2:$B$52,2,FALSE),\"\")","v":0.05},93.9]
[186254,"Партнер номер 1","1945-05-31","оплачен",1184,{"$f":"IFERROR(VLOOKUP(B5681,'Комиссии партнеров'!$A$2:$B$52,2,FALSE),\"\")","v":0.05},59.2]
[186260,"Партнер номер 1","1945-05-31","оплачен",1878,{"$f":"IFERROR(VLOOKUP(B5682,'Комиссии партнеров'!$A$2:$B$52,2,FALSE),\"\")","v":0.05},93.9]
[186262,"","1945-05-31","оплачен",1675,{"$f":"IFERROR(VLOOKUP(B5683,'Комиссии партнеров'!$A$2:$B$52,2,FALSE),\"\")","v":""}]
[186264,"","1945-05-31","оплачен",2178,{"$f":"IFERROR(VLOOKUP(B5684,'Комиссии партнеров'!$A$2:$B$52,2,FALSE),\"\")","v":""}]
[186268,"","1945-05-31","оплачен",1104,{"$f":"IFERROR(VLOOKUP(B5685,'Комиссии партнеров'!$A$2:$B$52,2,FALSE),\"\")","v":""}]
[186273,"Партнер номер 1","1945-05-31","оплачен",2743,{"$f":"IFERROR(VLOOKUP(B5686,'Комиссии партнеров'!$A$2:$B$52,2,FALSE),\"\")","v":0.05},137.15]
[186278,"Партнер номер 2","1945-05-31","оплачен",1731,{"$f":"IFERROR(VLOOKUP(B5687,'Комиссии партнеров'!$A$2:$B$52,2,FALSE),\"\")","v":0.04},69.239999999999995]
[186281,"","1945-05-31","оплачен",806,{"$f":"IFERROR(VLOOKUP(B5688,'Комиссии партнеров'!$A$2:$B$52,2,FALSE),\"\")","v":""}]
[186283,"Партнер номер 2","1945-05-31","не оплачен",1003,{"$f":"IFERROR(VLOOKUP(B5689,'Комиссии партнеров'!$A$2:$B$52,2,FALSE),\"\")","v":0.04},40.119999999999997]
[186285,"Партнер номер 5","1945-05-31","оплачен",3056,{"$f":"IFERROR(VLOOKUP(B5690,'Комиссии партнеров'!$A$2:$B$52,2,FALSE),\"\")","v":0.03},91.679999999999993]
[186289,"Партнер номер 6","1945-05-31","не оплачен",2569,{"$f":"IFERROR(VLOOKUP(B5691,'Комиссии партнеров'!$A$2:$B$52,2,FALSE),\"\")","v":0.04},102.76]
[186293,"Партнер номер 1","1945-05-31","оплачен",4261,{"$f":"IFERROR(VLOOKUP(B5692,'Комиссии партнеров'!$A$2:$B$52,2,FALSE),\"\")","v":0.05},213.05]
[186296,"Партнер номер 2","1945-05-31","не оплачен",1439,{"$f":"IFERROR(VLOOKUP(B5693,'Комиссии партнеров'!$A$2:$B$52,2,FALSE),\"\")","v":0.04},57.56]
[186298,"Партнер номер 46","1945-05-31","оплачен",1247,{"$f":"IFERROR(VLOOKUP(B5694,'Комиссии партнеров'!$A$2:$B$52,2,FALSE),\"\")","v":0.05},62.35]
[186300,"Партнер номер 2","1945-05-31","не оплачен",1378,{"$f":"IFERROR(VLOOKUP(B5695,'Комиссии партнеров'!$A$2:$B$52,2,FALSE),\"\")","v":0.04},55.120000000000005]
[186302,"","1945-05-31","оплачен",7345,{"$f":"IFERROR(VLOOKUP(B5696,'Комиссии партнеров'!$A$2:$B$52,2,FALSE),\"\")","v":""}]
[186304,"Партнер номер 4","1945-05-31","оплачен",3026,{"$f":"IFERROR(VLOOKUP(B5697,'Комиссии партнеров'!$A$2:$B$52,2,FALSE),\"\")","v":0.04},121.04]
[186308,"Партнер номер 2","1945-05-31","оплачен",3339,{"$f":"IFERROR(VLOOKUP(B5698,'Комиссии партнеров'!$A$2:$B$52,2,FALSE),\"\")","v":0.04},133.56]
[186312,"","1945-05-31","оплачен",2803,{"$f":"IFERROR(VLOOKUP(B5699,'Комиссии партнеров'!$A$2:$B$52,2,FALSE),\"\")","v":""}]
[186317,"Партнер номер 1","1945-05-31","оплачен",3739,{"$f":"IFERROR(VLOOKUP(B5700,'Комиссии партнеров'!$A$2:$B$52,2,FALSE),\"\")","v":0.05},186.95000000000002]
[186321,"Партнер номер 2","1945-05-31","не оплачен",3258,{"$f":"IFERROR(VLOOKUP(B5701,'Комиссии партнеров'!$A$2:$B$52,2,FALSE),\"\")","v":0.04},130.32]
[186325,"Партнер номер 5","1945-05-31","оплачен",2272,{"$f":"IFERROR(VLOOKUP(B5702,'Комиссии партнеров'!$A$2:$B$52,2,FALSE),\"\")","v":0.03},68.16]
[186331,"","1945-05-31","оплачен",2263,{"$f":"IFERROR(VLOOKUP(B5703,'Комиссии партнеров'!$A$2:$B$52,2,FALSE),\"\")","v":""}]
[186336,"Партнер номер 1","1945-05-31","не оплачен",529,{"$f":"IFERROR(VLOOKUP(B5704,'Комиссии партнеров'!$A$2:$B$52,2,FALSE),\"\")","v":0.05},26.450000000000003]
[186338,"Партнер номер 1","1945-05-31","не оплачен",1383,{"$f":"IFERROR(VLOOKUP(B5705,'Комиссии партнеров'!$A$2:$B$52,2,FALSE),\"\")","v":0.05},69.150000000000006]

{"sheet":"Комиссии партнеров","index":2,"n_rows":52,"n_cols":2,"rows_kept":52,"cut":false,"hidden":false,"merged":[]}
["Партнер","Комиссия партнера %"]
["Партнер номер 1",0.05]
["Партнер номер 2",0.04]
["Партнер номер 3",0.05]
["Партнер номер 4",0.04]
["Партнер номер 5",0.03]
["Партнер номер 6",0.04]
["Партнер номер 7",0.05]
["Партнер номер 8",0.03]
["Партнер номер 9",0.05]
["Партнер номер 10",0.04]
["Партнер номер 11",0.05]
["Партнер номер 12",0.03]
["Партнер номер 13",0.05]
["Партнер номер 14",0.03]
["Партнер номер 15",0.03]
["Партнер номер 16",0.05]
["Партнер номер 17",0.04]
["Партнер номер 18",0.03]
["Партнер номер 19",0.05]
["Партнер номер 20",0.03]
["Партнер номер 21",0.05]
["Партнер номер 22",0.05]
["Партнер номер 23",0.05]
["Партнер номер 24",0.03]
["Партнер номер 25",0.05]
["Партнер номер 26",0.05]
["Партнер номер 27",0.04]
["Партнер номер 28",0.05]
["Партнер номер 29",0.05]
["Партнер номер 30",0.05]
["Партнер номер 31",0.03]
["Партнер номер 32",0.05]
["Партнер номер 33",0.05]
["Партнер номер 34",0.05]
["Партнер номер 35",0.04]
["Партнер номер 36",0.05]
["Партнер номер 37",0.05]
["Партнер номер 38",0.03]
["Партнер номер 39",0.05]
["Партнер номер 40",0.05]
["Партнер номер 41",0.05]
["Партнер номер 42",0.05]
["Партнер номер 43",0.03]
["Партнер номер 44",0.05]
["Партнер номер 45",0.04]
["Партнер номер 46",0.05]
["Партнер номер 47",0.05]
["Партнер номер 48",0.03]
["Партнер номер 49",0.05]
["Партнер номер 50",0.04]
["Партнер номер 51",0.04]

{"sheet":"Combined Table","index":3,"n_rows":57,"n_cols":2,"rows_kept":57,"cut":false,"hidden":false,"merged":[]}
[]
[]
["Названия строк","Сумма по полю Комиссия партнера (руб)"]
[]
["Партнер номер 1",110456.94999999984]
["Партнер номер 10",5709.68]
["Партнер номер 11",26386.250000000007]
["Партнер номер 12",1268.8800000000001]
["Партнер номер 13",1896.25]
["Партнер номер 14",148.44]
["Партнер номер 15",113.37]
["Партнер номер 16",1369.75]
["Партнер номер 17",2079.7200000000003]
["Партнер номер 18",17.7]
["Партнер номер 19",436.85000000000008]
["Партнер номер 2",9045.8000000000029]
["Партнер номер 20",353.46]
["Партнер номер 21",713.4]
["Партнер номер 22",120.4]
["Партнер номер 23",542.25]
["Партнер номер 24",41.79]
["Партнер номер 25",2198.9]
["Партнер номер 26",419.45000000000005]
["Партнер номер 27",93.320000000000007]
["Партнер номер 28",5078.8999999999996]
["Партнер номер 29",500.04999999999995]
["Партнер номер 3",22557.599999999995]
["Партнер номер 30",583.95000000000005]
["Партнер номер 31",427.38]
["Партнер номер 32",433.25]
["Партнер номер 33",39.75]
["Партнер номер 34",225.55]
["Партнер номер 35",219.44]
["Партнер номер 36",195]
["Партнер номер 37",145.30000000000001]
["Партнер номер 38",56.129999999999995]
["Партнер номер 39",711.3]
["Партнер номер 4",5671.7199999999993]
["Партнер номер 40",196.9]
["Партнер номер 41",158.45000000000002]
["Партнер номер 42",686.6]
["Партнер номер 43",205.64999999999998]
["Партнер номер 44",84.4]
["Партнер номер 45",68.680000000000007]
["Партнер номер 46",2567]
["Партнер номер 47",688.40000000000009]
["Партнер номер 48",161.19]
["Партнер номер 49",90.600000000000009]
["Партнер номер 5",21234.029999999977]
["Партнер номер 50",82.36]
["Партнер номер 51",242.92000000000002]
["Партнер номер 6",4011.400000000001]
["Партнер номер 7",26022.649999999998]
["Партнер номер 8",1971.06]
["Партнер номер 9",5010.4000000000005]
["(пусто)"]
["Общий итог",263740.61999999976]

{"sheet":"Данные (пример без формул)","index":4,"n_rows":5705,"n_cols":7,"rows_kept":5705,"cut":false,"hidden":false,"merged":[]}
[null,null,null,null,null,"С помощью формулы ВПР вам нужно подтянуть \"% комиссии\" партнера из вкладки \"Комиссии партнеров\"\n\n{это пример, который вы должны получить, формулы удалены}","Здесь посчитать заработок партнера (сумму заказа умножить на %)\n\n\n{это пример, который вы должны получить, формулы удалены}"]
["Номер заказ","Партнер","Дата заказа","Статус заказа","Сумма заказа","Комиссия партнера %","Комиссия партнера (руб)"]
[165797,"","1945-05-01","не оплачен",3109,"",""]
[165800,"Партнер номер 1","1945-05-01","не оплачен",1664,0.05,83.2]
[165802,"Партнер номер 2","1945-05-01","не оплачен",2552,0.04,102.08]
[165805,"","1945-05-01","оплачен",1303,"",""]
[165808,"Партнер номер 1","1945-05-01","не оплачен",2030,0.05,101.5]
[165813,"","1945-05-01","оплачен",1447,"",""]
[165815,"Партнер номер 3","1945-05-01","оплачен",1541,0.05,77.050000000000011]
[165820,"","1945-05-01","оплачен",2286,"",""]
[165822,"","1945-05-01","не оплачен",9631,"",""]
[165825,"Партнер номер 4","1945-05-01","не оплачен",2368,0.04,94.72]
[165828,"Партнер номер 1","1945-05-01","не оплачен",2188,0.05,109.4]
[165831,"Партнер номер 3","1945-05-01","оплачен",5127,0.05,256.35000000000002]
[165833,"Партнер номер 5","1945-05-01","оплачен",4852,0.03,145.56]
[165837,"","1945-05-01","оплачен",3042,"",""]
[165840,"Партнер номер 1","1945-05-01","оплачен",764,0.05,38.200000000000003]
[165845,"Партнер номер 6","1945-05-01","не оплачен",4239,0.04,169.56]
[165850,"Партнер номер 1","1945-05-01","оплачен",2084,0.05,104.2]
[165852,"Партнер номер 3","1945-05-01","оплачен",1620,0.05,81]
[165854,"Партнер номер 1","1945-05-01","оплачен",1654,0.05,82.7]
[165856,"","1945-05-01","не оплачен",5745,"",""]
[165859,"Партнер номер 3","1945-05-01","оплачен",3123,0.05,156.15]
[165863,"Партнер номер 7","1945-05-01","не оплачен",1355,0.05,67.75]
[165866,"Партнер номер 4","1945-05-01","не оплачен",2311,0.04,92.44]
[165872,"","1945-05-01","не оплачен",2630,"",""]
[165875,"Партнер номер 1","1945-05-01","оплачен",861,0.05,43.050000000000004]
[165880,"","1945-05-01","не оплачен",1322,"",""]
[165882,"","1945-05-01","оплачен",1691,"",""]
[165887,"","1945-05-01","оплачен",2284,"",""]
[165889,"","1945-05-01","не оплачен",970,"",""]
[165895,"","1945-05-01","оплачен",1441,"",""]
[165896,"Партнер номер 7","1945-05-01","не оплачен",947,0.05,47.35]
[165899,"","1945-05-01","не оплачен",4798,"",""]
[165900,"","1945-05-01","не оплачен",1323,"",""]
[165902,"","1945-05-01","оплачен",1231,"",""]
[165906,"Партнер номер 1","1945-05-01","не оплачен",1359,0.05,67.95]
[165909,"","1945-05-01","не оплачен",2884,"",""]
[165912,"Партнер номер 3","1945-05-01","оплачен",1727,0.05,86.350000000000009]
[165914,"","1945-05-01","оплачен",3232,"",""]
[165917,"Партнер номер 1","1945-05-01","оплачен",1337,0.05,66.850000000000009]
[165921,"Партнер номер 7","1945-05-01","оплачен",819,0.05,40.950000000000003]
[165923,"Партнер номер 8","1945-05-01","оплачен",2334,0.03,70.02]
[165925,"Партнер номер 9","1945-05-01","не оплачен",1868,0.05,93.4]
[165932,"Партнер номер 3","1945-05-01","не оплачен",894,0.05,44.7]
[165936,"","1945-05-01","оплачен",8555,"",""]
[165938,"","1945-05-01","не оплачен",958,"",""]
[165944,"Партнер номер 5","1945-05-01","оплачен",1995,0.03,59.849999999999994]
[165948,"Партнер номер 5","1945-05-01","оплачен",9159,0.03,274.77]
[165954,"Партнер номер 10","1945-05-01","оплачен",2559,0.04,102.36]
[165955,"","1945-05-01","оплачен",4926,"",""]
[165960,"","1945-05-01","не оплачен",903,"",""]
[165963,"","1945-05-01","оплачен",16759,"",""]
[165969,"","1945-05-01","оплачен",1990,"",""]
[165971,"","1945-05-01","оплачен",1838,"",""]
[165975,"","1945-05-01","не оплачен",666,"",""]
[165977,"","1945-05-01","оплачен",1648,"",""]
[165984,"Партнер номер 7","1945-05-01","оплачен",2007,0.05,100.35000000000001]
[165989,"","1945-05-01","оплачен",3208,"",""]
[165991,"Партнер номер 1","1945-05-01","оплачен",677,0.05,33.85]
[165998,"","1945-05-01","оплачен",2788,"",""]
[166008,"Партнер номер 1","1945-05-01","не оплачен",940,0.05,47]
[166012,"","1945-05-01","не оплачен",4016,"",""]
[166016,"Партнер номер 1","1945-05-01","оплачен",1990,0.05,99.5]
[166021,"","1945-05-01","не оплачен",619,"",""]
[166028,"Партнер номер 1","1945-05-01","не оплачен",483,0.05,24.150000000000002]
[166033,"Партнер номер 3","1945-05-01","оплачен",1002,0.05,50.1]
[166036,"Партнер номер 9","1945-05-01","не оплачен",3586,0.05,179.3]
[166039,"Партнер номер 1","1945-05-01","не оплачен",575,0.05,28.75]
[166043,"","1945-05-01","оплачен",1155,"",""]
[166045,"","1945-05-01","не оплачен",2247,"",""]
[166048,"Партнер номер 1","1945-05-01","не оплачен",1791,0.05,89.550000000000011]
[166053,"","1945-05-01","не оплачен",854,"",""]
[166054,"","1945-05-01","оплачен",3687,"",""]
[166056,"","1945-05-01","оплачен",1014,"",""]
[166060,"Партнер номер 3","1945-05-01","не оплачен",940,0.05,47]
[166065,"Партнер номер 11","1945-05-01","оплачен",2201,0.05,110.05000000000001]
[166074,"Партнер номер 10","1945-05-01","оплачен",2751,0.04,110.04]
[166076,"Партнер номер 1","1945-05-01","оплачен",2302,0.05,115.10000000000001]
[166079,"Партнер номер 3","1945-05-01","не оплачен",3240,0.05,162]
[166083,"Партнер номер 1","1945-05-01","не оплачен",485,0.05,24.25]
[166085,"","1945-05-01","оплачен",3342,"",""]
[166094,"","1945-05-01","оплачен",2374,"",""]
[166099,"","1945-05-01","оплачен",1982,"",""]
[166104,"","1945-05-01","оплачен",2278,"",""]
[166106,"Партнер номер 1","1945-05-01","не оплачен",1237,0.05,61.85]
[166110,"","1945-05-01","не оплачен",2663,"",""]
[166113,"Партнер номер 1","1945-05-01","оплачен",841,0.05,42.050000000000004]
[166117,"Партнер номер 1","1945-05-01","оплачен",1237,0.05,61.85]
[166120,"Партнер номер 1","1945-05-01","оплачен",2836,0.05,141.80000000000001]
[166125,"Партнер номер 11","1945-05-01","оплачен",1822,0.05,91.100000000000009]
[166129,"","1945-05-01","оплачен",483,"",""]
[166132,"Партнер номер 4","1945-05-01","оплачен",1335,0.04,53.4]
[166137,"","1945-05-01","не оплачен",2146,"",""]
[166139,"","1945-05-01","не оплачен",715,"",""]
[166143,"","1945-05-01","не оплачен",2146,"",""]
[166148,"","1945-05-01","оплачен",4510,"",""]
[166151,"Партнер номер 11","1945-05-01","не оплачен",1677,0.05,83.850000000000009]
[166164,"Партнер номер 11","1945-05-01","не оплачен",1822,0.05,91.100000000000009]
[166167,"","1945-05-01","не оплачен",4007,"",""]
[166176,"","1945-05-01","не оплачен",3054,"",""]
[166181,"","1945-05-01","оплачен",4625,"",""]
[166183,"","1945-05-01","оплачен",1446,"",""]
[166184,"","1945-05-01","оплачен",981,"",""]
[166187,"Партнер номер 1","1945-05-01","не оплачен",2201,0.05,110.05000000000001]
[166190,"","1945-05-01","оплачен",2104,"",""]
[166193,"Партнер номер 1","1945-05-01","не оплачен",821,0.05,41.050000000000004]
[166203,"Партнер номер 1","1945-05-01","не оплачен",2286,0.05,114.30000000000001]
[166209,"","1945-05-01","оплачен",3027,"",""]
[166211,"","1945-05-01","оплачен",1091,"",""]
[166214,"","1945-05-01","не оплачен",1193,"",""]
[166215,"","1945-05-01","оплачен",802,"",""]
[166218,"","1945-05-01","не оплачен",2116,"",""]
[166223,"Партнер номер 1","1945-05-01","оплачен",2750,0.05,137.5]
[166225,"Партнер номер 1","1945-05-01","не оплачен",639,0.05,31.950000000000003]
[166229,"Партнер номер 3","1945-05-01","не оплачен",485,0.05,24.25]
[166233,"Партнер номер 1","1945-05-01","не оплачен",639,0.05,31.950000000000003]
[166235,"Партнер номер 3","1945-05-01","не оплачен",3201,0.05,160.05000000000001]
[166237,"Партнер номер 1","1945-05-01","не оплачен",762,0.05,38.1]
[166239,"Партнер номер 1","1945-05-01","оплачен",530,0.05,26.5]
[166242,"Партнер номер 12","1945-05-01","оплачен",6860,0.03,205.79999999999998]
[166245,"Партнер номер 1","1945-05-01","не оплачен",779,0.05,38.950000000000003]
[166247,"","1945-05-01","оплачен",2783,"",""]
[166251,"Партнер номер 1","1945-05-01","не оплачен",1762,0.05,88.100000000000009]
[166256,"Партнер номер 1","1945-05-01","не оплачен",393,0.05,19.650000000000002]
[166257,"","1945-05-01","оплачен",7602,"",""]
[166259,"Партнер номер 1","1945-05-01","не оплачен",393,0.05,19.650000000000002]
[166264,"Партнер номер 1","1945-05-01","не оплачен",401,0.05,20.05]
[166267,"","1945-05-01","оплачен",2401,"",""]
[166269,"","1945-05-01","оплачен",3690,"",""]
[166273,"Партнер номер 1","1945-05-01","не оплачен",3505,0.05,175.25]
[166278,"Партнер номер 13","1945-05-01","оплачен",1201,0.05,60.050000000000004]
[166283,"Партнер номер 1","1945-05-01","не оплачен",1184,0.05,59.2]
[166284,"","1945-05-01","не оплачен",3149,"",""]
[166288,"Партнер номер 7","1945-05-01","не оплачен",1137,0.05,56.85]
[166293,"Партнер номер 1","1945-05-01","не оплачен",401,0.05,20.05]
[166295,"","1945-05-01","оплачен",2147,"",""]
[166298,"Партнер номер 1","1945-05-01","не оплачен",2212,0.05,110.60000000000001]
[166302,"Партнер номер 5","1945-05-01","оплачен",1367,0.03,41.01]
[166306,"","1945-05-01","оплачен",2938,"",""]
[166308,"Партнер номер 7","1945-05-01","не оплачен",1391,0.05,69.55]
[166310,"","1945-05-01","не оплачен",1846,"",""]
[166315,"Партнер номер 1","1945-05-01","оплачен",2171,0.05,108.55000000000001]
[166318,"","1945-05-01","не оплачен",2309,"",""]
[166323,"Партнер номер 5","1945-05-01","оплачен",2187,0.03,65.61]
[166325,"Партнер номер 1","1945-05-01","не оплачен",271,0.05,13.55]
[166330,"Партнер номер 5","1945-05-01","оплачен",2710,0.03,81.3]
[166332,"Партнер номер 11","1945-05-01","не оплачен",3179,0.05,158.95000000000002]
[166336,"Партнер номер 1","1945-05-01","оплачен",1003,0.05,50.150000000000006]
[166340,"","1945-05-01","не оплачен",7902,"",""]
[166346,"","1945-05-01","не оплачен",2568,"",""]
[166350,"","1945-05-01","оплачен",2588,"",""]
[166354,"Партнер номер 9","1945-05-01","не оплачен",1826,0.05,91.300000000000011]
[166356,"","1945-05-01","не оплачен",2530,"",""]
[166358,"","1945-05-01","не оплачен",983,"",""]
[166361,"Партнер номер 7","1945-05-01","не оплачен",271,0.05,13.55]
[166367,"","1945-05-01","оплачен",3158,"",""]
[166372,"","1945-05-01","оплачен",1364,"",""]
[166375,"","1945-05-01","оплачен",1024,"",""]
[166379,"","1945-05-01","не оплачен",1400,"",""]
[166383,"Партнер номер 1","1945-05-01","оплачен",2569,0.05,128.45000000000002]
[166387,"","1945-05-01","оплачен",2547,"",""]
[166392,"","1945-05-01","оплачен",1057,"",""]
[166394,"Партнер номер 1","1945-05-01","не оплачен",401,0.05,20.05]
[166398,"","1945-05-01","оплачен",1506,"",""]
[166400,"Партнер номер 1","1945-05-01","не оплачен",759,0.05,37.950000000000003]
[166402,"","1945-05-01","не оплачен",2900,"",""]
[166405,"Партнер номер 1","1945-05-01","не оплачен",930,0.05,46.5]
[166410,"Партнер номер 4","1945-05-01","оплачен",2084,0.04,83.36]
[166414,"Партнер номер 7","1945-05-01","не оплачен",401,0.05,20.05]
[166419,"","1945-05-01","оплачен",2426,"",""]
[166423,"Партнер номер 10","1945-05-01","оплачен",1183,0.04,47.32]
[166425,"Партнер номер 5","1945-05-01","не оплачен",2544,0.03,76.319999999999993]
[166429,"","1945-05-01","оплачен",3408,"",""]
[166435,"","1945-05-01","оплачен",3412,"",""]
[166437,"","1945-05-01","оплачен",2286,"",""]
[166440,"","1945-05-01","оплачен",2253,"",""]
[166441,"","1945-05-01","оплачен",2976,"",""]
[166443,"","1945-05-01","оплачен",2571,"",""]
[166446,"","1945-05-01","оплачен",2306,"",""]
[166454,"Партнер номер 5","1945-05-01","не оплачен",4371,0.03,131.13]
[166458,"Партнер номер 14","1945-05-01","оплачен",1446,0.03,43.379999999999995]
[166460,"","1945-05-01","оплачен",1531,"",""]
[166464,"","1945-05-01","оплачен",2323,"",""]
[166468,"Партнер номер 15","1945-05-01","не оплачен",1687,0.03,50.61]
[166470,"Партнер номер 5","1945-05-01","оплачен",4699,0.03,140.97]
[166475,"Партнер номер 3","1945-05-01","оплачен",816,0.05,40.800000000000004]
[166479,"","1945-05-01","оплачен",985,"",""]
[166484,"Партнер номер 9","1945-05-01","оплачен",4292,0.05,214.60000000000002]
[166488,"Партнер номер 5","1945-05-01","оплачен",1975,0.03,59.25]
[166491,"","1945-05-01","оплачен",4185,"",""]
[166493,"","1945-05-01","не оплачен",2801,"",""]
[166498,"Партнер номер 1","1945-05-01","оплачен",965,0.05,48.25]
[166501,"","1945-05-01","оплачен",2765,"",""]
[166504,"Партнер номер 1","1945-05-01","не оплачен",4070,0.05,203.5]
[166506,"Партнер номер 1","1945-05-01","не оплачен",4070,0.05,203.5]
[166510,"","1945-05-01","оплачен",4305,"",""]
[166512,"","1945-05-01","оплачен",8695,"",""]
[166514,"","1945-05-01","оплачен",1970,"",""]
[166517,"Партнер номер 1","1945-05-01","не оплачен",830,0.05,41.5]
[166522,"","1945-05-01","оплачен",2689,"",""]
[166526,"Партнер номер 5","1945-05-02","оплачен",4167,0.03,125.00999999999999]
[166528,"Партнер номер 5","1945-05-02","не оплачен",1476,0.03,44.28]
[166531,"","1945-05-02","не оплачен",4889,"",""]
[166536,"","1945-05-02","не оплачен",3891,"",""]
[166540,"","1945-05-02","оплачен",5884,"",""]
[166543,"Партнер номер 1","1945-05-02","оплачен",2027,0.05,101.35000000000001]
[166548,"","1945-05-02","оплачен",3619,"",""]
[166554,"","1945-05-02","оплачен",1048,"",""]
[166558,"Партнер номер 1","1945-05-02","не оплачен",880,0.05,44]
[166562,"Партнер номер 2","1945-05-02","оплачен",2239,0.04,89.56]
[166564,"","1945-05-02","не оплачен",1194,"",""]
[166570,"Партнер номер 1","1945-05-02","не оплачен",1093,0.05,54.650000000000006]
[166574,"Партнер номер 1","1945-05-02","оплачен",3600,0.05,180]
[166575,"Партнер номер 1","1945-05-02","оплачен",478,0.05,23.900000000000002]
[166577,"","1945-05-02","не оплачен",3322,"",""]
[166581,"Партнер номер 1","1945-05-02","не оплачен",2114,0.05,105.7]
[166584,"Партнер номер 7","1945-05-02","оплачен",2660,0.05,133]
[166587,"Партнер номер 7","1945-05-02","оплачен",2660,0.05,133]
[166592,"","1945-05-02","оплачен",1964,"",""]
[166596,"Партнер номер 7","1945-05-02","оплачен",2347,0.05,117.35000000000001]
[166602,"Партнер номер 1","1945-05-02","не оплачен",4984,0.05,249.20000000000002]
[166605,"Партнер номер 16","1945-05-02","оплачен",2336,0.05,116.80000000000001]
[166606,"","1945-05-02","не оплачен",1361,"",""]
[166609,"Партнер номер 1","1945-05-02","не оплачен",2453,0.05,122.65]
[166614,"Партнер номер 1","1945-05-02","не оплачен",875,0.05,43.75]
[166617,"","1945-05-02","оплачен",4394,"",""]
[166619,"","1945-05-02","не оплачен",1828,"",""]
[166623,"Партнер номер 1","1945-05-02","оплачен",2567,0.05,128.35]
[166627,"Партнер номер 3","1945-05-02","не оплачен",2342,0.05,117.10000000000001]
[166629,"","1945-05-02","оплачен",3211,"",""]
[166630,"Партнер номер 1","1945-05-02","не оплачен",1072,0.05,53.6]
[166634,"Партнер номер 3","1945-05-02","не оплачен",2702,0.05,135.1]
[166639,"Партнер номер 1","1945-05-02","оплачен",654,0.05,32.700000000000003]
[166644,"Партнер номер 1","1945-05-02","оплачен",705,0.05,35.25]
[166646,"","1945-05-02","оплачен",2378,"",""]
[166648,"Партнер номер 1","1945-05-02","оплачен",1526,0.05,76.3]
[166653,"","1945-05-02","оплачен",2131,"",""]
[166657,"Партнер номер 1","1945-05-02","оплачен",1213,0.05,60.650000000000006]
[166661,"","1945-05-02","оплачен",4267,"",""]
[166664,"","1945-05-02","оплачен",4468,"",""]
[166666,"","1945-05-02","оплачен",3385,"",""]
[166669,"","1945-05-02","оплачен",5659,"",""]
[166672,"","1945-05-02","оплачен",2719,"",""]
[166676,"Партнер номер 6","1945-05-02","оплачен",662,0.04,26.48]
[166677,"Партнер номер 7","1945-05-02","не оплачен",654,0.05,32.700000000000003]
[166679,"Партнер номер 17","1945-05-02","оплачен",1624,0.04,64.960000000000008]
[166682,"","1945-05-02","оплачен",4633,"",""]
[166685,"","1945-05-02","оплачен",4109,"",""]
[166690,"","1945-05-02","не оплачен",5115,"",""]
[166693,"Партнер номер 5","1945-05-02","не оплачен",4411,0.03,132.32999999999998]
[166695,"","1945-05-02","не оплачен",5802,"",""]
[166700,"Партнер номер 7","1945-05-02","оплачен",1304,0.05,65.2]
[166703,"","1945-05-02","не оплачен",1673,"",""]
[166708,"Партнер номер 11","1945-05-02","не оплачен",905,0.05,45.25]
[166713,"Партнер номер 10","1945-05-02","не оплачен",2299,0.04,91.960000000000008]
[166715,"","1945-05-02","оплачен",2213,"",""]
[166718,"","1945-05-02","не оплачен",2321,"",""]
[166722,"","1945-05-02","оплачен",5842,"",""]
[166728,"Партнер номер 1","1945-05-02","оплачен",3054,0.05,152.70000000000002]
[166733,"Партнер номер 8","1945-05-02","не оплачен",1346,0.03,40.379999999999995]
[166738,"Партнер номер 7","1945-05-02","не оплачен",6452,0.05,322.60000000000002]
[166742,"","1945-05-02","оплачен",4804,"",""]
[166747,"Партнер номер 1","1945-05-02","не оплачен",2254,0.05,112.7]
[166749,"Партнер номер 5","1945-05-02","оплачен",4736,0.03,142.07999999999998]
[166751,"","1945-05-02","оплачен",1069,"",""]
[166753,"Партнер номер 1","1945-05-02","оплачен",2254,0.05,112.7]
[166759,"","1945-05-02","не оплачен",5931,"",""]
[166760,"Партнер номер 1","1945-05-02","оплачен",2315,0.05,115.75]
[166763,"","1945-05-02","оплачен",1057,"",""]
[166765,"Партнер номер 3","1945-05-02","не оплачен",2000,0.05,100]
[166768,"","1945-05-02","оплачен",1021,"",""]
[166770,"","1945-05-02","оплачен",1333,"",""]
[166773,"","1945-05-02","оплачен",1526,"",""]
[166776,"Партнер номер 1","1945-05-02","оплачен",1234,0.05,61.7]
[166779,"Партнер номер 4","1945-05-02","оплачен",5797,0.04,231.88]
[166782,"Партнер номер 1","1945-05-02","не оплачен",272,0.05,13.600000000000001]
[166785,"Партнер номер 5","1945-05-02","оплачен",654,0.03,19.62]
[166790,"","1945-05-02","оплачен",1298,"",""]
[166792,"","1945-05-02","оплачен",1078,"",""]
[166797,"","1945-05-02","оплачен",2193,"",""]
[166799,"","1945-05-02","оплачен",5468,"",""]
[166802,"Партнер номер 1","1945-05-02","не оплачен",640,0.05,32]
[166807,"Партнер номер 5","1945-05-02","оплачен",2228,0.03,66.84]
[166812,"Партнер номер 7","1945-05-02","не оплачен",6394,0.05,319.70000000000005]
[166815,"Партнер номер 1","1945-05-02","оплачен",3978,0.05,198.9]
[166817,"Партнер номер 7","1945-05-02","не оплачен",6279,0.05,313.95000000000005]
[166818,"Партнер номер 3","1945-05-02","оплачен",1645,0.05,82.25]
[166820,"Партнер номер 7","1945-05-02","не оплачен",403,0.05,20.150000000000002]
[166823,"Партнер номер 1","1945-05-02","не оплачен",4522,0.05,226.10000000000002]
[166825,"Партнер номер 6","1945-05-02","оплачен",2187,0.04,87.48]
[166829,"Партнер номер 7","1945-05-02","не оплачен",1172,0.05,58.6]
[166830,"Партнер номер 1","1945-05-02","оплачен",1670,0.05,83.5]
[166834,"Партнер номер 1","1945-05-02","оплачен",3339,0.05,166.95000000000002]
[166837,"Партнер номер 18","1945-05-02","не оплачен",590,0.03,17.7]
[166840,"Партнер номер 19","1945-05-02","не оплачен",1857,0.05,92.850000000000009]
[166845,"","1945-05-02","оплачен",3960,"",""]
[166850,"Партнер номер 11","1945-05-02","не оплачен",641,0.05,32.050000000000004]
[166852,"","1945-05-02","оплачен",4083,"",""]
[166856,"Партнер номер 4","1945-05-02","оплачен",1719,0.04,68.760000000000005]
[166859,"","1945-05-02","оплачен",3298,"",""]
[166861,"Партнер номер 1","1945-05-02","не оплачен",2370,0.05,118.5]
[166866,"Партнер номер 1","1945-05-02","не оплачен",2554,0.05,127.7]
[166870,"Партнер номер 1","1945-05-02","не оплачен",1488,0.05,74.400000000000006]
[166874,"Партнер номер 1","1945-05-02","не оплачен",1265,0.05,63.25]
[166877,"","1945-05-02","оплачен",898,"",""]
[166882,"Партнер номер 1","1945-05-02","оплачен",2331,0.05,116.55000000000001]
[166885,"Партнер номер 1","1945-05-02","не оплачен",787,0.05,39.35]
[166888,"Партнер номер 5","1945-05-02","не оплачен",2166,0.03,64.98]
[166891,"Партнер номер 7","1945-05-02","оплачен",1519,0.05,75.95]
[166893,"Партнер номер 1","1945-05-02","оплачен",1312,0.05,65.600000000000009]
[166898,"","1945-05-02","не оплачен",942,"",""]
[166902,"Партнер номер 3","1945-05-02","оплачен",1183,0.05,59.150000000000006]
[166904,"Партнер номер 9","1945-05-02","оплачен",1708,0.05,85.4]
[166906,"Партнер номер 8","1945-05-02","оплачен",1255,0.03,37.65]
[166909,"","1945-05-02","оплачен",3197,"",""]
[166912,"","1945-05-02","оплачен",3188,"",""]
[166916,"Партнер номер 16","1945-05-02","не оплачен",2316,0.05,115.80000000000001]
[166918,"","1945-05-02","оплачен",3833,"",""]
[166921,"","1945-05-02","оплачен",4433,"",""]
[166922,"Партнер номер 1","1945-05-02","оплачен",654,0.05,32.700000000000003]
[166925,"","1945-05-02","не оплачен",2245,"",""]
[166930,"","1945-05-02","оплачен",3403,"",""]
[166936,"Партнер номер 16","1945-05-02","оплачен",2273,0.05,113.65]
[166939,"","1945-05-02","оплачен",2706,"",""]
[166943,"Партнер номер 5","1945-05-02","оплачен",3148,0.03,94.44]
[166945,"Партнер номер 20","1945-05-02","не оплачен",5411,0.03,162.32999999999998]
[166948,"Партнер номер 1","1945-05-02","не оплачен",1539,0.05,76.95]
[166954,"Партнер номер 11","1945-05-02","не оплачен",800,0.05,40]
[166955,"","1945-05-02","оплачен",1627,"",""]
[166961,"","1945-05-02","оплачен",2060,"",""]
[166966,"","1945-05-02","не оплачен",2575,"",""]
[166968,"Партнер номер 1","1945-05-02","не оплачен",1207,0.05,60.35]
[166972,"Партнер номер 21","1945-05-02","оплачен",1353,0.05,67.650000000000006]
[166978,"Партнер номер 5","1945-05-02","оплачен",2626,0.03,78.78]
[166983,"","1945-05-02","не оплачен",2111,"",""]
[166986,"","1945-05-02","не оплачен",2728,"",""]
[166991,"","1945-05-02","оплачен",2430,"",""]
[166994,"","1945-05-02","не оплачен",856,"",""]
[166996,"","1945-05-02","оплачен",2387,"",""]
[167000,"","1945-05-02","не оплачен",3622,"",""]
[167003,"","1945-05-02","не оплачен",2772,"",""]
[167005,"Партнер номер 1","1945-05-02","оплачен",4550,0.05,227.5]
[167008,"","1945-05-02","оплачен",3730,"",""]
[167012,"","1945-05-02","оплачен",799,"",""]
[167016,"Партнер номер 1","1945-05-02","не оплачен",2203,0.05,110.15]
[167018,"Партнер номер 8","1945-05-02","не оплачен",2222,0.03,66.66]
[167020,"","1945-05-02","не оплачен",1773,"",""]
[167024,"Партнер номер 1","1945-05-02","не оплачен",2324,0.05,116.2]
[167028,"","1945-05-02","оплачен",814,"",""]
[167033,"Партнер номер 1","1945-05-02","оплачен",2050,0.05,102.5]
[167035,"Партнер номер 1","1945-05-02","оплачен",2203,0.05,110.15]
[167039,"Партнер номер 1","1945-05-02","оплачен",2220,0.05,111]
[167043,"","1945-05-02","оплачен",5588,"",""]
[167048,"","1945-05-02","оплачен",2754,"",""]
[167050,"Партнер номер 3","1945-05-02","не оплачен",4133,0.05,206.65]
[167052,"Партнер номер 4","1945-05-02","не оплачен",1908,0.04,76.320000000000007]
[167056,"Партнер номер 7","1945-05-02","не оплачен",942,0.05,47.1]
[167060,"","1945-05-02","оплачен",4998,"",""]
[167062,"Партнер номер 4","1945-05-02","оплачен",5046,0.04,201.84]
[167067,"","1945-05-02","оплачен",4725,"",""]
[167071,"","1945-05-02","не оплачен",2224,"",""]
[167073,"","1945-05-02","оплачен",1111,"",""]
[167075,"Партнер номер 1","1945-05-02","оплачен",983,0.05,49.150000000000006]
[167078,"Партнер номер 1","1945-05-02","оплачен",3024,0.05,151.20000000000002]
[167079,"Партнер номер 1","1945-05-02","оплачен",3216,0.05,160.80000000000001]
[167084,"Партнер номер 3","1945-05-02","оплачен",3746,0.05,187.3]
[167085,"","1945-05-02","не оплачен",1290,"",""]
[167090,"","1945-05-02","оплачен",2387,"",""]
[167094,"","1945-05-02","не оплачен",653,"",""]
[167097,"Партнер номер 1","1945-05-02","оплачен",7704,0.05,385.20000000000005]
[167099,"Партнер номер 3","1945-05-02","не оплачен",1134,0.05,56.7]
[167102,"Партнер номер 1","1945-05-02","оплачен",2077,0.05,103.85000000000001]
[167107,"","1945-05-02","оплачен",3504,"",""]
[167110,"","1945-05-02","оплачен",3388,"",""]
[167113,"Партнер номер 11","1945-05-02","оплачен",934,0.05,46.7]
[167118,"Партнер номер 1","1945-05-02","не оплачен",3548,0.05,177.4]
[167122,"Партнер номер 11","1945-05-02","не оплачен",790,0.05,39.5]
[167128,"","1945-05-02","не оплачен",2322,"",""]
[167130,"Партнер номер 22","1945-05-02","оплачен",1768,0.05,88.4]
[167134,"","1945-05-02","оплачен",2835,"",""]
[167137,"Партнер номер 11","1945-05-02","оплачен",1391,0.05,69.55]
[167139,"Партнер номер 1","1945-05-02","оплачен",2819,0.05,140.95000000000002]
[167145,"Партнер номер 11","1945-05-02","оплачен",1921,0.05,96.050000000000011]
[167149,"","1945-05-02","оплачен",1370,"",""]
[167152,"Партнер номер 3","1945-05-02","оплачен",1320,0.05,66]
[167154,"","1945-05-02","не оплачен",790,"",""]
[167157,"Партнер номер 3","1945-05-02","не оплачен",1410,0.05,70.5]
[167159,"","1945-05-02","не оплачен",7060,"",""]
[167163,"Партнер номер 1","1945-05-02","не оплачен",1979,0.05,98.95]
[167169,"Партнер номер 11","1945-05-02","оплачен",2195,0.05,109.75]
[167170,"Партнер номер 5","1945-05-02","оплачен",1680,0.03,50.4]
[167173,"Партнер номер 7","1945-05-02","не оплачен",3803,0.05,190.15]
[167178,"Партнер номер 1","1945-05-02","оплачен",1764,0.05,88.2]
[167179,"Партнер номер 1","1945-05-02","не оплачен",1428,0.05,71.400000000000006]
[167184,"","1945-05-02","оплачен",3877,"",""]
[167187,"Партнер номер 5","1945-05-02","оплачен",5541,0.03,166.23]
[167192,"Партнер номер 11","1945-05-02","оплачен",1647,0.05,82.350000000000009]
[167194,"Партнер номер 1","1945-05-02","не оплачен",868,0.05,43.400000000000006]
[167196,"","1945-05-02","оплачен",2247,"",""]
[167198,"Партнер номер 9","1945-05-02","оплачен",5060,0.05,253]
[167200,"","1945-05-02","оплачен",2330,"",""]
[167204,"","1945-05-02","оплачен",4721,"",""]
[167206,"","1945-05-02","не оплачен",3220,"",""]
[167210,"Партнер номер 5","1945-05-02","оплачен",4663,0.03,139.88999999999999]
[167216,"","1945-05-02","не оплачен",1139,"",""]
[167217,"","1945-05-02","оплачен",3543,"",""]
[167218,"Партнер номер 11","1945-05-02","оплачен",1614,0.05,80.7]
[167223,"Партнер номер 1","1945-05-02","оплачен",765,0.05,38.25]
[167229,"Партнер номер 10","1945-05-02","не оплачен",2548,0.04,101.92]
[167232,"","1945-05-02","оплачен",1931,"",""]
[167236,"Партнер номер 11","1945-05-02","не оплачен",801,0.05,40.050000000000004]
[167237,"Партнер номер 1","1945-05-02","оплачен",3009,0.05,150.45000000000002]
[167241,"Партнер номер 1","1945-05-02","оплачен",855,0.05,42.75]
[167246,"Партнер номер 10","1945-05-02","оплачен",2548,0.04,101.92]
[167248,"Партнер номер 7","1945-05-02","оплачен",2252,0.05,112.60000000000001]
[167252,"","1945-05-02","не оплачен",2730,"",""]
[167256,"Партнер номер 1","1945-05-03","не оплачен",1247,0.05,62.35]
[167260,"Партнер номер 23","1945-05-03","оплачен",2831,0.05,141.55000000000001]
[167264,"","1945-05-03","оплачен",4655,"",""]
[167268,"","1945-05-03","не оплачен",3563,"",""]
[167272,"","1945-05-03","оплачен",3025,"",""]
[167275,"Партнер номер 11","1945-05-03","оплачен",7418,0.05,370.90000000000003]
[167276,"Партнер номер 1","1945-05-03","оплачен",1247,0.05,62.35]
[167278,"","1945-05-03","оплачен",2761,"",""]
[167280,"Партнер номер 10","1945-05-03","оплачен",2730,0.04,109.2]
[167282,"","1945-05-03","оплачен",4311,"",""]
[167283,"Партнер номер 12","1945-05-03","не оплачен",2864,0.03,85.92]
[167285,"Партнер номер 11","1945-05-03","оплачен",2615,0.05,130.75]
[167288,"","1945-05-03","оплачен",2745,"",""]
[167294,"Партнер номер 4","1945-05-03","не оплачен",1639,0.04,65.56]
[167297,"Партнер номер 2","1945-05-03","оплачен",3521,0.04,140.84]
[167300,"Партнер номер 2","1945-05-03","не оплачен",1721,0.04,68.84]
[167301,"Партнер номер 11","1945-05-03","не оплачен",3801,0.05,190.05]
[167303,"Партнер номер 4","1945-05-03","не оплачен",2323,0.04,92.92]
[167308,"Партнер номер 1","1945-05-03","оплачен",678,0.05,33.9]
[167313,"Партнер номер 11","1945-05-03","не оплачен",2029,0.05,101.45]
[167315,"","1945-05-03","оплачен",4062,"",""]
[167320,"Партнер номер 1","1945-05-03","не оплачен",1211,0.05,60.550000000000004]
[167326,"","1945-05-03","оплачен",1544,"",""]
[167331,"Партнер номер 7","1945-05-03","не оплачен",942,0.05,47.1]
[167335,"","1945-05-03","не оплачен",6823,"",""]
[167340,"Партнер номер 1","1945-05-03","не оплачен",4159,0.05,207.95000000000002]
[167346,"Партнер номер 11","1945-05-03","оплачен",2096,0.05,104.80000000000001]
[167350,"","1945-05-03","оплачен",5604,"",""]
[167355,"","1945-05-03","оплачен",2873,"",""]
[167359,"","1945-05-03","оплачен",2938,"",""]
[167364,"Партнер номер 11","1945-05-03","не оплачен",779,0.05,38.950000000000003]
[167369,"","1945-05-03","оплачен",2321,"",""]
[167374,"Партнер номер 11","1945-05-03","оплачен",725,0.05,36.25]
[167375,"Партнер номер 5","1945-05-03","оплачен",2118,0.03,63.54]
[167378,"","1945-05-03","оплачен",2801,"",""]
[167381,"","1945-05-03","оплачен",3682,"",""]
[167385,"Партнер номер 11","1945-05-03","оплачен",1365,0.05,68.25]
[167387,"","1945-05-03","оплачен",3620,"",""]
[167392,"","1945-05-03","оплачен",924,"",""]
[167395,"Партнер номер 5","1945-05-03","оплачен",1049,0.03,31.47]
[167397,"","1945-05-03","оплачен",3086,"",""]
[167400,"Партнер номер 1","1945-05-03","оплачен",764,0.05,38.200000000000003]
[167409,"Партнер номер 3","1945-05-03","оплачен",1898,0.05,94.9]
[167415,"","1945-05-03","не оплачен",2175,"",""]
[167420,"","1945-05-03","не оплачен",1204,"",""]
[167425,"","1945-05-03","оплачен",2309,"",""]
[167430,"Партнер номер 1","1945-05-03","не оплачен",2230,0.05,111.5]
[167432,"","1945-05-03","оплачен",1649,"",""]
[167435,"Партнер номер 7","1945-05-03","не оплачен",1268,0.05,63.400000000000006]
[167440,"Партнер номер 23","1945-05-03","оплачен",1804,0.05,90.2]
[167446,"Партнер номер 1","1945-05-03","оплачен",3155,0.05,157.75]
[167449,"","1945-05-03","оплачен",2365,"",""]
[167451,"Партнер номер 1","1945-05-03","не оплачен",2230,0.05,111.5]
[167455,"Партнер номер 3","1945-05-03","оплачен",813,0.05,40.650000000000006]
[167458,"","1945-05-03","оплачен",2729,"",""]
[167463,"Партнер номер 1","1945-05-03","не оплачен",2366,0.05,118.30000000000001]
[167464,"Партнер номер 1","1945-05-03","оплачен",3731,0.05,186.55]
[167468,"","1945-05-03","оплачен",2291,"",""]
[167471,"Партнер номер 9","1945-05-03","оплачен",795,0.05,39.75]
[167474,"Партнер номер 6","1945-05-03","не оплачен",1372,0.04,54.88]
[167476,"Партнер номер 1","1945-05-03","оплачен",2372,0.05,118.60000000000001]
[167480,"","1945-05-03","не оплачен",1804,"",""]
[167483,"","1945-05-03","не оплачен",2147,"",""]
[167493,"Партнер номер 7","1945-05-03","оплачен",1752,0.05,87.600000000000009]
[167501,"Партнер номер 1","1945-05-03","не оплачен",1719,0.05,85.95]
[167503,"","1945-05-03","оплачен",3408,"",""]
[167505,"Партнер номер 10","1945-05-03","не оплачен",2034,0.04,81.36]
[167507,"Партнер номер 10","1945-05-03","оплачен",2034,0.04,81.36]
[167511,"Партнер номер 1","1945-05-03","оплачен",3378,0.05,168.9]
[167515,"Партнер номер 7","1945-05-03","не оплачен",1809,0.05,90.45]
[167520,"Партнер номер 1","1945-05-03","оплачен",1492,0.05,74.600000000000009]
[167524,"","1945-05-03","не оплачен",2072,"",""]
[167529,"","1945-05-03","оплачен",1181,"",""]
[167534,"Партнер номер 2","1945-05-03","оплачен",1911,0.04,76.44]
[167537,"","1945-05-03","не оплачен",978,"",""]
[167541,"Партнер номер 1","1945-05-03","не оплачен",328,0.05,16.400000000000002]
[167544,"Партнер номер 1","1945-05-03","оплачен",1768,0.05,88.4]
[167545,"","1945-05-03","оплачен",1048,"",""]
[167547,"","1945-05-03","оплачен",1290,"",""]
[167552,"Партнер номер 3","1945-05-03","не оплачен",1452,0.05,72.600000000000009]
[167556,"","1945-05-03","не оплачен",8079,"",""]
[167560,"Партнер номер 24","1945-05-03","оплачен",1393,0.03,41.79]
[167561,"","1945-05-03","не оплачен",886,"",""]
[167565,"Партнер номер 1","1945-05-03","оплачен",1713,0.05,85.65]
[167568,"","1945-05-03","оплачен",927,"",""]
[167570,"Партнер номер 1","1945-05-03","не оплачен",616,0.05,30.8]
[167575,"","1945-05-03","оплачен",1550,"",""]
[167578,"","1945-05-03","оплачен",1847,"",""]
[167584,"Партнер номер 1","1945-05-03","не оплачен",3457,0.05,172.85000000000002]
[167589,"","1945-05-03","оплачен",3974,"",""]
[167594,"Партнер номер 3","1945-05-03","не оплачен",781,0.05,39.050000000000004]
[167599,"Партнер номер 11","1945-05-03","оплачен",2793,0.05,139.65]
[167600,"","1945-05-03","оплачен",952,"",""]
[167602,"","1945-05-03","не оплачен",2673,"",""]
[167606,"","1945-05-03","не оплачен",4638,"",""]
[167612,"","1945-05-03","оплачен",3818,"",""]
[167617,"","1945-05-03","оплачен",338,"",""]
[167622,"","1945-05-03","оплачен",2391,"",""]
[167624,"Партнер номер 25","1945-05-03","не оплачен",7981,0.05,399.05]
[167627,"Партнер номер 6","1945-05-03","не оплачен",2535,0.04,101.4]
[167631,"","1945-05-03","оплачен",2137,"",""]
[167634,"","1945-05-03","оплачен",2797,"",""]
[167636,"Партнер номер 11","1945-05-03","оплачен",2823,0.05,141.15]
[167643,"","1945-05-03","не оплачен",813,"",""]
[167646,"Партнер номер 1","1945-05-03","оплачен",660,0.05,33]
[167649,"Партнер номер 1","1945-05-03","оплачен",2018,0.05,100.9]
[167654,"","1945-05-03","оплачен",2296,"",""]
[167659,"","1945-05-03","не оплачен",864,"",""]
[167663,"","1945-05-03","оплачен",1654,"",""]
[167665,"Партнер номер 1","1945-05-03","не оплачен",6172,0.05,308.60000000000002]
[167670,"Партнер номер 11","1945-05-03","не оплачен",613,0.05,30.650000000000002]
[167672,"","1945-05-03","не оплачен",1484,"",""]
[167677,"","1945-05-03","оплачен",4284,"",""]
[167686,"","1945-05-03","не оплачен",1232,"",""]
[167690,"Партнер номер 5","1945-05-03","оплачен",1267,0.03,38.01]
[167695,"","1945-05-03","не оплачен",2535,"",""]
[167699,"","1945-05-03","не оплачен",3070,"",""]
[167701,"","1945-05-03","оплачен",427,"",""]
[167711,"","1945-05-03","не оплачен",5869,"",""]
[167714,"","1945-05-03","оплачен",1572,"",""]
[167718,"","1945-05-03","не оплачен",3913,"",""]
[167720,"Партнер номер 1","1945-05-03","оплачен",2198,0.05,109.9]
[167724,"Партнер номер 10","1945-05-03","оплачен",5516,0.04,220.64000000000001]
[167729,"","1945-05-03","оплачен",2734,"",""]
[167731,"Партнер номер 3","1945-05-03","не оплачен",2061,0.05,103.05000000000001]
[167736,"","1945-05-03","оплачен",1635,"",""]
[167741,"Партнер номер 5","1945-05-03","не оплачен",3674,0.03,110.22]
[167744,"","1945-05-03","не оплачен",3165,"",""]
[167747,"Партнер номер 5","1945-05-03","оплачен",3674,0.03,110.22]
[167750,"","1945-05-03","не оплачен",1153,"",""]
[167755,"","1945-05-03","оплачен",2101,"",""]
[167757,"","1945-05-03","оплачен",3087,"",""]
[167761,"Партнер номер 1","1945-05-03","не оплачен",758,0.05,37.9]
[167767,"Партнер номер 11","1945-05-03","не оплачен",4167,0.05,208.35000000000002]
[167772,"Партнер номер 1","1945-05-03","оплачен",2352,0.05,117.60000000000001]
[167774,"Партнер номер 1","1945-05-03","не оплачен",1611,0.05,80.550000000000011]
[167779,"","1945-05-03","не оплачен",1373,"",""]
[167785,"","1945-05-03","оплачен",2766,"",""]
[167787,"","1945-05-03","оплачен",1921,"",""]
[167790,"Партнер номер 1","1945-05-03","оплачен",3355,0.05,167.75]
[167791,"Партнер номер 1","1945-05-03","не оплачен",1088,0.05,54.400000000000006]
[167795,"Партнер номер 7","1945-05-03","оплачен",3284,0.05,164.20000000000002]
[167800,"","1945-05-03","оплачен",3326,"",""]
[167802,"Партнер номер 1","1945-05-03","не оплачен",533,0.05,26.650000000000002]
[167807,"","1945-05-03","оплачен",2433,"",""]
[167811,"Партнер номер 1","1945-05-03","не оплачен",533,0.05,26.650000000000002]
[167813,"Партнер номер 1","1945-05-03","не оплачен",533,0.05,26.650000000000002]
[167818,"Партнер номер 1","1945-05-03","не оплачен",533,0.05,26.650000000000002]
[167821,"","1945-05-03","оплачен",1921,"",""]
[167823,"Партнер номер 1","1945-05-03","оплачен",533,0.05,26.650000000000002]
[167828,"Партнер номер 1","1945-05-03","оплачен",843,0.05,42.150000000000006]
[167830,"","1945-05-03","оплачен",1294,"",""]
[167833,"Партнер номер 25","1945-05-03","не оплачен",5113,0.05,255.65]
[167838,"Партнер номер 11","1945-05-03","оплачен",1591,0.05,79.550000000000011]
[167839,"Партнер номер 1","1945-05-03","не оплачен",533,0.05,26.650000000000002]
[167844,"","1945-05-03","оплачен",3709,"",""]
[167847,"","1945-05-03","не оплачен",3167,"",""]
[167850,"","1945-05-03","не оплачен",4336,"",""]
[167856,"","1945-05-03","оплачен",2605,"",""]
[167858,"","1945-05-03","оплачен",2006,"",""]
[167860,"Партнер номер 1","1945-05-03","не оплачен",1318,0.05,65.900000000000006]
[167863,"Партнер номер 5","1945-05-03","оплачен",1669,0.03,50.07]
[167869,"","1945-05-03","не оплачен",577,"",""]
[167872,"","1945-05-03","оплачен",2311,"",""]
[167875,"Партнер номер 1","1945-05-03","оплачен",1318,0.05,65.900000000000006]
[167877,"Партнер номер 6","1945-05-03","оплачен",1002,0.04,40.08]
[167880,"","1945-05-03","оплачен",1221,"",""]
[167886,"","1945-05-03","оплачен",4447,"",""]
[167891,"","1945-05-03","не оплачен",2354,"",""]
[167896,"","1945-05-03","оплачен",432,"",""]
[167898,"Партнер номер 1","1945-05-03","не оплачен",831,0.05,41.550000000000004]
[167900,"","1945-05-03","оплачен",2422,"",""]
[167904,"Партнер номер 5","1945-05-03","оплачен",1185,0.03,35.549999999999997]
[167909,"","1945-05-03","оплачен",4068,"",""]
[167913,"","1945-05-03","не оплачен",2925,"",""]
[167915,"","1945-05-03","оплачен",1958,"",""]
[167919,"","1945-05-03","оплачен",4684,"",""]
[167921,"Партнер номер 10","1945-05-03","оплачен",5544,0.04,221.76]
[167926,"Партнер номер 1","1945-05-03","оплачен",699,0.05,34.950000000000003]
[167931,"Партнер номер 5","1945-05-03","не оплачен",2410,0.03,72.3]
[167936,"Партнер номер 5","1945-05-03","не оплачен",2410,0.03,72.3]
[167940,"Партнер номер 5","1945-05-03","не оплачен",2410,0.03,72.3]
[167944,"","1945-05-03","оплачен",3149,"",""]
[167950,"","1945-05-03","оплачен",4468,"",""]
[167953,"","1945-05-03","оплачен",1966,"",""]
[167956,"Партнер номер 5","1945-05-03","оплачен",1641,0.03,49.23]
[167962,"","1945-05-03","оплачен",3413,"",""]
[167965,"","1945-05-03","не оплачен",2581,"",""]
[167970,"","1945-05-03","оплачен",1815,"",""]
[167973,"Партнер номер 6","1945-05-03","не оплачен",3192,0.04,127.68]
[167979,"","1945-05-03","оплачен",4151,"",""]
[167981,"Партнер номер 5","1945-05-04","оплачен",1336,0.03,40.08]
[167984,"","1945-05-04","оплачен",1504,"",""]
[167986,"","1945-05-04","оплачен",5281,"",""]
[167991,"Партнер номер 1","1945-05-04","не оплачен",4395,0.05,219.75]
[167993,"","1945-05-04","оплачен",2246,"",""]
[167997,"Партнер номер 1","1945-05-04","оплачен",2289,0.05,114.45]
[168002,"","1945-05-04","не оплачен",1250,"",""]
[168003,"Партнер номер 1","1945-05-04","оплачен",1448,0.05,72.400000000000006]
[168009,"","1945-05-04","оплачен",2831,"",""]
[168013,"","1945-05-04","оплачен",1786,"",""]
[168015,"Партнер номер 1","1945-05-04","оплачен",1854,0.05,92.7]
[168019,"Партнер номер 21","1945-05-04","оплачен",939,0.05,46.95]
[168021,"","1945-05-04","не оплачен",2641,"",""]
[168025,"Партнер номер 1","1945-05-04","оплачен",2403,0.05,120.15]
[168026,"Партнер номер 7","1945-05-04","оплачен",5921,0.05,296.05]
[168030,"","1945-05-04","оплачен",2067,"",""]
[168031,"Партнер номер 1","1945-05-04","не оплачен",3063,0.05,153.15]
[168037,"Партнер номер 2","1945-05-04","не оплачен",3870,0.04,154.80000000000001]
[168039,"","1945-05-04","оплачен",1929,"",""]
[168044,"Партнер номер 11","1945-05-04","не оплачен",2831,0.05,141.55000000000001]
[168049,"Партнер номер 17","1945-05-04","оплачен",6837,0.04,273.48]
[168052,"","1945-05-04","оплачен",1227,"",""]
[168053,"","1945-05-04","оплачен",3409,"",""]
[168059,"Партнер номер 11","1945-05-04","не оплачен",1806,0.05,90.300000000000011]
[168061,"","1945-05-04","оплачен",2681,"",""]
[168065,"Партнер номер 11","1945-05-04","не оплачен",1878,0.05,93.9]
[168068,"","1945-05-04","оплачен",4745,"",""]
[168072,"Партнер номер 26","1945-05-04","не оплачен",3257,0.05,162.85000000000002]
[168076,"Партнер номер 1","1945-05-04","оплачен",1545,0.05,77.25]
[168080,"","1945-05-04","оплачен",3825,"",""]
[168084,"","1945-05-04","оплачен",4587,"",""]
[168086,"Партнер номер 4","1945-05-04","оплачен",2333,0.04,93.320000000000007]
[168091,"Партнер номер 11","1945-05-04","не оплачен",1674,0.05,83.7]
[168094,"Партнер номер 7","1945-05-04","оплачен",5389,0.05,269.45]
[168097,"Партнер номер 7","1945-05-04","оплачен",5389,0.05,269.45]
[168100,"Партнер номер 5","1945-05-04","не оплачен",1163,0.03,34.89]
[168103,"","1945-05-04","оплачен",3765,"",""]
[168107,"Партнер номер 1","1945-05-04","не оплачен",1409,0.05,70.45]
[168117,"Партнер номер 1","1945-05-04","не оплачен",1724,0.05,86.2]
[168121,"Партнер номер 1","1945-05-04","оплачен",1077,0.05,53.85]
[168123,"Партнер номер 4","1945-05-04","не оплачен",2463,0.04,98.52]
[168127,"Партнер номер 2","1945-05-04","не оплачен",3961,0.04,158.44]
[168130,"Партнер номер 27","1945-05-04","не оплачен",2333,0.04,93.320000000000007]
[168133,"","1945-05-04","оплачен",2587,"",""]
[168141,"","1945-05-04","оплачен",2312,"",""]
[168146,"","1945-05-04","оплачен",1690,"",""]
[168148,"Партнер номер 1","1945-05-04","оплачен",864,0.05,43.2]
[168153,"Партнер номер 7","1945-05-04","оплачен",2057,0.05,102.85000000000001]
[168159,"Партнер номер 8","1945-05-04","не оплачен",2340,0.03,70.2]
[168162,"Партнер номер 4","1945-05-04","не оплачен",2463,0.04,98.52]
[168167,"Партнер номер 2","1945-05-04","не оплачен",4999,0.04,199.96]
[168171,"Партнер номер 11","1945-05-04","не оплачен",1437,0.05,71.850000000000009]
[168175,"Партнер номер 5","1945-05-04","оплачен",4251,0.03,127.53]
[168178,"Партнер номер 8","1945-05-04","не оплачен",4483,0.03,134.49]
[168184,"Партнер номер 11","1945-05-04","оплачен",1437,0.05,71.850000000000009]
[168188,"Партнер номер 1","1945-05-04","не оплачен",2122,0.05,106.10000000000001]
[168193,"Партнер номер 1","1945-05-04","оплачен",1938,0.05,96.9]
[168198,"","1945-05-04","не оплачен",12758,"",""]
[168199,"Партнер номер 5","1945-05-04","не оплачен",3517,0.03,105.50999999999999]
[168205,"Партнер номер 1","1945-05-04","оплачен",2224,0.05,111.2]
[168210,"","1945-05-04","оплачен",4641,"",""]
[168213,"","1945-05-04","оплачен",1278,"",""]
[168217,"","1945-05-04","оплачен",2663,"",""]
[168221,"Партнер номер 1","1945-05-04","оплачен",6463,0.05,323.15000000000003]
[168227,"Партнер номер 1","1945-05-04","не оплачен",3019,0.05,150.95000000000002]
[168228,"","1945-05-04","оплачен",4967,"",""]
[168234,"","1945-05-04","не оплачен",3245,"",""]
[168235,"Партнер номер 11","1945-05-04","оплачен",1891,0.05,94.550000000000011]
[168237,"","1945-05-04","оплачен",3875,"",""]
[168241,"Партнер номер 5","1945-05-04","не оплачен",2672,0.03,80.16]
[168244,"Партнер номер 11","1945-05-04","оплачен",2452,0.05,122.60000000000001]
[168245,"Партнер номер 11","1945-05-04","не оплачен",2002,0.05,100.10000000000001]
[168250,"","1945-05-04","оплачен",4549,"",""]
[168254,"","1945-05-04","оплачен",1213,"",""]
[168256,"","1945-05-04","оплачен",816,"",""]
[168259,"Партнер номер 1","1945-05-04","не оплачен",2352,0.05,117.60000000000001]
[168261,"","1945-05-04","оплачен",3198,"",""]
[168264,"Партнер номер 1","1945-05-04","не оплачен",937,0.05,46.85]
[168271,"","1945-05-04","оплачен",1293,"",""]
[168274,"Партнер номер 12","1945-05-04","оплачен",2033,0.03,60.989999999999995]
[168278,"Партнер номер 1","1945-05-04","не оплачен",961,0.05,48.050000000000004]
[168280,"","1945-05-04","оплачен",4384,"",""]
[168285,"","1945-05-04","оплачен",5424,"",""]
[168288,"","1945-05-04","не оплачен",2404,"",""]
[168292,"Партнер номер 1","1945-05-04","оплачен",2973,0.05,148.65]
[168295,"Партнер номер 11","1945-05-04","не оплачен",1154,0.05,57.7]
[168298,"","1945-05-04","не оплачен",1253,"",""]
[168300,"","1945-05-04","оплачен",2617,"",""]
[168301,"","1945-05-04","оплачен",3954,"",""]
[168304,"Партнер номер 1","1945-05-04","оплачен",4201,0.05,210.05]
[168308,"Партнер номер 1","1945-05-04","оплачен",1752,0.05,87.600000000000009]
[168311,"","1945-05-04","оплачен",1480,"",""]
[168314,"","1945-05-04","не оплачен",2089,"",""]
[168317,"Партнер номер 7","1945-05-04","оплачен",2124,0.05,106.2]
[168319,"","1945-05-04","не оплачен",1836,"",""]
[168322,"Партнер номер 26","1945-05-04","оплачен",3999,0.05,199.95000000000002]
[168326,"","1945-05-04","оплачен",1224,"",""]
[168328,"Партнер номер 7","1945-05-04","оплачен",3361,0.05,168.05]
[168331,"Партнер номер 5","1945-05-04","не оплачен",4683,0.03,140.48999999999998]
[168335,"Партнер номер 3","1945-05-04","не оплачен",858,0.05,42.900000000000006]
[168339,"","1945-05-04","не оплачен",826,"",""]
[168345,"Партнер номер 5","1945-05-04","оплачен",4683,0.03,140.48999999999998]
[168350,"Партнер номер 21","1945-05-04","оплачен",1239,0.05,61.95]
[168352,"","1945-05-04","не оплачен",1964,"",""]
[168356,"Партнер номер 1","1945-05-04","оплачен",1500,0.05,75]
[168359,"Партнер номер 11","1945-05-04","не оплачен",1364,0.05,68.2]
[168363,"","1945-05-04","не оплачен",847,"",""]
[168365,"","1945-05-04","оплачен",2571,"",""]
[168370,"Партнер номер 11","1945-05-04","не оплачен",1824,0.05,91.2]
[168373,"","1945-05-04","оплачен",5334,"",""]
[168376,"","1945-05-04","не оплачен",2107,"",""]
[168381,"","1945-05-04","оплачен",2388,"",""]
[168382,"","1945-05-04","не оплачен",2352,"",""]
[168385,"","1945-05-04","оплачен",2571,"",""]
[168387,"","1945-05-04","оплачен",1002,"",""]
[168389,"Партнер номер 11","1945-05-04","оплачен",1364,0.05,68.2]
[168392,"Партнер номер 3","1945-05-04","не оплачен",2715,0.05,135.75]
[168394,"Партнер номер 1","1945-05-04","оплачен",4045,0.05,202.25]
[168398,"Партнер номер 7","1945-05-04","оплачен",1214,0.05,60.7]
[168401,"","1945-05-04","оплачен",6267,"",""]
[168406,"","1945-05-04","оплачен",3736,"",""]
[168408,"","1945-05-04","не оплачен",2336,"",""]
[168413,"","1945-05-04","не оплачен",3126,"",""]
[168415,"Партнер номер 1","1945-05-04","не оплачен",719,0.05,35.950000000000003]
[168416,"","1945-05-04","не оплачен",1727,"",""]
[168420,"Партнер номер 1","1945-05-04","не оплачен",2338,0.05,116.9]
[168423,"","1945-05-04","не оплачен",4831,"",""]
[168424,"Партнер номер 5","1945-05-04","оплачен",1541,0.03,46.23]
[168430,"","1945-05-04","оплачен",885,"",""]
[168434,"Партнер номер 5","1945-05-04","оплачен",5953,0.03,178.59]
[168436,"","1945-05-04","оплачен",2015,"",""]
[168441,"Партнер номер 7","1945-05-04","оплачен",2155,0.05,107.75]
[168443,"","1945-05-04","не оплачен",1299,"",""]
[168447,"","1945-05-04","оплачен",2606,"",""]
[168451,"Партнер номер 2","1945-05-04","не оплачен",7269,0.04,290.76]
[168456,"","1945-05-04","не оплачен",2520,"",""]
[168459,"Партнер номер 1","1945-05-04","не оплачен",1233,0.05,61.650000000000006]
[168463,"Партнер номер 17","1945-05-04","оплачен",2429,0.04,97.16]
[168467,"Партнер номер 7","1945-05-04","не оплачен",950,0.05,47.5]
[168473,"Партнер номер 3","1945-05-04","оплачен",1243,0.05,62.150000000000006]
[168478,"Партнер номер 5","1945-05-04","оплачен",2354,0.03,70.61999999999999]
[168483,"","1945-05-04","оплачен",2365,"",""]
[168487,"","1945-05-04","не оплачен",3002,"",""]
[168492,"","1945-05-04","оплачен",1524,"",""]
[168495,"","1945-05-04","оплачен",2187,"",""]
[168501,"","1945-05-04","оплачен",1019,"",""]
[168505,"","1945-05-04","оплачен",2158,"",""]
[168506,"","1945-05-04","оплачен",3314,"",""]
[168508,"Партнер номер 11","1945-05-04","оплачен",1174,0.05,58.7]
[168510,"Партнер номер 11","1945-05-04","не оплачен",2500,0.05,125]
[168513,"Партнер номер 11","1945-05-04","оплачен",2278,0.05,113.9]
[168514,"Партнер номер 11","1945-05-04","оплачен",2500,0.05,125]
[168517,"Партнер номер 1","1945-05-04","оплачен",2743,0.05,137.15]
[168520,"","1945-05-04","оплачен",1920,"",""]
[168523,"Партнер номер 1","1945-05-04","оплачен",2313,0.05,115.65]
[168527,"","1945-05-04","оплачен",6072,"",""]
[168531,"Партнер номер 2","1945-05-04","оплачен",7809,0.04,312.36]
[168536,"Партнер номер 11","1945-05-04","не оплачен",1895,0.05,94.75]
[168541,"Партнер номер 1","1945-05-04","не оплачен",2014,0.05,100.7]
[168543,"Партнер номер 11","1945-05-04","не оплачен",1062,0.05,53.1]
[168546,"","1945-05-04","оплачен",3517,"",""]
[168548,"Партнер номер 11","1945-05-04","не оплачен",1364,0.05,68.2]
[168552,"","1945-05-04","оплачен",3228,"",""]
[168554,"Партнер номер 1","1945-05-04","оплачен",1057,0.05,52.85]
[168556,"","1945-05-04","оплачен",3736,"",""]
[168559,"Партнер номер 1","1945-05-04","не оплачен",2231,0.05,111.55000000000001]
[168563,"","1945-05-04","оплачен",3721,"",""]
[168567,"Партнер номер 7","1945-05-04","не оплачен",3317,0.05,165.85000000000002]
[168572,"","1945-05-04","оплачен",5325,"",""]
[168577,"","1945-05-04","не оплачен",762,"",""]
[168583,"","1945-05-04","не оплачен",1396,"",""]
[168586,"Партнер номер 6","1945-05-04","не оплачен",1226,0.04,49.04]
[168589,"Партнер номер 11","1945-05-04","оплачен",1154,0.05,57.7]
[168591,"Партнер номер 1","1945-05-04","оплачен",3005,0.05,150.25]
[168596,"","1945-05-04","оплачен",2225,"",""]
[168600,"Партнер номер 7","1945-05-04","оплачен",1873,0.05,93.65]
[168602,"Партнер номер 11","1945-05-04","не оплачен",1591,0.05,79.550000000000011]
[168605,"","1945-05-04","оплачен",4381,"",""]
[168609,"","1945-05-04","не оплачен",3678,"",""]
[168614,"","1945-05-04","оплачен",4679,"",""]
[168617,"","1945-05-04","не оплачен",1306,"",""]
[168619,"","1945-05-04","оплачен",2912,"",""]
[168624,"Партнер номер 3","1945-05-04","оплачен",4953,0.05,247.65]
[168626,"","1945-05-04","не оплачен",3612,"",""]
[168631,"","1945-05-04","оплачен",3974,"",""]
[168634,"","1945-05-04","оплачен",1829,"",""]
[168636,"","1945-05-05","оплачен",3160,"",""]
[168639,"Партнер номер 1","1945-05-05","оплачен",1496,0.05,74.8]
[168645,"Партнер номер 5","1945-05-05","не оплачен",4555,0.03,136.65]
[168650,"","1945-05-05","оплачен",2631,"",""]
[168652,"","1945-05-05","оплачен",1686,"",""]
[168655,"Партнер номер 7","1945-05-05","не оплачен",3538,0.05,176.9]
[168660,"Партнер номер 3","1945-05-05","оплачен",1195,0.05,59.75]
[168663,"","1945-05-05","не оплачен",3160,"",""]
[168668,"","1945-05-05","оплачен",1401,"",""]
[168671,"","1945-05-05","не оплачен",3441,"",""]
[168676,"Партнер номер 5","1945-05-05","не оплачен",5519,0.03,165.57]
[168678,"","1945-05-05","не оплачен",5202,"",""]
[168679,"Партнер номер 8","1945-05-05","не оплачен",1853,0.03,55.589999999999996]
[168681,"","1945-05-05","не оплачен",2484,"",""]
[168684,"","1945-05-05","оплачен",1465,"",""]
[168687,"Партнер номер 9","1945-05-05","не оплачен",7718,0.05,385.90000000000003]
[168693,"","1945-05-05","оплачен",2269,"",""]
[168695,"","1945-05-05","оплачен",4241,"",""]
[168699,"","1945-05-05","не оплачен",1221,"",""]
[168701,"","1945-05-05","не оплачен",2272,"",""]
[168704,"Партнер номер 5","1945-05-05","оплачен",4549,0.03,136.47]
[168709,"","1945-05-05","не оплачен",2753,"",""]
[168711,"Партнер номер 1","1945-05-05","не оплачен",4581,0.05,229.05]
[168715,"Партнер номер 5","1945-05-05","оплачен",3974,0.03,119.22]
[168717,"","1945-05-05","оплачен",2753,"",""]
[168720,"","1945-05-05","не оплачен",989,"",""]
[168722,"","1945-05-05","оплачен",1307,"",""]
[168726,"","1945-05-05","не оплачен",4198,"",""]
[168731,"Партнер номер 1","1945-05-05","не оплачен",234,0.05,11.700000000000001]
[168735,"Партнер номер 5","1945-05-05","не оплачен",2318,0.03,69.539999999999992]
[168736,"","1945-05-05","не оплачен",5089,"",""]
[168738,"","1945-05-05","оплачен",2975,"",""]
[168741,"","1945-05-05","оплачен",2161,"",""]
[168746,"","1945-05-05","не оплачен",2485,"",""]
[168748,"Партнер номер 6","1945-05-05","не оплачен",2089,0.04,83.56]
[168750,"Партнер номер 1","1945-05-05","оплачен",1945,0.05,97.25]
[168755,"","1945-05-05","оплачен",2238,"",""]
[168757,"","1945-05-05","оплачен",2270,"",""]
[168761,"Партнер номер 10","1945-05-05","оплачен",2812,0.04,112.48]
[168762,"","1945-05-05","оплачен",4591,"",""]
[168764,"","1945-05-05","оплачен",1157,"",""]
[168769,"","1945-05-05","оплачен",2632,"",""]
[168774,"","1945-05-05","оплачен",3556,"",""]
[168778,"","1945-05-05","оплачен",2410,"",""]
[168782,"","1945-05-05","не оплачен",1635,"",""]
[168786,"","1945-05-05","оплачен",1959,"",""]
[168789,"Партнер номер 5","1945-05-05","оплачен",1202,0.03,36.059999999999995]
[168793,"","1945-05-05","не оплачен",1589,"",""]
[168795,"Партнер номер 1","1945-05-05","оплачен",2068,0.05,103.4]
[168800,"Партнер номер 3","1945-05-05","оплачен",2285,0.05,114.25]
[168803,"Партнер номер 1","1945-05-05","не оплачен",1239,0.05,61.95]
[168806,"Партнер номер 1","1945-05-05","не оплачен",838,0.05,41.900000000000006]
[168809,"","1945-05-05","оплачен",1960,"",""]
[168814,"Партнер номер 1","1945-05-05","не оплачен",995,0.05,49.75]
[168816,"Партнер номер 1","1945-05-05","не оплачен",859,0.05,42.95]
[168821,"","1945-05-05","не оплачен",838,"",""]
[168826,"Партнер номер 1","1945-05-05","не оплачен",838,0.05,41.900000000000006]
[168829,"Партнер номер 1","1945-05-05","не оплачен",1271,0.05,63.550000000000004]
[168832,"Партнер номер 1","1945-05-05","не оплачен",838,0.05,41.900000000000006]
[168838,"Партнер номер 1","1945-05-05","не оплачен",838,0.05,41.900000000000006]
[168843,"","1945-05-05","оплачен",4817,"",""]
[168848,"Партнер номер 1","1945-05-05","не оплачен",2170,0.05,108.5]
[168850,"Партнер номер 1","1945-05-05","не оплачен",1321,0.05,66.05]
[168851,"Партнер номер 1","1945-05-05","не оплачен",838,0.05,41.900000000000006]
[168856,"Партнер номер 1","1945-05-05","не оплачен",838,0.05,41.900000000000006]
[168860,"","1945-05-05","оплачен",1386,"",""]
[168862,"Партнер номер 1","1945-05-05","не оплачен",838,0.05,41.900000000000006]
[168867,"","1945-05-05","оплачен",4715,"",""]
[168871,"","1945-05-05","не оплачен",1704,"",""]
[168872,"Партнер номер 1","1945-05-05","не оплачен",995,0.05,49.75]
[168877,"Партнер номер 1","1945-05-05","не оплачен",859,0.05,42.95]
[168879,"Партнер номер 1","1945-05-05","не оплачен",995,0.05,49.75]
[168882,"","1945-05-05","оплачен",831,"",""]
[168883,"Партнер номер 1","1945-05-05","не оплачен",838,0.05,41.900000000000006]
[168887,"Партнер номер 1","1945-05-05","не оплачен",1386,0.05,69.3]
[168888,"Партнер номер 1","1945-05-05","не оплачен",838,0.05,41.900000000000006]
[168893,"","1945-05-05","оплачен",1137,"",""]
[168895,"Партнер номер 1","1945-05-05","не оплачен",838,0.05,41.900000000000006]
[168900,"Партнер номер 1","1945-05-05","не оплачен",1020,0.05,51]
[168905,"Партнер номер 1","1945-05-05","не оплачен",838,0.05,41.900000000000006]
[168906,"Партнер номер 1","1945-05-05","не оплачен",995,0.05,49.75]
[168910,"Партнер номер 11","1945-05-05","не оплачен",1659,0.05,82.95]
[168915,"Партнер номер 3","1945-05-05","оплачен",1952,0.05,97.600000000000009]
[168919,"Партнер номер 1","1945-05-05","не оплачен",1020,0.05,51]
[168922,"Партнер номер 1","1945-05-05","не оплачен",995,0.05,49.75]
[168925,"Партнер номер 1","1945-05-05","не оплачен",1321,0.05,66.05]
[168928,"Партнер номер 1","1945-05-05","не оплачен",838,0.05,41.900000000000006]
[168931,"Партнер номер 1","1945-05-05","не оплачен",1617,0.05,80.850000000000009]
[168933,"Партнер номер 1","1945-05-05","не оплачен",9074,0.05,453.70000000000005]
[168938,"Партнер номер 1","1945-05-05","не оплачен",995,0.05,49.75]
[168941,"Партнер номер 1","1945-05-05","не оплачен",838,0.05,41.900000000000006]
[168945,"","1945-05-05","не оплачен",932,"",""]
[168950,"Партнер номер 1","1945-05-05","не оплачен",838,0.05,41.900000000000006]
[168953,"Партнер номер 1","1945-05-05","оплачен",1323,0.05,66.150000000000006]
[168958,"Партнер номер 1","1945-05-05","не оплачен",978,0.05,48.900000000000006]
[168962,"Партнер номер 1","1945-05-05","оплачен",2415,0.05,120.75]
[168965,"","1945-05-05","не оплачен",1553,"",""]
[168967,"Партнер номер 1","1945-05-05","не оплачен",875,0.05,43.75]
[168971,"Партнер номер 1","1945-05-05","не оплачен",952,0.05,47.6]
[168973,"Партнер номер 1","1945-05-05","не оплачен",1470,0.05,73.5]
[168978,"Партнер номер 6","1945-05-05","не оплачен",838,0.04,33.520000000000003]
[168983,"Партнер номер 1","1945-05-05","не оплачен",952,0.05,47.6]
[168988,"Партнер номер 1","1945-05-05","оплачен",2308,0.05,115.4]
[168990,"Партнер номер 1","1945-05-05","не оплачен",1028,0.05,51.400000000000006]
[168995,"Партнер номер 1","1945-05-05","не оплачен",995,0.05,49.75]
[169000,"Партнер номер 2","1945-05-05","не оплачен",2001,0.04,80.040000000000006]
[169004,"Партнер номер 1","1945-05-05","оплачен",994,0.05,49.7]
[169009,"Партнер номер 1","1945-05-05","не оплачен",897,0.05,44.85]
[169014,"","1945-05-05","оплачен",1444,"",""]
[169015,"Партнер номер 3","1945-05-05","оплачен",1952,0.05,97.600000000000009]
[169016,"Партнер номер 28","1945-05-05","не оплачен",8082,0.05,404.1]
[169022,"Партнер номер 5","1945-05-05","не оплачен",2059,0.03,61.769999999999996]
[169025,"","1945-05-05","оплачен",5074,"",""]
[169029,"Партнер номер 1","1945-05-05","не оплачен",2416,0.05,120.80000000000001]
[169031,"","1945-05-05","оплачен",4350,"",""]
[169035,"","1945-05-05","не оплачен",2824,"",""]
[169039,"","1945-05-05","не оплачен",2824,"",""]
[169042,"","1945-05-05","оплачен",1013,"",""]
[169044,"","1945-05-05","оплачен",2524,"",""]
[169049,"","1945-05-05","не оплачен",1520,"",""]
[169051,"Партнер номер 11","1945-05-05","не оплачен",2734,0.05,136.70000000000002]
[169055,"Партнер номер 7","1945-05-05","не оплачен",3769,0.05,188.45000000000002]
[169056,"Партнер номер 5","1945-05-05","оплачен",1957,0.03,58.71]
[169060,"Партнер номер 28","1945-05-05","не оплачен",2646,0.05,132.30000000000001]
[169063,"Партнер номер 1","1945-05-05","не оплачен",5409,0.05,270.45]
[169068,"Партнер номер 1","1945-05-05","не оплачен",1019,0.05,50.95]
[169070,"Партнер номер 1","1945-05-05","оплачен",1251,0.05,62.550000000000004]
[169074,"","1945-05-05","не оплачен",446,"",""]
[169076,"Партнер номер 1","1945-05-05","не оплачен",925,0.05,46.25]
[169081,"","1945-05-05","оплачен",2327,"",""]
[169082,"","1945-05-05","не оплачен",2047,"",""]
[169085,"Партнер номер 3","1945-05-05","оплачен",2063,0.05,103.15]
[169088,"Партнер номер 10","1945-05-05","оплачен",3239,0.04,129.56]
[169092,"","1945-05-05","оплачен",1429,"",""]
[169095,"Партнер номер 11","1945-05-05","оплачен",1661,0.05,83.050000000000011]
[169100,"Партнер номер 5","1945-05-05","оплачен",2037,0.03,61.11]
[169102,"Партнер номер 1","1945-05-05","оплачен",1552,0.05,77.600000000000009]
[169106,"","1945-05-05","оплачен",5814,"",""]
[169109,"","1945-05-05","оплачен",2818,"",""]
[169112,"","1945-05-05","оплачен",3606,"",""]
[169114,"","1945-05-05","оплачен",3404,"",""]
[169117,"Партнер номер 1","1945-05-05","не оплачен",394,0.05,19.700000000000003]
[169122,"","1945-05-05","не оплачен",2400,"",""]
[169124,"","1945-05-05","не оплачен",2454,"",""]
[169127,"","1945-05-05","оплачен",2434,"",""]
[169128,"Партнер номер 7","1945-05-05","оплачен",884,0.05,44.2]
[169132,"Партнер номер 7","1945-05-05","не оплачен",999,0.05,49.95]
[169135,"","1945-05-05","не оплачен",2259,"",""]
[169138,"Партнер номер 28","1945-05-05","оплачен",2189,0.05,109.45]
[169140,"Партнер номер 1","1945-05-05","оплачен",1008,0.05,50.400000000000006]
[169142,"Партнер номер 5","1945-05-05","оплачен",6404,0.03,192.12]
[169145,"Партнер номер 5","1945-05-05","оплачен",1179,0.03,35.369999999999997]
[169147,"","1945-05-05","не оплачен",3380,"",""]
[169153,"Партнер номер 1","1945-05-05","не оплачен",477,0.05,23.85]
[169156,"Партнер номер 5","1945-05-05","не оплачен",1658,0.03,49.739999999999995]
[169159,"Партнер номер 3","1945-05-05","оплачен",850,0.05,42.5]
[169161,"","1945-05-05","оплачен",2199,"",""]
[169163,"","1945-05-05","оплачен",3041,"",""]
[169166,"Партнер номер 1","1945-05-05","оплачен",1313,0.05,65.650000000000006]
[169170,"","1945-05-05","не оплачен",2002,"",""]
[169174,"","1945-05-05","оплачен",2105,"",""]
[169175,"Партнер номер 1","1945-05-05","оплачен",1128,0.05,56.400000000000006]
[169178,"Партнер номер 3","1945-05-05","не оплачен",498,0.05,24.900000000000002]
[169182,"Партнер номер 3","1945-05-05","оплачен",5989,0.05,299.45]
[169184,"Партнер номер 5","1945-05-05","оплачен",2325,0.03,69.75]
[169188,"","1945-05-05","оплачен",2955,"",""]
[169191,"Партнер номер 11","1945-05-05","не оплачен",2370,0.05,118.5]
[169193,"Партнер номер 21","1945-05-05","не оплачен",1457,0.05,72.850000000000009]
[169195,"","1945-05-05","оплачен",999,"",""]
[169196,"","1945-05-05","оплачен",1347,"",""]
[169198,"Партнер номер 1","1945-05-05","оплачен",2389,0.05,119.45]
[169201,"Партнер номер 1","1945-05-05","не оплачен",2981,0.05,149.05000000000001]
[169205,"","1945-05-05","оплачен",2058,"",""]
[169208,"Партнер номер 1","1945-05-05","не оплачен",1034,0.05,51.7]
[169211,"","1945-05-05","оплачен",3458,"",""]
[169213,"Партнер номер 29","1945-05-05","оплачен",2508,0.05,125.4]
[169218,"","1945-05-05","оплачен",2074,"",""]
[169222,"Партнер номер 1","1945-05-05","не оплачен",2033,0.05,101.65]
[169227,"Партнер номер 3","1945-05-05","не оплачен",1508,0.05,75.400000000000006]
[169231,"Партнер номер 1","1945-05-05","не оплачен",1944,0.05,97.2]
[169233,"","1945-05-05","оплачен",2879,"",""]
[169237,"Партнер номер 6","1945-05-05","не оплачен",1129,0.04,45.160000000000004]
[169242,"Партнер номер 1","1945-05-05","не оплачен",1267,0.05,63.35]
[169246,"Партнер номер 7","1945-05-05","оплачен",2358,0.05,117.9]
[169252,"Партнер номер 7","1945-05-05","оплачен",2890,0.05,144.5]
[169254,"Партнер номер 1","1945-05-05","не оплачен",498,0.05,24.900000000000002]
[169256,"","1945-05-05","оплачен",1623,"",""]
[169261,"Партнер номер 1","1945-05-05","оплачен",1164,0.05,58.2]
[169266,"Партнер номер 5","1945-05-05","оплачен",1606,0.03,48.18]
[169270,"Партнер номер 5","1945-05-05","оплачен",2108,0.03,63.239999999999995]
[169273,"Партнер номер 1","1945-05-05","не оплачен",498,0.05,24.900000000000002]
[169278,"Партнер номер 11","1945-05-05","не оплачен",821,0.05,41.050000000000004]
[169282,"Партнер номер 5","1945-05-05","оплачен",7314,0.03,219.42]
[169284,"Партнер номер 1","1945-05-05","не оплачен",1184,0.05,59.2]
[169288,"","1945-05-05","не оплачен",2372,"",""]
[169293,"Партнер номер 1","1945-05-05","не оплачен",2404,0.05,120.2]
[169295,"","1945-05-05","оплачен",4184,"",""]
[169298,"","1945-05-05","не оплачен",2195,"",""]
[169303,"","1945-05-05","не оплачен",2518,"",""]
[169305,"","1945-05-06","оплачен",5738,"",""]
[169310,"","1945-05-06","не оплачен",2926,"",""]
[169315,"Партнер номер 1","1945-05-06","оплачен",623,0.05,31.150000000000002]
[169318,"Партнер номер 5","1945-05-06","не оплачен",4262,0.03,127.86]
[169323,"Партнер номер 5","1945-05-06","не оплачен",1893,0.03,56.79]
[169328,"Партнер номер 3","1945-05-06","оплачен",3405,0.05,170.25]
[169330,"Партнер номер 1","1945-05-06","не оплачен",446,0.05,22.3]
[169334,"Партнер номер 1","1945-05-06","оплачен",446,0.05,22.3]
[169339,"","1945-05-06","оплачен",2616,"",""]
[169344,"Партнер номер 5","1945-05-06","не оплачен",781,0.03,23.43]
[169346,"Партнер номер 5","1945-05-06","не оплачен",3435,0.03,103.05]
[169351,"Партнер номер 1","1945-05-06","оплачен",3423,0.05,171.15]
[169356,"","1945-05-06","оплачен",1951,"",""]
[169360,"Партнер номер 6","1945-05-06","оплачен",1095,0.04,43.800000000000004]
[169362,"Партнер номер 21","1945-05-06","оплачен",2529,0.05,126.45]
[169367,"","1945-05-06","оплачен",1765,"",""]
[169373,"Партнер номер 1","1945-05-06","не оплачен",2923,0.05,146.15]
[169376,"","1945-05-06","оплачен",4541,"",""]
[169378,"","1945-05-06","не оплачен",3797,"",""]
[169381,"Партнер номер 1","1945-05-06","не оплачен",446,0.05,22.3]
[169382,"Партнер номер 1","1945-05-06","не оплачен",654,0.05,32.700000000000003]
[169384,"Партнер номер 1","1945-05-06","оплачен",4873,0.05,243.65]
[169386,"","1945-05-06","оплачен",3752,"",""]
[169390,"","1945-05-06","оплачен",2349,"",""]
[169392,"Партнер номер 7","1945-05-06","не оплачен",2044,0.05,102.2]
[169395,"","1945-05-06","оплачен",2206,"",""]
[169400,"Партнер номер 2","1945-05-06","не оплачен",2196,0.04,87.84]
[169405,"","1945-05-06","не оплачен",4724,"",""]
[169411,"Партнер номер 11","1945-05-06","не оплачен",1032,0.05,51.6]
[169415,"","1945-05-06","оплачен",1155,"",""]
[169419,"Партнер номер 1","1945-05-06","не оплачен",4062,0.05,203.10000000000002]
[169421,"Партнер номер 11","1945-05-06","оплачен",1606,0.05,80.300000000000011]
[169424,"","1945-05-06","не оплачен",1641,"",""]
[169428,"Партнер номер 7","1945-05-06","оплачен",2550,0.05,127.5]
[169431,"","1945-05-06","не оплачен",2664,"",""]
[169436,"Партнер номер 1","1945-05-06","оплачен",3454,0.05,172.70000000000002]
[169441,"Партнер номер 1","1945-05-06","оплачен",498,0.05,24.900000000000002]
[169444,"","1945-05-06","оплачен",10941,"",""]
[169446,"Партнер номер 11","1945-05-06","не оплачен",1146,0.05,57.300000000000004]
[169450,"Партнер номер 1","1945-05-06","оплачен",681,0.05,34.050000000000004]
[169456,"Партнер номер 1","1945-05-06","оплачен",2292,0.05,114.60000000000001]
[169459,"","1945-05-06","не оплачен",3877,"",""]
[169463,"Партнер номер 30","1945-05-06","оплачен",5892,0.05,294.60000000000002]
[169467,"Партнер номер 1","1945-05-06","оплачен",738,0.05,36.9]
[169470,"Партнер номер 11","1945-05-06","не оплачен",1063,0.05,53.150000000000006]
[169473,"","1945-05-06","оплачен",931,"",""]
[169478,"Партнер номер 1","1945-05-06","не оплачен",1129,0.05,56.45]
[169484,"Партнер номер 1","1945-05-06","оплачен",4062,0.05,203.10000000000002]
[169486,"Партнер номер 1","1945-05-06","оплачен",1358,0.05,67.900000000000006]
[169490,"Партнер номер 1","1945-05-06","оплачен",2450,0.05,122.5]
[169495,"Партнер номер 1","1945-05-06","оплачен",1835,0.05,91.75]
[169497,"Партнер номер 1","1945-05-06","не оплачен",477,0.05,23.85]
[169499,"Партнер номер 1","1945-05-06","оплачен",1230,0.05,61.5]
[169503,"","1945-05-06","не оплачен",2048,"",""]
[169507,"Партнер номер 1","1945-05-06","не оплачен",905,0.05,45.25]
[169512,"Партнер номер 1","1945-05-06","не оплачен",2113,0.05,105.65]
[169517,"","1945-05-06","оплачен",1465,"",""]
[169521,"","1945-05-06","оплачен",1734,"",""]
[169523,"Партнер номер 1","1945-05-06","оплачен",1340,0.05,67]
[169527,"","1945-05-06","оплачен",3877,"",""]
[169530,"","1945-05-06","оплачен",1394,"",""]
[169535,"Партнер номер 2","1945-05-06","не оплачен",1329,0.04,53.160000000000004]
[169537,"","1945-05-06","оплачен",2116,"",""]
[169539,"","1945-05-06","не оплачен",808,"",""]
[169543,"Партнер номер 11","1945-05-06","не оплачен",1016,0.05,50.800000000000004]
[169547,"Партнер номер 5","1945-05-06","оплачен",4110,0.03,123.3]
[169550,"","1945-05-06","не оплачен",7000,"",""]
[169555,"","1945-05-06","не оплачен",1896,"",""]
[169559,"Партнер номер 11","1945-05-06","не оплачен",2258,0.05,112.9]
[169562,"","1945-05-06","оплачен",808,"",""]
[169566,"","1945-05-06","оплачен",2381,"",""]
[169572,"Партнер номер 5","1945-05-06","оплачен",5760,0.03,172.79999999999998]
[169576,"Партнер номер 1","1945-05-06","не оплачен",604,0.05,30.200000000000003]
[169580,"Партнер номер 1","1945-05-06","не оплачен",3213,0.05,160.65]
[169582,"Партнер номер 31","1945-05-06","оплачен",2352,0.03,70.56]
[169587,"","1945-05-06","оплачен",1761,"",""]
[169590,"Партнер номер 13","1945-05-06","не оплачен",1841,0.05,92.050000000000011]
[169594,"","1945-05-06","не оплачен",4941,"",""]
[169596,"","1945-05-06","не оплачен",4941,"",""]
[169599,"Партнер номер 11","1945-05-06","оплачен",1755,0.05,87.75]
[169601,"","1945-05-06","оплачен",1173,"",""]
[169603,"Партнер номер 7","1945-05-06","оплачен",1393,0.05,69.650000000000006]
[169605,"Партнер номер 2","1945-05-06","не оплачен",5469,0.04,218.76]
[169609,"Партнер номер 7","1945-05-06","оплачен",5397,0.05,269.85000000000002]
[169614,"","1945-05-06","оплачен",1768,"",""]
[169618,"Партнер номер 1","1945-05-06","не оплачен",3215,0.05,160.75]
[169624,"","1945-05-06","оплачен",1128,"",""]
[169626,"Партнер номер 3","1945-05-06","оплачен",820,0.05,41]
[169631,"Партнер номер 2","1945-05-06","оплачен",4448,0.04,177.92000000000002]
[169634,"","1945-05-06","оплачен",1709,"",""]
[169637,"Партнер номер 3","1945-05-06","оплачен",785,0.05,39.25]
[169639,"","1945-05-06","оплачен",2201,"",""]
[169642,"","1945-05-06","оплачен",2479,"",""]
[169648,"Партнер номер 1","1945-05-06","не оплачен",559,0.05,27.950000000000003]
[169651,"","1945-05-06","оплачен",1066,"",""]
[169654,"Партнер номер 1","1945-05-06","оплачен",4364,0.05,218.20000000000002]
[169656,"","1945-05-06","оплачен",1359,"",""]
[169658,"Партнер номер 1","1945-05-06","оплачен",2501,0.05,125.05000000000001]
[169661,"","1945-05-06","оплачен",2010,"",""]
[169663,"Партнер номер 1","1945-05-06","не оплачен",1770,0.05,88.5]
[169667,"Партнер номер 1","1945-05-06","оплачен",590,0.05,29.5]
[169670,"Партнер номер 1","1945-05-06","не оплачен",769,0.05,38.450000000000003]
[169675,"Партнер номер 1","1945-05-06","не оплачен",341,0.05,17.05]
[169677,"","1945-05-06","не оплачен",2512,"",""]
[169682,"","1945-05-06","не оплачен",2438,"",""]
[169685,"Партнер номер 11","1945-05-06","не оплачен",1593,0.05,79.650000000000006]
[169690,"","1945-05-06","не оплачен",1750,"",""]
[169695,"","1945-05-06","оплачен",2763,"",""]
[169699,"","1945-05-06","не оплачен",1847,"",""]
[169704,"","1945-05-06","оплачен",4833,"",""]
[169706,"","1945-05-06","оплачен",2585,"",""]
[169709,"Партнер номер 1","1945-05-06","не оплачен",2816,0.05,140.80000000000001]
[169712,"","1945-05-06","не оплачен",2015,"",""]
[169716,"","1945-05-06","не оплачен",1242,"",""]
[169718,"Партнер номер 7","1945-05-06","оплачен",2583,0.05,129.15]
[169720,"Партнер номер 5","1945-05-06","оплачен",5822,0.03,174.66]
[169722,"Партнер номер 11","1945-05-06","не оплачен",1697,0.05,84.850000000000009]
[169727,"","1945-05-06","оплачен",1255,"",""]
[169732,"","1945-05-06","не оплачен",2883,"",""]
[169737,"Партнер номер 2","1945-05-06","оплачен",2681,0.04,107.24000000000001]
[169738,"Партнер номер 11","1945-05-06","оплачен",1809,0.05,90.45]
[169743,"","1945-05-06","оплачен",1741,"",""]
[169745,"Партнер номер 1","1945-05-06","не оплачен",2046,0.05,102.30000000000001]
[169747,"","1945-05-06","оплачен",2782,"",""]
[169751,"","1945-05-06","оплачен",1910,"",""]
[169753,"Партнер номер 7","1945-05-06","не оплачен",2929,0.05,146.45000000000002]
[169755,"Партнер номер 1","1945-05-06","оплачен",1306,0.05,65.3]
[169758,"Партнер номер 11","1945-05-06","не оплачен",2217,0.05,110.85000000000001]
[169763,"","1945-05-06","оплачен",4618,"",""]
[169768,"Партнер номер 3","1945-05-06","не оплачен",446,0.05,22.3]
[169770,"","1945-05-06","не оплачен",1849,"",""]
[169773,"","1945-05-07","оплачен",3995,"",""]
[169775,"","1945-05-07","оплачен",4370,"",""]
[169778,"Партнер номер 1","1945-05-07","оплачен",772,0.05,38.6]
[169783,"","1945-05-07","оплачен",3714,"",""]
[169787,"Партнер номер 1","1945-05-07","не оплачен",1119,0.05,55.95]
[169791,"Партнер номер 32","1945-05-07","не оплачен",2749,0.05,137.45000000000002]
[169794,"Партнер номер 3","1945-05-07","оплачен",8080,0.05,404]
[169798,"","1945-05-07","оплачен",1328,"",""]
[169801,"Партнер номер 1","1945-05-07","оплачен",2187,0.05,109.35000000000001]
[169806,"Партнер номер 32","1945-05-07","оплачен",2818,0.05,140.9]
[169810,"","1945-05-07","оплачен",1329,"",""]
[169814,"","1945-05-07","не оплачен",1022,"",""]
[169816,"Партнер номер 10","1945-05-07","оплачен",2009,0.04,80.36]
[169821,"Партнер номер 17","1945-05-07","оплачен",4924,0.04,196.96]
[169824,"Партнер номер 1","1945-05-07","не оплачен",731,0.05,36.550000000000004]
[169829,"Партнер номер 11","1945-05-07","оплачен",371,0.05,18.55]
[169834,"Партнер номер 11","1945-05-07","оплачен",1649,0.05,82.45]
[169838,"Партнер номер 3","1945-05-07","не оплачен",2993,0.05,149.65]
[169844,"","1945-05-07","не оплачен",3924,"",""]
[169847,"Партнер номер 1","1945-05-07","не оплачен",2782,0.05,139.1]
[169850,"Партнер номер 1","1945-05-07","не оплачен",638,0.05,31.900000000000002]
[169852,"Партнер номер 11","1945-05-07","оплачен",1349,0.05,67.45]
[169856,"Партнер номер 6","1945-05-07","не оплачен",695,0.04,27.8]
[169860,"Партнер номер 5","1945-05-07","оплачен",8836,0.03,265.08]
[169862,"","1945-05-07","не оплачен",3152,"",""]
[169865,"","1945-05-07","оплачен",3521,"",""]
[169869,"","1945-05-07","оплачен",1255,"",""]
[169871,"","1945-05-07","не оплачен",2296,"",""]
[169877,"Партнер номер 1","1945-05-07","не оплачен",2113,0.05,105.65]
[169880,"","1945-05-07","не оплачен",1361,"",""]
[169883,"","1945-05-07","оплачен",1975,"",""]
[169885,"","1945-05-07","оплачен",2257,"",""]
[169889,"","1945-05-07","не оплачен",1335,"",""]
[169892,"Партнер номер 3","1945-05-07","не оплачен",4838,0.05,241.9]
[169897,"","1945-05-07","оплачен",1900,"",""]
[169900,"","1945-05-07","оплачен",1432,"",""]
[169904,"","1945-05-07","оплачен",1890,"",""]
[169908,"","1945-05-07","оплачен",2740,"",""]
[169912,"Партнер номер 1","1945-05-07","не оплачен",2335,0.05,116.75]
[169914,"Партнер номер 3","1945-05-07","оплачен",975,0.05,48.75]
[169918,"","1945-05-07","оплачен",1402,"",""]
[169920,"","1945-05-07","не оплачен",2379,"",""]
[169926,"Партнер номер 1","1945-05-07","не оплачен",1469,0.05,73.45]
[169928,"Партнер номер 1","1945-05-07","не оплачен",1887,0.05,94.350000000000009]
[169931,"Партнер номер 1","1945-05-07","не оплачен",1887,0.05,94.350000000000009]
[169932,"Партнер номер 1","1945-05-07","оплачен",643,0.05,32.15]
[169935,"Партнер номер 3","1945-05-07","не оплачен",777,0.05,38.85]
[169940,"","1945-05-07","оплачен",8601,"",""]
[169942,"","1945-05-07","оплачен",1799,"",""]
[169947,"Партнер номер 5","1945-05-07","не оплачен",2056,0.03,61.68]
[169948,"","1945-05-07","оплачен",1913,"",""]
[169953,"","1945-05-07","не оплачен",1188,"",""]
[169957,"Партнер номер 1","1945-05-07","оплачен",2192,0.05,109.60000000000001]
[169959,"Партнер номер 28","1945-05-07","оплачен",4521,0.05,226.05]
[169960,"Партнер номер 1","1945-05-07","не оплачен",1118,0.05,55.900000000000006]
[169964,"Партнер номер 3","1945-05-07","оплачен",1170,0.05,58.5]
[169967,"Партнер номер 1","1945-05-07","оплачен",651,0.05,32.550000000000004]
[169970,"","1945-05-07","оплачен",2258,"",""]
[169972,"","1945-05-07","оплачен",2293,"",""]
[169976,"Партнер номер 5","1945-05-07","не оплачен",1321,0.03,39.629999999999995]
[169978,"Партнер номер 1","1945-05-07","оплачен",2448,0.05,122.4]
[169980,"","1945-05-07","не оплачен",1993,"",""]
[169985,"Партнер номер 3","1945-05-07","оплачен",1038,0.05,51.900000000000006]
[169988,"","1945-05-07","оплачен",1733,"",""]
[169992,"","1945-05-07","не оплачен",2378,"",""]
[169998,"Партнер номер 33","1945-05-07","оплачен",795,0.05,39.75]
[170000,"","1945-05-07","оплачен",2131,"",""]
[170002,"Партнер номер 21","1945-05-07","оплачен",827,0.05,41.35]
[170005,"Партнер номер 23","1945-05-07","не оплачен",2427,0.05,121.35000000000001]
[170007,"Партнер номер 1","1945-05-07","не оплачен",681,0.05,34.050000000000004]
[170010,"","1945-05-07","оплачен",1402,"",""]
[170015,"","1945-05-07","оплачен",2887,"",""]
[170020,"","1945-05-07","оплачен",2111,"",""]
[170024,"","1945-05-07","оплачен",1787,"",""]
[170026,"Партнер номер 1","1945-05-07","не оплачен",3227,0.05,161.35000000000002]
[170032,"","1945-05-07","не оплачен",847,"",""]
[170035,"","1945-05-07","не оплачен",1044,"",""]
[170038,"","1945-05-07","оплачен",1542,"",""]
[170041,"Партнер номер 2","1945-05-07","оплачен",2713,0.04,108.52]
[170045,"Партнер номер 1","1945-05-07","не оплачен",1582,0.05,79.100000000000009]
[170049,"Партнер номер 1","1945-05-07","не оплачен",5409,0.05,270.45]
[170051,"Партнер номер 11","1945-05-07","не оплачен",788,0.05,39.400000000000006]
[170056,"","1945-05-07","оплачен",2968,"",""]
[170057,"","1945-05-07","оплачен",1379,"",""]
[170061,"","1945-05-07","не оплачен",788,"",""]
[170064,"","1945-05-07","оплачен",1177,"",""]
[170065,"","1945-05-07","оплачен",1995,"",""]
[170069,"Партнер номер 1","1945-05-07","не оплачен",1099,0.05,54.95]
[170073,"","1945-05-07","оплачен",836,"",""]
[170078,"","1945-05-07","оплачен",4349,"",""]
[170084,"Партнер номер 3","1945-05-07","не оплачен",1838,0.05,91.9]
[170086,"","1945-05-07","оплачен",1953,"",""]
[170091,"Партнер номер 1","1945-05-07","не оплачен",834,0.05,41.7]
[170095,"","1945-05-07","не оплачен",3916,"",""]
[170099,"Партнер номер 28","1945-05-07","оплачен",2042,0.05,102.10000000000001]
[170103,"","1945-05-07","не оплачен",2475,"",""]
[170108,"Партнер номер 1","1945-05-07","оплачен",1553,0.05,77.650000000000006]
[170113,"Партнер номер 1","1945-05-07","не оплачен",4421,0.05,221.05]
[170115,"Партнер номер 1","1945-05-07","оплачен",1398,0.05,69.900000000000006]
[170119,"","1945-05-07","оплачен",1786,"",""]
[170121,"","1945-05-07","оплачен",1332,"",""]
[170125,"","1945-05-07","оплачен",1894,"",""]
[170128,"","1945-05-07","оплачен",1845,"",""]
[170130,"Партнер номер 7","1945-05-07","оплачен",1017,0.05,50.85]
[170132,"","1945-05-07","оплачен",1804,"",""]
[170136,"Партнер номер 1","1945-05-07","не оплачен",3685,0.05,184.25]
[170138,"","1945-05-07","не оплачен",637,"",""]
[170143,"","1945-05-07","оплачен",988,"",""]
[170149,"Партнер номер 1","1945-05-07","не оплачен",819,0.05,40.950000000000003]
[170152,"","1945-05-07","оплачен",1228,"",""]
[170156,"Партнер номер 1","1945-05-07","не оплачен",3034,0.05,151.70000000000002]
[170160,"Партнер номер 1","1945-05-07","оплачен",651,0.05,32.550000000000004]
[170165,"Партнер номер 7","1945-05-07","оплачен",697,0.05,34.85]
[170169,"","1945-05-07","оплачен",3384,"",""]
[170173,"","1945-05-07","оплачен",890,"",""]
[170174,"Партнер номер 1","1945-05-07","не оплачен",1513,0.05,75.650000000000006]
[170178,"Партнер номер 1","1945-05-07","не оплачен",1698,0.05,84.9]
[170180,"","1945-05-07","оплачен",1572,"",""]
[170184,"Партнер номер 1","1945-05-07","не оплачен",2959,0.05,147.95000000000002]
[170189,"Партнер номер 17","1945-05-07","оплачен",3824,0.04,152.96]
[170190,"Партнер номер 1","1945-05-07","не оплачен",1014,0.05,50.7]
[170195,"Партнер номер 17","1945-05-07","оплачен",2293,0.04,91.72]
[170197,"Партнер номер 11","1945-05-07","оплачен",1409,0.05,70.45]
[170202,"Партнер номер 17","1945-05-07","оплачен",2856,0.04,114.24000000000001]
[170207,"Партнер номер 1","1945-05-07","не оплачен",881,0.05,44.050000000000004]
[170212,"Партнер номер 2","1945-05-07","не оплачен",1514,0.04,60.56]
[170213,"","1945-05-07","оплачен",3032,"",""]
[170217,"","1945-05-07","оплачен",9878,"",""]
[170220,"Партнер номер 1","1945-05-07","не оплачен",1781,0.05,89.050000000000011]
[170223,"","1945-05-07","не оплачен",2942,"",""]
[170227,"Партнер номер 5","1945-05-07","не оплачен",10504,0.03,315.12]
[170229,"","1945-05-07","не оплачен",4545,"",""]
[170233,"","1945-05-07","оплачен",1278,"",""]
[170237,"Партнер номер 1","1945-05-07","оплачен",1918,0.05,95.9]
[170242,"Партнер номер 3","1945-05-07","не оплачен",1697,0.05,84.850000000000009]
[170247,"","1945-05-07","оплачен",1434,"",""]
[170249,"Партнер номер 3","1945-05-07","не оплачен",1697,0.05,84.850000000000009]
[170252,"","1945-05-07","не оплачен",2236,"",""]
[170258,"","1945-05-07","не оплачен",587,"",""]
[170261,"Партнер номер 3","1945-05-07","оплачен",1865,0.05,93.25]
[170265,"","1945-05-07","оплачен",1521,"",""]
[170267,"","1945-05-07","не оплачен",812,"",""]
[170269,"Партнер номер 3","1945-05-07","не оплачен",4131,0.05,206.55]
[170270,"Партнер номер 1","1945-05-07","оплачен",623,0.05,31.150000000000002]
[170273,"Партнер номер 11","1945-05-07","не оплачен",3526,0.05,176.3]
[170279,"Партнер номер 1","1945-05-07","не оплачен",2318,0.05,115.9]
[170284,"","1945-05-07","оплачен",3999,"",""]
[170289,"","1945-05-07","оплачен",4059,"",""]
[170291,"Партнер номер 1","1945-05-07","не оплачен",2732,0.05,136.6]
[170296,"","1945-05-07","оплачен",4063,"",""]
[170297,"","1945-05-07","не оплачен",2942,"",""]
[170300,"Партнер номер 1","1945-05-07","не оплачен",2449,0.05,122.45]
[170303,"Партнер номер 5","1945-05-07","не оплачен",1189,0.03,35.67]
[170306,"","1945-05-07","оплачен",1565,"",""]
[170308,"","1945-05-07","не оплачен",4796,"",""]
[170312,"","1945-05-07","оплачен",1576,"",""]
[170316,"Партнер номер 7","1945-05-07","оплачен",942,0.05,47.1]
[170318,"Партнер номер 1","1945-05-07","оплачен",2036,0.05,101.80000000000001]
[170321,"","1945-05-07","оплачен",2395,"",""]
[170325,"","1945-05-07","оплачен",4796,"",""]
[170330,"","1945-05-07","оплачен",2033,"",""]
[170335,"","1945-05-07","не оплачен",4134,"",""]
[170338,"Партнер номер 1","1945-05-07","не оплачен",1342,0.05,67.100000000000009]
[170340,"Партнер номер 11","1945-05-07","оплачен",1840,0.05,92]
[170344,"Партнер номер 3","1945-05-07","оплачен",3026,0.05,151.30000000000001]
[170348,"","1945-05-07","не оплачен",1843,"",""]
[170353,"Партнер номер 5","1945-05-07","оплачен",1301,0.03,39.03]
[170358,"Партнер номер 17","1945-05-07","оплачен",5800,0.04,232]
[170364,"Партнер номер 2","1945-05-07","не оплачен",1927,0.04,77.08]
[170366,"Партнер номер 1","1945-05-07","не оплачен",2661,0.05,133.05000000000001]
[170371,"Партнер номер 7","1945-05-07","оплачен",1158,0.05,57.900000000000006]
[170372,"","1945-05-07","оплачен",4134,"",""]
[170378,"","1945-05-07","не оплачен",2408,"",""]
[170382,"","1945-05-07","оплачен",1105,"",""]
[170386,"","1945-05-07","оплачен",2366,"",""]
[170389,"Партнер номер 17","1945-05-07","оплачен",2098,0.04,83.92]
[170394,"Партнер номер 6","1945-05-07","оплачен",1146,0.04,45.84]
[170399,"","1945-05-07","оплачен",1892,"",""]
[170404,"","1945-05-07","оплачен",3513,"",""]
[170407,"Партнер номер 1","1945-05-07","оплачен",2400,0.05,120]
[170412,"Партнер номер 7","1945-05-07","оплачен",4086,0.05,204.3]
[170415,"Партнер номер 11","1945-05-07","не оплачен",1364,0.05,68.2]
[170420,"","1945-05-07","оплачен",1162,"",""]
[170425,"","1945-05-07","оплачен",1691,"",""]
[170428,"","1945-05-07","оплачен",1469,"",""]
[170431,"Партнер номер 11","1945-05-07","не оплачен",2017,0.05,100.85000000000001]
[170435,"Партнер номер 3","1945-05-07","оплачен",1269,0.05,63.45]
[170439,"","1945-05-07","оплачен",2560,"",""]
[170441,"Партнер номер 1","1945-05-07","не оплачен",1545,0.05,77.25]
[170444,"Партнер номер 7","1945-05-07","оплачен",4999,0.05,249.95000000000002]
[170448,"Партнер номер 1","1945-05-07","не оплачен",996,0.05,49.800000000000004]
[170451,"Партнер номер 1","1945-05-07","не оплачен",2898,0.05,144.9]
[170454,"Партнер номер 6","1945-05-07","оплачен",2249,0.04,89.960000000000008]
[170459,"","1945-05-07","оплачен",3158,"",""]
[170462,"Партнер номер 7","1945-05-07","оплачен",1185,0.05,59.25]
[170466,"Партнер номер 11","1945-05-07","оплачен",1870,0.05,93.5]
[170469,"Партнер номер 9","1945-05-07","оплачен",4944,0.05,247.20000000000002]
[170473,"","1945-05-07","не оплачен",1054,"",""]
[170476,"Партнер номер 6","1945-05-07","оплачен",2249,0.04,89.960000000000008]
[170479,"Партнер номер 7","1945-05-07","оплачен",2293,0.05,114.65]
[170485,"Партнер номер 1","1945-05-07","оплачен",2058,0.05,102.9]
[170489,"","1945-05-07","оплачен",2989,"",""]
[170493,"","1945-05-07","оплачен",2367,"",""]
[170496,"","1945-05-07","оплачен",1477,"",""]
[170501,"","1945-05-07","оплачен",2952,"",""]
[170504,"Партнер номер 1","1945-05-07","не оплачен",1742,0.05,87.100000000000009]
[170507,"Партнер номер 34","1945-05-07","оплачен",4511,0.05,225.55]
[170511,"Партнер номер 10","1945-05-07","оплачен",1169,0.04,46.76]
[170515,"","1945-05-07","не оплачен",2495,"",""]
[170516,"","1945-05-07","оплачен",2896,"",""]
[170519,"Партнер номер 28","1945-05-07","оплачен",2095,0.05,104.75]
[170522,"","1945-05-07","не оплачен",4149,"",""]
[170527,"","1945-05-07","оплачен",1801,"",""]
[170529,"","1945-05-07","не оплачен",2580,"",""]
[170532,"","1945-05-08","оплачен",4154,"",""]
[170537,"Партнер номер 1","1945-05-08","оплачен",2924,0.05,146.20000000000002]
[170540,"Партнер номер 3","1945-05-08","оплачен",2399,0.05,119.95]
[170542,"","1945-05-08","оплачен",1196,"",""]
[170544,"Партнер номер 3","1945-05-08","оплачен",1089,0.05,54.45]
[170546,"","1945-05-08","не оплачен",610,"",""]
[170551,"Партнер номер 6","1945-05-08","оплачен",4486,0.04,179.44]
[170553,"","1945-05-08","оплачен",917,"",""]
[170558,"","1945-05-08","оплачен",3039,"",""]
[170561,"","1945-05-08","оплачен",5962,"",""]
[170562,"","1945-05-08","оплачен",7184,"",""]
[170565,"Партнер номер 1","1945-05-08","не оплачен",651,0.05,32.550000000000004]
[170566,"Партнер номер 1","1945-05-08","не оплачен",2236,0.05,111.80000000000001]
[170570,"Партнер номер 5","1945-05-08","оплачен",4979,0.03,149.37]
[170571,"","1945-05-08","не оплачен",1801,"",""]
[170574,"","1945-05-08","не оплачен",945,"",""]
[170580,"","1945-05-08","оплачен",826,"",""]
[170585,"","1945-05-08","не оплачен",2715,"",""]
[170591,"","1945-05-08","не оплачен",1150,"",""]
[170594,"Партнер номер 11","1945-05-08","не оплачен",1385,0.05,69.25]
[170599,"","1945-05-08","оплачен",2450,"",""]
[170601,"","1945-05-08","оплачен",2700,"",""]
[170605,"Партнер номер 1","1945-05-08","не оплачен",2075,0.05,103.75]
[170610,"","1945-05-08","не оплачен",2322,"",""]
[170612,"","1945-05-08","оплачен",1328,"",""]
[170615,"","1945-05-08","оплачен",1908,"",""]
[170618,"Партнер номер 1","1945-05-08","оплачен",1541,0.05,77.050000000000011]
[170620,"","1945-05-08","оплачен",3108,"",""]
[170628,"","1945-05-08","не оплачен",1839,"",""]
[170632,"","1945-05-08","оплачен",2184,"",""]
[170638,"","1945-05-08","оплачен",2231,"",""]
[170642,"","1945-05-08","оплачен",2136,"",""]
[170654,"Партнер номер 1","1945-05-08","оплачен",4371,0.05,218.55]
[170657,"","1945-05-08","оплачен",2421,"",""]
[170663,"Партнер номер 11","1945-05-08","не оплачен",1342,0.05,67.100000000000009]
[170665,"Партнер номер 10","1945-05-08","оплачен",2480,0.04,99.2]
[170668,"Партнер номер 11","1945-05-08","не оплачен",622,0.05,31.1]
[170673,"Партнер номер 1","1945-05-08","оплачен",6403,0.05,320.15000000000003]
[170677,"Партнер номер 5","1945-05-08","оплачен",1494,0.03,44.82]
[170682,"","1945-05-08","не оплачен",2297,"",""]
[170684,"","1945-05-08","не оплачен",4589,"",""]
[170685,"Партнер номер 5","1945-05-08","оплачен",3060,0.03,91.8]
[170688,"","1945-05-08","оплачен",3062,"",""]
[170693,"","1945-05-08","не оплачен",2813,"",""]
[170696,"Партнер номер 4","1945-05-08","не оплачен",1537,0.04,61.480000000000004]
[170700,"Партнер номер 10","1945-05-08","оплачен",2813,0.04,112.52]
[170702,"Партнер номер 11","1945-05-08","не оплачен",622,0.05,31.1]
[170707,"Партнер номер 1","1945-05-08","оплачен",778,0.05,38.900000000000006]
[170711,"Партнер номер 11","1945-05-08","не оплачен",886,0.05,44.300000000000004]
[170713,"Партнер номер 7","1945-05-08","оплачен",693,0.05,34.65]
[170717,"","1945-05-08","оплачен",2186,"",""]
[170719,"","1945-05-08","оплачен",588,"",""]
[170724,"","1945-05-08","оплачен",1536,"",""]
[170727,"","1945-05-08","оплачен",2559,"",""]
[170729,"","1945-05-08","не оплачен",2962,"",""]
[170734,"","1945-05-08","оплачен",1854,"",""]
[170737,"","1945-05-08","оплачен",3310,"",""]
[170741,"Партнер номер 1","1945-05-08","не оплачен",651,0.05,32.550000000000004]
[170745,"Партнер номер 5","1945-05-08","не оплачен",1944,0.03,58.32]
[170748,"Партнер номер 1","1945-05-08","не оплачен",1283,0.05,64.150000000000006]
[170751,"","1945-05-08","оплачен",1237,"",""]
[170758,"Партнер номер 1","1945-05-08","оплачен",2697,0.05,134.85]
[170760,"Партнер номер 1","1945-05-08","оплачен",3129,0.05,156.45000000000002]
[170774,"","1945-05-08","не оплачен",3688,"",""]
[170779,"Партнер номер 1","1945-05-08","не оплачен",613,0.05,30.650000000000002]
[170781,"Партнер номер 5","1945-05-08","не оплачен",2805,0.03,84.149999999999991]
[170785,"","1945-05-08","оплачен",2341,"",""]
[170788,"","1945-05-08","оплачен",2745,"",""]
[170792,"Партнер номер 11","1945-05-08","оплачен",1331,0.05,66.55]
[170794,"","1945-05-08","оплачен",3116,"",""]
[170799,"","1945-05-08","не оплачен",2605,"",""]
[170803,"","1945-05-08","оплачен",1877,"",""]
[170806,"","1945-05-08","не оплачен",2641,"",""]
[170809,"","1945-05-08","оплачен",2356,"",""]
[170811,"Партнер номер 1","1945-05-08","оплачен",1368,0.05,68.400000000000006]
[170814,"Партнер номер 7","1945-05-08","оплачен",3016,0.05,150.80000000000001]
[170818,"Партнер номер 1","1945-05-08","оплачен",1776,0.05,88.800000000000011]
[170823,"Партнер номер 4","1945-05-08","не оплачен",2689,0.04,107.56]
[170827,"Партнер номер 1","1945-05-08","не оплачен",1518,0.05,75.900000000000006]
[170836,"Партнер номер 1","1945-05-08","не оплачен",670,0.05,33.5]
[170838,"","1945-05-08","оплачен",1782,"",""]
[170844,"Партнер номер 1","1945-05-08","оплачен",2295,0.05,114.75]
[170846,"Партнер номер 1","1945-05-08","не оплачен",1310,0.05,65.5]
[170849,"","1945-05-08","оплачен",891,"",""]
[170853,"Партнер номер 35","1945-05-08","оплачен",3724,0.04,148.96]
[170859,"","1945-05-08","не оплачен",3399,"",""]
[170864,"","1945-05-08","оплачен",4679,"",""]
[170866,"","1945-05-08","оплачен",1695,"",""]
[170874,"","1945-05-08","оплачен",1585,"",""]
[170879,"Партнер номер 3","1945-05-08","не оплачен",1115,0.05,55.75]
[170883,"Партнер номер 1","1945-05-08","оплачен",2156,0.05,107.80000000000001]
[170889,"Партнер номер 5","1945-05-08","оплачен",8720,0.03,261.59999999999997]
[170893,"Партнер номер 5","1945-05-08","не оплачен",5191,0.03,155.72999999999999]
[170894,"Партнер номер 1","1945-05-08","не оплачен",391,0.05,19.55]
[170899,"Партнер номер 3","1945-05-08","оплачен",1239,0.05,61.95]
[170901,"","1945-05-08","не оплачен",730,"",""]
[170903,"","1945-05-08","оплачен",1753,"",""]
[170908,"","1945-05-08","оплачен",6137,"",""]
[170914,"","1945-05-08","не оплачен",10935,"",""]
[170916,"","1945-05-08","не оплачен",1808,"",""]
[170921,"Партнер номер 28","1945-05-08","оплачен",2550,0.05,127.5]
[170925,"Партнер номер 11","1945-05-08","оплачен",1061,0.05,53.050000000000004]
[170930,"Партнер номер 5","1945-05-08","не оплачен",2268,0.03,68.039999999999992]
[170935,"","1945-05-08","оплачен",2468,"",""]
[170939,"","1945-05-08","оплачен",3824,"",""]
[170942,"","1945-05-08","не оплачен",1675,"",""]
[170946,"","1945-05-08","оплачен",2976,"",""]
[170948,"","1945-05-08","оплачен",1020,"",""]
[170953,"","1945-05-08","оплачен",1756,"",""]
[170955,"Партнер номер 1","1945-05-08","не оплачен",666,0.05,33.300000000000004]
[170958,"","1945-05-08","оплачен",2235,"",""]
[170960,"","1945-05-08","не оплачен",2611,"",""]
[170962,"","1945-05-08","оплачен",1051,"",""]
[170967,"Партнер номер 1","1945-05-08","не оплачен",2452,0.05,122.60000000000001]
[170969,"","1945-05-08","не оплачен",2820,"",""]
[170975,"Партнер номер 1","1945-05-08","не оплачен",1549,0.05,77.45]
[170977,"Партнер номер 30","1945-05-08","оплачен",1856,0.05,92.800000000000011]
[170981,"Партнер номер 1","1945-05-08","не оплачен",2263,0.05,113.15]
[170984,"Партнер номер 11","1945-05-08","оплачен",1122,0.05,56.1]
[170989,"","1945-05-08","оплачен",1675,"",""]
[170994,"Партнер номер 1","1945-05-08","оплачен",637,0.05,31.85]
[170999,"Партнер номер 11","1945-05-08","оплачен",1554,0.05,77.7]
[171002,"","1945-05-08","оплачен",2261,"",""]
[171007,"","1945-05-08","оплачен",2931,"",""]
[171012,"","1945-05-08","оплачен",1834,"",""]
[171013,"Партнер номер 3","1945-05-08","оплачен",2117,0.05,105.85000000000001]
[171016,"Партнер номер 1","1945-05-08","не оплачен",1688,0.05,84.4]
[171021,"Партнер номер 1","1945-05-08","оплачен",1688,0.05,84.4]
[171023,"","1945-05-08","оплачен",2842,"",""]
[171027,"Партнер номер 11","1945-05-08","не оплачен",1733,0.05,86.65]
[171030,"","1945-05-08","оплачен",2134,"",""]
[171033,"Партнер номер 1","1945-05-08","не оплачен",2743,0.05,137.15]
[171036,"","1945-05-08","оплачен",1621,"",""]
[171039,"Партнер номер 5","1945-05-08","не оплачен",1905,0.03,57.15]
[171041,"","1945-05-08","не оплачен",1074,"",""]
[171043,"","1945-05-08","оплачен",3250,"",""]
[171046,"","1945-05-08","оплачен",9542,"",""]
[171050,"Партнер номер 1","1945-05-08","не оплачен",732,0.05,36.6]
[171052,"Партнер номер 3","1945-05-08","оплачен",2625,0.05,131.25]
[171054,"Партнер номер 1","1945-05-08","не оплачен",2743,0.05,137.15]
[171059,"","1945-05-08","оплачен",9117,"",""]
[171061,"Партнер номер 7","1945-05-08","оплачен",2412,0.05,120.60000000000001]
[171064,"","1945-05-08","не оплачен",1890,"",""]
[171067,"Партнер номер 29","1945-05-08","не оплачен",2862,0.05,143.1]
[171068,"Партнер номер 1","1945-05-08","оплачен",1624,0.05,81.2]
[171074,"Партнер номер 11","1945-05-08","оплачен",826,0.05,41.300000000000004]
[171075,"Партнер номер 21","1945-05-08","оплачен",1798,0.05,89.9]
[171080,"Партнер номер 11","1945-05-08","оплачен",2320,0.05,116]
[171082,"","1945-05-08","оплачен",986,"",""]
[171084,"Партнер номер 1","1945-05-08","не оплачен",1356,0.05,67.8]
[171087,"Партнер номер 11","1945-05-08","оплачен",1309,0.05,65.45]
[171092,"Партнер номер 7","1945-05-08","оплачен",1061,0.05,53.050000000000004]
[171096,"","1945-05-08","не оплачен",2194,"",""]
[171100,"","1945-05-08","оплачен",2100,"",""]
[171103,"","1945-05-08","не оплачен",1150,"",""]
[171106,"","1945-05-08","оплачен",1074,"",""]
[171109,"Партнер номер 1","1945-05-08","не оплачен",1732,0.05,86.600000000000009]
[171112,"","1945-05-08","не оплачен",1500,"",""]
[171117,"Партнер номер 5","1945-05-08","оплачен",1246,0.03,37.379999999999995]
[171122,"","1945-05-08","оплачен",1657,"",""]
[171127,"","1945-05-08","оплачен",5390,"",""]
[171131,"","1945-05-08","не оплачен",2272,"",""]
[171133,"","1945-05-08","оплачен",2263,"",""]
[171138,"Партнер номер 3","1945-05-08","оплачен",2862,0.05,143.1]
[171142,"Партнер номер 5","1945-05-08","оплачен",1314,0.03,39.42]
[171146,"","1945-05-08","не оплачен",3996,"",""]
[171150,"","1945-05-08","не оплачен",2229,"",""]
[171154,"Партнер номер 3","1945-05-08","не оплачен",5456,0.05,272.8]
[171159,"","1945-05-08","оплачен",2607,"",""]
[171162,"Партнер номер 3","1945-05-08","оплачен",4822,0.05,241.10000000000002]
[171164,"Партнер номер 2","1945-05-08","не оплачен",1684,0.04,67.36]
[171167,"Партнер номер 3","1945-05-08","оплачен",486,0.05,24.3]
[171172,"Партнер номер 1","1945-05-08","оплачен",2201,0.05,110.05000000000001]
[171176,"Партнер номер 1","1945-05-08","не оплачен",1849,0.05,92.45]
[171179,"Партнер номер 9","1945-05-08","оплачен",4140,0.05,207]
[171183,"Партнер номер 1","1945-05-08","оплачен",2293,0.05,114.65]
[171188,"Партнер номер 9","1945-05-08","не оплачен",4140,0.05,207]
[171190,"Партнер номер 28","1945-05-08","не оплачен",1233,0.05,61.650000000000006]
[171193,"","1945-05-08","оплачен",4629,"",""]
[171194,"","1945-05-08","не оплачен",3632,"",""]
[171196,"Партнер номер 28","1945-05-08","оплачен",915,0.05,45.75]
[171202,"","1945-05-08","оплачен",1095,"",""]
[171207,"","1945-05-08","оплачен",3003,"",""]
[171210,"","1945-05-08","не оплачен",2371,"",""]
[171211,"","1945-05-08","оплачен",2535,"",""]
[171214,"Партнер номер 5","1945-05-08","оплачен",3087,0.03,92.61]
[171217,"","1945-05-08","оплачен",3139,"",""]
[171218,"","1945-05-08","оплачен",2345,"",""]
[171223,"Партнер номер 1","1945-05-08","оплачен",4854,0.05,242.70000000000002]
[171225,"","1945-05-08","оплачен",4240,"",""]
[171227,"","1945-05-09","оплачен",3164,"",""]
[171230,"","1945-05-09","оплачен",4568,"",""]
[171235,"Партнер номер 1","1945-05-09","не оплачен",3708,0.05,185.4]
[171239,"","1945-05-09","оплачен",4476,"",""]
[171242,"","1945-05-09","не оплачен",4629,"",""]
[171246,"Партнер номер 3","1945-05-09","не оплачен",1156,0.05,57.800000000000004]
[171249,"Партнер номер 5","1945-05-09","не оплачен",4521,0.03,135.63]
[171255,"Партнер номер 1","1945-05-09","оплачен",1222,0.05,61.1]
[171259,"Партнер номер 3","1945-05-09","не оплачен",1962,0.05,98.100000000000009]
[171262,"Партнер номер 1","1945-05-09","не оплачен",3841,0.05,192.05]
[171264,"Партнер номер 9","1945-05-09","оплачен",1345,0.05,67.25]
[171266,"Партнер номер 1","1945-05-09","не оплачен",1314,0.05,65.7]
[171271,"Партнер номер 4","1945-05-09","оплачен",1125,0.04,45]
[171276,"Партнер номер 36","1945-05-09","не оплачен",2657,0.05,132.85]
[171278,"","1945-05-09","оплачен",2467,"",""]
[171279,"","1945-05-09","оплачен",2084,"",""]
[171281,"Партнер номер 1","1945-05-09","оплачен",3643,0.05,182.15]
[171284,"","1945-05-09","оплачен",2162,"",""]
[171286,"Партнер номер 7","1945-05-09","не оплачен",1536,0.05,76.800000000000011]
[171291,"","1945-05-09","не оплачен",961,"",""]
[171296,"","1945-05-09","не оплачен",2862,"",""]
[171300,"Партнер номер 11","1945-05-09","не оплачен",1407,0.05,70.350000000000009]
[171304,"Партнер номер 3","1945-05-09","не оплачен",532,0.05,26.6]
[171308,"","1945-05-09","оплачен",2341,"",""]
[171310,"","1945-05-09","не оплачен",386,"",""]
[171314,"Партнер номер 1","1945-05-09","оплачен",2041,0.05,102.05000000000001]
[171317,"Партнер номер 1","1945-05-09","оплачен",2670,0.05,133.5]
[171320,"Партнер номер 10","1945-05-09","оплачен",1344,0.04,53.76]
[171323,"Партнер номер 5","1945-05-09","оплачен",1122,0.03,33.659999999999997]
[171325,"","1945-05-09","не оплачен",1696,"",""]
[171327,"Партнер номер 28","1945-05-09","не оплачен",942,0.05,47.1]
[171332,"","1945-05-09","оплачен",6712,"",""]
[171337,"Партнер номер 11","1945-05-09","оплачен",1592,0.05,79.600000000000009]
[171339,"Партнер номер 1","1945-05-09","оплачен",4666,0.05,233.3]
[171340,"Партнер номер 11","1945-05-09","оплачен",950,0.05,47.5]
[171346,"","1945-05-09","оплачен",2372,"",""]
[171351,"Партнер номер 5","1945-05-09","оплачен",1561,0.03,46.83]
[171356,"","1945-05-09","не оплачен",2327,"",""]
[171358,"Партнер номер 11","1945-05-09","не оплачен",1839,0.05,91.95]
[171361,"Партнер номер 7","1945-05-09","не оплачен",4784,0.05,239.20000000000002]
[171363,"Партнер номер 1","1945-05-09","не оплачен",2134,0.05,106.7]
[171365,"Партнер номер 1","1945-05-09","не оплачен",892,0.05,44.6]
[171368,"","1945-05-09","оплачен",5254,"",""]
[171371,"","1945-05-09","оплачен",5067,"",""]
[171373,"Партнер номер 7","1945-05-09","оплачен",2472,0.05,123.60000000000001]
[171376,"","1945-05-09","оплачен",3023,"",""]
[171381,"","1945-05-09","оплачен",573,"",""]
[171385,"","1945-05-09","не оплачен",1623,"",""]
[171388,"Партнер номер 1","1945-05-09","не оплачен",575,0.05,28.75]
[171391,"Партнер номер 4","1945-05-09","не оплачен",750,0.04,30]
[171395,"","1945-05-09","оплачен",4433,"",""]
[171398,"Партнер номер 2","1945-05-09","не оплачен",646,0.04,25.84]
[171402,"","1945-05-09","оплачен",2310,"",""]
[171407,"","1945-05-09","оплачен",411,"",""]
[171419,"Партнер номер 3","1945-05-09","оплачен",1624,0.05,81.2]
[171424,"","1945-05-09","оплачен",2979,"",""]
[171427,"","1945-05-09","оплачен",2140,"",""]
[171429,"","1945-05-09","оплачен",2508,"",""]
[171432,"Партнер номер 11","1945-05-09","не оплачен",1263,0.05,63.150000000000006]
[171442,"","1945-05-09","оплачен",2545,"",""]
[171445,"Партнер номер 5","1945-05-09","оплачен",2595,0.03,77.849999999999994]
[171451,"","1945-05-09","оплачен",3239,"",""]
[171452,"","1945-05-09","не оплачен",1076,"",""]
[171457,"","1945-05-09","не оплачен",1590,"",""]
[171462,"","1945-05-09","оплачен",2260,"",""]
[171465,"","1945-05-09","оплачен",2545,"",""]
[171468,"","1945-05-09","оплачен",5181,"",""]
[171473,"Партнер номер 28","1945-05-09","не оплачен",5956,0.05,297.8]
[171476,"","1945-05-09","оплачен",1445,"",""]
[171480,"Партнер номер 1","1945-05-09","оплачен",3708,0.05,185.4]
[171483,"","1945-05-09","оплачен",4130,"",""]
[171488,"","1945-05-09","оплачен",1235,"",""]
[171491,"Партнер номер 1","1945-05-09","оплачен",2389,0.05,119.45]
[171494,"","1945-05-09","оплачен",2821,"",""]
[171498,"","1945-05-09","не оплачен",960,"",""]
[171502,"","1945-05-09","оплачен",2083,"",""]
[171507,"Партнер номер 5","1945-05-09","не оплачен",3479,0.03,104.36999999999999]
[171511,"Партнер номер 1","1945-05-09","не оплачен",615,0.05,30.75]
[171520,"","1945-05-09","не оплачен",3198,"",""]
[171522,"","1945-05-09","оплачен",2735,"",""]
[171529,"","1945-05-09","оплачен",5239,"",""]
[171534,"","1945-05-09","оплачен",1736,"",""]
[171537,"","1945-05-09","оплачен",2770,"",""]
[171542,"","1945-05-09","оплачен",700,"",""]
[171547,"","1945-05-09","оплачен",2277,"",""]
[171558,"","1945-05-09","оплачен",1367,"",""]
[171560,"Партнер номер 1","1945-05-09","не оплачен",2954,0.05,147.70000000000002]
[171565,"Партнер номер 11","1945-05-09","оплачен",1971,0.05,98.550000000000011]
[171567,"Партнер номер 11","1945-05-09","оплачен",1171,0.05,58.550000000000004]
[171570,"","1945-05-09","оплачен",3381,"",""]
[171574,"","1945-05-09","оплачен",1222,"",""]
[171576,"","1945-05-09","оплачен",3381,"",""]
[171586,"Партнер номер 11","1945-05-09","не оплачен",1246,0.05,62.300000000000004]
[171594,"","1945-05-09","оплачен",3622,"",""]
[171597,"Партнер номер 11","1945-05-09","не оплачен",1338,0.05,66.900000000000006]
[171600,"Партнер номер 11","1945-05-09","не оплачен",1313,0.05,65.650000000000006]
[171607,"Партнер номер 11","1945-05-09","оплачен",984,0.05,49.2]
[171612,"","1945-05-09","оплачен",2392,"",""]
[171620,"","1945-05-09","оплачен",1784,"",""]
[171624,"Партнер номер 1","1945-05-09","оплачен",1160,0.05,58]
[171626,"Партнер номер 2","1945-05-09","не оплачен",2715,0.04,108.60000000000001]
[171629,"","1945-05-09","оплачен",3144,"",""]
[171631,"","1945-05-09","оплачен",3340,"",""]
[171635,"","1945-05-09","оплачен",2392,"",""]
[171644,"","1945-05-09","оплачен",6473,"",""]
[171647,"Партнер номер 1","1945-05-09","не оплачен",2023,0.05,101.15]
[171649,"","1945-05-09","оплачен",3002,"",""]
[171654,"","1945-05-09","не оплачен",3418,"",""]
[171669,"","1945-05-09","оплачен",2969,"",""]
[171675,"Партнер номер 1","1945-05-09","оплачен",414,0.05,20.700000000000003]
[171678,"Партнер номер 1","1945-05-09","не оплачен",4028,0.05,201.4]
[171682,"Партнер номер 7","1945-05-09","оплачен",1800,0.05,90]
[171684,"","1945-05-09","оплачен",1951,"",""]
[171688,"","1945-05-09","оплачен",2479,"",""]
[171693,"Партнер номер 1","1945-05-09","оплачен",2468,0.05,123.4]
[171697,"Партнер номер 1","1945-05-09","не оплачен",1904,0.05,95.2]
[171700,"Партнер номер 1","1945-05-09","оплачен",965,0.05,48.25]
[171705,"Партнер номер 5","1945-05-09","оплачен",2311,0.03,69.33]
[171707,"","1945-05-09","не оплачен",945,"",""]
[171712,"","1945-05-09","оплачен",4136,"",""]
[171717,"Партнер номер 1","1945-05-09","оплачен",1838,0.05,91.9]
[171721,"","1945-05-09","не оплачен",879,"",""]
[171723,"Партнер номер 1","1945-05-09","оплачен",3645,0.05,182.25]
[171726,"Партнер номер 1","1945-05-09","оплачен",2776,0.05,138.80000000000001]
[171728,"","1945-05-09","не оплачен",1319,"",""]
[171732,"","1945-05-09","не оплачен",1570,"",""]
[171736,"","1945-05-09","не оплачен",1860,"",""]
[171741,"","1945-05-09","оплачен",7635,"",""]
[171746,"Партнер номер 1","1945-05-09","оплачен",1072,0.05,53.6]
[171748,"","1945-05-09","не оплачен",1836,"",""]
[171750,"","1945-05-09","не оплачен",2724,"",""]
[171753,"","1945-05-09","не оплачен",1861,"",""]
[171756,"Партнер номер 10","1945-05-09","оплачен",6223,0.04,248.92000000000002]
[171760,"Партнер номер 8","1945-05-09","не оплачен",1475,0.03,44.25]
[171763,"","1945-05-09","оплачен",2603,"",""]
[171768,"Партнер номер 11","1945-05-09","не оплачен",1091,0.05,54.550000000000004]
[171773,"","1945-05-09","не оплачен",1621,"",""]
[171777,"","1945-05-09","оплачен",1363,"",""]
[171783,"Партнер номер 37","1945-05-09","оплачен",1525,0.05,76.25]
[171786,"","1945-05-09","оплачен",1631,"",""]
[171788,"","1945-05-09","оплачен",1907,"",""]
[171791,"","1945-05-09","не оплачен",633,"",""]
[171793,"Партнер номер 5","1945-05-09","оплачен",917,0.03,27.509999999999998]
[171799,"Партнер номер 1","1945-05-09","не оплачен",1337,0.05,66.850000000000009]
[171801,"Партнер номер 7","1945-05-09","оплачен",7982,0.05,399.1]
[171804,"Партнер номер 5","1945-05-09","оплачен",917,0.03,27.509999999999998]
[171807,"Партнер номер 1","1945-05-09","оплачен",2351,0.05,117.55000000000001]
[171810,"Партнер номер 3","1945-05-09","оплачен",1816,0.05,90.800000000000011]
[171812,"Партнер номер 1","1945-05-09","не оплачен",1883,0.05,94.15]
[171814,"Партнер номер 6","1945-05-09","оплачен",1187,0.04,47.480000000000004]
[171816,"Партнер номер 1","1945-05-09","оплачен",1184,0.05,59.2]
[171820,"","1945-05-09","оплачен",2383,"",""]
[171822,"","1945-05-09","оплачен",1439,"",""]
[171824,"","1945-05-09","оплачен",2143,"",""]
[171825,"Партнер номер 8","1945-05-09","не оплачен",1335,0.03,40.049999999999997]
[171828,"Партнер номер 11","1945-05-09","не оплачен",681,0.05,34.050000000000004]
[171834,"Партнер номер 3","1945-05-09","не оплачен",2706,0.05,135.30000000000001]
[171839,"","1945-05-09","оплачен",8804,"",""]
[171845,"Партнер номер 1","1945-05-09","оплачен",1821,0.05,91.050000000000011]
[171850,"Партнер номер 3","1945-05-09","не оплачен",1067,0.05,53.35]
[171852,"","1945-05-09","оплачен",3860,"",""]
[171855,"Партнер номер 3","1945-05-09","оплачен",1288,0.05,64.400000000000006]
[171856,"","1945-05-09","оплачен",2857,"",""]
[171858,"","1945-05-09","оплачен",1029,"",""]
[171860,"","1945-05-09","не оплачен",1747,"",""]
[171862,"Партнер номер 7","1945-05-09","не оплачен",2229,0.05,111.45]
[171865,"","1945-05-09","оплачен",3306,"",""]
[171868,"Партнер номер 28","1945-05-09","оплачен",1135,0.05,56.75]
[171870,"","1945-05-09","оплачен",2840,"",""]
[171873,"Партнер номер 6","1945-05-09","не оплачен",2474,0.04,98.960000000000008]
[171876,"","1945-05-09","не оплачен",1359,"",""]
[171882,"","1945-05-09","оплачен",3934,"",""]
[171887,"","1945-05-09","оплачен",2208,"",""]
[171892,"Партнер номер 11","1945-05-09","оплачен",1856,0.05,92.800000000000011]
[171896,"Партнер номер 10","1945-05-09","оплачен",2504,0.04,100.16]
[171898,"","1945-05-09","не оплачен",2896,"",""]
[171901,"","1945-05-09","оплачен",2605,"",""]
[171903,"","1945-05-09","оплачен",2200,"",""]
[171908,"Партнер номер 11","1945-05-09","не оплачен",976,0.05,48.800000000000004]
[171911,"","1945-05-10","не оплачен",3718,"",""]
[171914,"Партнер номер 10","1945-05-10","не оплачен",2871,0.04,114.84]
[171916,"","1945-05-10","оплачен",4928,"",""]
[171918,"","1945-05-10","оплачен",3835,"",""]
[171922,"Партнер номер 1","1945-05-10","не оплачен",4387,0.05,219.35000000000002]
[171925,"","1945-05-10","оплачен",4013,"",""]
[171928,"","1945-05-10","оплачен",3718,"",""]
[171930,"Партнер номер 10","1945-05-10","оплачен",2871,0.04,114.84]
[171933,"Партнер номер 28","1945-05-10","оплачен",4779,0.05,238.95000000000002]
[171938,"","1945-05-10","оплачен",2107,"",""]
[171939,"Партнер номер 1","1945-05-10","не оплачен",836,0.05,41.800000000000004]
[171942,"","1945-05-10","оплачен",1649,"",""]
[171946,"","1945-05-10","оплачен",6026,"",""]
[171948,"","1945-05-10","оплачен",3015,"",""]
[171954,"","1945-05-10","оплачен",4057,"",""]
[171959,"","1945-05-10","оплачен",1021,"",""]
[171964,"Партнер номер 1","1945-05-10","не оплачен",3057,0.05,152.85]
[171969,"Партнер номер 1","1945-05-10","оплачен",2856,0.05,142.80000000000001]
[171974,"Партнер номер 5","1945-05-10","не оплачен",2666,0.03,79.98]
[171979,"","1945-05-10","не оплачен",1299,"",""]
[171983,"Партнер номер 1","1945-05-10","не оплачен",2180,0.05,109]
[171988,"Партнер номер 2","1945-05-10","не оплачен",3327,0.04,133.08000000000001]
[171991,"","1945-05-10","оплачен",2776,"",""]
[171993,"","1945-05-10","оплачен",3060,"",""]
[171999,"","1945-05-10","оплачен",2581,"",""]
[172003,"Партнер номер 1","1945-05-10","оплачен",1543,0.05,77.150000000000006]
[172006,"","1945-05-10","не оплачен",1116,"",""]
[172011,"Партнер номер 1","1945-05-10","оплачен",1107,0.05,55.35]
[172013,"","1945-05-10","оплачен",4581,"",""]
[172018,"","1945-05-10","не оплачен",4222,"",""]
[172023,"","1945-05-10","не оплачен",2209,"",""]
[172024,"Партнер номер 5","1945-05-10","оплачен",1798,0.03,53.94]
[172029,"","1945-05-10","оплачен",2577,"",""]
[172033,"Партнер номер 1","1945-05-10","оплачен",3399,0.05,169.95000000000002]
[172035,"Партнер номер 5","1945-05-10","не оплачен",2383,0.03,71.489999999999995]
[172039,"","1945-05-10","оплачен",4733,"",""]
[172041,"","1945-05-10","оплачен",1695,"",""]
[172043,"","1945-05-10","оплачен",2252,"",""]
[172046,"Партнер номер 1","1945-05-10","оплачен",2879,0.05,143.95000000000002]
[172050,"Партнер номер 28","1945-05-10","оплачен",9080,0.05,454]
[172054,"","1945-05-10","не оплачен",2284,"",""]
[172056,"Партнер номер 4","1945-05-10","оплачен",1842,0.04,73.680000000000007]
[172058,"","1945-05-10","оплачен",2061,"",""]
[172061,"","1945-05-10","оплачен",2523,"",""]
[172067,"","1945-05-10","оплачен",2861,"",""]
[172068,"","1945-05-10","оплачен",4573,"",""]
[172072,"Партнер номер 7","1945-05-10","оплачен",1596,0.05,79.800000000000011]
[172075,"","1945-05-10","оплачен",2513,"",""]
[172078,"Партнер номер 10","1945-05-10","оплачен",1294,0.04,51.76]
[172083,"","1945-05-10","оплачен",1618,"",""]
[172088,"","1945-05-10","оплачен",1587,"",""]
[172092,"Партнер номер 7","1945-05-10","не оплачен",469,0.05,23.450000000000003]
[172096,"Партнер номер 11","1945-05-10","не оплачен",929,0.05,46.45]
[172099,"Партнер номер 5","1945-05-10","оплачен",3780,0.03,113.39999999999999]
[172103,"Партнер номер 7","1945-05-10","не оплачен",508,0.05,25.400000000000002]
[172108,"Партнер номер 7","1945-05-10","не оплачен",508,0.05,25.400000000000002]
[172111,"","1945-05-10","оплачен",1411,"",""]
[172114,"","1945-05-10","не оплачен",672,"",""]
[172117,"Партнер номер 1","1945-05-10","не оплачен",700,0.05,35]
[172119,"","1945-05-10","не оплачен",9543,"",""]
[172121,"","1945-05-10","не оплачен",763,"",""]
[172127,"Партнер номер 7","1945-05-10","не оплачен",4711,0.05,235.55]
[172130,"Партнер номер 7","1945-05-10","оплачен",4711,0.05,235.55]
[172135,"Партнер номер 5","1945-05-10","оплачен",2469,0.03,74.069999999999993]
[172138,"","1945-05-10","не оплачен",887,"",""]
[172140,"Партнер номер 1","1945-05-10","оплачен",3156,0.05,157.80000000000001]
[172146,"Партнер номер 1","1945-05-10","оплачен",1844,0.05,92.2]
[172148,"Партнер номер 38","1945-05-10","не оплачен",1871,0.03,56.129999999999995]
[172153,"Партнер номер 1","1945-05-10","не оплачен",1944,0.05,97.2]
[172157,"","1945-05-10","оплачен",975,"",""]
[172162,"","1945-05-10","не оплачен",2436,"",""]
[172165,"Партнер номер 12","1945-05-10","не оплачен",5840,0.03,175.2]
[172170,"","1945-05-10","не оплачен",3088,"",""]
[172175,"Партнер номер 1","1945-05-10","оплачен",1542,0.05,77.100000000000009]
[172180,"Партнер номер 7","1945-05-10","оплачен",2290,0.05,114.5]
[172183,"","1945-05-10","оплачен",3013,"",""]
[172185,"","1945-05-10","не оплачен",812,"",""]
[172187,"","1945-05-10","оплачен",812,"",""]
[172192,"Партнер номер 39","1945-05-10","оплачен",1662,0.05,83.100000000000009]
[172197,"Партнер номер 11","1945-05-10","оплачен",2526,0.05,126.30000000000001]
[172200,"Партнер номер 2","1945-05-10","не оплачен",3104,0.04,124.16]
[172208,"","1945-05-10","не оплачен",2526,"",""]
[172213,"","1945-05-10","оплачен",1404,"",""]
[172214,"","1945-05-10","оплачен",3398,"",""]
[172218,"Партнер номер 1","1945-05-10","не оплачен",3452,0.05,172.60000000000002]
[172220,"Партнер номер 1","1945-05-10","не оплачен",1364,0.05,68.2]
[172224,"Партнер номер 7","1945-05-10","не оплачен",2851,0.05,142.55000000000001]
[172229,"Партнер номер 7","1945-05-10","оплачен",1596,0.05,79.800000000000011]
[172234,"","1945-05-10","оплачен",1000,"",""]
[172237,"","1945-05-10","оплачен",1596,"",""]
[172239,"Партнер номер 1","1945-05-10","оплачен",3452,0.05,172.60000000000002]
[172243,"Партнер номер 11","1945-05-10","оплачен",3098,0.05,154.9]
[172244,"Партнер номер 11","1945-05-10","оплачен",1948,0.05,97.4]
[172246,"Партнер номер 7","1945-05-10","не оплачен",1281,0.05,64.05]
[172251,"","1945-05-10","оплачен",1068,"",""]
[172255,"Партнер номер 1","1945-05-10","не оплачен",1169,0.05,58.45]
[172258,"","1945-05-10","не оплачен",2028,"",""]
[172261,"","1945-05-10","не оплачен",7163,"",""]
[172266,"","1945-05-10","оплачен",2199,"",""]
[172269,"","1945-05-10","не оплачен",1503,"",""]
[172273,"Партнер номер 1","1945-05-10","не оплачен",973,0.05,48.650000000000006]
[172277,"Партнер номер 25","1945-05-10","оплачен",3036,0.05,151.80000000000001]
[172281,"Партнер номер 1","1945-05-10","не оплачен",671,0.05,33.550000000000004]
[172285,"","1945-05-10","оплачен",4764,"",""]
[172288,"Партнер номер 11","1945-05-10","не оплачен",2187,0.05,109.35000000000001]
[172293,"","1945-05-10","оплачен",2415,"",""]
[172294,"Партнер номер 11","1945-05-10","оплачен",1052,0.05,52.6]
[172296,"","1945-05-10","оплачен",1902,"",""]
[172301,"Партнер номер 3","1945-05-10","оплачен",771,0.05,38.550000000000004]
[172306,"","1945-05-10","не оплачен",1036,"",""]
[172310,"","1945-05-10","не оплачен",2373,"",""]
[172314,"Партнер номер 1","1945-05-10","не оплачен",559,0.05,27.950000000000003]
[172318,"Партнер номер 28","1945-05-10","не оплачен",1912,0.05,95.600000000000009]
[172322,"Партнер номер 11","1945-05-10","не оплачен",2953,0.05,147.65]
[172327,"","1945-05-10","оплачен",1036,"",""]
[172329,"","1945-05-10","оплачен",4065,"",""]
[172332,"","1945-05-10","не оплачен",3051,"",""]
[172337,"Партнер номер 1","1945-05-10","оплачен",1507,0.05,75.350000000000009]
[172342,"Партнер номер 11","1945-05-10","оплачен",1476,0.05,73.8]
[172343,"","1945-05-10","оплачен",2045,"",""]
[172349,"Партнер номер 1","1945-05-10","оплачен",945,0.05,47.25]
[172353,"Партнер номер 1","1945-05-10","не оплачен",3961,0.05,198.05]
[172358,"","1945-05-10","не оплачен",4231,"",""]
[172363,"","1945-05-10","оплачен",3051,"",""]
[172366,"","1945-05-10","оплачен",4984,"",""]
[172371,"","1945-05-10","оплачен",3051,"",""]
[172373,"Партнер номер 40","1945-05-10","оплачен",2039,0.05,101.95]
[172379,"Партнер номер 11","1945-05-10","не оплачен",1000,0.05,50]
[172384,"Партнер номер 41","1945-05-10","оплачен",3169,0.05,158.45000000000002]
[172387,"","1945-05-10","оплачен",2968,"",""]
[172391,"Партнер номер 1","1945-05-10","оплачен",1854,0.05,92.7]
[172396,"","1945-05-10","не оплачен",5231,"",""]
[172402,"","1945-05-10","оплачен",967,"",""]
[172405,"","1945-05-10","оплачен",1855,"",""]
[172407,"Партнер номер 6","1945-05-10","оплачен",1438,0.04,57.52]
[172408,"Партнер номер 1","1945-05-10","оплачен",590,0.05,29.5]
[172414,"","1945-05-10","оплачен",2096,"",""]
[172416,"","1945-05-10","оплачен",1467,"",""]
[172419,"","1945-05-10","оплачен",5231,"",""]
[172422,"","1945-05-10","оплачен",732,"",""]
[172426,"Партнер номер 3","1945-05-10","не оплачен",794,0.05,39.700000000000003]
[172430,"Партнер номер 3","1945-05-10","оплачен",763,0.05,38.15]
[172434,"Партнер номер 11","1945-05-10","оплачен",1602,0.05,80.100000000000009]
[172437,"Партнер номер 7","1945-05-10","оплачен",3061,0.05,153.05000000000001]
[172439,"","1945-05-10","оплачен",1384,"",""]
[172444,"","1945-05-10","не оплачен",2390,"",""]
[172449,"","1945-05-10","оплачен",1454,"",""]
[172452,"","1945-05-10","оплачен",688,"",""]
[172457,"Партнер номер 7","1945-05-10","не оплачен",2085,0.05,104.25]
[172461,"","1945-05-10","оплачен",3146,"",""]
[172462,"","1945-05-10","оплачен",1207,"",""]
[172464,"Партнер номер 7","1945-05-10","оплачен",2085,0.05,104.25]
[172465,"Партнер номер 4","1945-05-10","оплачен",2303,0.04,92.12]
[172467,"Партнер номер 11","1945-05-10","оплачен",1324,0.05,66.2]
[172472,"","1945-05-10","оплачен",2173,"",""]
[172478,"Партнер номер 11","1945-05-10","оплачен",1397,0.05,69.850000000000009]
[172483,"","1945-05-10","оплачен",3543,"",""]
[172485,"","1945-05-10","оплачен",1748,"",""]
[172489,"","1945-05-10","оплачен",1583,"",""]
[172491,"Партнер номер 1","1945-05-10","не оплачен",3615,0.05,180.75]
[172495,"","1945-05-10","оплачен",2381,"",""]
[172498,"","1945-05-10","оплачен",3721,"",""]
[172502,"Партнер номер 1","1945-05-10","не оплачен",1121,0.05,56.050000000000004]
[172506,"Партнер номер 7","1945-05-10","оплачен",1948,0.05,97.4]
[172508,"Партнер номер 5","1945-05-10","оплачен",1735,0.03,52.05]
[172512,"Партнер номер 9","1945-05-10","не оплачен",972,0.05,48.6]
[172517,"Партнер номер 1","1945-05-10","оплачен",1739,0.05,86.95]
[172519,"Партнер номер 7","1945-05-10","оплачен",2216,0.05,110.80000000000001]
[172525,"Партнер номер 1","1945-05-10","оплачен",2711,0.05,135.55000000000001]
[172529,"","1945-05-10","оплачен",3226,"",""]
[172531,"Партнер номер 11","1945-05-10","не оплачен",1861,0.05,93.050000000000011]
[172532,"Партнер номер 7","1945-05-10","оплачен",2316,0.05,115.80000000000001]
[172538,"","1945-05-10","оплачен",2399,"",""]
[172542,"","1945-05-10","не оплачен",1299,"",""]
[172548,"Партнер номер 1","1945-05-10","не оплачен",2202,0.05,110.10000000000001]
[172550,"","1945-05-10","оплачен",1179,"",""]
[172553,"","1945-05-10","оплачен",2146,"",""]
[172557,"","1945-05-10","оплачен",912,"",""]
[172559,"","1945-05-10","не оплачен",1868,"",""]
[172561,"Партнер номер 1","1945-05-10","оплачен",1587,0.05,79.350000000000009]
[172567,"Партнер номер 1","1945-05-10","оплачен",807,0.05,40.35]
[172571,"Партнер номер 11","1945-05-10","оплачен",1573,0.05,78.650000000000006]
[172576,"Партнер номер 1","1945-05-10","не оплачен",1094,0.05,54.7]
[172578,"","1945-05-10","не оплачен",1986,"",""]
[172580,"","1945-05-10","оплачен",8095,"",""]
[172586,"","1945-05-10","оплачен",1040,"",""]
[172587,"","1945-05-10","оплачен",1302,"",""]
[172591,"","1945-05-10","оплачен",7964,"",""]
[172593,"","1945-05-10","оплачен",1613,"",""]
[172597,"","1945-05-10","оплачен",6389,"",""]
[172599,"","1945-05-10","оплачен",837,"",""]
[172600,"Партнер номер 21","1945-05-10","не оплачен",1963,0.05,98.15]
[172605,"Партнер номер 1","1945-05-10","оплачен",1040,0.05,52]
[172607,"","1945-05-10","оплачен",567,"",""]
[172609,"Партнер номер 9","1945-05-10","оплачен",1646,0.05,82.300000000000011]
[172615,"Партнер номер 1","1945-05-10","не оплачен",1534,0.05,76.7]
[172620,"","1945-05-10","оплачен",2810,"",""]
[172622,"Партнер номер 1","1945-05-10","не оплачен",1585,0.05,79.25]
[172627,"","1945-05-10","оплачен",1747,"",""]
[172631,"Партнер номер 1","1945-05-10","оплачен",809,0.05,40.450000000000003]
[172632,"Партнер номер 7","1945-05-10","оплачен",970,0.05,48.5]
[172635,"","1945-05-10","оплачен",1765,"",""]
[172638,"Партнер номер 1","1945-05-10","не оплачен",2452,0.05,122.60000000000001]
[172639,"","1945-05-10","оплачен",785,"",""]
[172642,"Партнер номер 1","1945-05-10","оплачен",1565,0.05,78.25]
[172646,"Партнер номер 1","1945-05-10","не оплачен",2060,0.05,103]
[172648,"Партнер номер 3","1945-05-10","оплачен",1589,0.05,79.45]
[172650,"Партнер номер 1","1945-05-10","не оплачен",4446,0.05,222.3]
[172655,"Партнер номер 7","1945-05-10","оплачен",2070,0.05,103.5]
[172658,"Партнер номер 1","1945-05-10","оплачен",1534,0.05,76.7]
[172662,"","1945-05-10","оплачен",3375,"",""]
[172668,"","1945-05-10","оплачен",3215,"",""]
[172673,"","1945-05-10","оплачен",2832,"",""]
[172675,"Партнер номер 5","1945-05-10","не оплачен",4330,0.03,129.9]
[172677,"Партнер номер 1","1945-05-11","оплачен",4842,0.05,242.10000000000002]
[172680,"Партнер номер 3","1945-05-11","оплачен",2281,0.05,114.05000000000001]
[172684,"","1945-05-11","оплачен",2832,"",""]
[172687,"Партнер номер 1","1945-05-11","не оплачен",2396,0.05,119.80000000000001]
[172693,"Партнер номер 1","1945-05-11","оплачен",2396,0.05,119.80000000000001]
[172696,"Партнер номер 1","1945-05-11","не оплачен",1389,0.05,69.45]
[172700,"Партнер номер 3","1945-05-11","оплачен",2568,0.05,128.4]
[172704,"","1945-05-11","оплачен",2815,"",""]
[172705,"Партнер номер 1","1945-05-11","не оплачен",1297,0.05,64.850000000000009]
[172711,"Партнер номер 1","1945-05-11","оплачен",1119,0.05,55.95]
[172714,"","1945-05-11","не оплачен",2728,"",""]
[172717,"","1945-05-11","оплачен",2728,"",""]
[172721,"Партнер номер 21","1945-05-11","оплачен",2163,0.05,108.15]
[172723,"","1945-05-11","не оплачен",4384,"",""]
[172726,"Партнер номер 11","1945-05-11","оплачен",2206,0.05,110.30000000000001]
[172729,"Партнер номер 3","1945-05-11","не оплачен",1839,0.05,91.95]
[172730,"Партнер номер 3","1945-05-11","оплачен",1347,0.05,67.350000000000009]
[172733,"","1945-05-11","не оплачен",2091,"",""]
[172736,"","1945-05-11","не оплачен",1126,"",""]
[172740,"","1945-05-11","оплачен",897,"",""]
[172745,"","1945-05-11","оплачен",3037,"",""]
[172746,"","1945-05-11","оплачен",1126,"",""]
[172749,"Партнер номер 5","1945-05-11","оплачен",1473,0.03,44.19]
[172753,"","1945-05-11","оплачен",2445,"",""]
[172758,"","1945-05-11","не оплачен",2383,"",""]
[172768,"Партнер номер 5","1945-05-11","оплачен",7567,0.03,227.01]
[172772,"","1945-05-11","оплачен",2995,"",""]
[172777,"Партнер номер 16","1945-05-11","не оплачен",3283,0.05,164.15]
[172780,"","1945-05-11","оплачен",2875,"",""]
[172782,"Партнер номер 16","1945-05-11","не оплачен",2765,0.05,138.25]
[172787,"","1945-05-11","оплачен",1732,"",""]
[172790,"","1945-05-11","оплачен",2269,"",""]
[172795,"","1945-05-11","оплачен",3453,"",""]
[172797,"","1945-05-11","не оплачен",2635,"",""]
[172802,"Партнер номер 6","1945-05-11","оплачен",1394,0.04,55.76]
[172804,"","1945-05-11","оплачен",2653,"",""]
[172806,"","1945-05-11","оплачен",2503,"",""]
[172808,"","1945-05-11","не оплачен",1555,"",""]
[172812,"","1945-05-11","не оплачен",1599,"",""]
[172817,"Партнер номер 1","1945-05-11","не оплачен",1047,0.05,52.35]
[172822,"Партнер номер 7","1945-05-11","не оплачен",604,0.05,30.200000000000003]
[172823,"","1945-05-11","оплачен",7982,"",""]
[172825,"","1945-05-11","не оплачен",2188,"",""]
[172829,"Партнер номер 7","1945-05-11","оплачен",734,0.05,36.700000000000003]
[172834,"Партнер номер 1","1945-05-11","оплачен",1599,0.05,79.95]
[172836,"Партнер номер 1","1945-05-11","не оплачен",2087,0.05,104.35000000000001]
[172840,"Партнер номер 7","1945-05-11","не оплачен",604,0.05,30.200000000000003]
[172841,"Партнер номер 1","1945-05-11","не оплачен",1843,0.05,92.15]
[172845,"Партнер номер 1","1945-05-11","оплачен",2352,0.05,117.60000000000001]
[172849,"Партнер номер 1","1945-05-11","оплачен",1199,0.05,59.95]
[172854,"","1945-05-11","оплачен",1692,"",""]
[172857,"Партнер номер 1","1945-05-11","оплачен",1483,0.05,74.150000000000006]
[172859,"Партнер номер 1","1945-05-11","оплачен",232,0.05,11.600000000000001]
[172863,"","1945-05-11","не оплачен",2565,"",""]
[172865,"Партнер номер 3","1945-05-11","не оплачен",2306,0.05,115.30000000000001]
[172868,"","1945-05-11","не оплачен",2187,"",""]
[172870,"","1945-05-11","оплачен",1256,"",""]
[172874,"","1945-05-11","оплачен",1958,"",""]
[172876,"Партнер номер 1","1945-05-11","оплачен",1572,0.05,78.600000000000009]
[172881,"","1945-05-11","оплачен",1312,"",""]
[172889,"","1945-05-11","оплачен",3666,"",""]
[172892,"","1945-05-11","оплачен",1338,"",""]
[172899,"Партнер номер 1","1945-05-11","не оплачен",831,0.05,41.550000000000004]
[172904,"Партнер номер 11","1945-05-11","не оплачен",1503,0.05,75.150000000000006]
[172906,"","1945-05-11","оплачен",1548,"",""]
[172908,"","1945-05-11","не оплачен",1844,"",""]
[172910,"Партнер номер 3","1945-05-11","не оплачен",1271,0.05,63.550000000000004]
[172915,"","1945-05-11","не оплачен",1004,"",""]
[172919,"","1945-05-11","оплачен",2156,"",""]
[172922,"Партнер номер 10","1945-05-11","оплачен",2261,0.04,90.44]
[172928,"","1945-05-11","оплачен",3252,"",""]
[172932,"Партнер номер 1","1945-05-11","не оплачен",763,0.05,38.15]
[172937,"Партнер номер 1","1945-05-11","оплачен",1297,0.05,64.850000000000009]
[172940,"Партнер номер 1","1945-05-11","оплачен",1162,0.05,58.1]
[172946,"","1945-05-11","оплачен",2329,"",""]
[172950,"Партнер номер 1","1945-05-11","не оплачен",831,0.05,41.550000000000004]
[172953,"","1945-05-11","оплачен",3385,"",""]
[172955,"","1945-05-11","оплачен",1236,"",""]
[172961,"","1945-05-11","оплачен",3743,"",""]
[172966,"","1945-05-11","не оплачен",678,"",""]
[172969,"Партнер номер 1","1945-05-11","не оплачен",2241,0.05,112.05000000000001]
[172974,"Партнер номер 1","1945-05-11","не оплачен",2926,0.05,146.30000000000001]
[172977,"Партнер номер 6","1945-05-11","оплачен",1732,0.04,69.28]
[172980,"","1945-05-11","оплачен",2551,"",""]
[172985,"","1945-05-11","не оплачен",1467,"",""]
[172987,"","1945-05-11","оплачен",1480,"",""]
[172992,"Партнер номер 1","1945-05-11","не оплачен",4205,0.05,210.25]
[172993,"","1945-05-11","не оплачен",3285,"",""]
[172999,"Партнер номер 3","1945-05-11","оплачен",2210,0.05,110.5]
[173003,"","1945-05-11","оплачен",1484,"",""]
[173007,"","1945-05-11","оплачен",7049,"",""]
[173011,"Партнер номер 1","1945-05-11","оплачен",1613,0.05,80.650000000000006]
[173013,"","1945-05-11","не оплачен",1744,"",""]
[173018,"Партнер номер 1","1945-05-11","оплачен",3131,0.05,156.55000000000001]
[173028,"Партнер номер 7","1945-05-11","не оплачен",996,0.05,49.800000000000004]
[173031,"","1945-05-11","оплачен",5040,"",""]
[173036,"Партнер номер 11","1945-05-11","оплачен",1827,0.05,91.350000000000009]
[173039,"Партнер номер 5","1945-05-11","оплачен",2428,0.03,72.84]
[173043,"","1945-05-11","не оплачен",2610,"",""]
[173045,"","1945-05-11","оплачен",3916,"",""]
[173047,"","1945-05-11","не оплачен",3765,"",""]
[173050,"","1945-05-11","оплачен",3322,"",""]
[173054,"","1945-05-11","оплачен",2682,"",""]
[173058,"","1945-05-11","не оплачен",2610,"",""]
[173063,"","1945-05-11","не оплачен",2128,"",""]
[173067,"Партнер номер 1","1945-05-11","не оплачен",1699,0.05,84.95]
[173070,"Партнер номер 11","1945-05-11","оплачен",1000,0.05,50]
[173075,"","1945-05-11","оплачен",2256,"",""]
[173077,"Партнер номер 2","1945-05-11","не оплачен",4964,0.04,198.56]
[173082,"Партнер номер 1","1945-05-11","не оплачен",2524,0.05,126.2]
[173091,"Партнер номер 1","1945-05-11","оплачен",2391,0.05,119.55000000000001]
[173093,"","1945-05-11","не оплачен",775,"",""]
[173102,"","1945-05-11","оплачен",2112,"",""]
[173105,"","1945-05-11","оплачен",916,"",""]
[173107,"","1945-05-11","оплачен",2923,"",""]
[173117,"","1945-05-11","оплачен",882,"",""]
[173121,"Партнер номер 7","1945-05-11","оплачен",2007,0.05,100.35000000000001]
[173123,"Партнер номер 6","1945-05-11","не оплачен",828,0.04,33.119999999999997]
[173126,"Партнер номер 11","1945-05-11","оплачен",1587,0.05,79.350000000000009]
[173129,"Партнер номер 1","1945-05-11","не оплачен",1374,0.05,68.7]
[173131,"Партнер номер 7","1945-05-11","не оплачен",1694,0.05,84.7]
[173136,"Партнер номер 4","1945-05-11","не оплачен",11004,0.04,440.16]
[173139,"","1945-05-11","не оплачен",1478,"",""]
[173143,"","1945-05-11","оплачен",1965,"",""]
[173146,"","1945-05-11","оплачен",2029,"",""]
[173151,"","1945-05-11","оплачен",1069,"",""]
[173157,"","1945-05-11","оплачен",3193,"",""]
[173160,"Партнер номер 1","1945-05-11","оплачен",2532,0.05,126.60000000000001]
[173164,"","1945-05-11","не оплачен",3436,"",""]
[173168,"","1945-05-11","оплачен",2161,"",""]
[173171,"Партнер номер 1","1945-05-11","не оплачен",821,0.05,41.050000000000004]
[173172,"","1945-05-11","оплачен",2147,"",""]
[173174,"","1945-05-11","оплачен",2233,"",""]
[173178,"","1945-05-11","оплачен",2303,"",""]
[173182,"","1945-05-11","не оплачен",568,"",""]
[173186,"","1945-05-11","оплачен",3130,"",""]
[173190,"Партнер номер 11","1945-05-11","не оплачен",1138,0.05,56.900000000000006]
[173193,"Партнер номер 9","1945-05-11","не оплачен",2526,0.05,126.30000000000001]
[173195,"Партнер номер 5","1945-05-11","оплачен",1951,0.03,58.53]
[173199,"","1945-05-11","оплачен",3023,"",""]
[173202,"","1945-05-11","оплачен",2121,"",""]
[173206,"Партнер номер 5","1945-05-11","не оплачен",3538,0.03,106.14]
[173210,"","1945-05-11","оплачен",2312,"",""]
[173211,"Партнер номер 11","1945-05-11","не оплачен",1390,0.05,69.5]
[173216,"","1945-05-11","оплачен",3708,"",""]
[173219,"","1945-05-11","оплачен",2094,"",""]
[173221,"Партнер номер 17","1945-05-11","не оплачен",1273,0.04,50.92]
[173227,"Партнер номер 17","1945-05-11","не оплачен",1273,0.04,50.92]
[173232,"Партнер номер 9","1945-05-11","не оплачен",1236,0.05,61.800000000000004]
[173236,"","1945-05-11","оплачен",2475,"",""]
[173247,"","1945-05-11","не оплачен",2475,"",""]
[173249,"","1945-05-11","не оплачен",2475,"",""]
[173252,"","1945-05-11","оплачен",2546,"",""]
[173254,"","1945-05-11","не оплачен",1326,"",""]
[173263,"Партнер номер 1","1945-05-11","оплачен",1237,0.05,61.85]
[173267,"","1945-05-11","оплачен",881,"",""]
[173269,"","1945-05-11","не оплачен",3211,"",""]
[173272,"","1945-05-11","не оплачен",1286,"",""]
[173275,"","1945-05-11","не оплачен",3367,"",""]
[173279,"","1945-05-11","оплачен",1476,"",""]
[173282,"","1945-05-11","не оплачен",1945,"",""]
[173285,"","1945-05-11","оплачен",789,"",""]
[173289,"Партнер номер 1","1945-05-11","оплачен",5743,0.05,287.15000000000003]
[173292,"Партнер номер 1","1945-05-11","оплачен",2413,0.05,120.65]
[173295,"Партнер номер 5","1945-05-11","не оплачен",1209,0.03,36.269999999999996]
[173299,"Партнер номер 12","1945-05-11","оплачен",2776,0.03,83.28]
[173303,"Партнер номер 4","1945-05-11","оплачен",2299,0.04,91.960000000000008]
[173305,"Партнер номер 9","1945-05-11","не оплачен",2781,0.05,139.05000000000001]
[173309,"Партнер номер 11","1945-05-11","оплачен",3258,0.05,162.9]
[173312,"Партнер номер 4","1945-05-11","оплачен",2299,0.04,91.960000000000008]
[173316,"Партнер номер 4","1945-05-11","оплачен",2299,0.04,91.960000000000008]
[173320,"","1945-05-11","не оплачен",2271,"",""]
[173324,"","1945-05-11","не оплачен",2525,"",""]
[173326,"","1945-05-11","оплачен",2104,"",""]
[173330,"","1945-05-11","оплачен",1569,"",""]
[173336,"","1945-05-11","оплачен",1885,"",""]
[173340,"","1945-05-11","оплачен",1541,"",""]
[173343,"Партнер номер 7","1945-05-11","не оплачен",1398,0.05,69.900000000000006]
[173348,"Партнер номер 6","1945-05-11","оплачен",2547,0.04,101.88]
[173350,"","1945-05-11","оплачен",1956,"",""]
[173354,"","1945-05-11","оплачен",568,"",""]
[173357,"","1945-05-11","не оплачен",3166,"",""]
[173360,"","1945-05-11","оплачен",3097,"",""]
[173363,"Партнер номер 1","1945-05-11","не оплачен",1784,0.05,89.2]
[173365,"","1945-05-11","оплачен",2788,"",""]
[173369,"Партнер номер 1","1945-05-11","не оплачен",4648,0.05,232.4]
[173374,"Партнер номер 1","1945-05-11","оплачен",2194,0.05,109.7]
[173376,"","1945-05-11","оплачен",1409,"",""]
[173380,"Партнер номер 3","1945-05-11","оплачен",3116,0.05,155.80000000000001]
[173386,"","1945-05-11","не оплачен",3060,"",""]
[173390,"","1945-05-11","оплачен",3072,"",""]
[173395,"","1945-05-11","оплачен",2362,"",""]
[173396,"Партнер номер 1","1945-05-11","оплачен",1649,0.05,82.45]
[173399,"","1945-05-11","не оплачен",1260,"",""]
[173402,"","1945-05-11","не оплачен",4233,"",""]
[173406,"","1945-05-11","оплачен",2367,"",""]
[173408,"","1945-05-11","оплачен",525,"",""]
[173411,"","1945-05-11","оплачен",3196,"",""]
[173414,"","1945-05-11","оплачен",1753,"",""]
[173419,"","1945-05-11","оплачен",3769,"",""]
[173421,"Партнер номер 1","1945-05-11","оплачен",2007,0.05,100.35000000000001]
[173425,"","1945-05-11","оплачен",1260,"",""]
[173431,"","1945-05-11","оплачен",2475,"",""]
[173434,"Партнер номер 3","1945-05-12","оплачен",1855,0.05,92.75]
[173437,"Партнер номер 1","1945-05-12","оплачен",2022,0.05,101.10000000000001]
[173441,"Партнер номер 11","1945-05-12","оплачен",1253,0.05,62.650000000000006]
[173442,"Партнер номер 1","1945-05-12","оплачен",1110,0.05,55.5]
[173445,"Партнер номер 1","1945-05-12","оплачен",591,0.05,29.55]
[173448,"Партнер номер 5","1945-05-12","оплачен",6420,0.03,192.6]
[173454,"","1945-05-12","оплачен",914,"",""]
[173457,"Партнер номер 1","1945-05-12","не оплачен",977,0.05,48.85]
[173459,"","1945-05-12","не оплачен",2105,"",""]
[173461,"","1945-05-12","не оплачен",2105,"",""]
[173465,"","1945-05-12","оплачен",1251,"",""]
[173468,"Партнер номер 11","1945-05-12","не оплачен",3757,0.05,187.85000000000002]
[173471,"Партнер номер 5","1945-05-12","оплачен",1839,0.03,55.169999999999995]
[173477,"","1945-05-12","не оплачен",1687,"",""]
[173478,"","1945-05-12","не оплачен",1149,"",""]
[173482,"Партнер номер 6","1945-05-12","оплачен",1175,0.04,47]
[173486,"Партнер номер 1","1945-05-12","не оплачен",1962,0.05,98.100000000000009]
[173488,"Партнер номер 11","1945-05-12","не оплачен",3428,0.05,171.4]
[173492,"Партнер номер 1","1945-05-12","оплачен",3815,0.05,190.75]
[173498,"Партнер номер 1","1945-05-12","не оплачен",1365,0.05,68.25]
[173500,"Партнер номер 5","1945-05-12","оплачен",2387,0.03,71.61]
[173503,"Партнер номер 2","1945-05-12","оплачен",2396,0.04,95.84]
[173506,"","1945-05-12","оплачен",1131,"",""]
[173511,"","1945-05-12","не оплачен",1506,"",""]
[173515,"Партнер номер 3","1945-05-12","оплачен",2351,0.05,117.55000000000001]
[173517,"Партнер номер 1","1945-05-12","оплачен",2137,0.05,106.85000000000001]
[173518,"","1945-05-12","оплачен",2351,"",""]
[173520,"Партнер номер 5","1945-05-12","оплачен",3264,0.03,97.92]
[173521,"Партнер номер 3","1945-05-12","оплачен",2351,0.05,117.55000000000001]
[173525,"","1945-05-12","оплачен",1517,"",""]
[173529,"","1945-05-12","не оплачен",13907,"",""]
[173535,"","1945-05-12","оплачен",3002,"",""]
[173537,"","1945-05-12","оплачен",1205,"",""]
[173541,"","1945-05-12","оплачен",1948,"",""]
[173544,"","1945-05-12","оплачен",1394,"",""]
[173548,"Партнер номер 1","1945-05-12","не оплачен",2963,0.05,148.15]
[173553,"","1945-05-12","оплачен",1639,"",""]
[173557,"","1945-05-12","оплачен",1960,"",""]
[173561,"Партнер номер 1","1945-05-12","оплачен",3838,0.05,191.9]
[173563,"Партнер номер 1","1945-05-12","не оплачен",2155,0.05,107.75]
[173568,"Партнер номер 1","1945-05-12","оплачен",1720,0.05,86]
[173573,"Партнер номер 1","1945-05-12","оплачен",1962,0.05,98.100000000000009]
[173576,"","1945-05-12","оплачен",5779,"",""]
[173579,"Партнер номер 1","1945-05-12","не оплачен",2155,0.05,107.75]
[173582,"","1945-05-12","не оплачен",1832,"",""]
[173584,"","1945-05-12","оплачен",1964,"",""]
[173585,"","1945-05-12","не оплачен",2815,"",""]
[173587,"","1945-05-12","оплачен",6942,"",""]
[173590,"Партнер номер 5","1945-05-12","не оплачен",1209,0.03,36.269999999999996]
[173593,"Партнер номер 11","1945-05-12","оплачен",2706,0.05,135.30000000000001]
[173597,"","1945-05-12","оплачен",1703,"",""]
[173600,"","1945-05-12","оплачен",3239,"",""]
[173602,"Партнер номер 9","1945-05-12","оплачен",1102,0.05,55.1]
[173607,"Партнер номер 1","1945-05-12","не оплачен",1066,0.05,53.300000000000004]
[173611,"","1945-05-12","оплачен",1668,"",""]
[173614,"Партнер номер 1","1945-05-12","не оплачен",1125,0.05,56.25]
[173619,"Партнер номер 1","1945-05-12","не оплачен",1549,0.05,77.45]
[173624,"","1945-05-12","оплачен",1632,"",""]
[173626,"Партнер номер 5","1945-05-12","оплачен",1902,0.03,57.059999999999995]
[173627,"","1945-05-12","оплачен",1875,"",""]
[173631,"","1945-05-12","оплачен",2648,"",""]
[173635,"Партнер номер 5","1945-05-12","не оплачен",1780,0.03,53.4]
[173637,"","1945-05-12","оплачен",1159,"",""]
[173642,"","1945-05-12","оплачен",1292,"",""]
[173647,"","1945-05-12","не оплачен",1378,"",""]
[173649,"Партнер номер 1","1945-05-12","оплачен",1632,0.05,81.600000000000009]
[173652,"Партнер номер 11","1945-05-12","оплачен",572,0.05,28.6]
[173655,"","1945-05-12","оплачен",1486,"",""]
[173657,"","1945-05-12","оплачен",1378,"",""]
[173661,"Партнер номер 1","1945-05-12","оплачен",1672,0.05,83.600000000000009]
[173664,"Партнер номер 1","1945-05-12","оплачен",1005,0.05,50.25]
[173666,"Партнер номер 1","1945-05-12","оплачен",2154,0.05,107.7]
[173668,"","1945-05-12","оплачен",3654,"",""]
[173670,"Партнер номер 2","1945-05-12","не оплачен",1045,0.04,41.800000000000004]
[173675,"","1945-05-12","оплачен",2815,"",""]
[173679,"","1945-05-12","оплачен",938,"",""]
[173683,"Партнер номер 1","1945-05-12","оплачен",2704,0.05,135.20000000000002]
[173685,"Партнер номер 10","1945-05-12","оплачен",1813,0.04,72.52]
[173690,"","1945-05-12","не оплачен",1572,"",""]
[173694,"Партнер номер 1","1945-05-12","не оплачен",742,0.05,37.1]
[173700,"","1945-05-12","оплачен",0,"",""]
[173704,"","1945-05-12","оплачен",1698,"",""]
[173709,"Партнер номер 9","1945-05-12","оплачен",2498,0.05,124.9]
[173711,"Партнер номер 5","1945-05-12","оплачен",9494,0.03,284.82]
[173713,"Партнер номер 1","1945-05-12","не оплачен",1064,0.05,53.2]
[173716,"Партнер номер 1","1945-05-12","не оплачен",1052,0.05,52.6]
[173717,"Партнер номер 1","1945-05-12","оплачен",1018,0.05,50.900000000000006]
[173721,"","1945-05-12","не оплачен",3343,"",""]
[173724,"","1945-05-12","оплачен",1672,"",""]
[173728,"","1945-05-12","оплачен",3343,"",""]
[173729,"","1945-05-12","оплачен",1373,"",""]
[173736,"","1945-05-12","оплачен",1088,"",""]
[173739,"","1945-05-12","не оплачен",1647,"",""]
[173741,"Партнер номер 1","1945-05-12","оплачен",1408,0.05,70.400000000000006]
[173743,"","1945-05-12","оплачен",1855,"",""]
[173746,"Партнер номер 1","1945-05-12","оплачен",773,0.05,38.650000000000006]
[173752,"","1945-05-12","оплачен",3928,"",""]
[173754,"","1945-05-12","оплачен",1444,"",""]
[173758,"Партнер номер 11","1945-05-12","оплачен",1574,0.05,78.7]
[173761,"","1945-05-12","не оплачен",3467,"",""]
[173766,"","1945-05-12","не оплачен",653,"",""]
[173769,"Партнер номер 3","1945-05-12","оплачен",5156,0.05,257.8]
[173775,"","1945-05-12","не оплачен",1951,"",""]
[173780,"Партнер номер 7","1945-05-12","оплачен",1162,0.05,58.1]
[173784,"Партнер номер 1","1945-05-12","оплачен",1820,0.05,91]
[173785,"","1945-05-12","оплачен",3325,"",""]
[173789,"","1945-05-12","оплачен",3270,"",""]
[173794,"Партнер номер 1","1945-05-12","не оплачен",2108,0.05,105.4]
[173795,"","1945-05-12","оплачен",3228,"",""]
[173799,"","1945-05-12","оплачен",3591,"",""]
[173802,"Партнер номер 11","1945-05-12","не оплачен",1786,0.05,89.300000000000011]
[173805,"","1945-05-12","оплачен",1647,"",""]
[173808,"","1945-05-12","не оплачен",2706,"",""]
[173813,"","1945-05-12","оплачен",787,"",""]
[173818,"Партнер номер 1","1945-05-12","оплачен",1639,0.05,81.95]
[173820,"Партнер номер 7","1945-05-12","оплачен",2968,0.05,148.4]
[173824,"","1945-05-12","оплачен",2172,"",""]
[173828,"","1945-05-12","не оплачен",4322,"",""]
[173831,"","1945-05-12","не оплачен",4087,"",""]
[173833,"Партнер номер 1","1945-05-12","не оплачен",1116,0.05,55.800000000000004]
[173837,"","1945-05-12","оплачен",1584,"",""]
[173841,"Партнер номер 3","1945-05-12","оплачен",1300,0.05,65]
[173844,"Партнер номер 1","1945-05-12","не оплачен",800,0.05,40]
[173846,"Партнер номер 1","1945-05-12","не оплачен",1309,0.05,65.45]
[173850,"","1945-05-12","не оплачен",2031,"",""]
[173854,"","1945-05-12","не оплачен",2706,"",""]
[173858,"","1945-05-12","оплачен",5519,"",""]
[173859,"","1945-05-12","оплачен",2355,"",""]
[173861,"","1945-05-12","оплачен",933,"",""]
[173867,"Партнер номер 1","1945-05-12","не оплачен",1238,0.05,61.900000000000006]
[173868,"","1945-05-12","оплачен",1055,"",""]
[173874,"","1945-05-12","оплачен",4751,"",""]
[173878,"","1945-05-12","оплачен",1993,"",""]
[173880,"","1945-05-12","оплачен",2394,"",""]
[173882,"Партнер номер 1","1945-05-12","оплачен",644,0.05,32.200000000000003]
[173884,"","1945-05-12","не оплачен",1095,"",""]
[173889,"Партнер номер 1","1945-05-13","оплачен",2741,0.05,137.05000000000001]
[173892,"","1945-05-13","не оплачен",1137,"",""]
[173895,"","1945-05-13","оплачен",1057,"",""]
[173900,"","1945-05-13","оплачен",2512,"",""]
[173905,"Партнер номер 5","1945-05-13","оплачен",3169,0.03,95.07]
[173906,"","1945-05-13","оплачен",8146,"",""]
[173907,"Партнер номер 23","1945-05-13","оплачен",1003,0.05,50.150000000000006]
[173909,"Партнер номер 11","1945-05-13","не оплачен",1290,0.05,64.5]
[173913,"","1945-05-13","оплачен",2687,"",""]
[173914,"Партнер номер 8","1945-05-13","оплачен",6012,0.03,180.35999999999999]
[173919,"","1945-05-13","оплачен",1743,"",""]
[173922,"Партнер номер 7","1945-05-13","оплачен",2959,0.05,147.95000000000002]
[173925,"","1945-05-13","оплачен",1695,"",""]
[173931,"Партнер номер 1","1945-05-13","оплачен",2752,0.05,137.6]
[173935,"Партнер номер 42","1945-05-13","оплачен",4371,0.05,218.55]
[173938,"Партнер номер 1","1945-05-13","оплачен",729,0.05,36.450000000000003]
[173942,"","1945-05-13","оплачен",2002,"",""]
[173948,"Партнер номер 5","1945-05-13","не оплачен",2505,0.03,75.149999999999991]
[173950,"Партнер номер 1","1945-05-13","не оплачен",1717,0.05,85.850000000000009]
[173954,"","1945-05-13","оплачен",7776,"",""]
[173959,"Партнер номер 13","1945-05-13","оплачен",1932,0.05,96.600000000000009]
[173964,"","1945-05-13","оплачен",5029,"",""]
[173969,"Партнер номер 1","1945-05-13","оплачен",2623,0.05,131.15]
[173974,"","1945-05-13","оплачен",1255,"",""]
[173979,"","1945-05-13","оплачен",307,"",""]
[173981,"","1945-05-13","оплачен",1693,"",""]
[173986,"Партнер номер 39","1945-05-13","не оплачен",2048,0.05,102.4]
[173990,"","1945-05-13","оплачен",2401,"",""]
[173994,"","1945-05-13","не оплачен",1439,"",""]
[173997,"","1945-05-13","не оплачен",1000,"",""]
[174001,"","1945-05-13","не оплачен",1467,"",""]
[174003,"","1945-05-13","оплачен",549,"",""]
[174006,"","1945-05-13","оплачен",3179,"",""]
[174011,"","1945-05-13","не оплачен",1892,"",""]
[174016,"Партнер номер 7","1945-05-13","не оплачен",2473,0.05,123.65]
[174021,"","1945-05-13","оплачен",2476,"",""]
[174026,"Партнер номер 39","1945-05-13","не оплачен",2429,0.05,121.45]
[174030,"","1945-05-13","оплачен",5069,"",""]
[174034,"","1945-05-13","оплачен",2520,"",""]
[174040,"Партнер номер 3","1945-05-13","оплачен",2292,0.05,114.60000000000001]
[174044,"Партнер номер 1","1945-05-13","оплачен",1191,0.05,59.550000000000004]
[174047,"Партнер номер 10","1945-05-13","оплачен",1741,0.04,69.64]
[174051,"","1945-05-13","оплачен",1193,"",""]
[174053,"","1945-05-13","не оплачен",8887,"",""]
[174058,"Партнер номер 3","1945-05-13","оплачен",1798,0.05,89.9]
[174063,"Партнер номер 6","1945-05-13","оплачен",1386,0.04,55.44]
[174065,"","1945-05-13","оплачен",2726,"",""]
[174067,"Партнер номер 11","1945-05-13","оплачен",799,0.05,39.950000000000003]
[174072,"","1945-05-13","оплачен",2752,"",""]
[174076,"","1945-05-13","не оплачен",2222,"",""]
[174080,"","1945-05-13","оплачен",1392,"",""]
[174085,"Партнер номер 5","1945-05-13","не оплачен",1230,0.03,36.9]
[174089,"","1945-05-13","не оплачен",1558,"",""]
[174093,"","1945-05-13","оплачен",3710,"",""]
[174094,"","1945-05-13","оплачен",2182,"",""]
[174099,"Партнер номер 1","1945-05-13","оплачен",1719,0.05,85.95]
[174101,"","1945-05-13","не оплачен",2524,"",""]
[174106,"","1945-05-13","оплачен",3798,"",""]
[174109,"","1945-05-13","оплачен",2929,"",""]
[174113,"","1945-05-13","оплачен",1043,"",""]
[174118,"Партнер номер 1","1945-05-13","оплачен",1219,0.05,60.95]
[174120,"","1945-05-13","оплачен",2715,"",""]
[174123,"","1945-05-13","оплачен",2718,"",""]
[174127,"","1945-05-13","оплачен",2463,"",""]
[174129,"","1945-05-13","оплачен",2280,"",""]
[174132,"Партнер номер 11","1945-05-13","оплачен",3097,0.05,154.85000000000002]
[174133,"Партнер номер 17","1945-05-13","не оплачен",5683,0.04,227.32]
[174137,"","1945-05-13","оплачен",3242,"",""]
[174139,"","1945-05-13","оплачен",1484,"",""]
[174140,"","1945-05-13","оплачен",2180,"",""]
[174145,"","1945-05-13","оплачен",4646,"",""]
[174150,"","1945-05-13","оплачен",2451,"",""]
[174151,"","1945-05-13","не оплачен",5736,"",""]
[174156,"Партнер номер 5","1945-05-13","не оплачен",10460,0.03,313.8]
[174158,"","1945-05-13","оплачен",1213,"",""]
[174163,"Партнер номер 11","1945-05-13","не оплачен",1440,0.05,72]
[174164,"","1945-05-13","оплачен",3208,"",""]
[174168,"","1945-05-13","оплачен",2222,"",""]
[174172,"Партнер номер 11","1945-05-13","оплачен",2014,0.05,100.7]
[174174,"Партнер номер 3","1945-05-13","оплачен",1817,0.05,90.850000000000009]
[174180,"Партнер номер 3","1945-05-13","не оплачен",1886,0.05,94.300000000000011]
[174184,"","1945-05-13","оплачен",2306,"",""]
[174186,"","1945-05-13","оплачен",2863,"",""]
[174188,"","1945-05-13","оплачен",2366,"",""]
[174190,"","1945-05-13","не оплачен",2639,"",""]
[174199,"","1945-05-13","не оплачен",1834,"",""]
[174204,"","1945-05-13","оплачен",777,"",""]
[174208,"Партнер номер 1","1945-05-13","оплачен",1828,0.05,91.4]
[174210,"","1945-05-13","оплачен",1925,"",""]
[174216,"","1945-05-13","оплачен",2644,"",""]
[174220,"","1945-05-13","не оплачен",2258,"",""]
[174222,"Партнер номер 8","1945-05-13","не оплачен",2106,0.03,63.18]
[174224,"Партнер номер 11","1945-05-13","оплачен",2240,0.05,112]
[174226,"","1945-05-13","оплачен",7201,"",""]
[174230,"Партнер номер 11","1945-05-13","оплачен",1348,0.05,67.400000000000006]
[174239,"","1945-05-13","не оплачен",4162,"",""]
[174241,"Партнер номер 28","1945-05-13","оплачен",4199,0.05,209.95000000000002]
[174246,"","1945-05-13","оплачен",2275,"",""]
[174250,"","1945-05-13","оплачен",2275,"",""]
[174254,"","1945-05-13","не оплачен",1370,"",""]
[174256,"","1945-05-13","оплачен",2415,"",""]
[174260,"Партнер номер 9","1945-05-13","оплачен",1581,0.05,79.050000000000011]
[174264,"","1945-05-13","оплачен",1258,"",""]
[174268,"","1945-05-13","не оплачен",1957,"",""]
[174270,"","1945-05-13","не оплачен",864,"",""]
[174274,"","1945-05-13","оплачен",864,"",""]
[174279,"Партнер номер 3","1945-05-13","оплачен",2219,0.05,110.95]
[174281,"Партнер номер 11","1945-05-13","не оплачен",1947,0.05,97.350000000000009]
[174286,"Партнер номер 6","1945-05-13","оплачен",481,0.04,19.240000000000002]
[174291,"","1945-05-13","оплачен",3958,"",""]
[174295,"Партнер номер 1","1945-05-13","оплачен",2191,0.05,109.55000000000001]
[174299,"","1945-05-13","не оплачен",3345,"",""]
[174300,"Партнер номер 5","1945-05-13","оплачен",4413,0.03,132.38999999999999]
[174303,"","1945-05-13","оплачен",1970,"",""]
[174306,"","1945-05-13","не оплачен",2239,"",""]
[174309,"","1945-05-13","оплачен",4812,"",""]
[174312,"Партнер номер 1","1945-05-14","не оплачен",1480,0.05,74]
[174316,"Партнер номер 7","1945-05-14","не оплачен",1980,0.05,99]
[174320,"","1945-05-14","не оплачен",2017,"",""]
[174322,"","1945-05-14","оплачен",1013,"",""]
[174328,"Партнер номер 1","1945-05-14","не оплачен",517,0.05,25.85]
[174330,"","1945-05-14","не оплачен",4690,"",""]
[174334,"Партнер номер 7","1945-05-14","не оплачен",3854,0.05,192.70000000000002]
[174335,"","1945-05-14","оплачен",1935,"",""]
[174337,"","1945-05-14","не оплачен",915,"",""]
[174341,"","1945-05-14","оплачен",780,"",""]
[174345,"Партнер номер 1","1945-05-14","оплачен",1552,0.05,77.600000000000009]
[174347,"Партнер номер 11","1945-05-14","не оплачен",2059,0.05,102.95]
[174352,"","1945-05-14","не оплачен",1873,"",""]
[174355,"Партнер номер 3","1945-05-14","не оплачен",831,0.05,41.550000000000004]
[174359,"","1945-05-14","не оплачен",2953,"",""]
[174361,"","1945-05-14","не оплачен",865,"",""]
[174363,"","1945-05-14","не оплачен",1996,"",""]
[174367,"","1945-05-14","оплачен",533,"",""]
[174371,"Партнер номер 23","1945-05-14","оплачен",2780,0.05,139]
[174373,"","1945-05-14","не оплачен",3896,"",""]
[174378,"","1945-05-14","не оплачен",2573,"",""]
[174381,"","1945-05-14","оплачен",2189,"",""]
[174384,"Партнер номер 1","1945-05-14","не оплачен",1843,0.05,92.15]
[174386,"","1945-05-14","оплачен",1461,"",""]
[174389,"","1945-05-14","не оплачен",2264,"",""]
[174391,"","1945-05-14","оплачен",1363,"",""]
[174395,"Партнер номер 5","1945-05-14","оплачен",1395,0.03,41.85]
[174399,"Партнер номер 1","1945-05-14","не оплачен",2191,0.05,109.55000000000001]
[174404,"","1945-05-14","не оплачен",2463,"",""]
[174409,"","1945-05-14","не оплачен",727,"",""]
[174411,"Партнер номер 1","1945-05-14","не оплачен",2055,0.05,102.75]
[174415,"Партнер номер 11","1945-05-14","оплачен",1279,0.05,63.95]
[174420,"Партнер номер 39","1945-05-14","не оплачен",2877,0.05,143.85]
[174426,"","1945-05-14","оплачен",2223,"",""]
[174429,"","1945-05-14","оплачен",2040,"",""]
[174435,"","1945-05-14","оплачен",826,"",""]
[174437,"Партнер номер 1","1945-05-14","оплачен",518,0.05,25.900000000000002]
[174442,"","1945-05-14","оплачен",3096,"",""]
[174446,"Партнер номер 28","1945-05-14","не оплачен",672,0.05,33.6]
[174448,"","1945-05-14","не оплачен",2447,"",""]
[174450,"Партнер номер 11","1945-05-14","не оплачен",2267,0.05,113.35000000000001]
[174452,"Партнер номер 5","1945-05-14","оплачен",2999,0.03,89.97]
[174458,"","1945-05-14","оплачен",1858,"",""]
[174463,"Партнер номер 28","1945-05-14","оплачен",633,0.05,31.650000000000002]
[174468,"","1945-05-14","не оплачен",5302,"",""]
[174472,"Партнер номер 5","1945-05-14","не оплачен",4275,0.03,128.25]
[174474,"Партнер номер 1","1945-05-14","не оплачен",1289,0.05,64.45]
[174477,"Партнер номер 11","1945-05-14","не оплачен",1358,0.05,67.900000000000006]
[174480,"Партнер номер 1","1945-05-14","оплачен",974,0.05,48.7]
[174484,"Партнер номер 5","1945-05-14","не оплачен",4275,0.03,128.25]
[174487,"Партнер номер 5","1945-05-14","оплачен",1921,0.03,57.629999999999995]
[174492,"","1945-05-14","оплачен",5081,"",""]
[174495,"Партнер номер 7","1945-05-14","не оплачен",894,0.05,44.7]
[174499,"Партнер номер 1","1945-05-14","оплачен",1949,0.05,97.45]
[174501,"Партнер номер 7","1945-05-14","не оплачен",1423,0.05,71.150000000000006]
[174502,"","1945-05-14","оплачен",1974,"",""]
[174503,"Партнер номер 7","1945-05-14","оплачен",4134,0.05,206.70000000000002]
[174509,"","1945-05-14","не оплачен",2204,"",""]
[174522,"","1945-05-14","не оплачен",998,"",""]
[174526,"","1945-05-14","не оплачен",998,"",""]
[174529,"","1945-05-14","оплачен",2292,"",""]
[174539,"Партнер номер 1","1945-05-14","не оплачен",2385,0.05,119.25]
[174540,"Партнер номер 1","1945-05-14","не оплачен",1335,0.05,66.75]
[174547,"","1945-05-14","оплачен",1015,"",""]
[174551,"Партнер номер 1","1945-05-14","не оплачен",3109,0.05,155.45000000000002]
[174555,"Партнер номер 11","1945-05-14","оплачен",918,0.05,45.900000000000006]
[174559,"Партнер номер 11","1945-05-14","оплачен",918,0.05,45.900000000000006]
[174563,"","1945-05-14","оплачен",1316,"",""]
[174565,"Партнер номер 5","1945-05-14","оплачен",586,0.03,17.579999999999998]
[174568,"Партнер номер 11","1945-05-14","оплачен",1292,0.05,64.600000000000009]
[174570,"Партнер номер 7","1945-05-14","оплачен",844,0.05,42.2]
[174574,"","1945-05-14","оплачен",1034,"",""]
[174576,"","1945-05-14","оплачен",2485,"",""]
[174577,"Партнер номер 1","1945-05-14","оплачен",2254,0.05,112.7]
[174580,"","1945-05-14","не оплачен",1432,"",""]
[174582,"","1945-05-14","не оплачен",2287,"",""]
[174586,"Партнер номер 3","1945-05-14","не оплачен",1344,0.05,67.2]
[174588,"","1945-05-14","не оплачен",2644,"",""]
[174594,"","1945-05-14","не оплачен",1446,"",""]
[174597,"","1945-05-14","не оплачен",1395,"",""]
[174599,"","1945-05-14","оплачен",935,"",""]
[174601,"Партнер номер 7","1945-05-14","оплачен",844,0.05,42.2]
[174605,"Партнер номер 11","1945-05-14","оплачен",1486,0.05,74.3]
[174610,"Партнер номер 1","1945-05-14","оплачен",2682,0.05,134.1]
[174615,"","1945-05-14","не оплачен",2213,"",""]
[174618,"Партнер номер 16","1945-05-14","оплачен",2150,0.05,107.5]
[174621,"Партнер номер 1","1945-05-14","оплачен",1113,0.05,55.650000000000006]
[174624,"","1945-05-14","оплачен",2635,"",""]
[174626,"","1945-05-14","не оплачен",2423,"",""]
[174629,"","1945-05-14","оплачен",446,"",""]
[174633,"Партнер номер 3","1945-05-14","не оплачен",2296,0.05,114.80000000000001]
[174638,"Партнер номер 1","1945-05-14","не оплачен",824,0.05,41.2]
[174641,"Партнер номер 1","1945-05-14","не оплачен",2463,0.05,123.15]
[174645,"","1945-05-14","оплачен",1944,"",""]
[174648,"","1945-05-14","не оплачен",2217,"",""]
[174652,"","1945-05-14","оплачен",857,"",""]
[174654,"Партнер номер 1","1945-05-14","не оплачен",671,0.05,33.550000000000004]
[174660,"","1945-05-14","оплачен",582,"",""]
[174664,"","1945-05-14","оплачен",4096,"",""]
[174668,"Партнер номер 7","1945-05-14","не оплачен",2110,0.05,105.5]
[174670,"Партнер номер 11","1945-05-14","оплачен",1241,0.05,62.050000000000004]
[174674,"Партнер номер 1","1945-05-14","оплачен",2640,0.05,132]
[174677,"Партнер номер 1","1945-05-14","не оплачен",801,0.05,40.050000000000004]
[174680,"Партнер номер 7","1945-05-14","не оплачен",1023,0.05,51.150000000000006]
[174682,"","1945-05-14","оплачен",1018,"",""]
[174687,"Партнер номер 11","1945-05-14","оплачен",2261,0.05,113.05000000000001]
[174689,"","1945-05-14","оплачен",2623,"",""]
[174692,"Партнер номер 1","1945-05-14","оплачен",801,0.05,40.050000000000004]
[174696,"Партнер номер 1","1945-05-14","не оплачен",3346,0.05,167.3]
[174700,"","1945-05-14","не оплачен",2005,"",""]
[174704,"","1945-05-14","не оплачен",1397,"",""]
[174706,"Партнер номер 1","1945-05-14","не оплачен",1370,0.05,68.5]
[174709,"","1945-05-14","оплачен",4298,"",""]
[174714,"","1945-05-14","оплачен",1292,"",""]
[174718,"Партнер номер 1","1945-05-14","оплачен",941,0.05,47.050000000000004]
[174723,"","1945-05-14","оплачен",1364,"",""]
[174728,"","1945-05-14","оплачен",3275,"",""]
[174731,"Партнер номер 12","1945-05-14","не оплачен",1729,0.03,51.87]
[174732,"","1945-05-14","не оплачен",1842,"",""]
[174737,"Партнер номер 11","1945-05-14","оплачен",1459,0.05,72.95]
[174742,"Партнер номер 11","1945-05-14","оплачен",1301,0.05,65.05]
[174747,"Партнер номер 7","1945-05-14","не оплачен",545,0.05,27.25]
[174751,"Партнер номер 1","1945-05-14","не оплачен",594,0.05,29.700000000000003]
[174756,"Партнер номер 11","1945-05-14","оплачен",1393,0.05,69.650000000000006]
[174759,"","1945-05-14","не оплачен",988,"",""]
[174761,"Партнер номер 1","1945-05-14","не оплачен",2014,0.05,100.7]
[174763,"Партнер номер 3","1945-05-14","оплачен",1496,0.05,74.8]
[174766,"","1945-05-14","оплачен",730,"",""]
[174771,"","1945-05-14","оплачен",2250,"",""]
[174773,"Партнер номер 10","1945-05-14","не оплачен",1961,0.04,78.44]
[174778,"","1945-05-14","не оплачен",703,"",""]
[174780,"","1945-05-14","оплачен",3712,"",""]
[174784,"","1945-05-14","не оплачен",3502,"",""]
[174785,"","1945-05-14","оплачен",3132,"",""]
[174790,"","1945-05-14","оплачен",2949,"",""]
[174795,"","1945-05-14","оплачен",1783,"",""]
[174797,"Партнер номер 1","1945-05-14","не оплачен",1949,0.05,97.45]
[174801,"","1945-05-14","оплачен",2946,"",""]
[174807,"Партнер номер 1","1945-05-14","не оплачен",2558,0.05,127.9]
[174812,"Партнер номер 1","1945-05-14","оплачен",1144,0.05,57.2]
[174813,"Партнер номер 2","1945-05-14","не оплачен",2332,0.04,93.28]
[174819,"Партнер номер 11","1945-05-14","не оплачен",2194,0.05,109.7]
[174824,"Партнер номер 1","1945-05-14","оплачен",1834,0.05,91.7]
[174826,"Партнер номер 1","1945-05-14","оплачен",1454,0.05,72.7]
[174830,"","1945-05-14","не оплачен",2390,"",""]
[174834,"","1945-05-14","оплачен",3008,"",""]
[174839,"Партнер номер 5","1945-05-14","оплачен",1621,0.03,48.629999999999995]
[174841,"","1945-05-14","не оплачен",2832,"",""]
[174843,"","1945-05-14","оплачен",1307,"",""]
[174846,"Партнер номер 7","1945-05-14","не оплачен",2290,0.05,114.5]
[174848,"Партнер номер 25","1945-05-14","оплачен",1167,0.05,58.35]
[174851,"","1945-05-14","оплачен",2273,"",""]
[174853,"Партнер номер 7","1945-05-14","не оплачен",3439,0.05,171.95000000000002]
[174855,"","1945-05-14","оплачен",1973,"",""]
[174857,"","1945-05-14","не оплачен",4131,"",""]
[174860,"Партнер номер 1","1945-05-14","оплачен",2139,0.05,106.95]
[174863,"Партнер номер 9","1945-05-14","не оплачен",1193,0.05,59.650000000000006]
[174867,"Партнер номер 5","1945-05-14","оплачен",1992,0.03,59.76]
[174872,"Партнер номер 4","1945-05-14","не оплачен",812,0.04,32.480000000000004]
[174877,"","1945-05-14","оплачен",964,"",""]
[174882,"Партнер номер 1","1945-05-14","не оплачен",2239,0.05,111.95]
[174885,"Партнер номер 1","1945-05-14","оплачен",1452,0.05,72.600000000000009]
[174889,"","1945-05-14","оплачен",1361,"",""]
[174893,"Партнер номер 1","1945-05-14","не оплачен",389,0.05,19.450000000000003]
[174897,"Партнер номер 7","1945-05-14","не оплачен",690,0.05,34.5]
[174902,"","1945-05-14","оплачен",2844,"",""]
[174905,"","1945-05-14","оплачен",2844,"",""]
[174907,"Партнер номер 1","1945-05-14","оплачен",1767,0.05,88.350000000000009]
[174911,"","1945-05-14","не оплачен",1477,"",""]
[174915,"","1945-05-14","оплачен",3613,"",""]
[174918,"Партнер номер 3","1945-05-14","оплачен",1676,0.05,83.800000000000011]
[174920,"Партнер номер 1","1945-05-14","не оплачен",1844,0.05,92.2]
[174924,"","1945-05-14","оплачен",1848,"",""]
[174927,"","1945-05-14","оплачен",4643,"",""]
[174929,"Партнер номер 11","1945-05-14","не оплачен",1188,0.05,59.400000000000006]
[174930,"Партнер номер 5","1945-05-14","оплачен",2282,0.03,68.459999999999994]
[174934,"Партнер номер 1","1945-05-14","не оплачен",1249,0.05,62.45]
[174936,"","1945-05-14","не оплачен",1560,"",""]
[174939,"Партнер номер 28","1945-05-14","оплачен",2021,0.05,101.05000000000001]
[174940,"","1945-05-14","оплачен",782,"",""]
[174945,"","1945-05-14","оплачен",2043,"",""]
[174949,"Партнер номер 1","1945-05-14","оплачен",1129,0.05,56.45]
[174954,"","1945-05-14","оплачен",1372,"",""]
[174956,"Партнер номер 1","1945-05-14","оплачен",2265,0.05,113.25]
[174960,"Партнер номер 1","1945-05-14","оплачен",555,0.05,27.75]
[174965,"Партнер номер 1","1945-05-14","не оплачен",1260,0.05,63]
[174967,"Партнер номер 7","1945-05-14","оплачен",2620,0.05,131]
[174970,"","1945-05-14","не оплачен",1865,"",""]
[174973,"Партнер номер 1","1945-05-14","оплачен",1136,0.05,56.800000000000004]
[174977,"Партнер номер 1","1945-05-14","оплачен",1999,0.05,99.95]
[174980,"","1945-05-14","оплачен",5259,"",""]
[174985,"","1945-05-14","оплачен",1457,"",""]
[174990,"","1945-05-14","оплачен",2280,"",""]
[174992,"","1945-05-14","не оплачен",2041,"",""]
[174994,"","1945-05-14","не оплачен",6222,"",""]
[174998,"","1945-05-14","оплачен",2887,"",""]
[175000,"","1945-05-14","не оплачен",1333,"",""]
[175002,"","1945-05-14","оплачен",7544,"",""]
[175007,"Партнер номер 28","1945-05-14","не оплачен",860,0.05,43]
[175012,"Партнер номер 4","1945-05-14","оплачен",1910,0.04,76.400000000000006]
[175016,"Партнер номер 1","1945-05-14","не оплачен",903,0.05,45.150000000000006]
[175018,"Партнер номер 1","1945-05-14","не оплачен",903,0.05,45.150000000000006]
[175021,"","1945-05-14","оплачен",1538,"",""]
[175025,"Партнер номер 12","1945-05-14","не оплачен",2197,0.03,65.91]
[175026,"Партнер номер 7","1945-05-14","оплачен",2136,0.05,106.80000000000001]
[175031,"","1945-05-14","оплачен",1423,"",""]
[175035,"","1945-05-14","оплачен",2427,"",""]
[175037,"","1945-05-14","оплачен",3644,"",""]
[175042,"Партнер номер 1","1945-05-14","не оплачен",1965,0.05,98.25]
[175045,"","1945-05-14","оплачен",5801,"",""]
[175047,"Партнер номер 3","1945-05-14","оплачен",4332,0.05,216.60000000000002]
[175052,"Партнер номер 1","1945-05-14","не оплачен",1587,0.05,79.350000000000009]
[175053,"","1945-05-14","оплачен",4879,"",""]
[175056,"","1945-05-14","оплачен",3030,"",""]
[175058,"","1945-05-14","оплачен",2545,"",""]
[175062,"","1945-05-14","оплачен",1920,"",""]
[175065,"","1945-05-14","не оплачен",2732,"",""]
[175068,"Партнер номер 8","1945-05-14","оплачен",1122,0.03,33.659999999999997]
[175070,"Партнер номер 12","1945-05-14","не оплачен",2197,0.03,65.91]
[175071,"Партнер номер 11","1945-05-14","не оплачен",709,0.05,35.450000000000003]
[175073,"Партнер номер 1","1945-05-14","оплачен",1372,0.05,68.600000000000009]
[175076,"Партнер номер 12","1945-05-14","оплачен",2197,0.03,65.91]
[175078,"Партнер номер 11","1945-05-14","не оплачен",752,0.05,37.6]
[175082,"","1945-05-14","оплачен",1350,"",""]
[175085,"Партнер номер 10","1945-05-14","оплачен",945,0.04,37.800000000000004]
[175088,"Партнер номер 11","1945-05-14","не оплачен",1906,0.05,95.300000000000011]
[175093,"Партнер номер 7","1945-05-14","не оплачен",1076,0.05,53.800000000000004]
[175096,"","1945-05-14","не оплачен",1952,"",""]
[175101,"Партнер номер 3","1945-05-14","оплачен",1478,0.05,73.900000000000006]
[175104,"Партнер номер 7","1945-05-14","оплачен",1325,0.05,66.25]
[175109,"","1945-05-14","оплачен",4605,"",""]
[175114,"Партнер номер 7","1945-05-15","не оплачен",3857,0.05,192.85000000000002]
[175117,"","1945-05-15","оплачен",1788,"",""]
[175123,"","1945-05-15","не оплачен",2242,"",""]
[175128,"","1945-05-15","оплачен",2989,"",""]
[175130,"Партнер номер 1","1945-05-15","оплачен",1433,0.05,71.650000000000006]
[175135,"","1945-05-15","оплачен",1732,"",""]
[175139,"Партнер номер 5","1945-05-15","оплачен",892,0.03,26.759999999999998]
[175142,"Партнер номер 1","1945-05-15","оплачен",770,0.05,38.5]
[175146,"Партнер номер 6","1945-05-15","оплачен",1448,0.04,57.92]
[175148,"Партнер номер 7","1945-05-15","оплачен",3344,0.05,167.20000000000002]
[175152,"Партнер номер 3","1945-05-15","не оплачен",3098,0.05,154.9]
[175155,"","1945-05-15","оплачен",3698,"",""]
[175159,"Партнер номер 16","1945-05-15","оплачен",813,0.05,40.650000000000006]
[175163,"","1945-05-15","не оплачен",1874,"",""]
[175165,"","1945-05-15","оплачен",3874,"",""]
[175169,"Партнер номер 1","1945-05-15","оплачен",3514,0.05,175.70000000000002]
[175173,"Партнер номер 31","1945-05-15","оплачен",1169,0.03,35.07]
[175176,"","1945-05-15","оплачен",1859,"",""]
[175177,"Партнер номер 7","1945-05-15","не оплачен",1125,0.05,56.25]
[175179,"","1945-05-15","оплачен",1280,"",""]
[175185,"Партнер номер 1","1945-05-15","не оплачен",1027,0.05,51.35]
[175189,"Партнер номер 7","1945-05-15","не оплачен",1578,0.05,78.900000000000006]
[175191,"","1945-05-15","оплачен",5984,"",""]
[175196,"","1945-05-15","оплачен",2562,"",""]
[175199,"Партнер номер 1","1945-05-15","не оплачен",953,0.05,47.650000000000006]
[175202,"Партнер номер 1","1945-05-15","оплачен",1092,0.05,54.6]
[175207,"Партнер номер 1","1945-05-15","не оплачен",797,0.05,39.85]
[175209,"Партнер номер 3","1945-05-15","оплачен",2689,0.05,134.45000000000002]
[175215,"","1945-05-15","оплачен",1370,"",""]
[175217,"","1945-05-15","оплачен",885,"",""]
[175221,"","1945-05-15","не оплачен",3184,"",""]
[175225,"","1945-05-15","не оплачен",645,"",""]
[175228,"","1945-05-15","не оплачен",1992,"",""]
[175230,"","1945-05-15","не оплачен",4912,"",""]
[175235,"","1945-05-15","оплачен",1841,"",""]
[175237,"","1945-05-15","оплачен",5709,"",""]
[175242,"","1945-05-15","оплачен",2023,"",""]
[175247,"","1945-05-15","оплачен",3742,"",""]
[175249,"Партнер номер 5","1945-05-15","не оплачен",2282,0.03,68.459999999999994]
[175250,"","1945-05-15","оплачен",3636,"",""]
[175252,"","1945-05-15","оплачен",3501,"",""]
[175256,"Партнер номер 5","1945-05-15","оплачен",2193,0.03,65.789999999999992]
[175259,"Партнер номер 11","1945-05-15","оплачен",2166,0.05,108.30000000000001]
[175263,"Партнер номер 10","1945-05-15","не оплачен",1013,0.04,40.520000000000003]
[175268,"Партнер номер 11","1945-05-15","оплачен",871,0.05,43.550000000000004]
[175270,"Партнер номер 7","1945-05-15","не оплачен",939,0.05,46.95]
[175272,"Партнер номер 1","1945-05-15","оплачен",1715,0.05,85.75]
[175273,"Партнер номер 1","1945-05-15","не оплачен",2962,0.05,148.1]
[175276,"Партнер номер 10","1945-05-15","оплачен",1013,0.04,40.520000000000003]
[175278,"","1945-05-15","оплачен",2503,"",""]
[175283,"Партнер номер 1","1945-05-15","оплачен",3128,0.05,156.4]
[175285,"Партнер номер 11","1945-05-15","оплачен",1524,0.05,76.2]
[175287,"Партнер номер 1","1945-05-15","оплачен",1669,0.05,83.45]
[175289,"Партнер номер 11","1945-05-15","оплачен",939,0.05,46.95]
[175293,"","1945-05-15","оплачен",2582,"",""]
[175294,"","1945-05-15","оплачен",1961,"",""]
[175296,"Партнер номер 6","1945-05-15","не оплачен",1125,0.04,45]
[175299,"","1945-05-15","оплачен",1273,"",""]
[175304,"","1945-05-15","оплачен",6530,"",""]
[175307,"Партнер номер 6","1945-05-15","оплачен",1125,0.04,45]
[175308,"Партнер номер 1","1945-05-15","оплачен",1708,0.05,85.4]
[175311,"","1945-05-15","оплачен",1110,"",""]
[175314,"Партнер номер 1","1945-05-15","оплачен",1649,0.05,82.45]
[175317,"Партнер номер 12","1945-05-15","оплачен",1752,0.03,52.559999999999995]
[175319,"","1945-05-15","оплачен",3556,"",""]
[175321,"Партнер номер 1","1945-05-15","не оплачен",1268,0.05,63.400000000000006]
[175323,"","1945-05-15","не оплачен",2773,"",""]
[175327,"Партнер номер 1","1945-05-15","оплачен",922,0.05,46.1]
[175329,"Партнер номер 7","1945-05-15","оплачен",987,0.05,49.35]
[175333,"","1945-05-15","не оплачен",1575,"",""]
[175339,"","1945-05-15","не оплачен",2116,"",""]
[175340,"","1945-05-15","не оплачен",5186,"",""]
[175343,"Партнер номер 6","1945-05-15","оплачен",1481,0.04,59.24]
[175347,"","1945-05-15","не оплачен",1417,"",""]
[175351,"Партнер номер 11","1945-05-15","не оплачен",5516,0.05,275.8]
[175354,"","1945-05-15","оплачен",2182,"",""]
[175356,"","1945-05-15","оплачен",3256,"",""]
[175359,"Партнер номер 3","1945-05-15","оплачен",3051,0.05,152.55000000000001]
[175363,"","1945-05-15","оплачен",2750,"",""]
[175366,"Партнер номер 2","1945-05-15","не оплачен",589,0.04,23.56]
[175368,"Партнер номер 43","1945-05-15","не оплачен",4255,0.03,127.64999999999999]
[175373,"Партнер номер 28","1945-05-15","оплачен",1954,0.05,97.7]
[175376,"Партнер номер 1","1945-05-15","не оплачен",1074,0.05,53.7]
[175379,"","1945-05-15","не оплачен",1688,"",""]
[175385,"","1945-05-15","не оплачен",1767,"",""]
[175390,"Партнер номер 1","1945-05-15","оплачен",10524,0.05,526.20000000000005]
[175393,"","1945-05-15","не оплачен",3761,"",""]
[175397,"","1945-05-15","оплачен",464,"",""]
[175402,"Партнер номер 19","1945-05-15","оплачен",1125,0.05,56.25]
[175404,"Партнер номер 11","1945-05-15","не оплачен",928,0.05,46.400000000000006]
[175408,"Партнер номер 1","1945-05-15","не оплачен",1415,0.05,70.75]
[175410,"","1945-05-15","не оплачен",2105,"",""]
[175411,"","1945-05-15","оплачен",2001,"",""]
[175415,"","1945-05-15","оплачен",2130,"",""]
[175417,"","1945-05-15","оплачен",1942,"",""]
[175420,"Партнер номер 1","1945-05-15","оплачен",1335,0.05,66.75]
[175426,"Партнер номер 1","1945-05-15","не оплачен",1202,0.05,60.1]
[175430,"Партнер номер 11","1945-05-15","оплачен",1841,0.05,92.050000000000011]
[175432,"","1945-05-15","оплачен",4301,"",""]
[175437,"Партнер номер 1","1945-05-15","оплачен",1701,0.05,85.050000000000011]
[175438,"","1945-05-15","оплачен",2034,"",""]
[175442,"Партнер номер 43","1945-05-15","оплачен",2600,0.03,78]
[175445,"Партнер номер 1","1945-05-15","не оплачен",1368,0.05,68.400000000000006]
[175451,"Партнер номер 13","1945-05-15","оплачен",6635,0.05,331.75]
[175454,"","1945-05-15","не оплачен",1279,"",""]
[175457,"Партнер номер 9","1945-05-15","не оплачен",2808,0.05,140.4]
[175461,"Партнер номер 3","1945-05-15","оплачен",1851,0.05,92.550000000000011]
[175466,"Партнер номер 3","1945-05-15","не оплачен",2242,0.05,112.10000000000001]
[175468,"","1945-05-15","оплачен",1192,"",""]
[175470,"","1945-05-15","оплачен",1642,"",""]
[175473,"","1945-05-15","оплачен",2053,"",""]
[175475,"","1945-05-15","не оплачен",2421,"",""]
[175477,"Партнер номер 11","1945-05-15","не оплачен",572,0.05,28.6]
[175481,"Партнер номер 7","1945-05-15","не оплачен",1535,0.05,76.75]
[175484,"Партнер номер 11","1945-05-15","оплачен",1197,0.05,59.85]
[175487,"Партнер номер 3","1945-05-15","оплачен",793,0.05,39.650000000000006]
[175491,"Партнер номер 1","1945-05-15","не оплачен",1545,0.05,77.25]
[175493,"Партнер номер 11","1945-05-15","не оплачен",1778,0.05,88.9]
[175498,"","1945-05-15","оплачен",1676,"",""]
[175503,"","1945-05-15","оплачен",1753,"",""]
[175505,"Партнер номер 9","1945-05-15","оплачен",2808,0.05,140.4]
[175513,"Партнер номер 1","1945-05-15","не оплачен",2578,0.05,128.9]
[175517,"","1945-05-15","оплачен",1125,"",""]
[175520,"Партнер номер 6","1945-05-15","оплачен",2874,0.04,114.96000000000001]
[175525,"","1945-05-15","оплачен",1489,"",""]
[175527,"Партнер номер 7","1945-05-15","оплачен",1620,0.05,81]
[175530,"Партнер номер 7","1945-05-15","оплачен",1745,0.05,87.25]
[175534,"","1945-05-15","не оплачен",1596,"",""]
[175538,"","1945-05-15","оплачен",2245,"",""]
[175539,"Партнер номер 5","1945-05-15","не оплачен",2912,0.03,87.36]
[175545,"Партнер номер 1","1945-05-15","не оплачен",2873,0.05,143.65]
[175547,"Партнер номер 3","1945-05-15","не оплачен",3851,0.05,192.55]
[175549,"Партнер номер 8","1945-05-15","оплачен",2615,0.03,78.45]
[175552,"Партнер номер 11","1945-05-15","оплачен",871,0.05,43.550000000000004]
[175554,"","1945-05-15","оплачен",2102,"",""]
[175557,"","1945-05-15","не оплачен",1129,"",""]
[175559,"","1945-05-15","оплачен",2134,"",""]
[175562,"","1945-05-15","не оплачен",2466,"",""]
[175564,"","1945-05-15","оплачен",1751,"",""]
[175567,"","1945-05-15","оплачен",3789,"",""]
[175570,"","1945-05-15","не оплачен",2132,"",""]
[175574,"","1945-05-15","оплачен",1446,"",""]
[175578,"Партнер номер 1","1945-05-15","оплачен",892,0.05,44.6]
[175579,"Партнер номер 7","1945-05-15","оплачен",1658,0.05,82.9]
[175581,"Партнер номер 7","1945-05-15","оплачен",1620,0.05,81]
[175585,"","1945-05-15","оплачен",1713,"",""]
[175592,"","1945-05-15","не оплачен",4037,"",""]
[175594,"Партнер номер 12","1945-05-15","не оплачен",2277,0.03,68.31]
[175596,"","1945-05-15","оплачен",1702,"",""]
[175605,"","1945-05-15","оплачен",2919,"",""]
[175609,"Партнер номер 1","1945-05-15","не оплачен",2160,0.05,108]
[175613,"Партнер номер 7","1945-05-15","оплачен",1673,0.05,83.65]
[175617,"Партнер номер 44","1945-05-15","не оплачен",1688,0.05,84.4]
[175622,"Партнер номер 1","1945-05-15","оплачен",1047,0.05,52.35]
[175627,"Партнер номер 3","1945-05-15","не оплачен",905,0.05,45.25]
[175632,"Партнер номер 1","1945-05-15","оплачен",2812,0.05,140.6]
[175635,"","1945-05-15","оплачен",3004,"",""]
[175640,"","1945-05-15","оплачен",2712,"",""]
[175645,"","1945-05-15","не оплачен",2457,"",""]
[175647,"Партнер номер 17","1945-05-15","оплачен",1099,0.04,43.96]
[175651,"","1945-05-15","оплачен",1676,"",""]
[175656,"Партнер номер 11","1945-05-15","оплачен",1075,0.05,53.75]
[175661,"","1945-05-15","оплачен",1178,"",""]
[175663,"","1945-05-15","оплачен",2751,"",""]
[175668,"","1945-05-15","оплачен",2147,"",""]
[175673,"","1945-05-15","не оплачен",5860,"",""]
[175675,"Партнер номер 5","1945-05-15","оплачен",1765,0.03,52.949999999999996]
[175678,"","1945-05-15","оплачен",1841,"",""]
[175682,"","1945-05-15","не оплачен",1061,"",""]
[175684,"Партнер номер 11","1945-05-15","оплачен",1650,0.05,82.5]
[175688,"Партнер номер 5","1945-05-15","оплачен",3182,0.03,95.46]
[175691,"","1945-05-15","оплачен",1117,"",""]
[175696,"Партнер номер 7","1945-05-15","не оплачен",1762,0.05,88.100000000000009]
[175698,"","1945-05-15","оплачен",1050,"",""]
[175703,"Партнер номер 11","1945-05-15","оплачен",1650,0.05,82.5]
[175705,"","1945-05-15","не оплачен",2988,"",""]
[175709,"Партнер номер 7","1945-05-15","не оплачен",1818,0.05,90.9]
[175714,"Партнер номер 1","1945-05-15","оплачен",4067,0.05,203.35000000000002]
[175716,"","1945-05-15","не оплачен",2988,"",""]
[175719,"Партнер номер 6","1945-05-15","не оплачен",1762,0.04,70.48]
[175724,"","1945-05-15","оплачен",3501,"",""]
[175726,"Партнер номер 3","1945-05-15","не оплачен",1400,0.05,70]
[175728,"Партнер номер 1","1945-05-15","оплачен",3573,0.05,178.65]
[175730,"","1945-05-15","оплачен",2391,"",""]
[175734,"","1945-05-15","оплачен",813,"",""]
[175738,"","1945-05-15","оплачен",2396,"",""]
[175740,"Партнер номер 6","1945-05-15","не оплачен",2169,0.04,86.76]
[175743,"","1945-05-15","оплачен",3500,"",""]
[175745,"Партнер номер 7","1945-05-15","оплачен",2027,0.05,101.35000000000001]
[175748,"Партнер номер 1","1945-05-15","не оплачен",857,0.05,42.85]
[175752,"Партнер номер 11","1945-05-15","не оплачен",1841,0.05,92.050000000000011]
[175756,"","1945-05-15","оплачен",1667,"",""]
[175758,"Партнер номер 3","1945-05-15","оплачен",1244,0.05,62.2]
[175759,"","1945-05-15","оплачен",2904,"",""]
[175765,"","1945-05-15","не оплачен",2113,"",""]
[175770,"Партнер номер 5","1945-05-15","оплачен",3416,0.03,102.47999999999999]
[175773,"","1945-05-15","оплачен",2141,"",""]
[175778,"","1945-05-15","оплачен",3146,"",""]
[175780,"Партнер номер 45","1945-05-15","оплачен",1717,0.04,68.680000000000007]
[175781,"Партнер номер 1","1945-05-15","оплачен",2483,0.05,124.15]
[175783,"","1945-05-15","оплачен",1279,"",""]
[175784,"","1945-05-15","оплачен",1436,"",""]
[175790,"","1945-05-15","оплачен",1824,"",""]
[175794,"","1945-05-15","оплачен",2801,"",""]
[175795,"Партнер номер 9","1945-05-15","оплачен",1438,0.05,71.900000000000006]
[175799,"","1945-05-15","оплачен",1067,"",""]
[175802,"Партнер номер 1","1945-05-15","оплачен",946,0.05,47.300000000000004]
[175808,"","1945-05-16","не оплачен",1173,"",""]
[175810,"","1945-05-16","не оплачен",1741,"",""]
[175812,"Партнер номер 1","1945-05-16","оплачен",1255,0.05,62.75]
[175817,"","1945-05-16","не оплачен",1834,"",""]
[175819,"Партнер номер 1","1945-05-16","оплачен",1203,0.05,60.150000000000006]
[175823,"","1945-05-16","оплачен",3400,"",""]
[175826,"Партнер номер 5","1945-05-16","не оплачен",1687,0.03,50.61]
[175829,"Партнер номер 29","1945-05-16","не оплачен",2063,0.05,103.15]
[175833,"Партнер номер 3","1945-05-16","не оплачен",3016,0.05,150.80000000000001]
[175836,"","1945-05-16","оплачен",1991,"",""]
[175841,"Партнер номер 11","1945-05-16","оплачен",2385,0.05,119.25]
[175843,"","1945-05-16","оплачен",1991,"",""]
[175845,"Партнер номер 1","1945-05-16","не оплачен",3130,0.05,156.5]
[175850,"Партнер номер 5","1945-05-16","не оплачен",1775,0.03,53.25]
[175851,"","1945-05-16","оплачен",2432,"",""]
[175854,"Партнер номер 5","1945-05-16","оплачен",3992,0.03,119.75999999999999]
[175856,"","1945-05-16","оплачен",4735,"",""]
[175859,"","1945-05-16","оплачен",2177,"",""]
[175862,"","1945-05-16","не оплачен",1790,"",""]
[175865,"Партнер номер 3","1945-05-16","оплачен",1229,0.05,61.45]
[175871,"Партнер номер 3","1945-05-16","оплачен",1212,0.05,60.6]
[175874,"","1945-05-16","не оплачен",375,"",""]
[175877,"","1945-05-16","не оплачен",4595,"",""]
[175880,"","1945-05-16","оплачен",1751,"",""]
[175883,"","1945-05-16","оплачен",1479,"",""]
[175885,"Партнер номер 1","1945-05-16","не оплачен",2443,0.05,122.15]
[175887,"Партнер номер 11","1945-05-16","не оплачен",1889,0.05,94.45]
[175892,"Партнер номер 5","1945-05-16","оплачен",1011,0.03,30.33]
[175896,"","1945-05-16","не оплачен",1135,"",""]
[175901,"Партнер номер 7","1945-05-16","не оплачен",1928,0.05,96.4]
[175905,"Партнер номер 7","1945-05-16","не оплачен",1928,0.05,96.4]
[175907,"","1945-05-16","оплачен",3412,"",""]
[175909,"","1945-05-16","оплачен",632,"",""]
[175912,"Партнер номер 5","1945-05-16","не оплачен",1775,0.03,53.25]
[175915,"","1945-05-16","оплачен",2129,"",""]
[175921,"","1945-05-16","оплачен",471,"",""]
[175926,"","1945-05-16","оплачен",1523,"",""]
[175931,"Партнер номер 5","1945-05-16","не оплачен",1775,0.03,53.25]
[175933,"","1945-05-16","оплачен",1484,"",""]
[175936,"","1945-05-16","не оплачен",1518,"",""]
[175940,"","1945-05-16","оплачен",801,"",""]
[175943,"Партнер номер 7","1945-05-16","не оплачен",1954,0.05,97.7]
[175948,"","1945-05-16","оплачен",2284,"",""]
[175951,"Партнер номер 25","1945-05-16","оплачен",3077,0.05,153.85000000000002]
[175953,"","1945-05-16","не оплачен",959,"",""]
[175958,"","1945-05-16","не оплачен",2004,"",""]
[175962,"","1945-05-16","оплачен",936,"",""]
[175967,"","1945-05-16","не оплачен",1358,"",""]
[175970,"Партнер номер 11","1945-05-16","оплачен",1171,0.05,58.550000000000004]
[175972,"","1945-05-16","оплачен",1896,"",""]
[175974,"Партнер номер 1","1945-05-16","оплачен",1174,0.05,58.7]
[175978,"","1945-05-16","оплачен",3404,"",""]
[175983,"","1945-05-16","оплачен",1183,"",""]
[175987,"","1945-05-16","не оплачен",2179,"",""]
[175991,"","1945-05-16","не оплачен",4784,"",""]
[175995,"Партнер номер 3","1945-05-16","оплачен",2156,0.05,107.80000000000001]
[175998,"Партнер номер 1","1945-05-16","оплачен",2294,0.05,114.7]
[176002,"","1945-05-16","не оплачен",3192,"",""]
[176006,"Партнер номер 5","1945-05-16","оплачен",1570,0.03,47.1]
[176009,"","1945-05-16","не оплачен",4784,"",""]
[176010,"Партнер номер 1","1945-05-16","оплачен",918,0.05,45.900000000000006]
[176014,"Партнер номер 10","1945-05-16","оплачен",1099,0.04,43.96]
[176018,"","1945-05-16","оплачен",1653,"",""]
[176020,"Партнер номер 5","1945-05-16","оплачен",2376,0.03,71.28]
[176025,"Партнер номер 5","1945-05-16","не оплачен",932,0.03,27.959999999999997]
[176027,"Партнер номер 7","1945-05-16","оплачен",845,0.05,42.25]
[176030,"","1945-05-16","оплачен",1912,"",""]
[176032,"","1945-05-16","оплачен",3753,"",""]
[176037,"","1945-05-16","оплачен",2153,"",""]
[176042,"Партнер номер 7","1945-05-16","не оплачен",871,0.05,43.550000000000004]
[176043,"","1945-05-16","оплачен",2153,"",""]
[176045,"Партнер номер 5","1945-05-16","оплачен",2042,0.03,61.26]
[176050,"","1945-05-16","оплачен",1471,"",""]
[176052,"Партнер номер 10","1945-05-16","не оплачен",571,0.04,22.84]
[176058,"","1945-05-16","оплачен",1164,"",""]
[176063,"","1945-05-16","оплачен",589,"",""]
[176065,"Партнер номер 1","1945-05-16","не оплачен",645,0.05,32.25]
[176082,"","1945-05-16","оплачен",1199,"",""]
[176085,"","1945-05-16","не оплачен",1897,"",""]
[176089,"Партнер номер 10","1945-05-16","не оплачен",571,0.04,22.84]
[176096,"","1945-05-16","не оплачен",645,"",""]
[176101,"Партнер номер 5","1945-05-16","не оплачен",3816,0.03,114.47999999999999]
[176104,"Партнер номер 1","1945-05-16","не оплачен",645,0.05,32.25]
[176108,"Партнер номер 11","1945-05-16","не оплачен",4069,0.05,203.45000000000002]
[176110,"Партнер номер 1","1945-05-16","оплачен",645,0.05,32.25]
[176115,"Партнер номер 1","1945-05-16","не оплачен",1036,0.05,51.800000000000004]
[176116,"","1945-05-16","не оплачен",917,"",""]
[176118,"Партнер номер 1","1945-05-16","не оплачен",645,0.05,32.25]
[176126,"","1945-05-16","не оплачен",1623,"",""]
[176130,"","1945-05-16","не оплачен",887,"",""]
[176131,"Партнер номер 7","1945-05-16","оплачен",482,0.05,24.1]
[176138,"Партнер номер 10","1945-05-16","оплачен",742,0.04,29.68]
[176141,"","1945-05-16","оплачен",1100,"",""]
[176143,"Партнер номер 11","1945-05-16","не оплачен",1572,0.05,78.600000000000009]
[176148,"","1945-05-16","оплачен",2606,"",""]
[176153,"Партнер номер 1","1945-05-16","не оплачен",747,0.05,37.35]
[176157,"Партнер номер 1","1945-05-16","не оплачен",747,0.05,37.35]
[176161,"","1945-05-16","не оплачен",1942,"",""]
[176166,"","1945-05-16","оплачен",2284,"",""]
[176167,"Партнер номер 1","1945-05-16","не оплачен",590,0.05,29.5]
[176170,"Партнер номер 1","1945-05-16","не оплачен",1021,0.05,51.050000000000004]
[176172,"Партнер номер 1","1945-05-16","оплачен",1617,0.05,80.850000000000009]
[176174,"","1945-05-16","оплачен",5852,"",""]
[176183,"","1945-05-16","не оплачен",2980,"",""]
[176187,"","1945-05-16","оплачен",3006,"",""]
[176189,"Партнер номер 31","1945-05-16","оплачен",2150,0.03,64.5]
[176194,"","1945-05-16","не оплачен",3943,"",""]
[176197,"Партнер номер 28","1945-05-16","оплачен",5677,0.05,283.85000000000002]
[176202,"Партнер номер 1","1945-05-16","не оплачен",590,0.05,29.5]
[176204,"Партнер номер 3","1945-05-16","не оплачен",2697,0.05,134.85]
[176205,"","1945-05-16","оплачен",2533,"",""]
[176209,"Партнер номер 5","1945-05-16","оплачен",1027,0.03,30.81]
[176213,"","1945-05-16","оплачен",2649,"",""]
[176217,"Партнер номер 1","1945-05-16","не оплачен",590,0.05,29.5]
[176221,"","1945-05-16","оплачен",6614,"",""]
[176225,"","1945-05-16","не оплачен",3835,"",""]
[176228,"","1945-05-16","оплачен",4191,"",""]
[176230,"","1945-05-16","оплачен",1245,"",""]
[176232,"Партнер номер 7","1945-05-16","оплачен",1589,0.05,79.45]
[176235,"Партнер номер 4","1945-05-16","оплачен",765,0.04,30.6]
[176238,"Партнер номер 7","1945-05-16","не оплачен",1015,0.05,50.75]
[176244,"Партнер номер 28","1945-05-16","оплачен",1261,0.05,63.050000000000004]
[176246,"","1945-05-16","не оплачен",1101,"",""]
[176250,"","1945-05-16","оплачен",723,"",""]
[176252,"Партнер номер 11","1945-05-16","оплачен",1943,0.05,97.15]
[176256,"Партнер номер 1","1945-05-16","не оплачен",691,0.05,34.550000000000004]
[176258,"Партнер номер 1","1945-05-16","оплачен",467,0.05,23.35]
[176262,"Партнер номер 7","1945-05-16","оплачен",890,0.05,44.5]
[176267,"Партнер номер 4","1945-05-16","не оплачен",760,0.04,30.400000000000002]
[176270,"Партнер номер 4","1945-05-16","не оплачен",2509,0.04,100.36]
[176274,"","1945-05-16","оплачен",3488,"",""]
[176278,"","1945-05-16","оплачен",2117,"",""]
[176283,"","1945-05-16","оплачен",2226,"",""]
[176288,"Партнер номер 5","1945-05-16","оплачен",1032,0.03,30.959999999999997]
[176291,"Партнер номер 7","1945-05-16","оплачен",2531,0.05,126.55000000000001]
[176296,"Партнер номер 1","1945-05-16","не оплачен",760,0.05,38]
[176300,"","1945-05-16","оплачен",6650,"",""]
[176302,"Партнер номер 8","1945-05-16","оплачен",1292,0.03,38.76]
[176304,"Партнер номер 1","1945-05-16","оплачен",838,0.05,41.900000000000006]
[176307,"Партнер номер 7","1945-05-16","не оплачен",2276,0.05,113.80000000000001]
[176308,"Партнер номер 1","1945-05-16","оплачен",2712,0.05,135.6]
[176310,"Партнер номер 46","1945-05-16","оплачен",721,0.05,36.050000000000004]
[176315,"Партнер номер 7","1945-05-16","не оплачен",993,0.05,49.650000000000006]
[176317,"Партнер номер 1","1945-05-16","не оплачен",718,0.05,35.9]
[176323,"Партнер номер 7","1945-05-16","оплачен",2276,0.05,113.80000000000001]
[176328,"Партнер номер 1","1945-05-16","не оплачен",1812,0.05,90.600000000000009]
[176330,"Партнер номер 11","1945-05-16","не оплачен",1809,0.05,90.45]
[176333,"","1945-05-16","оплачен",1897,"",""]
[176338,"Партнер номер 20","1945-05-16","оплачен",2298,0.03,68.94]
[176342,"Партнер номер 3","1945-05-16","не оплачен",4738,0.05,236.9]
[176344,"","1945-05-16","не оплачен",1276,"",""]
[176347,"","1945-05-16","оплачен",1126,"",""]
[176349,"Партнер номер 5","1945-05-16","не оплачен",4316,0.03,129.47999999999999]
[176354,"Партнер номер 1","1945-05-16","не оплачен",1213,0.05,60.650000000000006]
[176358,"","1945-05-16","не оплачен",3346,"",""]
[176359,"","1945-05-16","оплачен",2295,"",""]
[176363,"","1945-05-16","не оплачен",1926,"",""]
[176369,"Партнер номер 10","1945-05-16","оплачен",1090,0.04,43.6]
[176372,"","1945-05-16","оплачен",1743,"",""]
[176376,"","1945-05-16","не оплачен",1704,"",""]
[176381,"","1945-05-16","оплачен",3163,"",""]
[176385,"","1945-05-16","оплачен",2129,"",""]
[176388,"Партнер номер 1","1945-05-16","не оплачен",4489,0.05,224.45000000000002]
[176391,"","1945-05-16","оплачен",3154,"",""]
[176396,"Партнер номер 16","1945-05-16","не оплачен",3789,0.05,189.45000000000002]
[176399,"Партнер номер 1","1945-05-16","не оплачен",1685,0.05,84.25]
[176403,"Партнер номер 1","1945-05-16","оплачен",1891,0.05,94.550000000000011]
[176405,"","1945-05-16","оплачен",1704,"",""]
[176407,"Партнер номер 1","1945-05-16","оплачен",1908,0.05,95.4]
[176412,"","1945-05-16","оплачен",2057,"",""]
[176413,"Партнер номер 19","1945-05-16","не оплачен",917,0.05,45.85]
[176417,"Партнер номер 8","1945-05-16","оплачен",1575,0.03,47.25]
[176420,"Партнер номер 1","1945-05-16","не оплачен",1151,0.05,57.550000000000004]
[176424,"","1945-05-16","не оплачен",1635,"",""]
[176426,"","1945-05-16","оплачен",917,"",""]
[176430,"Партнер номер 3","1945-05-16","оплачен",3021,0.05,151.05000000000001]
[176435,"","1945-05-16","не оплачен",3006,"",""]
[176438,"","1945-05-16","не оплачен",2347,"",""]
[176440,"","1945-05-16","не оплачен",1809,"",""]
[176446,"Партнер номер 1","1945-05-16","оплачен",2192,0.05,109.60000000000001]
[176451,"","1945-05-16","не оплачен",3756,"",""]
[176456,"Партнер номер 1","1945-05-16","оплачен",2482,0.05,124.10000000000001]
[176460,"","1945-05-16","оплачен",3006,"",""]
[176463,"Партнер номер 9","1945-05-16","оплачен",2399,0.05,119.95]
[176467,"","1945-05-16","оплачен",1334,"",""]
[176470,"Партнер номер 1","1945-05-16","оплачен",561,0.05,28.05]
[176475,"","1945-05-16","оплачен",3916,"",""]
[176478,"Партнер номер 1","1945-05-16","оплачен",803,0.05,40.150000000000006]
[176480,"","1945-05-16","оплачен",864,"",""]
[176485,"Партнер номер 1","1945-05-16","не оплачен",3779,0.05,188.95000000000002]
[176486,"","1945-05-16","оплачен",842,"",""]
[176491,"Партнер номер 16","1945-05-16","оплачен",2943,0.05,147.15]
[176496,"","1945-05-16","оплачен",1885,"",""]
[176501,"Партнер номер 1","1945-05-16","оплачен",923,0.05,46.150000000000006]
[176503,"Партнер номер 9","1945-05-16","оплачен",2160,0.05,108]
[176509,"","1945-05-16","не оплачен",3048,"",""]
[176510,"","1945-05-16","оплачен",997,"",""]
[176512,"","1945-05-16","оплачен",1443,"",""]
[176517,"","1945-05-16","оплачен",1990,"",""]
[176521,"Партнер номер 9","1945-05-16","оплачен",3782,0.05,189.10000000000002]
[176522,"Партнер номер 1","1945-05-16","оплачен",985,0.05,49.25]
[176527,"","1945-05-16","не оплачен",2264,"",""]
[176530,"","1945-05-16","оплачен",3863,"",""]
[176536,"","1945-05-16","не оплачен",1671,"",""]
[176539,"","1945-05-16","не оплачен",2264,"",""]
[176543,"","1945-05-16","оплачен",1914,"",""]
[176548,"Партнер номер 5","1945-05-16","не оплачен",2167,0.03,65.009999999999991]
[176551,"Партнер номер 9","1945-05-16","оплачен",2362,0.05,118.10000000000001]
[176557,"Партнер номер 1","1945-05-16","оплачен",1735,0.05,86.75]
[176561,"","1945-05-16","оплачен",2088,"",""]
[176566,"","1945-05-16","оплачен",1489,"",""]
[176570,"Партнер номер 1","1945-05-16","не оплачен",1399,0.05,69.95]
[176572,"","1945-05-16","не оплачен",1240,"",""]
[176576,"","1945-05-16","оплачен",2137,"",""]
[176580,"","1945-05-16","оплачен",2857,"",""]
[176585,"","1945-05-16","не оплачен",1553,"",""]
[176590,"","1945-05-16","оплачен",2857,"",""]
[176595,"","1945-05-16","оплачен",2362,"",""]
[176597,"Партнер номер 1","1945-05-16","не оплачен",713,0.05,35.65]
[176601,"Партнер номер 6","1945-05-16","не оплачен",2725,0.04,109]
[176604,"","1945-05-16","оплачен",2970,"",""]
[176609,"Партнер номер 7","1945-05-16","оплачен",837,0.05,41.85]
[176613,"","1945-05-16","не оплачен",11279,"",""]
[176616,"Партнер номер 11","1945-05-16","оплачен",1332,0.05,66.600000000000009]
[176621,"Партнер номер 1","1945-05-16","оплачен",1411,0.05,70.55]
[176625,"Партнер номер 1","1945-05-16","оплачен",1577,0.05,78.850000000000009]
[176630,"Партнер номер 1","1945-05-16","оплачен",1577,0.05,78.850000000000009]
[176635,"Партнер номер 5","1945-05-16","не оплачен",2167,0.03,65.009999999999991]
[176636,"Партнер номер 3","1945-05-16","не оплачен",1966,0.05,98.300000000000011]
[176639,"Партнер номер 5","1945-05-16","оплачен",2167,0.03,65.009999999999991]
[176641,"Партнер номер 7","1945-05-16","оплачен",1606,0.05,80.300000000000011]
[176643,"Партнер номер 8","1945-05-16","не оплачен",4760,0.03,142.79999999999998]
[176646,"Партнер номер 10","1945-05-16","не оплачен",3418,0.04,136.72]
[176650,"Партнер номер 7","1945-05-16","оплачен",1674,0.05,83.7]
[176655,"Партнер номер 7","1945-05-16","оплачен",1613,0.05,80.650000000000006]
[176658,"","1945-05-16","оплачен",2461,"",""]
[176664,"","1945-05-16","оплачен",2868,"",""]
[176666,"","1945-05-16","оплачен",1390,"",""]
[176671,"","1945-05-16","оплачен",1536,"",""]
[176675,"Партнер номер 11","1945-05-16","оплачен",2643,0.05,132.15]
[176676,"","1945-05-16","не оплачен",2145,"",""]
[176679,"Партнер номер 10","1945-05-16","оплачен",3418,0.04,136.72]
[176682,"","1945-05-16","оплачен",1946,"",""]
[176684,"Партнер номер 1","1945-05-16","оплачен",4436,0.05,221.8]
[176687,"Партнер номер 11","1945-05-16","оплачен",2159,0.05,107.95]
[176691,"Партнер номер 1","1945-05-16","оплачен",1216,0.05,60.800000000000004]
[176694,"","1945-05-16","оплачен",1337,"",""]
[176699,"Партнер номер 28","1945-05-16","оплачен",2107,0.05,105.35000000000001]
[176701,"","1945-05-16","не оплачен",2649,"",""]
[176705,"","1945-05-16","оплачен",2944,"",""]
[176707,"Партнер номер 10","1945-05-16","не оплачен",952,0.04,38.08]
[176712,"Партнер номер 4","1945-05-16","не оплачен",1726,0.04,69.040000000000006]
[176716,"Партнер номер 7","1945-05-16","оплачен",1470,0.05,73.5]
[176721,"Партнер номер 10","1945-05-16","оплачен",1046,0.04,41.84]
[176725,"","1945-05-17","оплачен",2394,"",""]
[176729,"","1945-05-17","оплачен",1717,"",""]
[176730,"","1945-05-17","не оплачен",1986,"",""]
[176732,"","1945-05-17","оплачен",2151,"",""]
[176737,"Партнер номер 6","1945-05-17","не оплачен",1323,0.04,52.92]
[176740,"Партнер номер 3","1945-05-17","оплачен",4048,0.05,202.4]
[176743,"","1945-05-17","оплачен",3574,"",""]
[176747,"","1945-05-17","не оплачен",1281,"",""]
[176750,"Партнер номер 1","1945-05-17","оплачен",2587,0.05,129.35]
[176752,"","1945-05-17","оплачен",2122,"",""]
[176754,"","1945-05-17","оплачен",844,"",""]
[176756,"","1945-05-17","оплачен",624,"",""]
[176758,"","1945-05-17","оплачен",2026,"",""]
[176760,"Партнер номер 1","1945-05-17","оплачен",735,0.05,36.75]
[176762,"","1945-05-17","не оплачен",2797,"",""]
[176768,"Партнер номер 1","1945-05-17","оплачен",1951,0.05,97.550000000000011]
[176770,"","1945-05-17","оплачен",682,"",""]
[176774,"Партнер номер 10","1945-05-17","не оплачен",980,0.04,39.200000000000003]
[176778,"Партнер номер 5","1945-05-17","оплачен",5572,0.03,167.16]
[176780,"Партнер номер 1","1945-05-17","оплачен",415,0.05,20.75]
[176785,"","1945-05-17","не оплачен",460,"",""]
[176788,"Партнер номер 3","1945-05-17","оплачен",1006,0.05,50.300000000000004]
[176791,"Партнер номер 1","1945-05-17","не оплачен",860,0.05,43]
[176795,"","1945-05-17","оплачен",1987,"",""]
[176801,"Партнер номер 1","1945-05-17","оплачен",397,0.05,19.850000000000001]
[176802,"Партнер номер 1","1945-05-17","не оплачен",839,0.05,41.95]
[176807,"Партнер номер 1","1945-05-17","оплачен",848,0.05,42.400000000000006]
[176810,"","1945-05-17","не оплачен",1150,"",""]
[176814,"","1945-05-17","не оплачен",1686,"",""]
[176820,"","1945-05-17","оплачен",843,"",""]
[176824,"Партнер номер 1","1945-05-17","не оплачен",932,0.05,46.6]
[176827,"","1945-05-17","оплачен",2185,"",""]
[176833,"Партнер номер 1","1945-05-17","оплачен",555,0.05,27.75]
[176836,"Партнер номер 1","1945-05-17","оплачен",443,0.05,22.150000000000002]
[176841,"Партнер номер 1","1945-05-17","не оплачен",2180,0.05,109]
[176844,"Партнер номер 1","1945-05-17","не оплачен",397,0.05,19.850000000000001]
[176848,"Партнер номер 10","1945-05-17","не оплачен",3990,0.04,159.6]
[176851,"Партнер номер 11","1945-05-17","оплачен",2195,0.05,109.75]
[176856,"Партнер номер 7","1945-05-17","оплачен",1490,0.05,74.5]
[176859,"Партнер номер 1","1945-05-17","оплачен",397,0.05,19.850000000000001]
[176863,"Партнер номер 1","1945-05-17","не оплачен",860,0.05,43]
[176868,"Партнер номер 1","1945-05-17","не оплачен",698,0.05,34.9]
[176871,"","1945-05-17","не оплачен",2300,"",""]
[176876,"Партнер номер 19","1945-05-17","не оплачен",814,0.05,40.700000000000003]
[176881,"Партнер номер 1","1945-05-17","не оплачен",1504,0.05,75.2]
[176885,"","1945-05-17","оплачен",1533,"",""]
[176888,"","1945-05-17","оплачен",823,"",""]
[176890,"Партнер номер 1","1945-05-17","оплачен",883,0.05,44.150000000000006]
[176893,"","1945-05-17","не оплачен",1320,"",""]
[176896,"","1945-05-17","оплачен",3884,"",""]
[176901,"Партнер номер 1","1945-05-17","не оплачен",860,0.05,43]
[176906,"Партнер номер 1","1945-05-17","не оплачен",420,0.05,21]
[176909,"Партнер номер 7","1945-05-17","не оплачен",2533,0.05,126.65]
[176913,"Партнер номер 8","1945-05-17","оплачен",2682,0.03,80.459999999999994]
[176916,"Партнер номер 1","1945-05-17","оплачен",569,0.05,28.450000000000003]
[176921,"Партнер номер 25","1945-05-17","не оплачен",1393,0.05,69.650000000000006]
[176924,"","1945-05-17","не оплачен",1241,"",""]
[176928,"Партнер номер 1","1945-05-17","оплачен",2084,0.05,104.2]
[176933,"","1945-05-17","оплачен",2250,"",""]
[176935,"","1945-05-17","не оплачен",1239,"",""]
[176940,"Партнер номер 11","1945-05-17","оплачен",2801,0.05,140.05000000000001]
[176945,"","1945-05-17","не оплачен",2072,"",""]
[176951,"","1945-05-17","оплачен",960,"",""]
[176955,"Партнер номер 1","1945-05-17","оплачен",883,0.05,44.150000000000006]
[176957,"Партнер номер 1","1945-05-17","не оплачен",547,0.05,27.35]
[176958,"","1945-05-17","оплачен",2553,"",""]
[176962,"","1945-05-17","не оплачен",2584,"",""]
[176968,"","1945-05-17","оплачен",818,"",""]
[176970,"","1945-05-17","не оплачен",1510,"",""]
[176973,"Партнер номер 1","1945-05-17","не оплачен",920,0.05,46]
[176977,"","1945-05-17","оплачен",1324,"",""]
[176980,"Партнер номер 3","1945-05-17","оплачен",955,0.05,47.75]
[176982,"","1945-05-17","оплачен",1324,"",""]
[176987,"","1945-05-17","оплачен",1324,"",""]
[176992,"","1945-05-17","оплачен",1252,"",""]
[176996,"Партнер номер 1","1945-05-17","не оплачен",638,0.05,31.900000000000002]
[177001,"Партнер номер 47","1945-05-17","не оплачен",3797,0.05,189.85000000000002]
[177004,"Партнер номер 1","1945-05-17","оплачен",883,0.05,44.150000000000006]
[177007,"","1945-05-17","оплачен",1068,"",""]
[177010,"Партнер номер 11","1945-05-17","не оплачен",887,0.05,44.35]
[177014,"Партнер номер 5","1945-05-17","не оплачен",1544,0.03,46.32]
[177017,"Партнер номер 47","1945-05-17","не оплачен",2794,0.05,139.70000000000002]
[177022,"","1945-05-17","оплачен",442,"",""]
[177025,"","1945-05-17","оплачен",1426,"",""]
[177026,"","1945-05-17","не оплачен",787,"",""]
[177030,"","1945-05-17","оплачен",1127,"",""]
[177033,"Партнер номер 1","1945-05-17","не оплачен",420,0.05,21]
[177036,"Партнер номер 11","1945-05-17","оплачен",705,0.05,35.25]
[177038,"Партнер номер 1","1945-05-17","не оплачен",1269,0.05,63.45]
[177041,"","1945-05-17","оплачен",4090,"",""]
[177042,"Партнер номер 1","1945-05-17","оплачен",1679,0.05,83.95]
[177046,"","1945-05-17","оплачен",1460,"",""]
[177050,"Партнер номер 1","1945-05-17","не оплачен",905,0.05,45.25]
[177056,"","1945-05-17","оплачен",706,"",""]
[177059,"Партнер номер 1","1945-05-17","оплачен",1063,0.05,53.150000000000006]
[177062,"Партнер номер 11","1945-05-17","оплачен",525,0.05,26.25]
[177064,"Партнер номер 1","1945-05-17","не оплачен",883,0.05,44.150000000000006]
[177068,"Партнер номер 15","1945-05-17","оплачен",2092,0.03,62.76]
[177070,"Партнер номер 1","1945-05-17","оплачен",1519,0.05,75.95]
[177073,"Партнер номер 2","1945-05-17","не оплачен",1612,0.04,64.48]
[177077,"Партнер номер 1","1945-05-17","оплачен",2025,0.05,101.25]
[177079,"Партнер номер 7","1945-05-17","оплачен",1788,0.05,89.4]
[177081,"","1945-05-17","не оплачен",2835,"",""]
[177084,"Партнер номер 1","1945-05-17","оплачен",4817,0.05,240.85000000000002]
[177089,"Партнер номер 1","1945-05-17","оплачен",4817,0.05,240.85000000000002]
[177094,"","1945-05-17","оплачен",1063,"",""]
[177099,"Партнер номер 11","1945-05-17","оплачен",763,0.05,38.15]
[177103,"","1945-05-17","оплачен",2957,"",""]
[177107,"Партнер номер 11","1945-05-17","оплачен",701,0.05,35.050000000000004]
[177112,"","1945-05-17","оплачен",992,"",""]
[177117,"Партнер номер 11","1945-05-17","оплачен",1452,0.05,72.600000000000009]
[177120,"","1945-05-17","не оплачен",1301,"",""]
[177124,"","1945-05-17","оплачен",1454,"",""]
[177129,"","1945-05-17","не оплачен",1111,"",""]
[177132,"Партнер номер 25","1945-05-17","оплачен",1393,0.05,69.650000000000006]
[177134,"Партнер номер 1","1945-05-17","оплачен",974,0.05,48.7]
[177137,"","1945-05-17","не оплачен",1591,"",""]
[177140,"Партнер номер 7","1945-05-17","оплачен",3081,0.05,154.05000000000001]
[177144,"Партнер номер 6","1945-05-17","оплачен",1559,0.04,62.36]
[177145,"Партнер номер 1","1945-05-17","оплачен",371,0.05,18.55]
[177148,"Партнер номер 1","1945-05-17","оплачен",2191,0.05,109.55000000000001]
[177149,"Партнер номер 1","1945-05-17","не оплачен",2741,0.05,137.05000000000001]
[177154,"Партнер номер 11","1945-05-17","не оплачен",1765,0.05,88.25]
[177160,"Партнер номер 4","1945-05-17","оплачен",1692,0.04,67.680000000000007]
[177161,"","1945-05-17","оплачен",2202,"",""]
[177165,"","1945-05-17","оплачен",2859,"",""]
[177167,"Партнер номер 11","1945-05-17","не оплачен",860,0.05,43]
[177172,"","1945-05-17","не оплачен",1211,"",""]
[177181,"","1945-05-17","оплачен",2492,"",""]
[177191,"Партнер номер 1","1945-05-17","не оплачен",1489,0.05,74.45]
[177196,"","1945-05-17","не оплачен",1211,"",""]
[177205,"Партнер номер 1","1945-05-17","оплачен",1412,0.05,70.600000000000009]
[177210,"Партнер номер 3","1945-05-17","не оплачен",2196,0.05,109.80000000000001]
[177212,"","1945-05-17","оплачен",914,"",""]
[177218,"","1945-05-17","оплачен",784,"",""]
[177221,"","1945-05-17","не оплачен",1763,"",""]
[177225,"","1945-05-17","не оплачен",1659,"",""]
[177237,"Партнер номер 5","1945-05-17","оплачен",1835,0.03,55.05]
[177242,"Партнер номер 1","1945-05-17","не оплачен",500,0.05,25]
[177251,"Партнер номер 1","1945-05-17","оплачен",2319,0.05,115.95]
[177259,"Партнер номер 5","1945-05-17","оплачен",2836,0.03,85.08]
[177263,"","1945-05-17","оплачен",2383,"",""]
[177265,"","1945-05-17","оплачен",3460,"",""]
[177271,"","1945-05-17","оплачен",3277,"",""]
[177273,"","1945-05-17","не оплачен",1421,"",""]
[177276,"","1945-05-17","не оплачен",2372,"",""]
[177283,"Партнер номер 37","1945-05-17","оплачен",1381,0.05,69.05]
[177286,"Партнер номер 5","1945-05-17","не оплачен",2042,0.03,61.26]
[177290,"","1945-05-17","оплачен",2398,"",""]
[177292,"","1945-05-17","оплачен",7713,"",""]
[177297,"Партнер номер 1","1945-05-17","оплачен",724,0.05,36.200000000000003]
[177299,"Партнер номер 1","1945-05-17","оплачен",502,0.05,25.1]
[177306,"","1945-05-17","оплачен",628,"",""]
[177310,"Партнер номер 1","1945-05-17","оплачен",500,0.05,25]
[177315,"Партнер номер 2","1945-05-17","не оплачен",1745,0.04,69.8]
[177318,"","1945-05-17","оплачен",3386,"",""]
[177322,"","1945-05-17","оплачен",1911,"",""]
[177324,"Партнер номер 42","1945-05-17","не оплачен",2245,0.05,112.25]
[177335,"Партнер номер 3","1945-05-17","не оплачен",416,0.05,20.8]
[177340,"","1945-05-17","не оплачен",3069,"",""]
[177346,"","1945-05-17","не оплачен",1366,"",""]
[177348,"","1945-05-17","оплачен",973,"",""]
[177353,"","1945-05-17","не оплачен",3609,"",""]
[177358,"","1945-05-17","оплачен",1327,"",""]
[177360,"Партнер номер 1","1945-05-17","оплачен",3102,0.05,155.10000000000002]
[177365,"Партнер номер 1","1945-05-17","оплачен",1312,0.05,65.600000000000009]
[177368,"Партнер номер 46","1945-05-17","не оплачен",1600,0.05,80]
[177372,"","1945-05-17","оплачен",3099,"",""]
[177375,"","1945-05-17","оплачен",6431,"",""]
[177378,"","1945-05-17","оплачен",3428,"",""]
[177383,"Партнер номер 2","1945-05-17","оплачен",1957,0.04,78.28]
[177385,"","1945-05-17","оплачен",2028,"",""]
[177386,"","1945-05-17","оплачен",2659,"",""]
[177388,"","1945-05-17","оплачен",1194,"",""]
[177390,"Партнер номер 3","1945-05-17","не оплачен",1884,0.05,94.2]
[177393,"Партнер номер 5","1945-05-17","не оплачен",4639,0.03,139.16999999999999]
[177396,"Партнер номер 5","1945-05-17","не оплачен",2830,0.03,84.899999999999991]
[177398,"","1945-05-17","оплачен",2780,"",""]
[177402,"","1945-05-17","не оплачен",5229,"",""]
[177406,"Партнер номер 48","1945-05-17","не оплачен",2599,0.03,77.97]
[177408,"","1945-05-17","оплачен",1227,"",""]
[177412,"Партнер номер 3","1945-05-17","оплачен",1363,0.05,68.150000000000006]
[177417,"Партнер номер 5","1945-05-17","не оплачен",3760,0.03,112.8]
[177421,"Партнер номер 1","1945-05-17","оплачен",3365,0.05,168.25]
[177424,"","1945-05-17","не оплачен",1991,"",""]
[177429,"","1945-05-17","не оплачен",668,"",""]
[177434,"","1945-05-17","не оплачен",3749,"",""]
[177437,"","1945-05-17","оплачен",1928,"",""]
[177441,"","1945-05-17","не оплачен",2183,"",""]
[177446,"Партнер номер 5","1945-05-17","не оплачен",1907,0.03,57.21]
[177449,"Партнер номер 1","1945-05-17","оплачен",2219,0.05,110.95]
[177452,"Партнер номер 1","1945-05-17","оплачен",5749,0.05,287.45]
[177456,"Партнер номер 1","1945-05-17","оплачен",4196,0.05,209.8]
[177459,"Партнер номер 1","1945-05-17","оплачен",1267,0.05,63.35]
[177464,"Партнер номер 11","1945-05-17","не оплачен",860,0.05,43]
[177467,"Партнер номер 1","1945-05-17","оплачен",1736,0.05,86.800000000000011]
[177478,"Партнер номер 1","1945-05-17","не оплачен",1393,0.05,69.650000000000006]
[177484,"Партнер номер 4","1945-05-17","не оплачен",1800,0.04,72]
[177486,"Партнер номер 10","1945-05-17","оплачен",1460,0.04,58.4]
[177488,"Партнер номер 3","1945-05-17","оплачен",2780,0.05,139]
[177493,"Партнер номер 1","1945-05-17","не оплачен",1078,0.05,53.900000000000006]
[177498,"","1945-05-17","не оплачен",717,"",""]
[177503,"","1945-05-17","оплачен",2160,"",""]
[177507,"Партнер номер 1","1945-05-17","оплачен",3391,0.05,169.55]
[177509,"","1945-05-17","оплачен",3985,"",""]
[177512,"","1945-05-17","оплачен",2589,"",""]
[177514,"Партнер номер 11","1945-05-17","не оплачен",2551,0.05,127.55000000000001]
[177519,"","1945-05-17","оплачен",2582,"",""]
[177523,"Партнер номер 1","1945-05-17","оплачен",1261,0.05,63.050000000000004]
[177525,"Партнер номер 1","1945-05-17","оплачен",3007,0.05,150.35]
[177529,"","1945-05-17","не оплачен",3046,"",""]
[177532,"","1945-05-17","оплачен",2962,"",""]
[177536,"Партнер номер 1","1945-05-17","оплачен",2273,0.05,113.65]
[177540,"Партнер номер 1","1945-05-17","не оплачен",755,0.05,37.75]
[177542,"Партнер номер 1","1945-05-17","оплачен",2244,0.05,112.2]
[177547,"","1945-05-17","оплачен",1895,"",""]
[177549,"","1945-05-17","оплачен",1019,"",""]
[177553,"","1945-05-17","оплачен",3765,"",""]
[177558,"","1945-05-17","оплачен",4448,"",""]
[177560,"Партнер номер 1","1945-05-17","оплачен",1912,0.05,95.600000000000009]
[177563,"Партнер номер 5","1945-05-17","не оплачен",1813,0.03,54.39]
[177568,"","1945-05-17","оплачен",1013,"",""]
[177571,"","1945-05-17","оплачен",2615,"",""]
[177574,"Партнер номер 1","1945-05-17","не оплачен",4448,0.05,222.4]
[177576,"Партнер номер 1","1945-05-17","не оплачен",1725,0.05,86.25]
[177581,"Партнер номер 11","1945-05-17","оплачен",1510,0.05,75.5]
[177582,"","1945-05-17","не оплачен",2108,"",""]
[177587,"Партнер номер 3","1945-05-17","оплачен",1429,0.05,71.45]
[177590,"Партнер номер 3","1945-05-17","не оплачен",1419,0.05,70.95]
[177592,"Партнер номер 7","1945-05-17","не оплачен",922,0.05,46.1]
[177595,"","1945-05-17","не оплачен",954,"",""]
[177600,"","1945-05-17","оплачен",2013,"",""]
[177602,"Партнер номер 1","1945-05-17","оплачен",3041,0.05,152.05000000000001]
[177606,"","1945-05-17","оплачен",2066,"",""]
[177610,"","1945-05-17","оплачен",3405,"",""]
[177612,"","1945-05-17","оплачен",5898,"",""]
[177615,"Партнер номер 3","1945-05-17","оплачен",1701,0.05,85.050000000000011]
[177619,"Партнер номер 11","1945-05-17","оплачен",1467,0.05,73.350000000000009]
[177622,"","1945-05-17","оплачен",1509,"",""]
[177624,"Партнер номер 1","1945-05-17","оплачен",1094,0.05,54.7]
[177627,"","1945-05-17","оплачен",1203,"",""]
[177632,"","1945-05-17","оплачен",1259,"",""]
[177638,"","1945-05-17","не оплачен",2500,"",""]
[177643,"Партнер номер 5","1945-05-18","не оплачен",3627,0.03,108.81]
[177648,"","1945-05-18","не оплачен",812,"",""]
[177651,"Партнер номер 46","1945-05-18","оплачен",1325,0.05,66.25]
[177654,"Партнер номер 1","1945-05-18","не оплачен",2137,0.05,106.85000000000001]
[177658,"","1945-05-18","не оплачен",4541,"",""]
[177661,"Партнер номер 7","1945-05-18","оплачен",2461,0.05,123.05000000000001]
[177667,"","1945-05-18","не оплачен",1720,"",""]
[177671,"Партнер номер 11","1945-05-18","не оплачен",860,0.05,43]
[177675,"Партнер номер 1","1945-05-18","не оплачен",1177,0.05,58.85]
[177679,"Партнер номер 1","1945-05-18","оплачен",1177,0.05,58.85]
[177681,"Партнер номер 7","1945-05-18","оплачен",3543,0.05,177.15]
[177683,"Партнер номер 19","1945-05-18","оплачен",2336,0.05,116.80000000000001]
[177687,"Партнер номер 7","1945-05-18","не оплачен",1084,0.05,54.2]
[177690,"Партнер номер 3","1945-05-18","оплачен",1440,0.05,72]
[177691,"","1945-05-18","не оплачен",2357,"",""]
[177695,"","1945-05-18","оплачен",3988,"",""]
[177698,"Партнер номер 3","1945-05-18","оплачен",301,0.05,15.05]
[177699,"","1945-05-18","не оплачен",2602,"",""]
[177703,"Партнер номер 1","1945-05-18","не оплачен",380,0.05,19]
[177707,"","1945-05-18","оплачен",1893,"",""]
[177709,"Партнер номер 5","1945-05-18","оплачен",1509,0.03,45.269999999999996]
[177712,"Партнер номер 5","1945-05-18","оплачен",2967,0.03,89.009999999999991]
[177716,"Партнер номер 1","1945-05-18","оплачен",6982,0.05,349.1]
[177720,"Партнер номер 48","1945-05-18","оплачен",916,0.03,27.48]
[177722,"Партнер номер 3","1945-05-18","оплачен",1417,0.05,70.850000000000009]
[177727,"","1945-05-18","оплачен",3277,"",""]
[177732,"","1945-05-18","оплачен",1865,"",""]
[177736,"Партнер номер 11","1945-05-18","не оплачен",2374,0.05,118.7]
[177741,"Партнер номер 11","1945-05-18","не оплачен",2699,0.05,134.95000000000002]
[177746,"","1945-05-18","оплачен",633,"",""]
[177749,"Партнер номер 1","1945-05-18","оплачен",380,0.05,19]
[177751,"Партнер номер 1","1945-05-18","оплачен",2561,0.05,128.05000000000001]
[177754,"Партнер номер 11","1945-05-18","оплачен",903,0.05,45.150000000000006]
[177757,"","1945-05-18","не оплачен",397,"",""]
[177760,"","1945-05-18","оплачен",3316,"",""]
[177762,"Партнер номер 1","1945-05-18","оплачен",802,0.05,40.1]
[177767,"Партнер номер 1","1945-05-18","оплачен",1427,0.05,71.350000000000009]
[177769,"","1945-05-18","оплачен",1086,"",""]
[177773,"","1945-05-18","оплачен",2584,"",""]
[177777,"Партнер номер 46","1945-05-18","оплачен",2154,0.05,107.7]
[177781,"","1945-05-18","оплачен",1214,"",""]
[177786,"","1945-05-18","не оплачен",2120,"",""]
[177790,"","1945-05-18","оплачен",2969,"",""]
[177794,"","1945-05-18","оплачен",1417,"",""]
[177798,"Партнер номер 1","1945-05-18","оплачен",1491,0.05,74.55]
[177802,"Партнер номер 8","1945-05-18","оплачен",4982,0.03,149.46]
[177808,"","1945-05-18","не оплачен",2295,"",""]
[177809,"","1945-05-18","оплачен",2342,"",""]
[177811,"","1945-05-18","оплачен",2798,"",""]
[177814,"Партнер номер 11","1945-05-18","не оплачен",2120,0.05,106]
[177819,"Партнер номер 7","1945-05-18","оплачен",916,0.05,45.800000000000004]
[177824,"","1945-05-18","оплачен",1535,"",""]
[177834,"","1945-05-18","оплачен",4782,"",""]
[177836,"","1945-05-18","оплачен",1479,"",""]
[177838,"Партнер номер 10","1945-05-18","не оплачен",1768,0.04,70.72]
[177849,"Партнер номер 1","1945-05-18","оплачен",2648,0.05,132.4]
[177851,"Партнер номер 1","1945-05-18","не оплачен",1770,0.05,88.5]
[177860,"Партнер номер 1","1945-05-18","не оплачен",258,0.05,12.9]
[177864,"","1945-05-18","оплачен",1540,"",""]
[177866,"","1945-05-18","оплачен",2131,"",""]
[177873,"","1945-05-18","оплачен",2131,"",""]
[177879,"","1945-05-18","оплачен",2545,"",""]
[177890,"","1945-05-18","оплачен",1590,"",""]
[177892,"","1945-05-18","оплачен",934,"",""]
[177895,"","1945-05-18","оплачен",3343,"",""]
[177896,"Партнер номер 7","1945-05-18","не оплачен",825,0.05,41.25]
[177901,"","1945-05-18","оплачен",1248,"",""]
[177905,"","1945-05-18","оплачен",2634,"",""]
[177909,"","1945-05-18","не оплачен",2518,"",""]
[177911,"Партнер номер 10","1945-05-18","не оплачен",4887,0.04,195.48000000000002]
[177914,"","1945-05-18","оплачен",1443,"",""]
[177918,"Партнер номер 20","1945-05-18","оплачен",4073,0.03,122.19]
[177922,"Партнер номер 42","1945-05-18","оплачен",2462,0.05,123.10000000000001]
[177925,"","1945-05-18","оплачен",3916,"",""]
[177929,"Партнер номер 28","1945-05-18","не оплачен",2568,0.05,128.4]
[177934,"","1945-05-18","оплачен",829,"",""]
[177937,"","1945-05-18","оплачен",2365,"",""]
[177939,"Партнер номер 1","1945-05-18","оплачен",1053,0.05,52.650000000000006]
[177941,"","1945-05-18","оплачен",2333,"",""]
[177945,"Партнер номер 1","1945-05-18","не оплачен",1076,0.05,53.800000000000004]
[177947,"Партнер номер 11","1945-05-18","оплачен",1912,0.05,95.600000000000009]
[177952,"","1945-05-18","не оплачен",2538,"",""]
[177954,"Партнер номер 25","1945-05-18","оплачен",7066,0.05,353.3]
[177957,"","1945-05-18","не оплачен",3501,"",""]
[177959,"Партнер номер 1","1945-05-18","оплачен",2694,0.05,134.70000000000002]
[177961,"","1945-05-18","оплачен",1682,"",""]
[177966,"Партнер номер 11","1945-05-18","оплачен",1153,0.05,57.650000000000006]
[177968,"Партнер номер 1","1945-05-18","оплачен",2013,0.05,100.65]
[177971,"","1945-05-18","не оплачен",933,"",""]
[177975,"Партнер номер 1","1945-05-18","не оплачен",1964,0.05,98.2]
[177979,"","1945-05-18","оплачен",1316,"",""]
[177983,"Партнер номер 10","1945-05-18","оплачен",985,0.04,39.4]
[177986,"Партнер номер 1","1945-05-18","не оплачен",781,0.05,39.050000000000004]
[177991,"","1945-05-18","не оплачен",2343,"",""]
[177993,"","1945-05-18","не оплачен",1972,"",""]
[177999,"Партнер номер 1","1945-05-18","не оплачен",380,0.05,19]
[178001,"Партнер номер 5","1945-05-18","оплачен",2938,0.03,88.14]
[178006,"Партнер номер 1","1945-05-18","оплачен",564,0.05,28.200000000000003]
[178008,"Партнер номер 3","1945-05-18","не оплачен",2316,0.05,115.80000000000001]
[178009,"","1945-05-18","оплачен",0,"",""]
[178014,"","1945-05-18","оплачен",0,"",""]
[178016,"","1945-05-18","оплачен",0,"",""]
[178021,"Партнер номер 11","1945-05-18","оплачен",5624,0.05,281.2]
[178022,"Партнер номер 1","1945-05-18","не оплачен",1164,0.05,58.2]
[178028,"","1945-05-18","оплачен",3436,"",""]
[178032,"","1945-05-18","оплачен",1411,"",""]
[178036,"Партнер номер 11","1945-05-18","оплачен",1994,0.05,99.7]
[178038,"","1945-05-18","оплачен",1901,"",""]
[178043,"","1945-05-18","оплачен",649,"",""]
[178047,"Партнер номер 26","1945-05-18","оплачен",1133,0.05,56.650000000000006]
[178052,"","1945-05-18","не оплачен",8204,"",""]
[178055,"Партнер номер 7","1945-05-18","оплачен",2464,0.05,123.2]
[178058,"","1945-05-18","оплачен",2243,"",""]
[178060,"","1945-05-18","не оплачен",4976,"",""]
[178064,"","1945-05-18","оплачен",1216,"",""]
[178066,"","1945-05-18","оплачен",4091,"",""]
[178072,"","1945-05-18","оплачен",1216,"",""]
[178077,"Партнер номер 7","1945-05-18","не оплачен",1417,0.05,70.850000000000009]
[178081,"Партнер номер 5","1945-05-18","оплачен",2087,0.03,62.61]
[178083,"","1945-05-18","оплачен",1691,"",""]
[178089,"","1945-05-18","оплачен",2521,"",""]
[178093,"","1945-05-18","оплачен",1729,"",""]
[178096,"Партнер номер 1","1945-05-18","оплачен",2086,0.05,104.30000000000001]
[178101,"Партнер номер 1","1945-05-18","не оплачен",1558,0.05,77.900000000000006]
[178106,"","1945-05-18","оплачен",2891,"",""]
[178111,"Партнер номер 4","1945-05-18","не оплачен",1044,0.04,41.76]
[178113,"","1945-05-18","оплачен",1843,"",""]
[178118,"Партнер номер 11","1945-05-18","не оплачен",952,0.05,47.6]
[178120,"","1945-05-18","оплачен",3183,"",""]
[178124,"","1945-05-18","не оплачен",3051,"",""]
[178128,"Партнер номер 7","1945-05-18","не оплачен",1248,0.05,62.400000000000006]
[178131,"","1945-05-18","оплачен",4623,"",""]
[178134,"","1945-05-18","оплачен",3051,"",""]
[178138,"Партнер номер 1","1945-05-18","не оплачен",1584,0.05,79.2]
[178141,"","1945-05-18","оплачен",3445,"",""]
[178145,"Партнер номер 1","1945-05-18","оплачен",606,0.05,30.3]
[178149,"","1945-05-18","оплачен",1477,"",""]
[178154,"","1945-05-18","оплачен",3660,"",""]
[178157,"","1945-05-18","оплачен",1155,"",""]
[178162,"","1945-05-18","оплачен",1411,"",""]
[178165,"","1945-05-18","оплачен",2459,"",""]
[178169,"","1945-05-18","оплачен",1628,"",""]
[178172,"Партнер номер 1","1945-05-18","оплачен",1744,0.05,87.2]
[178173,"Партнер номер 46","1945-05-18","не оплачен",3088,0.05,154.4]
[178176,"","1945-05-18","оплачен",1027,"",""]
[178180,"Партнер номер 1","1945-05-18","не оплачен",3088,0.05,154.4]
[178184,"","1945-05-18","не оплачен",863,"",""]
[178186,"","1945-05-18","оплачен",2605,"",""]
[178188,"Партнер номер 1","1945-05-18","оплачен",1744,0.05,87.2]
[178189,"Партнер номер 11","1945-05-18","оплачен",1732,0.05,86.600000000000009]
[178193,"","1945-05-18","оплачен",7977,"",""]
[178198,"Партнер номер 1","1945-05-18","оплачен",1286,0.05,64.3]
[178201,"Партнер номер 1","1945-05-18","оплачен",475,0.05,23.75]
[178202,"","1945-05-18","оплачен",3998,"",""]
[178204,"","1945-05-18","оплачен",1947,"",""]
[178208,"Партнер номер 7","1945-05-18","оплачен",1723,0.05,86.15]
[178213,"","1945-05-18","оплачен",2449,"",""]
[178217,"","1945-05-18","оплачен",3098,"",""]
[178222,"Партнер номер 11","1945-05-18","не оплачен",1732,0.05,86.600000000000009]
[178227,"","1945-05-18","оплачен",537,"",""]
[178232,"Партнер номер 1","1945-05-18","оплачен",550,0.05,27.5]
[178234,"","1945-05-18","не оплачен",1951,"",""]
[178235,"","1945-05-18","оплачен",2352,"",""]
[178240,"","1945-05-18","не оплачен",1010,"",""]
[178241,"Партнер номер 1","1945-05-18","не оплачен",1872,0.05,93.600000000000009]
[178245,"","1945-05-18","оплачен",1588,"",""]
[178248,"Партнер номер 11","1945-05-18","оплачен",4688,0.05,234.4]
[178252,"Партнер номер 46","1945-05-18","не оплачен",3088,0.05,154.4]
[178257,"","1945-05-18","оплачен",1995,"",""]
[178259,"Партнер номер 7","1945-05-18","оплачен",1947,0.05,97.350000000000009]
[178262,"Партнер номер 3","1945-05-18","не оплачен",633,0.05,31.650000000000002]
[178264,"Партнер номер 1","1945-05-18","не оплачен",1990,0.05,99.5]
[178267,"Партнер номер 5","1945-05-18","оплачен",3318,0.03,99.539999999999992]
[178269,"","1945-05-18","не оплачен",3082,"",""]
[178274,"","1945-05-18","оплачен",1440,"",""]
[178278,"","1945-05-18","оплачен",2392,"",""]
[178281,"","1945-05-18","не оплачен",2312,"",""]
[178284,"Партнер номер 1","1945-05-18","оплачен",2097,0.05,104.85000000000001]
[178286,"Партнер номер 8","1945-05-18","не оплачен",2546,0.03,76.38]
[178289,"","1945-05-18","оплачен",1397,"",""]
[178293,"Партнер номер 11","1945-05-18","оплачен",530,0.05,26.5]
[178297,"","1945-05-18","не оплачен",3343,"",""]
[178302,"","1945-05-18","оплачен",2493,"",""]
[178306,"","1945-05-18","не оплачен",3082,"",""]
[178310,"","1945-05-18","оплачен",2988,"",""]
[178315,"Партнер номер 11","1945-05-18","оплачен",3558,0.05,177.9]
[178320,"Партнер номер 1","1945-05-18","не оплачен",2434,0.05,121.7]
[178324,"","1945-05-18","оплачен",1395,"",""]
[178326,"Партнер номер 8","1945-05-18","не оплачен",1679,0.03,50.37]
[178328,"","1945-05-18","не оплачен",2427,"",""]
[178331,"","1945-05-18","оплачен",3692,"",""]
[178334,"","1945-05-18","не оплачен",2180,"",""]
[178339,"Партнер номер 1","1945-05-18","не оплачен",633,0.05,31.650000000000002]
[178343,"Партнер номер 1","1945-05-18","оплачен",1627,0.05,81.350000000000009]
[178349,"","1945-05-18","не оплачен",2427,"",""]
[178352,"Партнер номер 5","1945-05-18","оплачен",3336,0.03,100.08]
[178356,"Партнер номер 1","1945-05-18","оплачен",724,0.05,36.200000000000003]
[178358,"","1945-05-18","оплачен",3027,"",""]
[178361,"Партнер номер 1","1945-05-18","не оплачен",1639,0.05,81.95]
[178364,"Партнер номер 7","1945-05-18","оплачен",2188,0.05,109.4]
[178368,"","1945-05-18","не оплачен",742,"",""]
[178372,"","1945-05-18","оплачен",1960,"",""]
[178374,"","1945-05-18","оплачен",1524,"",""]
[178377,"","1945-05-18","оплачен",683,"",""]
[178380,"","1945-05-18","оплачен",2204,"",""]
[178382,"Партнер номер 3","1945-05-18","не оплачен",627,0.05,31.35]
[178384,"","1945-05-18","не оплачен",2427,"",""]
[178387,"Партнер номер 1","1945-05-18","оплачен",2204,0.05,110.2]
[178392,"Партнер номер 5","1945-05-18","не оплачен",2034,0.03,61.019999999999996]
[178395,"Партнер номер 1","1945-05-18","не оплачен",2250,0.05,112.5]
[178398,"Партнер номер 11","1945-05-18","оплачен",1463,0.05,73.150000000000006]
[178402,"Партнер номер 5","1945-05-18","оплачен",2138,0.03,64.14]
[178406,"","1945-05-18","не оплачен",1578,"",""]
[178410,"","1945-05-18","оплачен",943,"",""]
[178413,"","1945-05-18","оплачен",1055,"",""]
[178417,"Партнер номер 4","1945-05-18","оплачен",1756,0.04,70.239999999999995]
[178422,"Партнер номер 1","1945-05-18","оплачен",1212,0.05,60.6]
[178426,"Партнер номер 1","1945-05-18","оплачен",2085,0.05,104.25]
[178431,"","1945-05-18","оплачен",4128,"",""]
[178433,"","1945-05-18","оплачен",1167,"",""]
[178434,"","1945-05-18","оплачен",2620,"",""]
[178439,"","1945-05-18","не оплачен",3183,"",""]
[178440,"","1945-05-18","оплачен",2083,"",""]
[178443,"Партнер номер 1","1945-05-18","оплачен",821,0.05,41.050000000000004]
[178445,"","1945-05-18","не оплачен",1152,"",""]
[178447,"Партнер номер 11","1945-05-18","оплачен",2357,0.05,117.85000000000001]
[178451,"","1945-05-18","не оплачен",3322,"",""]
[178455,"Партнер номер 7","1945-05-19","не оплачен",2934,0.05,146.70000000000002]
[178456,"Партнер номер 1","1945-05-19","не оплачен",1358,0.05,67.900000000000006]
[178459,"Партнер номер 1","1945-05-19","не оплачен",1471,0.05,73.55]
[178463,"Партнер номер 1","1945-05-19","оплачен",1254,0.05,62.7]
[178466,"","1945-05-19","оплачен",1987,"",""]
[178470,"","1945-05-19","не оплачен",2089,"",""]
[178475,"Партнер номер 1","1945-05-19","оплачен",1273,0.05,63.650000000000006]
[178480,"Партнер номер 5","1945-05-19","оплачен",1702,0.03,51.059999999999995]
[178481,"","1945-05-19","оплачен",984,"",""]
[178485,"","1945-05-19","оплачен",3561,"",""]
[178489,"","1945-05-19","оплачен",2305,"",""]
[178493,"Партнер номер 35","1945-05-19","оплачен",1762,0.04,70.48]
[178494,"","1945-05-19","оплачен",3273,"",""]
[178499,"Партнер номер 11","1945-05-19","не оплачен",1838,0.05,91.9]
[178504,"","1945-05-19","оплачен",7327,"",""]
[178508,"","1945-05-19","оплачен",844,"",""]
[178514,"","1945-05-19","оплачен",3295,"",""]
[178518,"","1945-05-19","оплачен",3324,"",""]
[178521,"Партнер номер 1","1945-05-19","оплачен",2559,0.05,127.95]
[178523,"Партнер номер 5","1945-05-19","оплачен",5873,0.03,176.19]
[178528,"","1945-05-19","оплачен",1246,"",""]
[178529,"","1945-05-19","оплачен",5717,"",""]
[178534,"","1945-05-19","не оплачен",2288,"",""]
[178536,"Партнер номер 32","1945-05-19","оплачен",3098,0.05,154.9]
[178538,"","1945-05-19","оплачен",4641,"",""]
[178541,"Партнер номер 1","1945-05-19","оплачен",2987,0.05,149.35]
[178545,"Партнер номер 7","1945-05-19","не оплачен",1414,0.05,70.7]
[178547,"","1945-05-19","оплачен",2183,"",""]
[178553,"Партнер номер 7","1945-05-19","оплачен",1450,0.05,72.5]
[178558,"Партнер номер 12","1945-05-19","оплачен",1307,0.03,39.21]
[178560,"","1945-05-19","оплачен",380,"",""]
[178563,"","1945-05-19","оплачен",4618,"",""]
[178565,"","1945-05-19","оплачен",2156,"",""]
[178567,"Партнер номер 1","1945-05-19","оплачен",3290,0.05,164.5]
[178569,"Партнер номер 3","1945-05-19","оплачен",1230,0.05,61.5]
[178572,"","1945-05-19","оплачен",2808,"",""]
[178581,"","1945-05-19","не оплачен",523,"",""]
[178585,"Партнер номер 11","1945-05-19","оплачен",1122,0.05,56.1]
[178588,"","1945-05-19","оплачен",1059,"",""]
[178593,"","1945-05-19","не оплачен",2406,"",""]
[178595,"Партнер номер 6","1945-05-19","оплачен",1301,0.04,52.04]
[178598,"Партнер номер 7","1945-05-19","не оплачен",1821,0.05,91.050000000000011]
[178599,"Партнер номер 1","1945-05-19","оплачен",1380,0.05,69]
[178602,"Партнер номер 1","1945-05-19","оплачен",795,0.05,39.75]
[178605,"Партнер номер 10","1945-05-19","не оплачен",1707,0.04,68.28]
[178609,"","1945-05-19","не оплачен",1491,"",""]
[178612,"","1945-05-19","оплачен",1388,"",""]
[178618,"","1945-05-19","оплачен",3834,"",""]
[178620,"","1945-05-19","оплачен",2334,"",""]
[178622,"","1945-05-19","оплачен",2547,"",""]
[178624,"","1945-05-19","не оплачен",1441,"",""]
[178627,"","1945-05-19","оплачен",3861,"",""]
[178630,"","1945-05-19","оплачен",568,"",""]
[178631,"","1945-05-19","оплачен",4617,"",""]
[178637,"","1945-05-19","оплачен",865,"",""]
[178641,"","1945-05-19","оплачен",2341,"",""]
[178645,"","1945-05-19","не оплачен",2589,"",""]
[178648,"","1945-05-19","оплачен",1256,"",""]
[178651,"Партнер номер 1","1945-05-19","не оплачен",2085,0.05,104.25]
[178656,"","1945-05-19","не оплачен",1552,"",""]
[178661,"Партнер номер 5","1945-05-19","не оплачен",3051,0.03,91.53]
[178666,"Партнер номер 7","1945-05-19","оплачен",628,0.05,31.400000000000002]
[178672,"","1945-05-19","оплачен",2805,"",""]
[178675,"","1945-05-19","оплачен",1941,"",""]
[178679,"","1945-05-19","оплачен",1606,"",""]
[178684,"Партнер номер 8","1945-05-19","оплачен",1081,0.03,32.43]
[178685,"","1945-05-19","не оплачен",2152,"",""]
[178690,"","1945-05-19","не оплачен",1124,"",""]
[178693,"","1945-05-19","оплачен",2159,"",""]
[178695,"Партнер номер 5","1945-05-19","не оплачен",1680,0.03,50.4]
[178697,"","1945-05-19","не оплачен",2726,"",""]
[178702,"","1945-05-19","оплачен",3033,"",""]
[178704,"Партнер номер 4","1945-05-19","оплачен",1307,0.04,52.28]
[178708,"","1945-05-19","оплачен",1516,"",""]
[178713,"","1945-05-19","не оплачен",2167,"",""]
[178715,"Партнер номер 1","1945-05-19","не оплачен",556,0.05,27.8]
[178717,"Партнер номер 1","1945-05-19","оплачен",1440,0.05,72]
[178721,"Партнер номер 5","1945-05-19","оплачен",1632,0.03,48.96]
[178723,"","1945-05-19","оплачен",1224,"",""]
[178728,"Партнер номер 1","1945-05-19","не оплачен",2317,0.05,115.85000000000001]
[178730,"Партнер номер 36","1945-05-19","оплачен",1243,0.05,62.150000000000006]
[178734,"Партнер номер 1","1945-05-19","не оплачен",965,0.05,48.25]
[178739,"Партнер номер 46","1945-05-19","оплачен",1479,0.05,73.95]
[178740,"Партнер номер 4","1945-05-19","не оплачен",5065,0.04,202.6]
[178743,"Партнер номер 11","1945-05-19","оплачен",1199,0.05,59.95]
[178747,"Партнер номер 1","1945-05-19","оплачен",1188,0.05,59.400000000000006]
[178752,"Партнер номер 5","1945-05-19","не оплачен",2043,0.03,61.29]
[178758,"Партнер номер 1","1945-05-19","оплачен",914,0.05,45.7]
[178762,"","1945-05-19","оплачен",612,"",""]
[178765,"","1945-05-19","оплачен",861,"",""]
[178770,"","1945-05-19","не оплачен",2004,"",""]
[178773,"Партнер номер 9","1945-05-19","оплачен",615,0.05,30.75]
[178778,"","1945-05-19","оплачен",2163,"",""]
[178783,"Партнер номер 7","1945-05-19","не оплачен",1733,0.05,86.65]
[178787,"","1945-05-19","оплачен",2762,"",""]
[178791,"Партнер номер 46","1945-05-19","оплачен",731,0.05,36.550000000000004]
[178797,"Партнер номер 40","1945-05-19","не оплачен",1899,0.05,94.95]
[178800,"","1945-05-19","оплачен",919,"",""]
[178804,"","1945-05-19","оплачен",2577,"",""]
[178808,"","1945-05-19","оплачен",1817,"",""]
[178811,"Партнер номер 1","1945-05-19","оплачен",6981,0.05,349.05]
[178813,"","1945-05-19","не оплачен",930,"",""]
[178816,"","1945-05-19","оплачен",621,"",""]
[178818,"Партнер номер 1","1945-05-19","оплачен",777,0.05,38.85]
[178823,"","1945-05-19","оплачен",823,"",""]
[178829,"","1945-05-19","оплачен",2468,"",""]
[178832,"Партнер номер 1","1945-05-19","оплачен",3806,0.05,190.3]
[178834,"Партнер номер 1","1945-05-19","не оплачен",1731,0.05,86.550000000000011]
[178837,"","1945-05-19","оплачен",4056,"",""]
[178839,"Партнер номер 1","1945-05-19","оплачен",1644,0.05,82.2]
[178849,"","1945-05-19","оплачен",1972,"",""]
[178854,"Партнер номер 1","1945-05-19","оплачен",1193,0.05,59.650000000000006]
[178856,"","1945-05-19","оплачен",1457,"",""]
[178858,"","1945-05-19","не оплачен",2862,"",""]
[178863,"Партнер номер 1","1945-05-19","оплачен",1161,0.05,58.050000000000004]
[178865,"","1945-05-19","не оплачен",1108,"",""]
[178866,"Партнер номер 3","1945-05-19","не оплачен",594,0.05,29.700000000000003]
[178870,"","1945-05-19","оплачен",3130,"",""]
[178873,"Партнер номер 1","1945-05-19","не оплачен",385,0.05,19.25]
[178877,"Партнер номер 11","1945-05-19","не оплачен",1390,0.05,69.5]
[178882,"Партнер номер 7","1945-05-19","не оплачен",3337,0.05,166.85000000000002]
[178885,"Партнер номер 1","1945-05-19","не оплачен",534,0.05,26.700000000000003]
[178890,"Партнер номер 1","1945-05-19","не оплачен",814,0.05,40.700000000000003]
[178892,"","1945-05-19","оплачен",5920,"",""]
[178897,"","1945-05-19","не оплачен",674,"",""]
[178902,"Партнер номер 1","1945-05-20","не оплачен",385,0.05,19.25]
[178904,"","1945-05-20","оплачен",2327,"",""]
[178906,"Партнер номер 1","1945-05-20","не оплачен",534,0.05,26.700000000000003]
[178911,"Партнер номер 8","1945-05-20","не оплачен",2720,0.03,81.599999999999994]
[178913,"","1945-05-20","не оплачен",735,"",""]
[178918,"Партнер номер 6","1945-05-20","оплачен",3651,0.04,146.04]
[178923,"Партнер номер 1","1945-05-20","не оплачен",1382,0.05,69.100000000000009]
[178927,"Партнер номер 1","1945-05-20","не оплачен",534,0.05,26.700000000000003]
[178932,"Партнер номер 1","1945-05-20","не оплачен",2453,0.05,122.65]
[178937,"","1945-05-20","оплачен",908,"",""]
[178941,"","1945-05-20","оплачен",4313,"",""]
[178943,"","1945-05-20","не оплачен",1243,"",""]
[178945,"","1945-05-20","оплачен",1243,"",""]
[178948,"Партнер номер 5","1945-05-20","оплачен",1919,0.03,57.57]
[178953,"Партнер номер 5","1945-05-20","не оплачен",2013,0.03,60.39]
[178955,"","1945-05-20","оплачен",2011,"",""]
[178959,"","1945-05-20","оплачен",2127,"",""]
[178962,"Партнер номер 5","1945-05-20","оплачен",2013,0.03,60.39]
[178963,"","1945-05-20","оплачен",769,"",""]
[178965,"Партнер номер 3","1945-05-20","не оплачен",1577,0.05,78.850000000000009]
[178969,"","1945-05-20","оплачен",1790,"",""]
[178974,"","1945-05-20","не оплачен",2586,"",""]
[178979,"Партнер номер 3","1945-05-20","оплачен",2761,0.05,138.05000000000001]
[178982,"Партнер номер 3","1945-05-20","оплачен",1577,0.05,78.850000000000009]
[178986,"","1945-05-20","оплачен",1368,"",""]
[178991,"","1945-05-20","оплачен",2758,"",""]
[178994,"Партнер номер 1","1945-05-20","оплачен",2861,0.05,143.05000000000001]
[179000,"Партнер номер 10","1945-05-20","оплачен",3393,0.04,135.72]
[179001,"Партнер номер 5","1945-05-20","оплачен",1157,0.03,34.71]
[179003,"","1945-05-20","оплачен",5207,"",""]
[179006,"","1945-05-20","оплачен",1164,"",""]
[179008,"","1945-05-20","оплачен",2994,"",""]
[179012,"Партнер номер 10","1945-05-20","не оплачен",1914,0.04,76.56]
[179014,"Партнер номер 11","1945-05-20","оплачен",889,0.05,44.45]
[179017,"","1945-05-20","оплачен",3429,"",""]
[179020,"","1945-05-20","оплачен",2398,"",""]
[179025,"Партнер номер 1","1945-05-20","оплачен",958,0.05,47.900000000000006]
[179031,"","1945-05-20","не оплачен",2655,"",""]
[179033,"","1945-05-20","оплачен",637,"",""]
[179036,"","1945-05-20","оплачен",1670,"",""]
[179042,"Партнер номер 2","1945-05-20","оплачен",7181,0.04,287.24]
[179045,"","1945-05-20","оплачен",2207,"",""]
[179048,"","1945-05-20","не оплачен",5684,"",""]
[179052,"Партнер номер 1","1945-05-20","не оплачен",1684,0.05,84.2]
[179057,"","1945-05-20","не оплачен",1178,"",""]
[179062,"Партнер номер 1","1945-05-20","не оплачен",715,0.05,35.75]
[179064,"","1945-05-20","оплачен",991,"",""]
[179072,"","1945-05-20","оплачен",1556,"",""]
[179076,"Партнер номер 3","1945-05-20","оплачен",695,0.05,34.75]
[179080,"Партнер номер 3","1945-05-20","не оплачен",683,0.05,34.15]
[179083,"Партнер номер 1","1945-05-20","не оплачен",894,0.05,44.7]
[179087,"Партнер номер 6","1945-05-20","оплачен",1565,0.04,62.6]
[179092,"","1945-05-20","не оплачен",1484,"",""]
[179097,"","1945-05-20","оплачен",1988,"",""]
[179100,"Партнер номер 1","1945-05-20","оплачен",2399,0.05,119.95]
[179103,"Партнер номер 5","1945-05-20","оплачен",1838,0.03,55.14]
[179105,"","1945-05-20","оплачен",4594,"",""]
[179110,"","1945-05-20","не оплачен",4937,"",""]
[179115,"","1945-05-20","оплачен",1410,"",""]
[179119,"Партнер номер 1","1945-05-20","оплачен",1410,0.05,70.5]
[179123,"Партнер номер 1","1945-05-20","оплачен",1403,0.05,70.150000000000006]
[179125,"","1945-05-20","оплачен",2018,"",""]
[179128,"","1945-05-20","оплачен",2328,"",""]
[179133,"Партнер номер 3","1945-05-20","не оплачен",6770,0.05,338.5]
[179136,"Партнер номер 1","1945-05-20","не оплачен",1070,0.05,53.5]
[179142,"Партнер номер 5","1945-05-20","не оплачен",1563,0.03,46.89]
[179146,"","1945-05-20","оплачен",1489,"",""]
[179148,"","1945-05-20","оплачен",3344,"",""]
[179150,"Партнер номер 1","1945-05-20","оплачен",1307,0.05,65.350000000000009]
[179152,"","1945-05-20","оплачен",2216,"",""]
[179157,"Партнер номер 1","1945-05-20","оплачен",931,0.05,46.550000000000004]
[179159,"Партнер номер 7","1945-05-20","оплачен",1483,0.05,74.150000000000006]
[179161,"","1945-05-20","оплачен",559,"",""]
[179164,"","1945-05-20","не оплачен",941,"",""]
[179169,"Партнер номер 8","1945-05-20","не оплачен",3356,0.03,100.67999999999999]
[179172,"","1945-05-20","оплачен",3216,"",""]
[179175,"Партнер номер 1","1945-05-20","оплачен",788,0.05,39.400000000000006]
[179180,"Партнер номер 1","1945-05-20","не оплачен",1092,0.05,54.6]
[179184,"Партнер номер 1","1945-05-20","не оплачен",667,0.05,33.35]
[179189,"Партнер номер 1","1945-05-20","не оплачен",1198,0.05,59.900000000000006]
[179194,"","1945-05-20","оплачен",1600,"",""]
[179195,"Партнер номер 1","1945-05-20","оплачен",2454,0.05,122.7]
[179200,"","1945-05-20","оплачен",1532,"",""]
[179204,"","1945-05-20","оплачен",862,"",""]
[179208,"","1945-05-20","оплачен",1909,"",""]
[179211,"Партнер номер 1","1945-05-20","не оплачен",3875,0.05,193.75]
[179215,"","1945-05-20","не оплачен",1042,"",""]
[179217,"","1945-05-20","не оплачен",2136,"",""]
[179220,"Партнер номер 1","1945-05-20","не оплачен",1538,0.05,76.900000000000006]
[179222,"","1945-05-20","оплачен",2410,"",""]
[179228,"","1945-05-20","оплачен",775,"",""]
[179230,"Партнер номер 46","1945-05-20","оплачен",961,0.05,48.050000000000004]
[179234,"","1945-05-20","оплачен",1595,"",""]
[179239,"","1945-05-20","оплачен",1427,"",""]
[179242,"","1945-05-20","не оплачен",3954,"",""]
[179243,"Партнер номер 1","1945-05-20","не оплачен",1567,0.05,78.350000000000009]
[179247,"Партнер номер 6","1945-05-20","не оплачен",1236,0.04,49.44]
[179250,"Партнер номер 28","1945-05-20","оплачен",1514,0.05,75.7]
[179253,"","1945-05-20","не оплачен",278,"",""]
[179258,"Партнер номер 1","1945-05-20","оплачен",4947,0.05,247.35000000000002]
[179264,"Партнер номер 1","1945-05-20","оплачен",2097,0.05,104.85000000000001]
[179265,"Партнер номер 1","1945-05-20","оплачен",1600,0.05,80]
[179268,"","1945-05-20","оплачен",1081,"",""]
[179270,"Партнер номер 1","1945-05-20","не оплачен",2431,0.05,121.55000000000001]
[179274,"","1945-05-20","оплачен",3018,"",""]
[179279,"Партнер номер 3","1945-05-20","не оплачен",5303,0.05,265.15000000000003]
[179284,"Партнер номер 3","1945-05-20","оплачен",2502,0.05,125.10000000000001]
[179289,"","1945-05-20","оплачен",634,"",""]
[179294,"","1945-05-20","не оплачен",1036,"",""]
[179300,"Партнер номер 1","1945-05-20","не оплачен",2482,0.05,124.10000000000001]
[179304,"Партнер номер 1","1945-05-20","оплачен",1286,0.05,64.3]
[179309,"","1945-05-20","оплачен",2553,"",""]
[179318,"","1945-05-20","оплачен",1934,"",""]
[179320,"Партнер номер 3","1945-05-21","оплачен",1128,0.05,56.400000000000006]
[179323,"","1945-05-21","оплачен",1694,"",""]
[179328,"","1945-05-21","оплачен",1423,"",""]
[179331,"Партнер номер 9","1945-05-21","не оплачен",834,0.05,41.7]
[179335,"","1945-05-21","оплачен",2309,"",""]
[179338,"","1945-05-21","оплачен",2768,"",""]
[179342,"","1945-05-21","оплачен",481,"",""]
[179343,"","1945-05-21","оплачен",1901,"",""]
[179347,"Партнер номер 11","1945-05-21","не оплачен",1315,0.05,65.75]
[179352,"Партнер номер 31","1945-05-21","не оплачен",1990,0.03,59.699999999999996]
[179357,"","1945-05-21","оплачен",1937,"",""]
[179361,"Партнер номер 1","1945-05-21","оплачен",1478,0.05,73.900000000000006]
[179363,"","1945-05-21","не оплачен",1059,"",""]
[179365,"","1945-05-21","оплачен",931,"",""]
[179367,"Партнер номер 1","1945-05-21","оплачен",775,0.05,38.75]
[179369,"","1945-05-21","оплачен",2737,"",""]
[179373,"","1945-05-21","не оплачен",1163,"",""]
[179376,"","1945-05-21","оплачен",2616,"",""]
[179378,"","1945-05-21","не оплачен",2054,"",""]
[179382,"Партнер номер 1","1945-05-21","оплачен",1997,0.05,99.850000000000009]
[179385,"","1945-05-21","не оплачен",1458,"",""]
[179389,"","1945-05-21","оплачен",2426,"",""]
[179391,"Партнер номер 42","1945-05-21","не оплачен",2462,0.05,123.10000000000001]
[179394,"Партнер номер 11","1945-05-21","не оплачен",1403,0.05,70.150000000000006]
[179396,"","1945-05-21","оплачен",3300,"",""]
[179400,"","1945-05-21","не оплачен",377,"",""]
[179403,"","1945-05-21","не оплачен",2721,"",""]
[179407,"Партнер номер 11","1945-05-21","оплачен",1299,0.05,64.95]
[179408,"","1945-05-21","оплачен",2721,"",""]
[179412,"Партнер номер 3","1945-05-21","оплачен",1701,0.05,85.050000000000011]
[179413,"","1945-05-21","оплачен",2828,"",""]
[179418,"","1945-05-21","не оплачен",2599,"",""]
[179421,"","1945-05-21","оплачен",2410,"",""]
[179425,"Партнер номер 1","1945-05-21","не оплачен",1112,0.05,55.6]
[179429,"","1945-05-21","не оплачен",4255,"",""]
[179434,"Партнер номер 42","1945-05-21","не оплачен",2192,0.05,109.60000000000001]
[179437,"Партнер номер 3","1945-05-21","оплачен",1009,0.05,50.45]
[179439,"Партнер номер 1","1945-05-21","оплачен",2780,0.05,139]
[179443,"","1945-05-21","оплачен",916,"",""]
[179448,"","1945-05-21","оплачен",3267,"",""]
[179451,"Партнер номер 28","1945-05-21","не оплачен",1515,0.05,75.75]
[179455,"Партнер номер 3","1945-05-21","не оплачен",825,0.05,41.25]
[179461,"","1945-05-21","оплачен",0,"",""]
[179465,"","1945-05-21","оплачен",0,"",""]
[179468,"","1945-05-21","не оплачен",1569,"",""]
[179473,"","1945-05-21","оплачен",0,"",""]
[179477,"Партнер номер 7","1945-05-21","оплачен",1146,0.05,57.300000000000004]
[179482,"Партнер номер 11","1945-05-21","не оплачен",865,0.05,43.25]
[179486,"Партнер номер 2","1945-05-21","не оплачен",1861,0.04,74.44]
[179490,"Партнер номер 28","1945-05-21","не оплачен",1515,0.05,75.75]
[179493,"Партнер номер 5","1945-05-21","оплачен",2659,0.03,79.77]
[179497,"","1945-05-21","оплачен",806,"",""]
[179502,"","1945-05-21","оплачен",10025,"",""]
[179505,"Партнер номер 1","1945-05-21","не оплачен",745,0.05,37.25]
[179508,"","1945-05-21","оплачен",783,"",""]
[179514,"Партнер номер 25","1945-05-21","не оплачен",2338,0.05,116.9]
[179519,"Партнер номер 6","1945-05-21","не оплачен",2705,0.04,108.2]
[179521,"","1945-05-21","не оплачен",2190,"",""]
[179526,"Партнер номер 11","1945-05-21","не оплачен",1659,0.05,82.95]
[179531,"Партнер номер 25","1945-05-21","оплачен",2374,0.05,118.7]
[179537,"","1945-05-21","оплачен",1759,"",""]
[179541,"","1945-05-21","оплачен",775,"",""]
[179545,"","1945-05-21","оплачен",4807,"",""]
[179550,"","1945-05-21","оплачен",991,"",""]
[179555,"","1945-05-21","оплачен",1499,"",""]
[179561,"","1945-05-21","оплачен",1301,"",""]
[179564,"","1945-05-21","оплачен",3491,"",""]
[179570,"","1945-05-21","оплачен",1130,"",""]
[179574,"Партнер номер 1","1945-05-21","не оплачен",1796,0.05,89.800000000000011]
[179578,"Партнер номер 3","1945-05-21","не оплачен",2989,0.05,149.45000000000002]
[179584,"","1945-05-21","оплачен",1340,"",""]
[179585,"","1945-05-21","не оплачен",2068,"",""]
[179588,"","1945-05-21","оплачен",2292,"",""]
[179593,"Партнер номер 6","1945-05-21","оплачен",979,0.04,39.160000000000004]
[179597,"","1945-05-21","оплачен",3725,"",""]
[179599,"","1945-05-21","не оплачен",5902,"",""]
[179604,"Партнер номер 8","1945-05-21","оплачен",2176,0.03,65.28]
[179610,"","1945-05-21","оплачен",2316,"",""]
[179615,"","1945-05-21","оплачен",1229,"",""]
[179617,"","1945-05-21","оплачен",1675,"",""]
[179620,"Партнер номер 1","1945-05-21","оплачен",2112,0.05,105.60000000000001]
[179623,"","1945-05-21","оплачен",1329,"",""]
[179626,"","1945-05-21","оплачен",1258,"",""]
[179628,"","1945-05-21","не оплачен",1701,"",""]
[179631,"Партнер номер 3","1945-05-21","оплачен",1720,0.05,86]
[179635,"Партнер номер 3","1945-05-21","оплачен",1220,0.05,61]
[179637,"Партнер номер 11","1945-05-21","оплачен",2630,0.05,131.5]
[179643,"Партнер номер 39","1945-05-21","оплачен",908,0.05,45.400000000000006]
[179646,"Партнер номер 5","1945-05-21","оплачен",1163,0.03,34.89]
[179651,"","1945-05-21","оплачен",1045,"",""]
[179654,"Партнер номер 4","1945-05-21","не оплачен",4133,0.04,165.32]
[179658,"Партнер номер 1","1945-05-21","не оплачен",689,0.05,34.450000000000003]
[179663,"","1945-05-21","оплачен",3013,"",""]
[179664,"Партнер номер 1","1945-05-21","оплачен",1447,0.05,72.350000000000009]
[179668,"Партнер номер 28","1945-05-21","не оплачен",1617,0.05,80.850000000000009]
[179670,"","1945-05-21","оплачен",521,"",""]
[179675,"","1945-05-21","не оплачен",526,"",""]
[179679,"Партнер номер 1","1945-05-21","оплачен",3035,0.05,151.75]
[179686,"Партнер номер 11","1945-05-21","оплачен",705,0.05,35.25]
[179691,"Партнер номер 3","1945-05-21","оплачен",937,0.05,46.85]
[179694,"Партнер номер 46","1945-05-21","оплачен",1063,0.05,53.150000000000006]
[179696,"Партнер номер 11","1945-05-21","оплачен",1502,0.05,75.100000000000009]
[179700,"Партнер номер 1","1945-05-21","оплачен",2488,0.05,124.4]
[179705,"","1945-05-21","не оплачен",4727,"",""]
[179712,"Партнер номер 1","1945-05-21","не оплачен",2869,0.05,143.45000000000002]
[179715,"","1945-05-21","оплачен",5865,"",""]
[179720,"Партнер номер 1","1945-05-21","оплачен",2869,0.05,143.45000000000002]
[179725,"","1945-05-21","оплачен",2501,"",""]
[179730,"Партнер номер 46","1945-05-21","оплачен",1375,0.05,68.75]
[179734,"Партнер номер 6","1945-05-21","оплачен",2727,0.04,109.08]
[179738,"","1945-05-21","не оплачен",1556,"",""]
[179740,"","1945-05-21","не оплачен",2569,"",""]
[179750,"Партнер номер 1","1945-05-21","не оплачен",621,0.05,31.05]
[179755,"Партнер номер 1","1945-05-21","оплачен",2617,0.05,130.85]
[179757,"","1945-05-21","оплачен",2889,"",""]
[179762,"Партнер номер 10","1945-05-21","не оплачен",971,0.04,38.840000000000003]
[179765,"","1945-05-21","оплачен",4237,"",""]
[179770,"","1945-05-21","оплачен",367,"",""]
[179775,"","1945-05-21","не оплачен",1171,"",""]
[179780,"Партнер номер 10","1945-05-21","оплачен",1216,0.04,48.64]
[179782,"Партнер номер 1","1945-05-21","оплачен",976,0.05,48.800000000000004]
[179788,"Партнер номер 1","1945-05-21","оплачен",696,0.05,34.800000000000004]
[179792,"Партнер номер 3","1945-05-21","оплачен",1239,0.05,61.95]
[179797,"","1945-05-21","не оплачен",2417,"",""]
[179801,"","1945-05-21","не оплачен",2215,"",""]
[179806,"Партнер номер 11","1945-05-21","не оплачен",6797,0.05,339.85]
[179808,"Партнер номер 11","1945-05-21","оплачен",947,0.05,47.35]
[179810,"","1945-05-21","не оплачен",1328,"",""]
[179818,"","1945-05-21","не оплачен",4651,"",""]
[179823,"Партнер номер 1","1945-05-21","не оплачен",1291,0.05,64.55]
[179825,"","1945-05-21","оплачен",2956,"",""]
[179833,"Партнер номер 1","1945-05-21","не оплачен",4948,0.05,247.4]
[179836,"Партнер номер 13","1945-05-21","оплачен",1282,0.05,64.100000000000009]
[179839,"","1945-05-21","оплачен",2082,"",""]
[179841,"Партнер номер 1","1945-05-21","оплачен",5501,0.05,275.05]
[179844,"","1945-05-21","оплачен",869,"",""]
[179853,"","1945-05-21","не оплачен",1435,"",""]
[179857,"Партнер номер 1","1945-05-21","оплачен",2399,0.05,119.95]
[179859,"","1945-05-21","оплачен",2723,"",""]
[179863,"","1945-05-21","не оплачен",1910,"",""]
[179866,"","1945-05-21","не оплачен",1186,"",""]
[179870,"Партнер номер 11","1945-05-21","не оплачен",709,0.05,35.450000000000003]
[179872,"","1945-05-21","оплачен",1834,"",""]
[179875,"Партнер номер 10","1945-05-21","оплачен",1457,0.04,58.28]
[179882,"Партнер номер 7","1945-05-21","оплачен",1765,0.05,88.25]
[179886,"Партнер номер 10","1945-05-21","оплачен",2234,0.04,89.36]
[179889,"","1945-05-21","оплачен",3769,"",""]
[179892,"Партнер номер 11","1945-05-21","не оплачен",747,0.05,37.35]
[179897,"Партнер номер 1","1945-05-21","не оплачен",1497,0.05,74.850000000000009]
[179901,"Партнер номер 1","1945-05-21","оплачен",2590,0.05,129.5]
[179904,"Партнер номер 1","1945-05-21","оплачен",1497,0.05,74.850000000000009]
[179906,"","1945-05-21","оплачен",3844,"",""]
[179910,"","1945-05-21","оплачен",1377,"",""]
[179913,"","1945-05-21","оплачен",1168,"",""]
[179914,"","1945-05-21","оплачен",2684,"",""]
[179917,"","1945-05-21","не оплачен",1237,"",""]
[179921,"","1945-05-21","оплачен",2088,"",""]
[179927,"","1945-05-21","не оплачен",875,"",""]
[179932,"Партнер номер 1","1945-05-21","оплачен",793,0.05,39.650000000000006]
[179935,"Партнер номер 11","1945-05-21","оплачен",2826,0.05,141.30000000000001]
[179939,"","1945-05-21","оплачен",1006,"",""]
[179941,"","1945-05-21","не оплачен",934,"",""]
[179945,"Партнер номер 1","1945-05-21","не оплачен",772,0.05,38.6]
[179947,"Партнер номер 6","1945-05-21","не оплачен",2724,0.04,108.96000000000001]
[179951,"","1945-05-21","оплачен",2443,"",""]
[179954,"","1945-05-21","оплачен",940,"",""]
[179958,"","1945-05-21","оплачен",2919,"",""]
[179960,"Партнер номер 11","1945-05-21","оплачен",1153,0.05,57.650000000000006]
[179964,"","1945-05-21","оплачен",1359,"",""]
[179967,"","1945-05-21","не оплачен",676,"",""]
[179969,"","1945-05-21","оплачен",1629,"",""]
[179972,"","1945-05-21","оплачен",3531,"",""]
[179975,"","1945-05-21","оплачен",5220,"",""]
[179978,"Партнер номер 1","1945-05-21","оплачен",851,0.05,42.550000000000004]
[179982,"","1945-05-21","оплачен",1330,"",""]
[179987,"","1945-05-21","оплачен",2202,"",""]
[179990,"Партнер номер 5","1945-05-21","оплачен",2276,0.03,68.28]
[179995,"","1945-05-21","оплачен",2147,"",""]
[180000,"Партнер номер 5","1945-05-21","оплачен",2440,0.03,73.2]
[180006,"Партнер номер 1","1945-05-21","оплачен",2836,0.05,141.80000000000001]
[180009,"","1945-05-21","оплачен",4912,"",""]
[180011,"Партнер номер 1","1945-05-21","оплачен",1206,0.05,60.300000000000004]
[180014,"","1945-05-21","оплачен",3909,"",""]
[180020,"Партнер номер 14","1945-05-21","не оплачен",3502,0.03,105.06]
[180025,"Партнер номер 5","1945-05-21","не оплачен",1989,0.03,59.669999999999995]
[180027,"Партнер номер 1","1945-05-21","оплачен",604,0.05,30.200000000000003]
[180029,"","1945-05-21","оплачен",1592,"",""]
[180030,"Партнер номер 11","1945-05-21","оплачен",1441,0.05,72.05]
[180034,"","1945-05-22","не оплачен",1426,"",""]
[180037,"","1945-05-22","не оплачен",653,"",""]
[180041,"Партнер номер 2","1945-05-22","оплачен",1900,0.04,76]
[180043,"","1945-05-22","оплачен",735,"",""]
[180045,"Партнер номер 11","1945-05-22","оплачен",637,0.05,31.85]
[180050,"Партнер номер 3","1945-05-22","оплачен",765,0.05,38.25]
[180054,"Партнер номер 1","1945-05-22","оплачен",1376,0.05,68.8]
[180059,"","1945-05-22","оплачен",4936,"",""]
[180062,"","1945-05-22","не оплачен",5422,"",""]
[180067,"","1945-05-22","оплачен",2441,"",""]
[180072,"","1945-05-22","оплачен",947,"",""]
[180077,"","1945-05-22","оплачен",2956,"",""]
[180079,"Партнер номер 9","1945-05-22","оплачен",3330,0.05,166.5]
[180081,"Партнер номер 1","1945-05-22","не оплачен",1345,0.05,67.25]
[180084,"Партнер номер 1","1945-05-22","не оплачен",1132,0.05,56.6]
[180087,"Партнер номер 11","1945-05-22","не оплачен",943,0.05,47.150000000000006]
[180089,"","1945-05-22","оплачен",1513,"",""]
[180094,"Партнер номер 11","1945-05-22","оплачен",971,0.05,48.550000000000004]
[180099,"Партнер номер 5","1945-05-22","оплачен",3864,0.03,115.92]
[180102,"","1945-05-22","оплачен",4350,"",""]
[180107,"","1945-05-22","оплачен",1851,"",""]
[180109,"","1945-05-22","оплачен",4518,"",""]
[180111,"Партнер номер 1","1945-05-22","не оплачен",1273,0.05,63.650000000000006]
[180116,"","1945-05-22","оплачен",2731,"",""]
[180119,"Партнер номер 11","1945-05-22","не оплачен",634,0.05,31.700000000000003]
[180122,"Партнер номер 1","1945-05-22","не оплачен",1071,0.05,53.550000000000004]
[180127,"Партнер номер 1","1945-05-22","не оплачен",1173,0.05,58.650000000000006]
[180129,"","1945-05-22","оплачен",3729,"",""]
[180135,"","1945-05-22","оплачен",1298,"",""]
[180137,"","1945-05-22","оплачен",785,"",""]
[180138,"Партнер номер 1","1945-05-22","не оплачен",1323,0.05,66.150000000000006]
[180144,"","1945-05-22","оплачен",1354,"",""]
[180148,"Партнер номер 1","1945-05-22","оплачен",2268,0.05,113.4]
[180149,"Партнер номер 1","1945-05-22","оплачен",1582,0.05,79.100000000000009]
[180154,"","1945-05-22","оплачен",5793,"",""]
[180158,"","1945-05-22","не оплачен",1769,"",""]
[180161,"","1945-05-22","не оплачен",2182,"",""]
[180163,"","1945-05-22","оплачен",4731,"",""]
[180166,"","1945-05-22","не оплачен",1312,"",""]
[180169,"","1945-05-22","не оплачен",1900,"",""]
[180171,"Партнер номер 1","1945-05-22","оплачен",2361,0.05,118.05000000000001]
[180174,"","1945-05-22","не оплачен",1663,"",""]
[180178,"","1945-05-22","не оплачен",559,"",""]
[180183,"Партнер номер 1","1945-05-22","оплачен",1608,0.05,80.400000000000006]
[180187,"Партнер номер 11","1945-05-22","не оплачен",1020,0.05,51]
[180190,"Партнер номер 1","1945-05-22","оплачен",634,0.05,31.700000000000003]
[180194,"","1945-05-22","оплачен",2424,"",""]
[180199,"Партнер номер 3","1945-05-22","оплачен",2636,0.05,131.80000000000001]
[180205,"","1945-05-22","оплачен",1494,"",""]
[180206,"Партнер номер 11","1945-05-22","оплачен",1173,0.05,58.650000000000006]
[180212,"Партнер номер 1","1945-05-22","оплачен",2181,0.05,109.05000000000001]
[180213,"Партнер номер 5","1945-05-22","не оплачен",2299,0.03,68.97]
[180218,"Партнер номер 46","1945-05-22","не оплачен",605,0.05,30.25]
[180221,"","1945-05-22","не оплачен",2408,"",""]
[180225,"Партнер номер 9","1945-05-22","не оплачен",1184,0.05,59.2]
[180227,"Партнер номер 1","1945-05-22","оплачен",1541,0.05,77.050000000000011]
[180229,"Партнер номер 3","1945-05-22","не оплачен",1515,0.05,75.75]
[180230,"Партнер номер 5","1945-05-22","оплачен",2762,0.03,82.86]
[180236,"","1945-05-22","не оплачен",1321,"",""]
[180238,"Партнер номер 4","1945-05-22","не оплачен",6082,0.04,243.28]
[180241,"","1945-05-22","не оплачен",1380,"",""]
[180244,"","1945-05-22","оплачен",2937,"",""]
[180249,"Партнер номер 6","1945-05-22","оплачен",2284,0.04,91.36]
[180250,"","1945-05-22","оплачен",2946,"",""]
[180255,"Партнер номер 3","1945-05-22","не оплачен",0,0.05,0]
[180261,"","1945-05-22","оплачен",2287,"",""]
[180262,"","1945-05-22","оплачен",1019,"",""]
[180266,"","1945-05-22","оплачен",1409,"",""]
[180271,"Партнер номер 5","1945-05-22","оплачен",811,0.03,24.33]
[180275,"","1945-05-22","оплачен",1964,"",""]
[180278,"","1945-05-22","оплачен",2593,"",""]
[180279,"","1945-05-22","оплачен",2089,"",""]
[180282,"","1945-05-22","оплачен",1060,"",""]
[180285,"","1945-05-22","оплачен",4053,"",""]
[180290,"","1945-05-22","не оплачен",2312,"",""]
[180295,"Партнер номер 1","1945-05-22","оплачен",1057,0.05,52.85]
[180297,"Партнер номер 17","1945-05-22","оплачен",3563,0.04,142.52000000000001]
[180299,"Партнер номер 1","1945-05-22","оплачен",2114,0.05,105.7]
[180301,"","1945-05-22","не оплачен",856,"",""]
[180307,"","1945-05-22","оплачен",1257,"",""]
[180311,"Партнер номер 7","1945-05-22","не оплачен",2168,0.05,108.4]
[180313,"","1945-05-22","оплачен",4300,"",""]
[180315,"Партнер номер 1","1945-05-22","оплачен",1304,0.05,65.2]
[180319,"","1945-05-22","оплачен",2422,"",""]
[180325,"","1945-05-22","оплачен",1086,"",""]
[180326,"Партнер номер 16","1945-05-22","оплачен",1932,0.05,96.600000000000009]
[180331,"Партнер номер 16","1945-05-22","оплачен",1869,0.05,93.45]
[180334,"Партнер номер 1","1945-05-22","оплачен",663,0.05,33.15]
[180337,"Партнер номер 1","1945-05-22","не оплачен",1979,0.05,98.95]
[180342,"","1945-05-22","оплачен",3286,"",""]
[180345,"","1945-05-22","оплачен",4178,"",""]
[180347,"","1945-05-22","оплачен",1741,"",""]
[180352,"Партнер номер 1","1945-05-22","не оплачен",2112,0.05,105.60000000000001]
[180355,"","1945-05-22","не оплачен",2964,"",""]
[180358,"Партнер номер 11","1945-05-22","оплачен",1101,0.05,55.050000000000004]
[180363,"","1945-05-22","оплачен",1092,"",""]
[180366,"","1945-05-22","оплачен",2429,"",""]
[180371,"Партнер номер 1","1945-05-22","оплачен",632,0.05,31.6]
[180376,"Партнер номер 1","1945-05-22","оплачен",1202,0.05,60.1]
[180379,"","1945-05-22","оплачен",3380,"",""]
[180384,"Партнер номер 1","1945-05-22","оплачен",2174,0.05,108.7]
[180387,"","1945-05-22","не оплачен",1357,"",""]
[180393,"Партнер номер 1","1945-05-22","оплачен",884,0.05,44.2]
[180398,"","1945-05-22","оплачен",1380,"",""]
[180401,"Партнер номер 11","1945-05-22","оплачен",1114,0.05,55.7]
[180402,"Партнер номер 30","1945-05-22","оплачен",2174,0.05,108.7]
[180407,"","1945-05-22","не оплачен",999,"",""]
[180412,"","1945-05-22","оплачен",1176,"",""]
[180417,"Партнер номер 11","1945-05-22","оплачен",1933,0.05,96.65]
[180419,"Партнер номер 3","1945-05-22","оплачен",809,0.05,40.450000000000003]
[180423,"","1945-05-22","не оплачен",582,"",""]
[180426,"Партнер номер 7","1945-05-22","оплачен",562,0.05,28.1]
[180429,"","1945-05-22","оплачен",758,"",""]
[180433,"Партнер номер 19","1945-05-22","не оплачен",611,0.05,30.55]
[180435,"Партнер номер 5","1945-05-22","оплачен",2813,0.03,84.39]
[180437,"Партнер номер 1","1945-05-22","оплачен",2112,0.05,105.60000000000001]
[180442,"Партнер номер 28","1945-05-22","не оплачен",2484,0.05,124.2]
[180447,"Партнер номер 1","1945-05-22","не оплачен",3313,0.05,165.65]
[180448,"Партнер номер 1","1945-05-22","оплачен",1170,0.05,58.5]
[180452,"","1945-05-22","оплачен",3600,"",""]
[180454,"","1945-05-22","не оплачен",2628,"",""]
[180456,"","1945-05-22","оплачен",2562,"",""]
[180459,"Партнер номер 1","1945-05-22","не оплачен",2112,0.05,105.60000000000001]
[180463,"Партнер номер 1","1945-05-22","оплачен",4773,0.05,238.65]
[180467,"","1945-05-22","оплачен",4809,"",""]
[180472,"Партнер номер 1","1945-05-22","не оплачен",2112,0.05,105.60000000000001]
[180474,"Партнер номер 7","1945-05-22","не оплачен",2174,0.05,108.7]
[180476,"Партнер номер 1","1945-05-22","не оплачен",1338,0.05,66.900000000000006]
[180479,"Партнер номер 1","1945-05-22","не оплачен",1338,0.05,66.900000000000006]
[180482,"","1945-05-22","оплачен",1188,"",""]
[180484,"Партнер номер 1","1945-05-22","не оплачен",2112,0.05,105.60000000000001]
[180489,"Партнер номер 7","1945-05-22","не оплачен",489,0.05,24.450000000000003]
[180491,"","1945-05-22","не оплачен",5738,"",""]
[180493,"","1945-05-22","не оплачен",1382,"",""]
[180497,"","1945-05-22","оплачен",589,"",""]
[180502,"Партнер номер 1","1945-05-22","оплачен",994,0.05,49.7]
[180507,"","1945-05-22","оплачен",1611,"",""]
[180512,"Партнер номер 1","1945-05-22","не оплачен",1137,0.05,56.85]
[180517,"Партнер номер 1","1945-05-22","не оплачен",1793,0.05,89.65]
[180522,"","1945-05-22","не оплачен",726,"",""]
[180527,"Партнер номер 12","1945-05-22","оплачен",1480,0.03,44.4]
[180531,"Партнер номер 1","1945-05-22","не оплачен",958,0.05,47.900000000000006]
[180534,"Партнер номер 1","1945-05-22","оплачен",2125,0.05,106.25]
[180538,"","1945-05-22","оплачен",838,"",""]
[180542,"","1945-05-22","не оплачен",1935,"",""]
[180550,"","1945-05-22","не оплачен",1215,"",""]
[180554,"","1945-05-22","оплачен",3039,"",""]
[180558,"","1945-05-22","оплачен",2103,"",""]
[180561,"","1945-05-22","оплачен",4246,"",""]
[180563,"Партнер номер 5","1945-05-22","не оплачен",1140,0.03,34.199999999999996]
[180568,"Партнер номер 7","1945-05-22","оплачен",1202,0.05,60.1]
[180572,"","1945-05-22","оплачен",1525,"",""]
[180577,"Партнер номер 7","1945-05-22","не оплачен",1800,0.05,90]
[180581,"Партнер номер 1","1945-05-22","оплачен",1682,0.05,84.100000000000009]
[180585,"Партнер номер 11","1945-05-22","оплачен",1411,0.05,70.55]
[180588,"","1945-05-22","оплачен",3257,"",""]
[180593,"Партнер номер 46","1945-05-22","не оплачен",625,0.05,31.25]
[180597,"Партнер номер 1","1945-05-22","не оплачен",1238,0.05,61.900000000000006]
[180599,"","1945-05-22","оплачен",2023,"",""]
[180601,"Партнер номер 46","1945-05-22","оплачен",1649,0.05,82.45]
[180606,"","1945-05-22","оплачен",1982,"",""]
[180611,"","1945-05-22","оплачен",11550,"",""]
[180614,"Партнер номер 5","1945-05-22","не оплачен",2193,0.03,65.789999999999992]
[180618,"","1945-05-22","оплачен",820,"",""]
[180624,"Партнер номер 1","1945-05-22","не оплачен",1333,0.05,66.650000000000006]
[180628,"Партнер номер 1","1945-05-22","не оплачен",1786,0.05,89.300000000000011]
[180632,"","1945-05-22","оплачен",2344,"",""]
[180636,"Партнер номер 1","1945-05-22","оплачен",1395,0.05,69.75]
[180645,"","1945-05-22","не оплачен",1537,"",""]
[180648,"Партнер номер 1","1945-05-22","оплачен",608,0.05,30.400000000000002]
[180652,"Партнер номер 5","1945-05-22","не оплачен",3559,0.03,106.77]
[180658,"","1945-05-22","оплачен",551,"",""]
[180665,"","1945-05-22","не оплачен",1261,"",""]
[180670,"Партнер номер 3","1945-05-22","не оплачен",1125,0.05,56.25]
[180673,"","1945-05-22","оплачен",920,"",""]
[180675,"","1945-05-22","не оплачен",2613,"",""]
[180679,"Партнер номер 2","1945-05-22","оплачен",1447,0.04,57.88]
[180684,"","1945-05-22","оплачен",2613,"",""]
[180686,"Партнер номер 28","1945-05-22","оплачен",2589,0.05,129.45000000000002]
[180690,"Партнер номер 7","1945-05-22","не оплачен",3264,0.05,163.20000000000002]
[180692,"","1945-05-22","оплачен",1401,"",""]
[180696,"","1945-05-22","не оплачен",583,"",""]
[180697,"Партнер номер 11","1945-05-22","оплачен",611,0.05,30.55]
[180699,"","1945-05-22","не оплачен",2598,"",""]
[180703,"","1945-05-22","оплачен",1635,"",""]
[180708,"","1945-05-22","оплачен",2401,"",""]
[180713,"","1945-05-22","не оплачен",3669,"",""]
[180718,"Партнер номер 5","1945-05-22","оплачен",1670,0.03,50.1]
[180722,"Партнер номер 1","1945-05-22","оплачен",2457,0.05,122.85000000000001]
[180725,"","1945-05-22","оплачен",938,"",""]
[180728,"Партнер номер 2","1945-05-22","не оплачен",1132,0.04,45.28]
[180730,"","1945-05-22","оплачен",699,"",""]
[180734,"Партнер номер 5","1945-05-22","оплачен",4421,0.03,132.63]
[180735,"","1945-05-22","не оплачен",1570,"",""]
[180739,"Партнер номер 11","1945-05-22","оплачен",674,0.05,33.700000000000003]
[180743,"","1945-05-22","оплачен",552,"",""]
[180749,"","1945-05-22","оплачен",1398,"",""]
[180755,"","1945-05-22","оплачен",1186,"",""]
[180757,"","1945-05-22","оплачен",2822,"",""]
[180760,"Партнер номер 46","1945-05-22","не оплачен",1435,0.05,71.75]
[180762,"Партнер номер 7","1945-05-22","оплачен",1279,0.05,63.95]
[180764,"Партнер номер 7","1945-05-22","не оплачен",1210,0.05,60.5]
[180767,"Партнер номер 10","1945-05-22","не оплачен",2854,0.04,114.16]
[180772,"Партнер номер 10","1945-05-22","не оплачен",2758,0.04,110.32000000000001]
[180775,"Партнер номер 1","1945-05-22","оплачен",3126,0.05,156.30000000000001]
[180779,"","1945-05-22","оплачен",2864,"",""]
[180785,"Партнер номер 1","1945-05-22","оплачен",1347,0.05,67.350000000000009]
[180788,"Партнер номер 2","1945-05-22","не оплачен",952,0.04,38.08]
[180789,"","1945-05-22","оплачен",2618,"",""]
[180794,"Партнер номер 1","1945-05-22","не оплачен",759,0.05,37.950000000000003]
[180797,"Партнер номер 11","1945-05-22","оплачен",2286,0.05,114.30000000000001]
[180803,"","1945-05-22","не оплачен",1053,"",""]
[180806,"","1945-05-22","оплачен",1699,"",""]
[180809,"","1945-05-22","оплачен",851,"",""]
[180814,"","1945-05-22","оплачен",1292,"",""]
[180818,"","1945-05-22","оплачен",2655,"",""]
[180821,"","1945-05-22","оплачен",3816,"",""]
[180826,"","1945-05-22","не оплачен",3209,"",""]
[180830,"","1945-05-22","оплачен",1585,"",""]
[180834,"Партнер номер 1","1945-05-22","оплачен",1894,0.05,94.7]
[180836,"Партнер номер 9","1945-05-22","оплачен",4351,0.05,217.55]
[180841,"Партнер номер 1","1945-05-22","не оплачен",2081,0.05,104.05000000000001]
[180845,"Партнер номер 1","1945-05-22","оплачен",2081,0.05,104.05000000000001]
[180848,"Партнер номер 3","1945-05-22","оплачен",3391,0.05,169.55]
[180852,"Партнер номер 2","1945-05-22","не оплачен",463,0.04,18.52]
[180853,"","1945-05-22","оплачен",2067,"",""]
[180858,"Партнер номер 5","1945-05-22","не оплачен",3033,0.03,90.99]
[180862,"","1945-05-22","оплачен",1645,"",""]
[180866,"","1945-05-22","оплачен",1671,"",""]
[180870,"","1945-05-22","оплачен",1914,"",""]
[180873,"","1945-05-22","не оплачен",2122,"",""]
[180875,"Партнер номер 3","1945-05-22","оплачен",1743,0.05,87.15]
[180878,"","1945-05-22","оплачен",2200,"",""]
[180880,"Партнер номер 3","1945-05-22","оплачен",2466,0.05,123.30000000000001]
[180883,"","1945-05-22","оплачен",1003,"",""]
[180887,"","1945-05-22","оплачен",2768,"",""]
[180892,"","1945-05-22","оплачен",2203,"",""]
[180898,"Партнер номер 1","1945-05-22","оплачен",2462,0.05,123.10000000000001]
[180903,"Партнер номер 1","1945-05-22","не оплачен",1472,0.05,73.600000000000009]
[180905,"Партнер номер 2","1945-05-23","не оплачен",576,0.04,23.04]
[180908,"","1945-05-23","оплачен",956,"",""]
[180911,"","1945-05-23","не оплачен",3026,"",""]
[180915,"","1945-05-23","оплачен",928,"",""]
[180920,"Партнер номер 2","1945-05-23","не оплачен",495,0.04,19.8]
[180922,"Партнер номер 1","1945-05-23","оплачен",813,0.05,40.650000000000006]
[180925,"Партнер номер 3","1945-05-23","не оплачен",2222,0.05,111.10000000000001]
[180926,"","1945-05-23","оплачен",4960,"",""]
[180933,"Партнер номер 1","1945-05-23","оплачен",1938,0.05,96.9]
[180934,"Партнер номер 7","1945-05-23","оплачен",1322,0.05,66.100000000000009]
[180938,"Партнер номер 1","1945-05-23","не оплачен",1804,0.05,90.2]
[180942,"Партнер номер 1","1945-05-23","оплачен",1804,0.05,90.2]
[180947,"","1945-05-23","оплачен",1016,"",""]
[180949,"","1945-05-23","не оплачен",1267,"",""]
[180956,"","1945-05-23","оплачен",1572,"",""]
[180958,"","1945-05-23","оплачен",2350,"",""]
[180960,"Партнер номер 1","1945-05-23","не оплачен",930,0.05,46.5]
[180963,"Партнер номер 3","1945-05-23","оплачен",2123,0.05,106.15]
[180967,"Партнер номер 1","1945-05-23","не оплачен",1342,0.05,67.100000000000009]
[180969,"Партнер номер 10","1945-05-23","оплачен",4993,0.04,199.72]
[180972,"Партнер номер 1","1945-05-23","оплачен",3316,0.05,165.8]
[180975,"Партнер номер 2","1945-05-23","не оплачен",837,0.04,33.480000000000004]
[180980,"Партнер номер 1","1945-05-23","оплачен",882,0.05,44.1]
[180982,"Партнер номер 1","1945-05-23","оплачен",1137,0.05,56.85]
[180987,"Партнер номер 1","1945-05-23","не оплачен",1340,0.05,67]
[180992,"","1945-05-23","оплачен",1614,"",""]
[180997,"Партнер номер 6","1945-05-23","оплачен",2596,0.04,103.84]
[181000,"","1945-05-23","не оплачен",4498,"",""]
[181004,"","1945-05-23","не оплачен",1784,"",""]
[181006,"Партнер номер 2","1945-05-23","оплачен",2492,0.04,99.68]
[181011,"Партнер номер 1","1945-05-23","оплачен",1233,0.05,61.650000000000006]
[181014,"","1945-05-23","оплачен",6089,"",""]
[181019,"Партнер номер 1","1945-05-23","оплачен",1218,0.05,60.900000000000006]
[181021,"","1945-05-23","оплачен",636,"",""]
[181022,"","1945-05-23","оплачен",536,"",""]
[181025,"Партнер номер 1","1945-05-23","оплачен",1140,0.05,57]
[181028,"","1945-05-23","оплачен",968,"",""]
[181033,"Партнер номер 28","1945-05-23","не оплачен",8719,0.05,435.95000000000005]
[181034,"Партнер номер 7","1945-05-23","оплачен",1106,0.05,55.300000000000004]
[181040,"Партнер номер 1","1945-05-23","не оплачен",1547,0.05,77.350000000000009]
[181042,"Партнер номер 1","1945-05-23","оплачен",5997,0.05,299.85000000000002]
[181047,"Партнер номер 1","1945-05-23","не оплачен",1259,0.05,62.95]
[181052,"Партнер номер 8","1945-05-23","оплачен",1202,0.03,36.059999999999995]
[181056,"Партнер номер 1","1945-05-23","не оплачен",1627,0.05,81.350000000000009]
[181057,"Партнер номер 3","1945-05-23","не оплачен",985,0.05,49.25]
[181062,"Партнер номер 1","1945-05-23","оплачен",1105,0.05,55.25]
[181064,"","1945-05-23","оплачен",2311,"",""]
[181066,"Партнер номер 1","1945-05-23","оплачен",1487,0.05,74.350000000000009]
[181070,"Партнер номер 11","1945-05-23","оплачен",1124,0.05,56.2]
[181075,"","1945-05-23","оплачен",1326,"",""]
[181079,"","1945-05-23","оплачен",1440,"",""]
[181084,"Партнер номер 1","1945-05-23","оплачен",3391,0.05,169.55]
[181087,"","1945-05-23","оплачен",1770,"",""]
[181092,"Партнер номер 2","1945-05-23","не оплачен",1356,0.04,54.24]
[181096,"Партнер номер 1","1945-05-23","оплачен",1218,0.05,60.900000000000006]
[181099,"Партнер номер 2","1945-05-23","не оплачен",3602,0.04,144.08000000000001]
[181100,"Партнер номер 16","1945-05-23","не оплачен",926,0.05,46.300000000000004]
[181103,"Партнер номер 7","1945-05-23","не оплачен",888,0.05,44.400000000000006]
[181105,"Партнер номер 11","1945-05-23","оплачен",1594,0.05,79.7]
[181112,"Партнер номер 1","1945-05-23","оплачен",1810,0.05,90.5]
[181116,"","1945-05-23","не оплачен",457,"",""]
[181119,"","1945-05-23","оплачен",1888,"",""]
[181122,"","1945-05-23","не оплачен",1955,"",""]
[181126,"","1945-05-23","оплачен",2113,"",""]
[181128,"Партнер номер 2","1945-05-23","не оплачен",848,0.04,33.92]
[181130,"","1945-05-23","не оплачен",1614,"",""]
[181133,"Партнер номер 1","1945-05-23","оплачен",9598,0.05,479.90000000000003]
[181139,"Партнер номер 10","1945-05-23","оплачен",1614,0.04,64.56]
[181144,"","1945-05-23","оплачен",5273,"",""]
[181147,"","1945-05-23","оплачен",2508,"",""]
[181151,"","1945-05-23","оплачен",1263,"",""]
[181154,"Партнер номер 7","1945-05-23","оплачен",1070,0.05,53.5]
[181156,"","1945-05-23","оплачен",831,"",""]
[181161,"Партнер номер 1","1945-05-23","оплачен",1455,0.05,72.75]
[181167,"Партнер номер 2","1945-05-23","не оплачен",2460,0.04,98.4]
[181170,"","1945-05-23","оплачен",2573,"",""]
[181174,"","1945-05-23","оплачен",4461,"",""]
[181176,"Партнер номер 7","1945-05-23","оплачен",4413,0.05,220.65]
[181180,"Партнер номер 1","1945-05-23","оплачен",1392,0.05,69.600000000000009]
[181184,"","1945-05-23","оплачен",3313,"",""]
[181187,"","1945-05-23","оплачен",1303,"",""]
[181190,"Партнер номер 11","1945-05-23","оплачен",603,0.05,30.150000000000002]
[181193,"Партнер номер 11","1945-05-23","оплачен",2343,0.05,117.15]
[181196,"","1945-05-23","оплачен",4940,"",""]
[181201,"Партнер номер 7","1945-05-23","оплачен",1148,0.05,57.400000000000006]
[181206,"Партнер номер 1","1945-05-23","оплачен",2029,0.05,101.45]
[181208,"Партнер номер 11","1945-05-23","не оплачен",807,0.05,40.35]
[181210,"","1945-05-23","оплачен",3098,"",""]
[181214,"Партнер номер 3","1945-05-23","оплачен",1945,0.05,97.25]
[181217,"","1945-05-23","не оплачен",1874,"",""]
[181220,"","1945-05-23","не оплачен",1105,"",""]
[181224,"","1945-05-23","оплачен",2030,"",""]
[181228,"Партнер номер 2","1945-05-23","не оплачен",1829,0.04,73.16]
[181234,"Партнер номер 1","1945-05-23","оплачен",1385,0.05,69.25]
[181238,"","1945-05-23","не оплачен",946,"",""]
[181240,"Партнер номер 1","1945-05-23","оплачен",559,0.05,27.950000000000003]
[181243,"Партнер номер 7","1945-05-23","не оплачен",1582,0.05,79.100000000000009]
[181247,"","1945-05-23","оплачен",5818,"",""]
[181250,"Партнер номер 1","1945-05-23","не оплачен",417,0.05,20.85]
[181254,"Партнер номер 2","1945-05-23","не оплачен",1794,0.04,71.760000000000005]
[181258,"Партнер номер 2","1945-05-23","оплачен",1829,0.04,73.16]
[181263,"","1945-05-23","оплачен",777,"",""]
[181270,"Партнер номер 1","1945-05-23","не оплачен",1614,0.05,80.7]
[181273,"Партнер номер 2","1945-05-23","не оплачен",2220,0.04,88.8]
[181277,"","1945-05-23","оплачен",3767,"",""]
[181282,"","1945-05-23","оплачен",1686,"",""]
[181286,"","1945-05-23","не оплачен",2226,"",""]
[181292,"Партнер номер 7","1945-05-23","не оплачен",2449,0.05,122.45]
[181296,"","1945-05-23","оплачен",1088,"",""]
[181300,"Партнер номер 7","1945-05-23","не оплачен",1582,0.05,79.100000000000009]
[181302,"Партнер номер 7","1945-05-23","не оплачен",2355,0.05,117.75]
[181305,"","1945-05-23","оплачен",1350,"",""]
[181307,"","1945-05-23","оплачен",1906,"",""]
[181313,"","1945-05-23","оплачен",1274,"",""]
[181317,"","1945-05-23","оплачен",1344,"",""]
[181322,"Партнер номер 3","1945-05-23","оплачен",1646,0.05,82.300000000000011]
[181332,"Партнер номер 1","1945-05-23","не оплачен",2329,0.05,116.45]
[181335,"Партнер номер 5","1945-05-23","оплачен",746,0.03,22.38]
[181337,"Партнер номер 1","1945-05-23","не оплачен",1771,0.05,88.550000000000011]
[181339,"","1945-05-23","оплачен",2198,"",""]
[181341,"Партнер номер 1","1945-05-23","не оплачен",551,0.05,27.55]
[181346,"Партнер номер 7","1945-05-23","оплачен",608,0.05,30.400000000000002]
[181346,"","1945-05-23","не оплачен",2402,"",""]
[181350,"","1945-05-23","оплачен",1627,"",""]
[181353,"Партнер номер 1","1945-05-23","не оплачен",2172,0.05,108.60000000000001]
[181356,"Партнер номер 1","1945-05-23","не оплачен",1759,0.05,87.95]
[181361,"Партнер номер 1","1945-05-23","оплачен",1759,0.05,87.95]
[181362,"","1945-05-23","оплачен",1746,"",""]
[181366,"","1945-05-23","не оплачен",609,"",""]
[181369,"","1945-05-23","оплачен",2427,"",""]
[181372,"Партнер номер 5","1945-05-23","оплачен",6394,0.03,191.82]
[181376,"Партнер номер 11","1945-05-23","оплачен",1190,0.05,59.5]
[181378,"","1945-05-23","оплачен",449,"",""]
[181379,"","1945-05-23","оплачен",746,"",""]
[181383,"Партнер номер 1","1945-05-23","не оплачен",1289,0.05,64.45]
[181386,"","1945-05-23","оплачен",2149,"",""]
[181390,"Партнер номер 3","1945-05-23","оплачен",3338,0.05,166.9]
[181391,"","1945-05-23","не оплачен",1328,"",""]
[181395,"","1945-05-23","оплачен",1510,"",""]
[181397,"Партнер номер 7","1945-05-23","не оплачен",886,0.05,44.300000000000004]
[181399,"Партнер номер 1","1945-05-23","оплачен",540,0.05,27]
[181404,"","1945-05-23","не оплачен",617,"",""]
[181408,"","1945-05-23","оплачен",2517,"",""]
[181413,"","1945-05-23","оплачен",1582,"",""]
[181415,"","1945-05-23","оплачен",1122,"",""]
[181417,"","1945-05-23","оплачен",1679,"",""]
[181422,"","1945-05-23","оплачен",2282,"",""]
[181424,"Партнер номер 1","1945-05-23","оплачен",1175,0.05,58.75]
[181427,"Партнер номер 7","1945-05-23","оплачен",1039,0.05,51.95]
[181430,"","1945-05-23","оплачен",1811,"",""]
[181432,"Партнер номер 1","1945-05-23","оплачен",969,0.05,48.45]
[181436,"","1945-05-23","оплачен",1683,"",""]
[181437,"","1945-05-23","оплачен",1242,"",""]
[181441,"Партнер номер 6","1945-05-23","не оплачен",1582,0.04,63.28]
[181444,"","1945-05-23","не оплачен",1836,"",""]
[181448,"","1945-05-23","оплачен",1280,"",""]
[181452,"Партнер номер 1","1945-05-23","оплачен",1837,0.05,91.850000000000009]
[181458,"","1945-05-23","оплачен",2883,"",""]
[181460,"Партнер номер 2","1945-05-23","не оплачен",2393,0.04,95.72]
[181464,"","1945-05-23","не оплачен",3044,"",""]
[181468,"Партнер номер 1","1945-05-23","оплачен",1531,0.05,76.55]
[181470,"Партнер номер 5","1945-05-23","оплачен",1773,0.03,53.19]
[181472,"","1945-05-23","не оплачен",1969,"",""]
[181476,"Партнер номер 5","1945-05-23","оплачен",1204,0.03,36.119999999999997]
[181479,"","1945-05-23","оплачен",2616,"",""]
[181480,"Партнер номер 4","1945-05-23","оплачен",2032,0.04,81.28]
[181483,"","1945-05-23","не оплачен",728,"",""]
[181484,"","1945-05-23","оплачен",4890,"",""]
[181488,"Партнер номер 1","1945-05-23","не оплачен",1768,0.05,88.4]
[181493,"","1945-05-23","оплачен",3062,"",""]
[181495,"Партнер номер 17","1945-05-23","оплачен",1610,0.04,64.400000000000006]
[181498,"","1945-05-23","оплачен",698,"",""]
[181503,"","1945-05-23","оплачен",5550,"",""]
[181506,"","1945-05-23","оплачен",3427,"",""]
[181507,"","1945-05-23","оплачен",8002,"",""]
[181511,"","1945-05-23","оплачен",3580,"",""]
[181515,"","1945-05-23","оплачен",1995,"",""]
[181518,"","1945-05-23","не оплачен",1583,"",""]
[181522,"","1945-05-23","не оплачен",2134,"",""]
[181526,"","1945-05-23","оплачен",1665,"",""]
[181530,"Партнер номер 1","1945-05-23","не оплачен",1799,0.05,89.95]
[181533,"","1945-05-23","не оплачен",1583,"",""]
[181536,"Партнер номер 1","1945-05-23","оплачен",2200,0.05,110]
[181539,"","1945-05-23","оплачен",4443,"",""]
[181542,"","1945-05-23","не оплачен",2301,"",""]
[181543,"Партнер номер 1","1945-05-23","не оплачен",1110,0.05,55.5]
[181546,"Партнер номер 6","1945-05-23","оплачен",1271,0.04,50.84]
[181549,"Партнер номер 5","1945-05-23","оплачен",2635,0.03,79.05]
[181555,"","1945-05-23","не оплачен",4503,"",""]
[181557,"","1945-05-23","оплачен",1333,"",""]
[181558,"","1945-05-23","не оплачен",1365,"",""]
[181562,"","1945-05-23","оплачен",1554,"",""]
[181566,"Партнер номер 3","1945-05-23","оплачен",1481,0.05,74.05]
[181572,"Партнер номер 1","1945-05-23","не оплачен",3785,0.05,189.25]
[181574,"","1945-05-24","оплачен",3821,"",""]
[181576,"Партнер номер 4","1945-05-24","не оплачен",2260,0.04,90.4]
[181577,"","1945-05-24","оплачен",4176,"",""]
[181582,"","1945-05-24","оплачен",1096,"",""]
[181586,"","1945-05-24","оплачен",2089,"",""]
[181591,"Партнер номер 11","1945-05-24","не оплачен",2172,0.05,108.60000000000001]
[181596,"","1945-05-24","оплачен",1269,"",""]
[181600,"","1945-05-24","оплачен",2052,"",""]
[181603,"","1945-05-24","оплачен",2576,"",""]
[181608,"","1945-05-24","оплачен",3224,"",""]
[181610,"Партнер номер 1","1945-05-24","оплачен",1168,0.05,58.400000000000006]
[181614,"Партнер номер 11","1945-05-24","оплачен",1634,0.05,81.7]
[181619,"","1945-05-24","оплачен",1575,"",""]
[181623,"","1945-05-24","не оплачен",1216,"",""]
[181629,"Партнер номер 13","1945-05-24","не оплачен",2260,0.05,113]
[181632,"Партнер номер 1","1945-05-24","оплачен",505,0.05,25.25]
[181637,"Партнер номер 5","1945-05-24","не оплачен",1832,0.03,54.96]
[181639,"","1945-05-24","оплачен",4351,"",""]
[181644,"Партнер номер 1","1945-05-24","не оплачен",1822,0.05,91.100000000000009]
[181648,"Партнер номер 1","1945-05-24","оплачен",4780,0.05,239]
[181650,"","1945-05-24","оплачен",3570,"",""]
[181651,"Партнер номер 11","1945-05-24","оплачен",1758,0.05,87.9]
[181653,"","1945-05-24","не оплачен",1534,"",""]
[181657,"Партнер номер 1","1945-05-24","оплачен",1508,0.05,75.400000000000006]
[181659,"","1945-05-24","не оплачен",757,"",""]
[181665,"Партнер номер 1","1945-05-24","не оплачен",1260,0.05,63]
[181667,"","1945-05-24","оплачен",1605,"",""]
[181671,"","1945-05-24","оплачен",2215,"",""]
[181677,"","1945-05-24","оплачен",1715,"",""]
[181682,"","1945-05-24","не оплачен",674,"",""]
[181686,"Партнер номер 3","1945-05-24","не оплачен",863,0.05,43.150000000000006]
[181690,"Партнер номер 13","1945-05-24","оплачен",2260,0.05,113]
[181693,"","1945-05-24","оплачен",3143,"",""]
[181695,"Партнер номер 3","1945-05-24","оплачен",1989,0.05,99.45]
[181698,"Партнер номер 1","1945-05-24","оплачен",2068,0.05,103.4]
[181703,"","1945-05-24","оплачен",4164,"",""]
[181707,"","1945-05-24","оплачен",6175,"",""]
[181712,"","1945-05-24","не оплачен",2061,"",""]
[181716,"Партнер номер 5","1945-05-24","оплачен",4839,0.03,145.16999999999999]
[181721,"Партнер номер 1","1945-05-24","не оплачен",827,0.05,41.35]
[181724,"Партнер номер 3","1945-05-24","не оплачен",1919,0.05,95.95]
[181726,"","1945-05-24","оплачен",553,"",""]
[181729,"","1945-05-24","оплачен",4813,"",""]
[181732,"","1945-05-24","оплачен",2348,"",""]
[181734,"Партнер номер 1","1945-05-24","оплачен",670,0.05,33.5]
[181738,"Партнер номер 1","1945-05-24","оплачен",1413,0.05,70.650000000000006]
[181742,"Партнер номер 1","1945-05-24","не оплачен",725,0.05,36.25]
[181747,"Партнер номер 5","1945-05-24","не оплачен",677,0.03,20.309999999999999]
[181749,"","1945-05-24","не оплачен",1497,"",""]
[181751,"Партнер номер 7","1945-05-24","оплачен",4083,0.05,204.15]
[181753,"","1945-05-24","оплачен",2088,"",""]
[181757,"Партнер номер 11","1945-05-24","не оплачен",2172,0.05,108.60000000000001]
[181758,"","1945-05-24","оплачен",2086,"",""]
[181764,"Партнер номер 1","1945-05-24","не оплачен",2884,0.05,144.20000000000002]
[181767,"","1945-05-24","оплачен",2617,"",""]
[181772,"","1945-05-24","оплачен",2781,"",""]
[181773,"","1945-05-24","оплачен",956,"",""]
[181775,"Партнер номер 1","1945-05-24","оплачен",1064,0.05,53.2]
[181780,"Партнер номер 7","1945-05-24","не оплачен",2361,0.05,118.05000000000001]
[181784,"","1945-05-24","оплачен",1475,"",""]
[181789,"Партнер номер 1","1945-05-24","оплачен",2884,0.05,144.20000000000002]
[181791,"Партнер номер 1","1945-05-24","не оплачен",941,0.05,47.050000000000004]
[181794,"","1945-05-24","оплачен",1625,"",""]
[181797,"","1945-05-24","оплачен",2116,"",""]
[181802,"Партнер номер 5","1945-05-24","оплачен",2712,0.03,81.36]
[181806,"Партнер номер 1","1945-05-24","оплачен",3679,0.05,183.95000000000002]
[181811,"Партнер номер 7","1945-05-24","оплачен",1179,0.05,58.95]
[181814,"Партнер номер 7","1945-05-24","не оплачен",1955,0.05,97.75]
[181819,"","1945-05-24","оплачен",1788,"",""]
[181823,"Партнер номер 1","1945-05-24","не оплачен",1135,0.05,56.75]
[181827,"Партнер номер 1","1945-05-24","оплачен",1235,0.05,61.75]
[181830,"","1945-05-24","оплачен",5543,"",""]
[181834,"Партнер номер 1","1945-05-24","оплачен",884,0.05,44.2]
[181836,"Партнер номер 13","1945-05-24","не оплачен",2278,0.05,113.9]
[181839,"","1945-05-24","оплачен",2304,"",""]
[181845,"","1945-05-24","оплачен",3407,"",""]
[181849,"","1945-05-24","оплачен",5992,"",""]
[181854,"Партнер номер 1","1945-05-24","оплачен",1857,0.05,92.850000000000009]
[181859,"Партнер номер 3","1945-05-24","не оплачен",701,0.05,35.050000000000004]
[181862,"","1945-05-24","не оплачен",1325,"",""]
[181866,"Партнер номер 7","1945-05-24","оплачен",1163,0.05,58.150000000000006]
[181868,"Партнер номер 2","1945-05-24","оплачен",1281,0.04,51.24]
[181871,"Партнер номер 1","1945-05-24","оплачен",1097,0.05,54.85]
[181875,"Партнер номер 7","1945-05-24","оплачен",1201,0.05,60.050000000000004]
[181880,"","1945-05-24","оплачен",2878,"",""]
[181882,"","1945-05-24","не оплачен",2063,"",""]
[181885,"","1945-05-24","не оплачен",2162,"",""]
[181891,"Партнер номер 1","1945-05-24","оплачен",699,0.05,34.950000000000003]
[181893,"","1945-05-24","не оплачен",2769,"",""]
[181895,"","1945-05-24","оплачен",3421,"",""]
[181897,"","1945-05-24","оплачен",1276,"",""]
[181906,"","1945-05-24","оплачен",2012,"",""]
[181908,"","1945-05-24","не оплачен",674,"",""]
[181910,"","1945-05-24","оплачен",638,"",""]
[181912,"Партнер номер 1","1945-05-24","оплачен",3242,0.05,162.10000000000002]
[181918,"Партнер номер 1","1945-05-24","оплачен",1413,0.05,70.650000000000006]
[181922,"Партнер номер 1","1945-05-24","не оплачен",1805,0.05,90.25]
[181926,"","1945-05-24","не оплачен",1290,"",""]
[181931,"Партнер номер 1","1945-05-24","оплачен",2118,0.05,105.9]
[181933,"Партнер номер 5","1945-05-24","оплачен",3779,0.03,113.36999999999999]
[181935,"","1945-05-24","оплачен",1905,"",""]
[181938,"","1945-05-24","оплачен",1341,"",""]
[181941,"","1945-05-24","не оплачен",1604,"",""]
[181942,"Партнер номер 1","1945-05-24","оплачен",1235,0.05,61.75]
[181945,"","1945-05-24","оплачен",1604,"",""]
[181948,"Партнер номер 7","1945-05-24","не оплачен",1394,0.05,69.7]
[181952,"","1945-05-24","не оплачен",1756,"",""]
[181956,"","1945-05-24","не оплачен",6359,"",""]
[181959,"","1945-05-24","оплачен",665,"",""]
[181962,"","1945-05-24","не оплачен",6359,"",""]
[181966,"","1945-05-24","оплачен",2642,"",""]
[181969,"","1945-05-24","не оплачен",2300,"",""]
[181973,"Партнер номер 2","1945-05-24","оплачен",3877,0.04,155.08000000000001]
[181975,"Партнер номер 5","1945-05-24","оплачен",1113,0.03,33.39]
[181978,"","1945-05-24","оплачен",2686,"",""]
[181980,"","1945-05-24","не оплачен",2165,"",""]
[181984,"Партнер номер 2","1945-05-24","оплачен",1036,0.04,41.44]
[181987,"Партнер номер 19","1945-05-24","не оплачен",396,0.05,19.8]
[181990,"Партнер номер 1","1945-05-24","оплачен",3207,0.05,160.35000000000002]
[181994,"","1945-05-24","не оплачен",1703,"",""]
[181997,"Партнер номер 3","1945-05-24","не оплачен",1722,0.05,86.100000000000009]
[182003,"Партнер номер 11","1945-05-24","не оплачен",839,0.05,41.95]
[182005,"","1945-05-24","оплачен",1507,"",""]
[182009,"","1945-05-24","оплачен",924,"",""]
[182013,"Партнер номер 1","1945-05-24","оплачен",880,0.05,44]
[182017,"Партнер номер 2","1945-05-24","не оплачен",1305,0.04,52.2]
[182022,"Партнер номер 11","1945-05-24","оплачен",881,0.05,44.050000000000004]
[182025,"","1945-05-24","не оплачен",410,"",""]
[182030,"Партнер номер 1","1945-05-24","оплачен",2420,0.05,121]
[182034,"Партнер номер 2","1945-05-24","оплачен",1305,0.04,52.2]
[182039,"","1945-05-24","не оплачен",2603,"",""]
[182043,"Партнер номер 46","1945-05-24","не оплачен",634,0.05,31.700000000000003]
[182045,"Партнер номер 1","1945-05-24","оплачен",2086,0.05,104.30000000000001]
[182047,"","1945-05-24","оплачен",1170,"",""]
[182052,"Партнер номер 1","1945-05-24","оплачен",1663,0.05,83.15]
[182057,"Партнер номер 5","1945-05-24","оплачен",663,0.03,19.89]
[182061,"Партнер номер 48","1945-05-24","оплачен",840,0.03,25.2]
[182066,"","1945-05-24","оплачен",2500,"",""]
[182068,"Партнер номер 1","1945-05-24","не оплачен",3696,0.05,184.8]
[182072,"Партнер номер 11","1945-05-24","оплачен",1747,0.05,87.350000000000009]
[182074,"","1945-05-24","оплачен",1627,"",""]
[182078,"Партнер номер 1","1945-05-24","оплачен",895,0.05,44.75]
[182081,"","1945-05-24","оплачен",617,"",""]
[182083,"Партнер номер 1","1945-05-24","оплачен",1965,0.05,98.25]
[182085,"Партнер номер 46","1945-05-24","не оплачен",1291,0.05,64.55]
[182090,"Партнер номер 1","1945-05-24","не оплачен",2092,0.05,104.60000000000001]
[182092,"","1945-05-24","оплачен",2151,"",""]
[182093,"Партнер номер 1","1945-05-24","оплачен",4447,0.05,222.35000000000002]
[182097,"","1945-05-24","оплачен",1829,"",""]
[182101,"","1945-05-24","оплачен",3758,"",""]
[182104,"Партнер номер 1","1945-05-24","оплачен",963,0.05,48.150000000000006]
[182109,"","1945-05-24","не оплачен",1667,"",""]
[182112,"","1945-05-24","оплачен",1140,"",""]
[182116,"","1945-05-24","оплачен",1160,"",""]
[182118,"","1945-05-24","оплачен",1477,"",""]
[182123,"Партнер номер 1","1945-05-24","оплачен",2175,0.05,108.75]
[182126,"Партнер номер 2","1945-05-24","не оплачен",726,0.04,29.04]
[182131,"","1945-05-24","оплачен",2650,"",""]
[182135,"Партнер номер 1","1945-05-24","оплачен",3164,0.05,158.20000000000002]
[182138,"Партнер номер 11","1945-05-24","оплачен",1831,0.05,91.550000000000011]
[182140,"Партнер номер 4","1945-05-24","оплачен",1029,0.04,41.160000000000004]
[182145,"Партнер номер 1","1945-05-24","не оплачен",2134,0.05,106.7]
[182147,"Партнер номер 1","1945-05-24","оплачен",2239,0.05,111.95]
[182157,"Партнер номер 7","1945-05-24","оплачен",1872,0.05,93.600000000000009]
[182162,"","1945-05-24","оплачен",2277,"",""]
[182165,"","1945-05-24","не оплачен",865,"",""]
[182169,"Партнер номер 46","1945-05-24","оплачен",3309,0.05,165.45000000000002]
[182174,"Партнер номер 7","1945-05-24","оплачен",1836,0.05,91.800000000000011]
[182179,"Партнер номер 1","1945-05-24","оплачен",3081,0.05,154.05000000000001]
[182185,"","1945-05-24","не оплачен",3966,"",""]
[182188,"","1945-05-24","не оплачен",907,"",""]
[182193,"Партнер номер 1","1945-05-24","не оплачен",2035,0.05,101.75]
[182199,"Партнер номер 1","1945-05-24","оплачен",2547,0.05,127.35000000000001]
[182204,"","1945-05-24","оплачен",847,"",""]
[182206,"","1945-05-24","оплачен",907,"",""]
[182211,"","1945-05-24","оплачен",804,"",""]
[182213,"Партнер номер 1","1945-05-24","оплачен",1204,0.05,60.2]
[182215,"","1945-05-24","оплачен",1866,"",""]
[182219,"Партнер номер 1","1945-05-24","оплачен",2140,0.05,107]
[182222,"","1945-05-24","оплачен",932,"",""]
[182225,"","1945-05-24","оплачен",1372,"",""]
[182228,"","1945-05-24","не оплачен",2953,"",""]
[182233,"","1945-05-24","не оплачен",2005,"",""]
[182236,"","1945-05-24","оплачен",3018,"",""]
[182238,"Партнер номер 9","1945-05-24","оплачен",2419,0.05,120.95]
[182242,"","1945-05-24","оплачен",952,"",""]
[182245,"","1945-05-24","оплачен",889,"",""]
[182248,"Партнер номер 1","1945-05-24","оплачен",5171,0.05,258.55]
[182251,"Партнер номер 9","1945-05-24","оплачен",8921,0.05,446.05]
[182254,"","1945-05-24","оплачен",2291,"",""]
[182259,"","1945-05-24","не оплачен",2159,"",""]
[182263,"","1945-05-24","не оплачен",2290,"",""]
[182268,"","1945-05-24","оплачен",2241,"",""]
[182272,"Партнер номер 11","1945-05-24","не оплачен",1591,0.05,79.550000000000011]
[182274,"Партнер номер 1","1945-05-24","оплачен",1351,0.05,67.55]
[182278,"","1945-05-24","оплачен",2291,"",""]
[182279,"","1945-05-24","не оплачен",5782,"",""]
[182282,"","1945-05-24","не оплачен",2518,"",""]
[182284,"Партнер номер 3","1945-05-24","не оплачен",6500,0.05,325]
[182289,"","1945-05-24","оплачен",976,"",""]
[182293,"Партнер номер 7","1945-05-24","оплачен",1341,0.05,67.05]
[182298,"","1945-05-24","оплачен",2086,"",""]
[182301,"","1945-05-24","не оплачен",5166,"",""]
[182303,"","1945-05-24","оплачен",1882,"",""]
[182305,"","1945-05-24","оплачен",2086,"",""]
[182306,"Партнер номер 1","1945-05-24","оплачен",1344,0.05,67.2]
[182308,"","1945-05-24","оплачен",2489,"",""]
[182313,"","1945-05-24","оплачен",2530,"",""]
[182316,"Партнер номер 11","1945-05-24","оплачен",1539,0.05,76.95]
[182322,"Партнер номер 1","1945-05-24","оплачен",1170,0.05,58.5]
[182323,"","1945-05-24","оплачен",1409,"",""]
[182326,"Партнер номер 1","1945-05-24","не оплачен",1973,0.05,98.65]
[182331,"Партнер номер 6","1945-05-24","оплачен",3363,0.04,134.52000000000001]
[182337,"","1945-05-24","не оплачен",1153,"",""]
[182342,"Партнер номер 7","1945-05-24","оплачен",1211,0.05,60.550000000000004]
[182345,"Партнер номер 10","1945-05-24","оплачен",3010,0.04,120.4]
[182349,"Партнер номер 5","1945-05-24","оплачен",2392,0.03,71.759999999999991]
[182354,"","1945-05-24","оплачен",1471,"",""]
[182357,"","1945-05-24","оплачен",912,"",""]
[182362,"","1945-05-24","оплачен",3381,"",""]
[182365,"","1945-05-24","оплачен",1406,"",""]
[182368,"","1945-05-24","оплачен",850,"",""]
[182371,"Партнер номер 1","1945-05-24","оплачен",1223,0.05,61.150000000000006]
[182376,"Партнер номер 1","1945-05-25","не оплачен",1229,0.05,61.45]
[182378,"Партнер номер 11","1945-05-25","оплачен",2545,0.05,127.25]
[182383,"Партнер номер 4","1945-05-25","не оплачен",3048,0.04,121.92]
[182388,"Партнер номер 11","1945-05-25","оплачен",1850,0.05,92.5]
[182391,"Партнер номер 1","1945-05-25","оплачен",1173,0.05,58.650000000000006]
[182394,"Партнер номер 7","1945-05-25","оплачен",2085,0.05,104.25]
[182396,"Партнер номер 4","1945-05-25","оплачен",1866,0.04,74.64]
[182399,"Партнер номер 2","1945-05-25","не оплачен",4193,0.04,167.72]
[182404,"","1945-05-25","оплачен",531,"",""]
[182406,"","1945-05-25","не оплачен",898,"",""]
[182410,"","1945-05-25","не оплачен",898,"",""]
[182415,"","1945-05-25","оплачен",4781,"",""]
[182419,"Партнер номер 4","1945-05-25","не оплачен",1750,0.04,70]
[182424,"","1945-05-25","оплачен",12820,"",""]
[182427,"","1945-05-25","оплачен",1023,"",""]
[182432,"Партнер номер 1","1945-05-25","оплачен",2453,0.05,122.65]
[182437,"Партнер номер 1","1945-05-25","оплачен",4260,0.05,213]
[182441,"","1945-05-25","не оплачен",1337,"",""]
[182444,"","1945-05-25","не оплачен",2232,"",""]
[182445,"Партнер номер 1","1945-05-25","не оплачен",783,0.05,39.150000000000006]
[182448,"Партнер номер 1","1945-05-25","оплачен",1702,0.05,85.100000000000009]
[182453,"","1945-05-25","не оплачен",1211,"",""]
[182457,"","1945-05-25","не оплачен",7318,"",""]
[182459,"","1945-05-25","оплачен",982,"",""]
[182461,"Партнер номер 31","1945-05-25","не оплачен",927,0.03,27.81]
[182464,"Партнер номер 31","1945-05-25","не оплачен",1211,0.03,36.33]
[182474,"","1945-05-25","не оплачен",5945,"",""]
[182477,"Партнер номер 11","1945-05-25","оплачен",2416,0.05,120.80000000000001]
[182480,"","1945-05-25","оплачен",3894,"",""]
[182484,"","1945-05-25","не оплачен",1487,"",""]
[182487,"Партнер номер 5","1945-05-25","оплачен",1731,0.03,51.93]
[182490,"","1945-05-25","оплачен",881,"",""]
[182494,"","1945-05-25","не оплачен",2536,"",""]
[182495,"Партнер номер 1","1945-05-25","оплачен",800,0.05,40]
[182500,"","1945-05-25","оплачен",881,"",""]
[182503,"Партнер номер 13","1945-05-25","не оплачен",2506,0.05,125.30000000000001]
[182506,"Партнер номер 1","1945-05-25","оплачен",1487,0.05,74.350000000000009]
[182510,"Партнер номер 11","1945-05-25","оплачен",2578,0.05,128.9]
[182514,"Партнер номер 5","1945-05-25","не оплачен",1000,0.03,30]
[182517,"Партнер номер 7","1945-05-25","оплачен",2116,0.05,105.80000000000001]
[182522,"Партнер номер 1","1945-05-25","оплачен",569,0.05,28.450000000000003]
[182527,"Партнер номер 1","1945-05-25","оплачен",2186,0.05,109.30000000000001]
[182533,"","1945-05-25","не оплачен",3016,"",""]
[182538,"Партнер номер 1","1945-05-25","оплачен",947,0.05,47.35]
[182541,"Партнер номер 7","1945-05-25","оплачен",2116,0.05,105.80000000000001]
[182544,"Партнер номер 1","1945-05-25","оплачен",569,0.05,28.450000000000003]
[182546,"Партнер номер 7","1945-05-25","оплачен",2033,0.05,101.65]
[182551,"","1945-05-25","не оплачен",794,"",""]
[182556,"Партнер номер 30","1945-05-25","не оплачен",774,0.05,38.700000000000003]
[182558,"","1945-05-25","не оплачен",2206,"",""]
[182568,"Партнер номер 3","1945-05-25","не оплачен",946,0.05,47.300000000000004]
[182572,"","1945-05-25","не оплачен",2418,"",""]
[182582,"","1945-05-25","оплачен",1735,"",""]
[182589,"Партнер номер 5","1945-05-25","оплачен",773,0.03,23.189999999999998]
[182591,"","1945-05-25","не оплачен",705,"",""]
[182600,"Партнер номер 1","1945-05-25","оплачен",1601,0.05,80.050000000000011]
[182602,"Партнер номер 4","1945-05-25","оплачен",1110,0.04,44.4]
[182606,"Партнер номер 7","1945-05-25","оплачен",1093,0.05,54.650000000000006]
[182615,"Партнер номер 7","1945-05-25","оплачен",1220,0.05,61]
[182619,"Партнер номер 5","1945-05-25","оплачен",1392,0.03,41.76]
[182625,"","1945-05-25","не оплачен",1127,"",""]
[182628,"","1945-05-25","не оплачен",1638,"",""]
[182630,"Партнер номер 46","1945-05-25","оплачен",1544,0.05,77.2]
[182635,"Партнер номер 1","1945-05-25","оплачен",676,0.05,33.800000000000004]
[182637,"Партнер номер 3","1945-05-25","оплачен",569,0.05,28.450000000000003]
[182642,"Партнер номер 3","1945-05-25","оплачен",1120,0.05,56]
[182647,"Партнер номер 5","1945-05-25","оплачен",1720,0.03,51.6]
[182652,"","1945-05-25","оплачен",1839,"",""]
[182654,"Партнер номер 1","1945-05-25","оплачен",2127,0.05,106.35000000000001]
[182658,"Партнер номер 1","1945-05-25","не оплачен",627,0.05,31.35]
[182660,"","1945-05-25","оплачен",1390,"",""]
[182665,"Партнер номер 3","1945-05-25","не оплачен",673,0.05,33.65]
[182670,"Партнер номер 1","1945-05-25","не оплачен",706,0.05,35.300000000000004]
[182673,"","1945-05-25","оплачен",1332,"",""]
[182677,"Партнер номер 10","1945-05-25","оплачен",0,0.04,0]
[182681,"","1945-05-25","оплачен",2305,"",""]
[182686,"","1945-05-25","оплачен",1846,"",""]
[182690,"","1945-05-25","оплачен",941,"",""]
[182692,"","1945-05-25","оплачен",969,"",""]
[182697,"Партнер номер 46","1945-05-25","оплачен",1408,0.05,70.400000000000006]
[182700,"Партнер номер 1","1945-05-25","оплачен",666,0.05,33.300000000000004]
[182705,"","1945-05-25","оплачен",2203,"",""]
[182707,"Партнер номер 1","1945-05-25","оплачен",1644,0.05,82.2]
[182712,"Партнер номер 1","1945-05-25","оплачен",542,0.05,27.1]
[182717,"","1945-05-25","оплачен",1924,"",""]
[182722,"Партнер номер 5","1945-05-25","не оплачен",865,0.03,25.95]
[182725,"Партнер номер 1","1945-05-25","оплачен",1277,0.05,63.85]
[182729,"","1945-05-25","оплачен",3425,"",""]
[182732,"Партнер номер 1","1945-05-25","не оплачен",992,0.05,49.6]
[182748,"Партнер номер 3","1945-05-25","не оплачен",1495,0.05,74.75]
[182754,"Партнер номер 7","1945-05-25","оплачен",1727,0.05,86.350000000000009]
[182755,"","1945-05-25","оплачен",450,"",""]
[182757,"","1945-05-25","оплачен",2056,"",""]
[182762,"","1945-05-25","не оплачен",1138,"",""]
[182764,"Партнер номер 7","1945-05-25","не оплачен",3489,0.05,174.45000000000002]
[182767,"Партнер номер 28","1945-05-25","не оплачен",5017,0.05,250.85000000000002]
[182768,"Партнер номер 1","1945-05-25","не оплачен",932,0.05,46.6]
[182772,"Партнер номер 5","1945-05-25","оплачен",2964,0.03,88.92]
[182773,"Партнер номер 1","1945-05-25","не оплачен",754,0.05,37.700000000000003]
[182775,"Партнер номер 3","1945-05-25","не оплачен",2066,0.05,103.30000000000001]
[182780,"Партнер номер 7","1945-05-25","не оплачен",3307,0.05,165.35000000000002]
[182785,"","1945-05-25","оплачен",2190,"",""]
[182788,"Партнер номер 6","1945-05-25","не оплачен",1559,0.04,62.36]
[182790,"Партнер номер 7","1945-05-25","оплачен",3716,0.05,185.8]
[182794,"","1945-05-25","не оплачен",4493,"",""]
[182795,"Партнер номер 2","1945-05-25","оплачен",3172,0.04,126.88000000000001]
[182798,"Партнер номер 3","1945-05-25","оплачен",1751,0.05,87.550000000000011]
[182802,"Партнер номер 1","1945-05-25","не оплачен",1775,0.05,88.75]
[182805,"","1945-05-25","не оплачен",5499,"",""]
[182807,"","1945-05-25","оплачен",1481,"",""]
[182812,"","1945-05-25","оплачен",1654,"",""]
[182817,"Партнер номер 22","1945-05-25","не оплачен",640,0.05,32]
[182821,"Партнер номер 1","1945-05-25","оплачен",3595,0.05,179.75]
[182823,"","1945-05-25","не оплачен",2359,"",""]
[182829,"Партнер номер 11","1945-05-25","оплачен",1799,0.05,89.95]
[182834,"Партнер номер 1","1945-05-25","не оплачен",502,0.05,25.1]
[182839,"","1945-05-25","не оплачен",1342,"",""]
[182842,"Партнер номер 1","1945-05-25","оплачен",5698,0.05,284.90000000000003]
[182844,"Партнер номер 1","1945-05-25","оплачен",930,0.05,46.5]
[182848,"Партнер номер 7","1945-05-25","оплачен",2747,0.05,137.35]
[182852,"Партнер номер 1","1945-05-25","оплачен",885,0.05,44.25]
[182855,"","1945-05-25","оплачен",1853,"",""]
[182856,"","1945-05-25","не оплачен",1448,"",""]
[182862,"","1945-05-25","не оплачен",1550,"",""]
[182866,"Партнер номер 1","1945-05-25","не оплачен",5234,0.05,261.7]
[182870,"","1945-05-25","оплачен",1643,"",""]
[182875,"","1945-05-25","оплачен",681,"",""]
[182878,"","1945-05-25","оплачен",1216,"",""]
[182879,"Партнер номер 1","1945-05-25","не оплачен",3956,0.05,197.8]
[182885,"Партнер номер 1","1945-05-25","оплачен",2117,0.05,105.85000000000001]
[182890,"Партнер номер 1","1945-05-25","оплачен",2238,0.05,111.9]
[182894,"Партнер номер 7","1945-05-25","оплачен",1543,0.05,77.150000000000006]
[182899,"","1945-05-26","оплачен",0,"",""]
[182902,"","1945-05-26","оплачен",0,"",""]
[182905,"","1945-05-26","оплачен",4236,"",""]
[182908,"","1945-05-26","не оплачен",2329,"",""]
[182911,"Партнер номер 1","1945-05-26","оплачен",1470,0.05,73.5]
[182914,"","1945-05-26","оплачен",4137,"",""]
[182918,"","1945-05-26","не оплачен",1329,"",""]
[182924,"Партнер номер 1","1945-05-26","оплачен",3347,0.05,167.35000000000002]
[182927,"","1945-05-26","не оплачен",1822,"",""]
[182929,"","1945-05-26","оплачен",2170,"",""]
[182932,"Партнер номер 9","1945-05-26","оплачен",1692,0.05,84.600000000000009]
[182936,"","1945-05-26","не оплачен",2460,"",""]
[182940,"Партнер номер 4","1945-05-26","не оплачен",3006,0.04,120.24000000000001]
[182944,"","1945-05-26","оплачен",3974,"",""]
[182946,"","1945-05-26","оплачен",7559,"",""]
[182948,"Партнер номер 1","1945-05-26","не оплачен",774,0.05,38.700000000000003]
[182952,"","1945-05-26","оплачен",1602,"",""]
[182957,"Партнер номер 1","1945-05-26","оплачен",1488,0.05,74.400000000000006]
[182958,"Партнер номер 11","1945-05-26","не оплачен",1188,0.05,59.400000000000006]
[182963,"","1945-05-26","не оплачен",8038,"",""]
[182966,"","1945-05-26","не оплачен",4474,"",""]
[182968,"","1945-05-26","не оплачен",826,"",""]
[182970,"","1945-05-26","не оплачен",1120,"",""]
[182971,"Партнер номер 1","1945-05-26","оплачен",2149,0.05,107.45]
[182974,"Партнер номер 10","1945-05-26","не оплачен",1537,0.04,61.480000000000004]
[182976,"Партнер номер 11","1945-05-26","не оплачен",2374,0.05,118.7]
[182980,"","1945-05-26","оплачен",1403,"",""]
[182984,"","1945-05-26","оплачен",1294,"",""]
[182987,"","1945-05-26","оплачен",2809,"",""]
[182992,"Партнер номер 3","1945-05-26","оплачен",1694,0.05,84.7]
[182996,"Партнер номер 1","1945-05-26","оплачен",2208,0.05,110.4]
[183001,"","1945-05-26","оплачен",1439,"",""]
[183006,"","1945-05-26","оплачен",510,"",""]
[183009,"","1945-05-26","не оплачен",4736,"",""]
[183013,"","1945-05-26","не оплачен",2565,"",""]
[183019,"Партнер номер 28","1945-05-26","оплачен",809,0.05,40.450000000000003]
[183023,"Партнер номер 11","1945-05-26","оплачен",1743,0.05,87.15]
[183026,"","1945-05-26","оплачен",4736,"",""]
[183029,"","1945-05-26","оплачен",864,"",""]
[183034,"","1945-05-26","оплачен",1779,"",""]
[183036,"","1945-05-26","оплачен",1120,"",""]
[183040,"Партнер номер 19","1945-05-26","оплачен",681,0.05,34.050000000000004]
[183045,"","1945-05-26","оплачен",1370,"",""]
[183047,"","1945-05-26","оплачен",2183,"",""]
[183050,"Партнер номер 3","1945-05-26","оплачен",779,0.05,38.950000000000003]
[183052,"","1945-05-26","оплачен",1792,"",""]
[183056,"Партнер номер 1","1945-05-26","не оплачен",2521,0.05,126.05000000000001]
[183059,"Партнер номер 6","1945-05-26","не оплачен",1269,0.04,50.76]
[183063,"Партнер номер 4","1945-05-26","не оплачен",1552,0.04,62.08]
[183068,"Партнер номер 3","1945-05-26","оплачен",2730,0.05,136.5]
[183070,"","1945-05-26","не оплачен",1480,"",""]
[183075,"","1945-05-26","оплачен",3485,"",""]
[183080,"Партнер номер 1","1945-05-26","оплачен",2254,0.05,112.7]
[183085,"Партнер номер 1","1945-05-26","не оплачен",1445,0.05,72.25]
[183087,"Партнер номер 1","1945-05-26","оплачен",719,0.05,35.950000000000003]
[183089,"","1945-05-26","не оплачен",2225,"",""]
[183094,"","1945-05-26","оплачен",1034,"",""]
[183096,"","1945-05-26","оплачен",2412,"",""]
[183101,"Партнер номер 4","1945-05-26","не оплачен",1949,0.04,77.960000000000008]
[183105,"","1945-05-26","оплачен",1724,"",""]
[183107,"","1945-05-26","не оплачен",1680,"",""]
[183109,"","1945-05-26","оплачен",3882,"",""]
[183113,"Партнер номер 1","1945-05-26","оплачен",5558,0.05,277.90000000000003]
[183115,"Партнер номер 1","1945-05-26","оплачен",1959,0.05,97.95]
[183119,"Партнер номер 1","1945-05-26","не оплачен",1648,0.05,82.4]
[183121,"Партнер номер 25","1945-05-26","оплачен",2988,0.05,149.4]
[183125,"Партнер номер 11","1945-05-26","оплачен",1224,0.05,61.2]
[183131,"","1945-05-26","оплачен",2540,"",""]
[183135,"","1945-05-26","оплачен",1481,"",""]
[183140,"Партнер номер 1","1945-05-26","не оплачен",2925,0.05,146.25]
[183142,"","1945-05-26","оплачен",1472,"",""]
[183144,"","1945-05-26","оплачен",4872,"",""]
[183149,"Партнер номер 1","1945-05-26","оплачен",1901,0.05,95.050000000000011]
[183153,"Партнер номер 4","1945-05-26","оплачен",1647,0.04,65.88]
[183158,"","1945-05-26","не оплачен",305,"",""]
[183162,"Партнер номер 48","1945-05-26","оплачен",1018,0.03,30.54]
[183167,"","1945-05-26","не оплачен",329,"",""]
[183173,"","1945-05-26","не оплачен",6488,"",""]
[183178,"","1945-05-26","оплачен",5535,"",""]
[183182,"","1945-05-26","оплачен",2050,"",""]
[183185,"","1945-05-26","оплачен",1294,"",""]
[183189,"","1945-05-26","не оплачен",5763,"",""]
[183190,"Партнер номер 1","1945-05-26","не оплачен",2321,0.05,116.05000000000001]
[183193,"","1945-05-26","оплачен",1053,"",""]
[183198,"","1945-05-26","оплачен",2986,"",""]
[183200,"","1945-05-26","не оплачен",2155,"",""]
[183203,"","1945-05-26","оплачен",3779,"",""]
[183208,"Партнер номер 5","1945-05-26","не оплачен",839,0.03,25.169999999999998]
[183210,"","1945-05-26","оплачен",1266,"",""]
[183215,"Партнер номер 3","1945-05-26","не оплачен",1444,0.05,72.2]
[183220,"","1945-05-26","оплачен",823,"",""]
[183223,"","1945-05-26","оплачен",813,"",""]
[183226,"","1945-05-26","не оплачен",1298,"",""]
[183229,"","1945-05-26","оплачен",2908,"",""]
[183231,"","1945-05-26","оплачен",1210,"",""]
[183235,"","1945-05-26","оплачен",2695,"",""]
[183239,"","1945-05-26","не оплачен",2512,"",""]
[183244,"Партнер номер 28","1945-05-26","оплачен",2880,0.05,144]
[183247,"Партнер номер 1","1945-05-26","оплачен",1079,0.05,53.95]
[183251,"","1945-05-26","оплачен",737,"",""]
[183256,"Партнер номер 10","1945-05-26","оплачен",866,0.04,34.64]
[183262,"Партнер номер 3","1945-05-26","не оплачен",2077,0.05,103.85000000000001]
[183264,"Партнер номер 1","1945-05-26","оплачен",2522,0.05,126.10000000000001]
[183271,"Партнер номер 5","1945-05-26","оплачен",3539,0.03,106.17]
[183275,"","1945-05-26","оплачен",3229,"",""]
[183277,"Партнер номер 3","1945-05-26","не оплачен",2572,0.05,128.6]
[183279,"","1945-05-26","не оплачен",3412,"",""]
[183284,"Партнер номер 1","1945-05-26","оплачен",2403,0.05,120.15]
[183288,"Партнер номер 3","1945-05-26","оплачен",2547,0.05,127.35000000000001]
[183293,"Партнер номер 11","1945-05-26","не оплачен",452,0.05,22.6]
[183295,"","1945-05-26","не оплачен",3279,"",""]
[183298,"Партнер номер 1","1945-05-26","оплачен",3279,0.05,163.95000000000002]
[183304,"Партнер номер 1","1945-05-26","оплачен",2538,0.05,126.9]
[183309,"","1945-05-26","оплачен",2745,"",""]
[183312,"","1945-05-26","оплачен",2167,"",""]
[183316,"","1945-05-26","оплачен",3380,"",""]
[183318,"","1945-05-26","оплачен",1684,"",""]
[183319,"Партнер номер 1","1945-05-26","не оплачен",1195,0.05,59.75]
[183323,"","1945-05-26","оплачен",3785,"",""]
[183325,"","1945-05-26","оплачен",3915,"",""]
[183330,"","1945-05-26","оплачен",990,"",""]
[183335,"","1945-05-26","оплачен",1773,"",""]
[183339,"","1945-05-26","оплачен",5873,"",""]
[183344,"","1945-05-26","оплачен",2125,"",""]
[183348,"Партнер номер 1","1945-05-26","оплачен",3996,0.05,199.8]
[183351,"Партнер номер 1","1945-05-26","оплачен",6436,0.05,321.8]
[183356,"Партнер номер 7","1945-05-26","оплачен",3233,0.05,161.65]
[183360,"","1945-05-26","оплачен",1315,"",""]
[183362,"Партнер номер 7","1945-05-26","не оплачен",3170,0.05,158.5]
[183367,"","1945-05-26","не оплачен",1511,"",""]
[183370,"Партнер номер 5","1945-05-26","не оплачен",5397,0.03,161.91]
[183373,"Партнер номер 1","1945-05-26","оплачен",4230,0.05,211.5]
[183376,"Партнер номер 3","1945-05-27","оплачен",1772,0.05,88.600000000000009]
[183382,"Партнер номер 1","1945-05-27","не оплачен",1069,0.05,53.45]
[183385,"","1945-05-27","не оплачен",1090,"",""]
[183387,"","1945-05-27","оплачен",899,"",""]
[183391,"","1945-05-27","оплачен",5474,"",""]
[183393,"","1945-05-27","не оплачен",2559,"",""]
[183396,"","1945-05-27","оплачен",1456,"",""]
[183402,"Партнер номер 1","1945-05-27","оплачен",1383,0.05,69.150000000000006]
[183406,"Партнер номер 3","1945-05-27","оплачен",460,0.05,23]
[183408,"Партнер номер 13","1945-05-27","не оплачен",2407,0.05,120.35000000000001]
[183411,"","1945-05-27","оплачен",1130,"",""]
[183413,"","1945-05-27","не оплачен",1155,"",""]
[183415,"","1945-05-27","оплачен",4580,"",""]
[183420,"","1945-05-27","оплачен",2087,"",""]
[183424,"Партнер номер 46","1945-05-27","не оплачен",781,0.05,39.050000000000004]
[183425,"Партнер номер 46","1945-05-27","оплачен",452,0.05,22.6]
[183428,"","1945-05-27","оплачен",409,"",""]
[183429,"Партнер номер 1","1945-05-27","оплачен",1259,0.05,62.95]
[183434,"Партнер номер 11","1945-05-27","оплачен",1408,0.05,70.400000000000006]
[183435,"","1945-05-27","оплачен",1408,"",""]
[183438,"","1945-05-27","оплачен",510,"",""]
[183442,"Партнер номер 5","1945-05-27","оплачен",3946,0.03,118.38]
[183444,"Партнер номер 1","1945-05-27","оплачен",1756,0.05,87.800000000000011]
[183446,"Партнер номер 1","1945-05-27","оплачен",1240,0.05,62]
[183448,"","1945-05-27","оплачен",1280,"",""]
[183452,"Партнер номер 3","1945-05-27","не оплачен",2878,0.05,143.9]
[183454,"Партнер номер 7","1945-05-27","не оплачен",1380,0.05,69]
[183460,"Партнер номер 1","1945-05-27","оплачен",2950,0.05,147.5]
[183465,"Партнер номер 10","1945-05-27","оплачен",326,0.04,13.040000000000001]
[183468,"Партнер номер 7","1945-05-27","оплачен",1538,0.05,76.900000000000006]
[183473,"","1945-05-27","оплачен",570,"",""]
[183478,"Партнер номер 7","1945-05-27","оплачен",1538,0.05,76.900000000000006]
[183483,"Партнер номер 11","1945-05-27","не оплачен",437,0.05,21.85]
[183486,"","1945-05-27","не оплачен",662,"",""]
[183491,"Партнер номер 1","1945-05-27","оплачен",937,0.05,46.85]
[183495,"","1945-05-27","оплачен",5042,"",""]
[183501,"Партнер номер 6","1945-05-27","оплачен",2280,0.04,91.2]
[183505,"","1945-05-27","оплачен",809,"",""]
[183508,"Партнер номер 7","1945-05-27","оплачен",978,0.05,48.900000000000006]
[183514,"Партнер номер 1","1945-05-27","не оплачен",2435,0.05,121.75]
[183519,"","1945-05-27","не оплачен",4759,"",""]
[183523,"Партнер номер 1","1945-05-27","оплачен",1124,0.05,56.2]
[183526,"Партнер номер 3","1945-05-27","не оплачен",1802,0.05,90.100000000000009]
[183531,"","1945-05-27","оплачен",1914,"",""]
[183537,"","1945-05-27","оплачен",2070,"",""]
[183541,"","1945-05-27","оплачен",2935,"",""]
[183546,"Партнер номер 1","1945-05-27","оплачен",1115,0.05,55.75]
[183548,"Партнер номер 3","1945-05-27","оплачен",2439,0.05,121.95]
[183553,"","1945-05-27","не оплачен",1162,"",""]
[183555,"","1945-05-27","оплачен",2748,"",""]
[183560,"Партнер номер 46","1945-05-27","оплачен",2220,0.05,111]
[183561,"","1945-05-27","оплачен",1796,"",""]
[183563,"Партнер номер 5","1945-05-27","не оплачен",686,0.03,20.58]
[183567,"","1945-05-27","оплачен",1472,"",""]
[183571,"","1945-05-27","оплачен",935,"",""]
[183576,"","1945-05-27","оплачен",1458,"",""]
[183579,"Партнер номер 1","1945-05-27","не оплачен",503,0.05,25.150000000000002]
[183583,"","1945-05-27","оплачен",5973,"",""]
[183585,"","1945-05-27","оплачен",999,"",""]
[183587,"Партнер номер 1","1945-05-27","оплачен",2010,0.05,100.5]
[183589,"","1945-05-27","оплачен",1838,"",""]
[183594,"","1945-05-27","оплачен",1502,"",""]
[183599,"","1945-05-27","оплачен",945,"",""]
[183601,"","1945-05-27","оплачен",1183,"",""]
[183605,"","1945-05-27","не оплачен",3498,"",""]
[183610,"","1945-05-27","не оплачен",3212,"",""]
[183614,"","1945-05-27","оплачен",3387,"",""]
[183619,"","1945-05-27","не оплачен",2056,"",""]
[183621,"Партнер номер 11","1945-05-27","оплачен",3119,0.05,155.95000000000002]
[183626,"","1945-05-27","оплачен",1724,"",""]
[183629,"","1945-05-27","оплачен",5180,"",""]
[183634,"","1945-05-27","не оплачен",615,"",""]
[183639,"","1945-05-27","оплачен",565,"",""]
[183642,"Партнер номер 1","1945-05-27","оплачен",3890,0.05,194.5]
[183645,"Партнер номер 1","1945-05-27","оплачен",4066,0.05,203.3]
[183647,"Партнер номер 4","1945-05-27","не оплачен",2803,0.04,112.12]
[183652,"Партнер номер 11","1945-05-27","оплачен",1120,0.05,56]
[183655,"Партнер номер 4","1945-05-27","не оплачен",2627,0.04,105.08]
[183659,"","1945-05-27","оплачен",2396,"",""]
[183665,"Партнер номер 46","1945-05-27","не оплачен",521,0.05,26.05]
[183669,"","1945-05-27","оплачен",935,"",""]
[183671,"","1945-05-27","не оплачен",268,"",""]
[183675,"","1945-05-27","оплачен",2596,"",""]
[183680,"Партнер номер 1","1945-05-27","оплачен",3203,0.05,160.15]
[183684,"Партнер номер 1","1945-05-27","не оплачен",2442,0.05,122.10000000000001]
[183685,"Партнер номер 1","1945-05-27","оплачен",957,0.05,47.85]
[183689,"Партнер номер 1","1945-05-27","не оплачен",326,0.05,16.3]
[183691,"","1945-05-27","оплачен",2644,"",""]
[183693,"","1945-05-27","оплачен",538,"",""]
[183696,"","1945-05-27","оплачен",9448,"",""]
[183698,"","1945-05-27","оплачен",1571,"",""]
[183701,"Партнер номер 1","1945-05-27","оплачен",522,0.05,26.1]
[183705,"Партнер номер 1","1945-05-27","не оплачен",1149,0.05,57.45]
[183709,"","1945-05-27","оплачен",2194,"",""]
[183713,"Партнер номер 1","1945-05-27","оплачен",1971,0.05,98.550000000000011]
[183717,"Партнер номер 28","1945-05-27","не оплачен",890,0.05,44.5]
[183720,"","1945-05-27","оплачен",3365,"",""]
[183725,"","1945-05-27","не оплачен",2295,"",""]
[183729,"Партнер номер 1","1945-05-27","оплачен",1293,0.05,64.650000000000006]
[183731,"","1945-05-27","оплачен",1016,"",""]
[183736,"Партнер номер 1","1945-05-27","оплачен",2546,0.05,127.30000000000001]
[183738,"Партнер номер 1","1945-05-27","оплачен",1799,0.05,89.95]
[183743,"Партнер номер 3","1945-05-27","оплачен",1228,0.05,61.400000000000006]
[183747,"Партнер номер 7","1945-05-27","оплачен",2908,0.05,145.4]
[183750,"Партнер номер 1","1945-05-27","оплачен",1799,0.05,89.95]
[183755,"","1945-05-27","оплачен",2512,"",""]
[183760,"Партнер номер 1","1945-05-27","оплачен",4133,0.05,206.65]
[183761,"","1945-05-27","оплачен",775,"",""]
[183764,"","1945-05-28","не оплачен",1185,"",""]
[183767,"","1945-05-28","оплачен",2357,"",""]
[183771,"","1945-05-28","не оплачен",3807,"",""]
[183776,"","1945-05-28","оплачен",1952,"",""]
[183780,"Партнер номер 10","1945-05-28","оплачен",2491,0.04,99.64]
[183783,"","1945-05-28","оплачен",1789,"",""]
[183787,"","1945-05-28","не оплачен",2614,"",""]
[183789,"Партнер номер 11","1945-05-28","оплачен",1649,0.05,82.45]
[183794,"Партнер номер 5","1945-05-28","не оплачен",1705,0.03,51.15]
[183796,"","1945-05-28","оплачен",5016,"",""]
[183800,"Партнер номер 1","1945-05-28","оплачен",1190,0.05,59.5]
[183801,"Партнер номер 7","1945-05-28","не оплачен",1107,0.05,55.35]
[183803,"Партнер номер 46","1945-05-28","не оплачен",2349,0.05,117.45]
[183807,"Партнер номер 1","1945-05-28","оплачен",2673,0.05,133.65]
[183811,"","1945-05-28","оплачен",3307,"",""]
[183816,"Партнер номер 5","1945-05-28","оплачен",2276,0.03,68.28]
[183817,"Партнер номер 1","1945-05-28","оплачен",2438,0.05,121.9]
[183823,"Партнер номер 7","1945-05-28","оплачен",3676,0.05,183.8]
[183828,"","1945-05-28","оплачен",1950,"",""]
[183829,"Партнер номер 7","1945-05-28","оплачен",3503,0.05,175.15]
[183834,"Партнер номер 1","1945-05-28","оплачен",2239,0.05,111.95]
[183838,"Партнер номер 5","1945-05-28","не оплачен",2168,0.03,65.039999999999992]
[183841,"Партнер номер 7","1945-05-28","не оплачен",1499,0.05,74.95]
[183845,"Партнер номер 7","1945-05-28","оплачен",3131,0.05,156.55000000000001]
[183851,"","1945-05-28","оплачен",445,"",""]
[183854,"Партнер номер 11","1945-05-28","не оплачен",1119,0.05,55.95]
[183858,"","1945-05-28","не оплачен",2329,"",""]
[183863,"","1945-05-28","оплачен",1386,"",""]
[183871,"","1945-05-28","оплачен",4064,"",""]
[183874,"","1945-05-28","оплачен",1619,"",""]
[183875,"Партнер номер 1","1945-05-28","оплачен",1084,0.05,54.2]
[183877,"Партнер номер 46","1945-05-28","оплачен",1305,0.05,65.25]
[183879,"Партнер номер 11","1945-05-28","оплачен",927,0.05,46.35]
[183881,"Партнер номер 1","1945-05-28","не оплачен",1451,0.05,72.55]
[183884,"","1945-05-28","не оплачен",1819,"",""]
[183887,"","1945-05-28","оплачен",4669,"",""]
[183889,"","1945-05-28","не оплачен",1107,"",""]
[183890,"Партнер номер 1","1945-05-28","оплачен",1571,0.05,78.550000000000011]
[183893,"Партнер номер 1","1945-05-28","не оплачен",541,0.05,27.05]
[183895,"Партнер номер 1","1945-05-28","оплачен",1324,0.05,66.2]
[183900,"Партнер номер 4","1945-05-28","не оплачен",1398,0.04,55.92]
[183902,"Партнер номер 4","1945-05-28","не оплачен",1725,0.04,69]
[183908,"Партнер номер 7","1945-05-28","не оплачен",1107,0.05,55.35]
[183912,"Партнер номер 4","1945-05-28","не оплачен",1722,0.04,68.88]
[183915,"","1945-05-28","не оплачен",2175,"",""]
[183918,"","1945-05-28","не оплачен",1684,"",""]
[183921,"","1945-05-28","оплачен",1024,"",""]
[183926,"Партнер номер 1","1945-05-28","не оплачен",2038,0.05,101.9]
[183930,"","1945-05-28","не оплачен",2389,"",""]
[183933,"","1945-05-28","оплачен",3238,"",""]
[183937,"Партнер номер 3","1945-05-28","оплачен",1100,0.05,55]
[183953,"","1945-05-28","оплачен",3705,"",""]
[183955,"","1945-05-28","оплачен",2786,"",""]
[183957,"","1945-05-28","оплачен",948,"",""]
[183959,"Партнер номер 5","1945-05-28","оплачен",4803,0.03,144.09]
[183962,"Партнер номер 7","1945-05-28","оплачен",1112,0.05,55.6]
[183967,"Партнер номер 46","1945-05-28","оплачен",772,0.05,38.6]
[183972,"Партнер номер 11","1945-05-28","оплачен",3655,0.05,182.75]
[183975,"","1945-05-28","не оплачен",1615,"",""]
[183979,"Партнер номер 1","1945-05-28","оплачен",698,0.05,34.9]
[183980,"","1945-05-28","не оплачен",2359,"",""]
[183983,"","1945-05-28","оплачен",787,"",""]
[183986,"","1945-05-28","оплачен",670,"",""]
[183990,"","1945-05-28","оплачен",1860,"",""]
[183994,"","1945-05-28","оплачен",3308,"",""]
[183997,"","1945-05-28","не оплачен",964,"",""]
[184002,"","1945-05-28","не оплачен",2543,"",""]
[184006,"Партнер номер 1","1945-05-28","не оплачен",4715,0.05,235.75]
[184007,"","1945-05-28","оплачен",2796,"",""]
[184010,"","1945-05-28","оплачен",2303,"",""]
[184013,"Партнер номер 2","1945-05-28","не оплачен",4238,0.04,169.52]
[184016,"","1945-05-28","оплачен",3201,"",""]
[184030,"","1945-05-28","оплачен",5774,"",""]
[184033,"Партнер номер 1","1945-05-28","оплачен",1428,0.05,71.400000000000006]
[184038,"Партнер номер 5","1945-05-28","оплачен",3698,0.03,110.94]
[184042,"Партнер номер 1","1945-05-28","оплачен",1479,0.05,73.95]
[184045,"","1945-05-28","оплачен",2026,"",""]
[184048,"","1945-05-28","оплачен",1799,"",""]
[184050,"","1945-05-28","не оплачен",1914,"",""]
[184052,"Партнер номер 11","1945-05-28","оплачен",1649,0.05,82.45]
[184056,"Партнер номер 11","1945-05-28","оплачен",1476,0.05,73.8]
[184058,"","1945-05-28","оплачен",2375,"",""]
[184063,"Партнер номер 5","1945-05-28","оплачен",1021,0.03,30.63]
[184067,"","1945-05-28","оплачен",1327,"",""]
[184070,"","1945-05-28","не оплачен",2852,"",""]
[184072,"Партнер номер 5","1945-05-28","оплачен",7417,0.03,222.51]
[184074,"Партнер номер 5","1945-05-28","оплачен",1021,0.03,30.63]
[184076,"","1945-05-28","не оплачен",915,"",""]
[184078,"Партнер номер 1","1945-05-28","оплачен",949,0.05,47.45]
[184082,"","1945-05-28","оплачен",3140,"",""]
[184084,"","1945-05-28","не оплачен",937,"",""]
[184088,"","1945-05-28","оплачен",3073,"",""]
[184094,"Партнер номер 1","1945-05-28","оплачен",1731,0.05,86.550000000000011]
[184097,"Партнер номер 8","1945-05-28","оплачен",3841,0.03,115.22999999999999]
[184103,"Партнер номер 1","1945-05-28","оплачен",1404,0.05,70.2]
[184108,"","1945-05-28","оплачен",821,"",""]
[184110,"","1945-05-28","не оплачен",3871,"",""]
[184115,"","1945-05-28","оплачен",1887,"",""]
[184117,"Партнер номер 11","1945-05-28","не оплачен",1218,0.05,60.900000000000006]
[184123,"","1945-05-28","оплачен",533,"",""]
[184127,"","1945-05-28","оплачен",1315,"",""]
[184130,"","1945-05-28","оплачен",3871,"",""]
[184135,"","1945-05-28","оплачен",2434,"",""]
[184136,"Партнер номер 11","1945-05-28","оплачен",1069,0.05,53.45]
[184150,"","1945-05-28","оплачен",2431,"",""]
[184158,"","1945-05-28","не оплачен",2192,"",""]
[184161,"Партнер номер 12","1945-05-28","не оплачен",2301,0.03,69.03]
[184163,"Партнер номер 47","1945-05-28","оплачен",3952,0.05,197.60000000000002]
[184169,"Партнер номер 47","1945-05-28","оплачен",3225,0.05,161.25]
[184171,"Партнер номер 1","1945-05-28","не оплачен",4339,0.05,216.95000000000002]
[184174,"","1945-05-28","оплачен",1333,"",""]
[184176,"","1945-05-28","оплачен",2138,"",""]
[184179,"Партнер номер 1","1945-05-28","оплачен",1007,0.05,50.35]
[184186,"","1945-05-28","оплачен",443,"",""]
[184189,"","1945-05-28","оплачен",1461,"",""]
[184194,"","1945-05-28","оплачен",1721,"",""]
[184196,"Партнер номер 7","1945-05-28","не оплачен",630,0.05,31.5]
[184201,"","1945-05-28","оплачен",3190,"",""]
[184205,"Партнер номер 7","1945-05-28","оплачен",630,0.05,31.5]
[184206,"Партнер номер 11","1945-05-28","оплачен",2911,0.05,145.55000000000001]
[184209,"Партнер номер 1","1945-05-28","оплачен",2290,0.05,114.5]
[184213,"Партнер номер 1","1945-05-28","оплачен",1609,0.05,80.45]
[184215,"","1945-05-28","оплачен",3645,"",""]
[184217,"","1945-05-28","не оплачен",3298,"",""]
[184220,"Партнер номер 7","1945-05-28","оплачен",2346,0.05,117.30000000000001]
[184222,"","1945-05-28","оплачен",2169,"",""]
[184223,"Партнер номер 1","1945-05-28","оплачен",2241,0.05,112.05000000000001]
[184228,"Партнер номер 7","1945-05-28","не оплачен",2296,0.05,114.80000000000001]
[184231,"","1945-05-28","оплачен",2241,"",""]
[184234,"","1945-05-28","оплачен",1735,"",""]
[184236,"Партнер номер 2","1945-05-28","не оплачен",1197,0.04,47.88]
[184240,"Партнер номер 31","1945-05-28","не оплачен",4447,0.03,133.41]
[184244,"Партнер номер 7","1945-05-28","не оплачен",1535,0.05,76.75]
[184246,"Партнер номер 39","1945-05-28","оплачен",4302,0.05,215.10000000000002]
[184249,"Партнер номер 1","1945-05-28","оплачен",950,0.05,47.5]
[184252,"","1945-05-28","оплачен",1180,"",""]
[184254,"","1945-05-28","не оплачен",1403,"",""]
[184256,"","1945-05-28","оплачен",1565,"",""]
[184257,"","1945-05-28","оплачен",2267,"",""]
[184259,"","1945-05-28","не оплачен",2733,"",""]
[184265,"","1945-05-28","оплачен",2291,"",""]
[184269,"Партнер номер 17","1945-05-28","оплачен",4807,0.04,192.28]
[184273,"Партнер номер 2","1945-05-28","не оплачен",1028,0.04,41.12]
[184276,"","1945-05-28","оплачен",1490,"",""]
[184281,"Партнер номер 3","1945-05-28","оплачен",2336,0.05,116.80000000000001]
[184285,"","1945-05-28","оплачен",1360,"",""]
[184288,"Партнер номер 3","1945-05-28","оплачен",2678,0.05,133.9]
[184292,"","1945-05-28","оплачен",2831,"",""]
[184296,"Партнер номер 1","1945-05-28","оплачен",2032,0.05,101.60000000000001]
[184299,"Партнер номер 49","1945-05-28","не оплачен",1812,0.05,90.600000000000009]
[184303,"Партнер номер 11","1945-05-28","оплачен",1266,0.05,63.300000000000004]
[184307,"Партнер номер 7","1945-05-28","оплачен",712,0.05,35.6]
[184311,"","1945-05-28","оплачен",4622,"",""]
[184315,"","1945-05-28","не оплачен",3914,"",""]
[184317,"","1945-05-28","оплачен",2424,"",""]
[184319,"","1945-05-28","не оплачен",1933,"",""]
[184325,"","1945-05-28","оплачен",1089,"",""]
[184328,"","1945-05-28","оплачен",2184,"",""]
[184331,"Партнер номер 11","1945-05-28","не оплачен",1386,0.05,69.3]
[184333,"","1945-05-29","оплачен",850,"",""]
[184335,"","1945-05-29","оплачен",2580,"",""]
[184338,"Партнер номер 5","1945-05-29","оплачен",2718,0.03,81.539999999999992]
[184340,"Партнер номер 1","1945-05-29","оплачен",4912,0.05,245.60000000000002]
[184346,"Партнер номер 1","1945-05-29","не оплачен",5523,0.05,276.15000000000003]
[184349,"Партнер номер 1","1945-05-29","не оплачен",2021,0.05,101.05000000000001]
[184351,"","1945-05-29","оплачен",634,"",""]
[184356,"","1945-05-29","оплачен",4551,"",""]
[184358,"","1945-05-29","оплачен",877,"",""]
[184361,"Партнер номер 1","1945-05-29","оплачен",3737,0.05,186.85000000000002]
[184365,"","1945-05-29","оплачен",4159,"",""]
[184368,"","1945-05-29","не оплачен",1962,"",""]
[184371,"","1945-05-29","не оплачен",2955,"",""]
[184375,"Партнер номер 50","1945-05-29","не оплачен",2059,0.04,82.36]
[184376,"","1945-05-29","оплачен",2698,"",""]
[184379,"Партнер номер 5","1945-05-29","оплачен",3952,0.03,118.56]
[184383,"","1945-05-29","не оплачен",1555,"",""]
[184388,"","1945-05-29","не оплачен",856,"",""]
[184391,"","1945-05-29","оплачен",2334,"",""]
[184396,"Партнер номер 11","1945-05-29","не оплачен",2117,0.05,105.85000000000001]
[184399,"Партнер номер 25","1945-05-29","оплачен",3058,0.05,152.9]
[184405,"","1945-05-29","оплачен",856,"",""]
[184407,"Партнер номер 7","1945-05-29","не оплачен",1477,0.05,73.850000000000009]
[184410,"","1945-05-29","не оплачен",3640,"",""]
[184416,"","1945-05-29","не оплачен",2797,"",""]
[184420,"","1945-05-29","не оплачен",445,"",""]
[184424,"Партнер номер 1","1945-05-29","оплачен",683,0.05,34.15]
[184425,"Партнер номер 1","1945-05-29","не оплачен",1200,0.05,60]
[184427,"","1945-05-29","оплачен",2982,"",""]
[184429,"","1945-05-29","оплачен",506,"",""]
[184431,"Партнер номер 1","1945-05-29","не оплачен",1200,0.05,60]
[184434,"","1945-05-29","оплачен",651,"",""]
[184435,"Партнер номер 1","1945-05-29","не оплачен",909,0.05,45.45]
[184437,"","1945-05-29","не оплачен",1763,"",""]
[184441,"Партнер номер 7","1945-05-29","оплачен",1573,0.05,78.650000000000006]
[184442,"","1945-05-29","не оплачен",2353,"",""]
[184444,"","1945-05-29","оплачен",2123,"",""]
[184447,"","1945-05-29","не оплачен",2624,"",""]
[184451,"","1945-05-29","оплачен",1115,"",""]
[184453,"Партнер номер 11","1945-05-29","оплачен",2495,0.05,124.75]
[184455,"Партнер номер 11","1945-05-29","оплачен",1255,0.05,62.75]
[184458,"","1945-05-29","не оплачен",2898,"",""]
[184463,"","1945-05-29","не оплачен",1757,"",""]
[184465,"Партнер номер 1","1945-05-29","оплачен",1423,0.05,71.150000000000006]
[184470,"","1945-05-29","оплачен",3813,"",""]
[184475,"","1945-05-29","оплачен",3813,"",""]
[184484,"","1945-05-29","не оплачен",1158,"",""]
[184488,"","1945-05-29","оплачен",1568,"",""]
[184493,"Партнер номер 5","1945-05-29","оплачен",1507,0.03,45.21]
[184495,"","1945-05-29","оплачен",1807,"",""]
[184497,"Партнер номер 1","1945-05-29","оплачен",1721,0.05,86.050000000000011]
[184499,"","1945-05-29","оплачен",4205,"",""]
[184503,"","1945-05-29","не оплачен",2602,"",""]
[184508,"","1945-05-29","оплачен",951,"",""]
[184513,"Партнер номер 1","1945-05-29","не оплачен",1237,0.05,61.85]
[184514,"Партнер номер 4","1945-05-29","оплачен",2486,0.04,99.44]
[184516,"","1945-05-29","оплачен",5607,"",""]
[184519,"Партнер номер 1","1945-05-29","не оплачен",684,0.05,34.200000000000003]
[184521,"","1945-05-29","оплачен",1449,"",""]
[184526,"Партнер номер 1","1945-05-29","оплачен",1148,0.05,57.400000000000006]
[184531,"Партнер номер 4","1945-05-29","не оплачен",2447,0.04,97.88]
[184534,"Партнер номер 1","1945-05-29","оплачен",772,0.05,38.6]
[184538,"","1945-05-29","не оплачен",0,"",""]
[184543,"Партнер номер 4","1945-05-29","оплачен",1785,0.04,71.400000000000006]
[184547,"Партнер номер 4","1945-05-29","не оплачен",2549,0.04,101.96000000000001]
[184550,"","1945-05-29","не оплачен",0,"",""]
[184553,"","1945-05-29","оплачен",951,"",""]
[184556,"Партнер номер 1","1945-05-29","оплачен",1288,0.05,64.400000000000006]
[184565,"","1945-05-29","оплачен",1882,"",""]
[184570,"Партнер номер 1","1945-05-29","не оплачен",2017,0.05,100.85000000000001]
[184575,"Партнер номер 8","1945-05-29","не оплачен",852,0.03,25.56]
[184582,"Партнер номер 1","1945-05-29","оплачен",2131,0.05,106.55000000000001]
[184585,"","1945-05-29","оплачен",1245,"",""]
[184589,"","1945-05-29","оплачен",1333,"",""]
[184595,"","1945-05-29","оплачен",2712,"",""]
[184612,"","1945-05-29","не оплачен",2485,"",""]
[184615,"","1945-05-29","оплачен",2440,"",""]
[184619,"Партнер номер 1","1945-05-29","оплачен",3629,0.05,181.45000000000002]
[184622,"","1945-05-29","не оплачен",2358,"",""]
[184624,"","1945-05-29","оплачен",5874,"",""]
[184627,"","1945-05-29","оплачен",2222,"",""]
[184632,"Партнер номер 1","1945-05-29","не оплачен",2162,0.05,108.10000000000001]
[184637,"Партнер номер 11","1945-05-29","оплачен",681,0.05,34.050000000000004]
[184642,"Партнер номер 5","1945-05-29","не оплачен",660,0.03,19.8]
[184646,"","1945-05-29","не оплачен",1614,"",""]
[184659,"Партнер номер 1","1945-05-29","не оплачен",800,0.05,40]
[184661,"","1945-05-29","оплачен",1348,"",""]
[184664,"Партнер номер 1","1945-05-29","оплачен",800,0.05,40]
[184666,"","1945-05-29","не оплачен",617,"",""]
[184671,"","1945-05-29","оплачен",2210,"",""]
[184674,"","1945-05-29","оплачен",1633,"",""]
[184679,"","1945-05-29","оплачен",2225,"",""]
[184682,"","1945-05-29","оплачен",2658,"",""]
[184687,"Партнер номер 1","1945-05-29","оплачен",2710,0.05,135.5]
[184690,"","1945-05-29","не оплачен",2054,"",""]
[184692,"","1945-05-29","оплачен",2013,"",""]
[184696,"","1945-05-29","не оплачен",1476,"",""]
[184699,"","1945-05-29","оплачен",2549,"",""]
[184701,"","1945-05-29","оплачен",1238,"",""]
[184706,"","1945-05-29","оплачен",1581,"",""]
[184711,"Партнер номер 1","1945-05-29","оплачен",1752,0.05,87.600000000000009]
[184712,"","1945-05-29","оплачен",599,"",""]
[184714,"Партнер номер 46","1945-05-29","оплачен",1834,0.05,91.7]
[184719,"Партнер номер 1","1945-05-29","оплачен",732,0.05,36.6]
[184721,"Партнер номер 3","1945-05-29","не оплачен",1186,0.05,59.300000000000004]
[184724,"","1945-05-29","не оплачен",299,"",""]
[184726,"","1945-05-29","оплачен",1248,"",""]
[184729,"","1945-05-29","оплачен",2054,"",""]
[184734,"","1945-05-29","не оплачен",395,"",""]
[184739,"Партнер номер 1","1945-05-29","оплачен",1504,0.05,75.2]
[184741,"Партнер номер 2","1945-05-29","не оплачен",1347,0.04,53.88]
[184744,"","1945-05-29","оплачен",3888,"",""]
[184750,"","1945-05-29","оплачен",978,"",""]
[184755,"","1945-05-29","оплачен",1612,"",""]
[184760,"","1945-05-29","не оплачен",2367,"",""]
[184763,"","1945-05-29","оплачен",1832,"",""]
[184768,"","1945-05-29","оплачен",4416,"",""]
[184773,"Партнер номер 1","1945-05-29","не оплачен",3917,0.05,195.85000000000002]
[184777,"Партнер номер 1","1945-05-29","оплачен",1748,0.05,87.4]
[184782,"","1945-05-29","оплачен",616,"",""]
[184787,"Партнер номер 11","1945-05-29","не оплачен",458,0.05,22.900000000000002]
[184791,"Партнер номер 11","1945-05-29","оплачен",458,0.05,22.900000000000002]
[184795,"","1945-05-29","оплачен",2190,"",""]
[184798,"Партнер номер 3","1945-05-29","не оплачен",2518,0.05,125.9]
[184801,"Партнер номер 11","1945-05-29","оплачен",458,0.05,22.900000000000002]
[184805,"","1945-05-29","не оплачен",558,"",""]
[184809,"","1945-05-29","оплачен",4913,"",""]
[184812,"","1945-05-29","оплачен",1386,"",""]
[184816,"Партнер номер 1","1945-05-29","не оплачен",2501,0.05,125.05000000000001]
[184819,"","1945-05-29","оплачен",2592,"",""]
[184824,"Партнер номер 30","1945-05-29","оплачен",983,0.05,49.150000000000006]
[184828,"Партнер номер 46","1945-05-29","не оплачен",1076,0.05,53.800000000000004]
[184831,"Партнер номер 2","1945-05-29","не оплачен",1998,0.04,79.92]
[184835,"Партнер номер 1","1945-05-29","не оплачен",2394,0.05,119.7]
[184838,"Партнер номер 1","1945-05-29","оплачен",1496,0.05,74.8]
[184841,"","1945-05-29","не оплачен",1848,"",""]
[184845,"","1945-05-29","оплачен",6569,"",""]
[184848,"Партнер номер 1","1945-05-29","не оплачен",2394,0.05,119.7]
[184853,"Партнер номер 46","1945-05-29","оплачен",477,0.05,23.85]
[184859,"Партнер номер 3","1945-05-29","оплачен",2905,0.05,145.25]
[184864,"","1945-05-29","оплачен",1100,"",""]
[184865,"","1945-05-29","не оплачен",662,"",""]
[184867,"","1945-05-29","оплачен",3065,"",""]
[184869,"Партнер номер 1","1945-05-29","оплачен",2564,0.05,128.20000000000002]
[184874,"","1945-05-29","оплачен",1701,"",""]
[184879,"","1945-05-29","оплачен",662,"",""]
[184882,"","1945-05-29","оплачен",1960,"",""]
[184885,"","1945-05-29","не оплачен",1264,"",""]
[184889,"","1945-05-29","оплачен",2702,"",""]
[184893,"","1945-05-29","оплачен",6828,"",""]
[184895,"Партнер номер 51","1945-05-29","оплачен",3058,0.04,122.32000000000001]
[184897,"Партнер номер 1","1945-05-29","оплачен",2293,0.05,114.65]
[184900,"","1945-05-29","не оплачен",978,"",""]
[184904,"","1945-05-29","оплачен",5487,"",""]
[184908,"","1945-05-29","оплачен",1201,"",""]
[184910,"","1945-05-29","оплачен",674,"",""]
[184914,"","1945-05-29","не оплачен",1602,"",""]
[184918,"Партнер номер 1","1945-05-29","не оплачен",846,0.05,42.300000000000004]
[184919,"","1945-05-29","оплачен",4294,"",""]
[184923,"Партнер номер 5","1945-05-29","оплачен",1898,0.03,56.94]
[184924,"","1945-05-29","оплачен",2456,"",""]
[184928,"Партнер номер 1","1945-05-29","не оплачен",654,0.05,32.700000000000003]
[184933,"","1945-05-29","оплачен",2351,"",""]
[184938,"","1945-05-29","оплачен",1484,"",""]
[184942,"","1945-05-29","оплачен",1804,"",""]
[184946,"Партнер номер 5","1945-05-29","не оплачен",2905,0.03,87.149999999999991]
[184950,"Партнер номер 1","1945-05-29","не оплачен",259,0.05,12.950000000000001]
[184951,"","1945-05-29","оплачен",4344,"",""]
[184955,"Партнер номер 11","1945-05-29","оплачен",515,0.05,25.75]
[184958,"Партнер номер 3","1945-05-29","не оплачен",3433,0.05,171.65]
[184960,"Партнер номер 5","1945-05-29","оплачен",2817,0.03,84.509999999999991]
[184964,"","1945-05-29","оплачен",2148,"",""]
[184968,"","1945-05-29","оплачен",1923,"",""]
[184973,"","1945-05-29","оплачен",2306,"",""]
[184978,"Партнер номер 25","1945-05-29","оплачен",2994,0.05,149.70000000000002]
[184983,"","1945-05-29","оплачен",1279,"",""]
[184985,"Партнер номер 10","1945-05-29","оплачен",2795,0.04,111.8]
[184990,"","1945-05-29","оплачен",678,"",""]
[184993,"","1945-05-29","оплачен",1847,"",""]
[184997,"Партнер номер 1","1945-05-29","оплачен",2583,0.05,129.15]
[184999,"","1945-05-29","не оплачен",2684,"",""]
[185004,"Партнер номер 1","1945-05-29","не оплачен",357,0.05,17.850000000000001]
[185008,"","1945-05-29","оплачен",3276,"",""]
[185011,"","1945-05-29","оплачен",1900,"",""]
[185013,"","1945-05-29","оплачен",2320,"",""]
[185015,"Партнер номер 3","1945-05-29","оплачен",1122,0.05,56.1]
[185018,"Партнер номер 3","1945-05-29","оплачен",1160,0.05,58]
[185023,"Партнер номер 11","1945-05-29","оплачен",3509,0.05,175.45000000000002]
[185028,"","1945-05-30","оплачен",771,"",""]
[185031,"Партнер номер 1","1945-05-30","оплачен",2085,0.05,104.25]
[185035,"Партнер номер 7","1945-05-30","оплачен",1021,0.05,51.050000000000004]
[185036,"","1945-05-30","не оплачен",1262,"",""]
[185040,"","1945-05-30","не оплачен",2348,"",""]
[185045,"Партнер номер 1","1945-05-30","оплачен",391,0.05,19.55]
[185050,"","1945-05-30","не оплачен",1083,"",""]
[185053,"Партнер номер 3","1945-05-30","оплачен",1535,0.05,76.75]
[185054,"Партнер номер 1","1945-05-30","оплачен",310,0.05,15.5]
[185057,"","1945-05-30","оплачен",543,"",""]
[185060,"","1945-05-30","оплачен",1965,"",""]
[185065,"Партнер номер 1","1945-05-30","не оплачен",2736,0.05,136.80000000000001]
[185069,"","1945-05-30","не оплачен",740,"",""]
[185072,"","1945-05-30","оплачен",2783,"",""]
[185077,"Партнер номер 3","1945-05-30","оплачен",1735,0.05,86.75]
[185081,"Партнер номер 2","1945-05-30","не оплачен",9056,0.04,362.24]
[185085,"Партнер номер 11","1945-05-30","оплачен",500,0.05,25]
[185090,"Партнер номер 9","1945-05-30","оплачен",2148,0.05,107.4]
[185094,"","1945-05-30","не оплачен",1788,"",""]
[185099,"","1945-05-30","оплачен",950,"",""]
[185102,"Партнер номер 3","1945-05-30","не оплачен",1233,0.05,61.650000000000006]
[185106,"Партнер номер 1","1945-05-30","не оплачен",7620,0.05,381]
[185108,"Партнер номер 2","1945-05-30","оплачен",4398,0.04,175.92000000000002]
[185113,"","1945-05-30","оплачен",1105,"",""]
[185115,"Партнер номер 1","1945-05-30","оплачен",1593,0.05,79.650000000000006]
[185120,"Партнер номер 46","1945-05-30","не оплачен",3607,0.05,180.35000000000002]
[185122,"Партнер номер 11","1945-05-30","не оплачен",1693,0.05,84.65]
[185127,"Партнер номер 5","1945-05-30","оплачен",657,0.03,19.71]
[185132,"","1945-05-30","оплачен",1182,"",""]
[185135,"Партнер номер 1","1945-05-30","не оплачен",1904,0.05,95.2]
[185138,"Партнер номер 7","1945-05-30","оплачен",339,0.05,16.95]
[185140,"","1945-05-30","оплачен",1483,"",""]
[185144,"Партнер номер 1","1945-05-30","оплачен",2457,0.05,122.85000000000001]
[185146,"Партнер номер 7","1945-05-30","оплачен",238,0.05,11.9]
[185149,"Партнер номер 1","1945-05-30","оплачен",734,0.05,36.700000000000003]
[185150,"","1945-05-30","оплачен",1202,"",""]
[185153,"Партнер номер 7","1945-05-30","оплачен",2240,0.05,112]
[185157,"Партнер номер 5","1945-05-30","не оплачен",5124,0.03,153.72]
[185163,"Партнер номер 1","1945-05-30","оплачен",991,0.05,49.550000000000004]
[185166,"Партнер номер 7","1945-05-30","оплачен",238,0.05,11.9]
[185170,"Партнер номер 2","1945-05-30","оплачен",367,0.04,14.68]
[185173,"","1945-05-30","оплачен",2186,"",""]
[185176,"Партнер номер 1","1945-05-30","не оплачен",1823,0.05,91.15]
[185179,"","1945-05-30","оплачен",3364,"",""]
[185180,"","1945-05-30","оплачен",4643,"",""]
[185186,"","1945-05-30","оплачен",2265,"",""]
[185191,"Партнер номер 7","1945-05-30","оплачен",424,0.05,21.200000000000003]
[185197,"","1945-05-30","не оплачен",2472,"",""]
[185199,"","1945-05-30","оплачен",998,"",""]
[185204,"","1945-05-30","оплачен",2179,"",""]
[185205,"Партнер номер 7","1945-05-30","оплачен",1125,0.05,56.25]
[185206,"","1945-05-30","оплачен",1006,"",""]
[185208,"","1945-05-30","не оплачен",7025,"",""]
[185211,"","1945-05-30","оплачен",5656,"",""]
[185213,"Партнер номер 10","1945-05-30","оплачен",2951,0.04,118.04]
[185219,"","1945-05-30","оплачен",1195,"",""]
[185221,"","1945-05-30","оплачен",1001,"",""]
[185223,"","1945-05-30","не оплачен",255,"",""]
[185227,"Партнер номер 11","1945-05-30","оплачен",1164,0.05,58.2]
[185228,"","1945-05-30","оплачен",3131,"",""]
[185230,"","1945-05-30","оплачен",1753,"",""]
[185232,"Партнер номер 7","1945-05-30","оплачен",757,0.05,37.85]
[185237,"Партнер номер 7","1945-05-30","оплачен",1042,0.05,52.1]
[185243,"","1945-05-30","оплачен",2899,"",""]
[185248,"","1945-05-30","не оплачен",4232,"",""]
[185250,"Партнер номер 13","1945-05-30","оплачен",13323,0.05,666.15000000000009]
[185254,"","1945-05-30","оплачен",4320,"",""]
[185256,"Партнер номер 2","1945-05-30","оплачен",910,0.04,36.4]
[185266,"","1945-05-30","не оплачен",1723,"",""]
[185267,"Партнер номер 1","1945-05-30","оплачен",2551,0.05,127.55000000000001]
[185271,"Партнер номер 1","1945-05-30","не оплачен",3565,0.05,178.25]
[185275,"","1945-05-30","не оплачен",2556,"",""]
[185280,"","1945-05-30","оплачен",2556,"",""]
[185284,"","1945-05-30","оплачен",1373,"",""]
[185286,"","1945-05-30","не оплачен",922,"",""]
[185290,"","1945-05-30","оплачен",1291,"",""]
[185291,"","1945-05-30","оплачен",1359,"",""]
[185296,"","1945-05-30","оплачен",1964,"",""]
[185299,"Партнер номер 1","1945-05-30","оплачен",2678,0.05,133.9]
[185305,"Партнер номер 7","1945-05-30","оплачен",408,0.05,20.400000000000002]
[185309,"","1945-05-30","не оплачен",922,"",""]
[185312,"Партнер номер 1","1945-05-30","не оплачен",2457,0.05,122.85000000000001]
[185315,"Партнер номер 11","1945-05-30","оплачен",2148,0.05,107.4]
[185320,"Партнер номер 7","1945-05-30","оплачен",329,0.05,16.45]
[185325,"Партнер номер 4","1945-05-30","не оплачен",4679,0.04,187.16]
[185330,"Партнер номер 3","1945-05-30","оплачен",4807,0.05,240.35000000000002]
[185334,"Партнер номер 1","1945-05-30","оплачен",905,0.05,45.25]
[185338,"Партнер номер 1","1945-05-30","не оплачен",2173,0.05,108.65]
[185341,"Партнер номер 1","1945-05-30","оплачен",1393,0.05,69.650000000000006]
[185352,"","1945-05-30","оплачен",3497,"",""]
[185357,"Партнер номер 7","1945-05-30","оплачен",424,0.05,21.200000000000003]
[185362,"Партнер номер 7","1945-05-30","не оплачен",2790,0.05,139.5]
[185367,"Партнер номер 10","1945-05-30","оплачен",2556,0.04,102.24000000000001]
[185373,"","1945-05-30","не оплачен",1332,"",""]
[185375,"Партнер номер 11","1945-05-30","не оплачен",2258,0.05,112.9]
[185379,"","1945-05-30","оплачен",2025,"",""]
[185382,"","1945-05-30","не оплачен",2405,"",""]
[185385,"Партнер номер 2","1945-05-30","не оплачен",1063,0.04,42.52]
[185392,"","1945-05-30","оплачен",624,"",""]
[185394,"Партнер номер 7","1945-05-30","оплачен",506,0.05,25.3]
[185398,"","1945-05-30","оплачен",4277,"",""]
[185409,"Партнер номер 7","1945-05-30","оплачен",2181,0.05,109.05000000000001]
[185412,"","1945-05-30","оплачен",1470,"",""]
[185417,"","1945-05-30","не оплачен",2658,"",""]
[185419,"Партнер номер 2","1945-05-30","не оплачен",518,0.04,20.72]
[185420,"Партнер номер 1","1945-05-30","оплачен",3044,0.05,152.20000000000002]
[185422,"","1945-05-30","оплачен",408,"",""]
[185425,"","1945-05-30","оплачен",1246,"",""]
[185429,"","1945-05-30","оплачен",1081,"",""]
[185432,"","1945-05-30","не оплачен",547,"",""]
[185437,"","1945-05-30","оплачен",2448,"",""]
[185442,"","1945-05-30","не оплачен",448,"",""]
[185444,"Партнер номер 2","1945-05-30","не оплачен",518,0.04,20.72]
[185447,"Партнер номер 3","1945-05-30","оплачен",2082,0.05,104.10000000000001]
[185452,"","1945-05-30","оплачен",1413,"",""]
[185458,"Партнер номер 1","1945-05-30","оплачен",2553,0.05,127.65]
[185462,"Партнер номер 2","1945-05-30","не оплачен",518,0.04,20.72]
[185466,"Партнер номер 11","1945-05-30","оплачен",1564,0.05,78.2]
[185469,"","1945-05-30","оплачен",1412,"",""]
[185474,"","1945-05-30","не оплачен",814,"",""]
[185478,"Партнер номер 1","1945-05-30","оплачен",1978,0.05,98.9]
[185481,"Партнер номер 2","1945-05-30","оплачен",518,0.04,20.72]
[185487,"Партнер номер 5","1945-05-30","оплачен",2753,0.03,82.59]
[185491,"Партнер номер 1","1945-05-30","оплачен",1503,0.05,75.150000000000006]
[185492,"Партнер номер 1","1945-05-30","оплачен",2766,0.05,138.30000000000001]
[185497,"Партнер номер 5","1945-05-30","не оплачен",4627,0.03,138.81]
[185501,"Партнер номер 7","1945-05-30","оплачен",925,0.05,46.25]
[185506,"","1945-05-30","оплачен",1290,"",""]
[185508,"Партнер номер 1","1945-05-30","оплачен",1250,0.05,62.5]
[185513,"","1945-05-30","оплачен",2151,"",""]
[185517,"","1945-05-30","оплачен",2151,"",""]
[185518,"Партнер номер 7","1945-05-30","не оплачен",1743,0.05,87.15]
[185523,"","1945-05-30","оплачен",4555,"",""]
[185527,"","1945-05-30","оплачен",1479,"",""]
[185530,"","1945-05-30","оплачен",1008,"",""]
[185536,"","1945-05-30","не оплачен",1279,"",""]
[185537,"","1945-05-30","оплачен",5328,"",""]
[185541,"Партнер номер 7","1945-05-30","не оплачен",1265,0.05,63.25]
[185542,"","1945-05-30","оплачен",1479,"",""]
[185545,"Партнер номер 1","1945-05-30","оплачен",2193,0.05,109.65]
[185549,"","1945-05-30","оплачен",1479,"",""]
[185553,"Партнер номер 1","1945-05-30","оплачен",848,0.05,42.400000000000006]
[185558,"","1945-05-30","не оплачен",1923,"",""]
[185567,"","1945-05-30","оплачен",1321,"",""]
[185571,"","1945-05-30","оплачен",3229,"",""]
[185576,"","1945-05-30","оплачен",3064,"",""]
[185581,"","1945-05-30","оплачен",2991,"",""]
[185585,"","1945-05-30","не оплачен",972,"",""]
[185589,"","1945-05-30","оплачен",2086,"",""]
[185596,"Партнер номер 1","1945-05-30","оплачен",689,0.05,34.450000000000003]
[185599,"Партнер номер 11","1945-05-30","оплачен",5689,0.05,284.45]
[185600,"Партнер номер 1","1945-05-30","оплачен",779,0.05,38.950000000000003]
[185602,"","1945-05-30","не оплачен",1662,"",""]
[185604,"","1945-05-30","не оплачен",1662,"",""]
[185610,"Партнер номер 5","1945-05-30","оплачен",4399,0.03,131.97]
[185611,"Партнер номер 5","1945-05-30","не оплачен",2542,0.03,76.259999999999991]
[185615,"Партнер номер 11","1945-05-30","не оплачен",1667,0.05,83.350000000000009]
[185618,"","1945-05-30","оплачен",1690,"",""]
[185620,"Партнер номер 12","1945-05-30","оплачен",1805,0.03,54.15]
[185623,"","1945-05-30","оплачен",1996,"",""]
[185624,"Партнер номер 1","1945-05-30","не оплачен",2760,0.05,138]
[185628,"","1945-05-30","не оплачен",4259,"",""]
[185631,"Партнер номер 11","1945-05-30","оплачен",1667,0.05,83.350000000000009]
[185636,"Партнер номер 2","1945-05-30","не оплачен",1732,0.04,69.28]
[185639,"Партнер номер 1","1945-05-30","оплачен",2592,0.05,129.6]
[185641,"","1945-05-30","оплачен",723,"",""]
[185645,"Партнер номер 1","1945-05-30","оплачен",955,0.05,47.75]
[185648,"Партнер номер 1","1945-05-30","оплачен",808,0.05,40.400000000000006]
[185653,"","1945-05-30","не оплачен",4259,"",""]
[185658,"","1945-05-30","оплачен",1372,"",""]
[185660,"","1945-05-30","оплачен",2412,"",""]
[185663,"","1945-05-30","оплачен",4902,"",""]
[185669,"","1945-05-30","оплачен",1625,"",""]
[185674,"Партнер номер 2","1945-05-30","оплачен",1732,0.04,69.28]
[185678,"","1945-05-30","оплачен",1645,"",""]
[185683,"","1945-05-30","оплачен",2533,"",""]
[185685,"","1945-05-30","не оплачен",5004,"",""]
[185688,"","1945-05-30","не оплачен",1156,"",""]
[185690,"","1945-05-30","не оплачен",467,"",""]
[185693,"","1945-05-30","оплачен",4414,"",""]
[185697,"","1945-05-30","не оплачен",766,"",""]
[185701,"Партнер номер 2","1945-05-30","не оплачен",1987,0.04,79.48]
[185704,"Партнер номер 1","1945-05-30","оплачен",4110,0.05,205.5]
[185706,"","1945-05-30","оплачен",4201,"",""]
[185711,"Партнер номер 3","1945-05-30","оплачен",5162,0.05,258.10000000000002]
[185712,"Партнер номер 11","1945-05-30","не оплачен",751,0.05,37.550000000000004]
[185716,"Партнер номер 1","1945-05-30","оплачен",1689,0.05,84.45]
[185719,"Партнер номер 1","1945-05-30","оплачен",1845,0.05,92.25]
[185722,"","1945-05-30","оплачен",8575,"",""]
[185724,"Партнер номер 5","1945-05-30","не оплачен",4457,0.03,133.71]
[185727,"","1945-05-30","не оплачен",1051,"",""]
[185730,"Партнер номер 5","1945-05-30","оплачен",4457,0.03,133.71]
[185734,"","1945-05-30","оплачен",1058,"",""]
[185736,"","1945-05-30","оплачен",1248,"",""]
[185739,"Партнер номер 7","1945-05-30","оплачен",4326,0.05,216.3]
[185743,"","1945-05-31","оплачен",2482,"",""]
[185748,"","1945-05-31","оплачен",2164,"",""]
[185753,"Партнер номер 2","1945-05-31","оплачен",1095,0.04,43.800000000000004]
[185757,"","1945-05-31","не оплачен",4519,"",""]
[185761,"Партнер номер 3","1945-05-31","оплачен",1274,0.05,63.7]
[185763,"","1945-05-31","не оплачен",2490,"",""]
[185765,"Партнер номер 3","1945-05-31","не оплачен",1712,0.05,85.600000000000009]
[185767,"","1945-05-31","оплачен",1314,"",""]
[185771,"Партнер номер 1","1945-05-31","оплачен",1904,0.05,95.2]
[185775,"","1945-05-31","оплачен",2001,"",""]
[185779,"Партнер номер 2","1945-05-31","не оплачен",5247,0.04,209.88]
[185783,"","1945-05-31","оплачен",2887,"",""]
[185786,"Партнер номер 5","1945-05-31","не оплачен",1130,0.03,33.9]
[185789,"Партнер номер 29","1945-05-31","оплачен",2568,0.05,128.4]
[185794,"Партнер номер 12","1945-05-31","оплачен",1910,0.03,57.3]
[185796,"Партнер номер 46","1945-05-31","не оплачен",2986,0.05,149.30000000000001]
[185798,"Партнер номер 7","1945-05-31","оплачен",3279,0.05,163.95000000000002]
[185801,"Партнер номер 1","1945-05-31","оплачен",2111,0.05,105.55000000000001]
[185807,"Партнер номер 1","1945-05-31","оплачен",1485,0.05,74.25]
[185812,"","1945-05-31","оплачен",762,"",""]
[185815,"Партнер номер 7","1945-05-31","не оплачен",1575,0.05,78.75]
[185819,"","1945-05-31","оплачен",1638,"",""]
[185821,"Партнер номер 7","1945-05-31","оплачен",4240,0.05,212]
[185824,"","1945-05-31","оплачен",594,"",""]
[185826,"","1945-05-31","оплачен",941,"",""]
[185831,"Партнер номер 1","1945-05-31","оплачен",2242,0.05,112.10000000000001]
[185835,"Партнер номер 1","1945-05-31","оплачен",2242,0.05,112.10000000000001]
[185840,"Партнер номер 1","1945-05-31","оплачен",2805,0.05,140.25]
[185842,"","1945-05-31","оплачен",1298,"",""]
[185845,"Партнер номер 1","1945-05-31","оплачен",2739,0.05,136.95000000000002]
[185849,"Партнер номер 5","1945-05-31","оплачен",4801,0.03,144.03]
[185852,"","1945-05-31","не оплачен",1587,"",""]
[185856,"","1945-05-31","не оплачен",3233,"",""]
[185861,"Партнер номер 1","1945-05-31","оплачен",1202,0.05,60.1]
[185864,"Партнер номер 1","1945-05-31","не оплачен",1107,0.05,55.35]
[185869,"","1945-05-31","оплачен",1742,"",""]
[185871,"","1945-05-31","оплачен",1686,"",""]
[185875,"","1945-05-31","не оплачен",1700,"",""]
[185879,"Партнер номер 11","1945-05-31","оплачен",1819,0.05,90.95]
[185884,"Партнер номер 7","1945-05-31","не оплачен",931,0.05,46.550000000000004]
[185889,"","1945-05-31","оплачен",1700,"",""]
[185890,"Партнер номер 1","1945-05-31","оплачен",911,0.05,45.550000000000004]
[185892,"Партнер номер 7","1945-05-31","оплачен",1182,0.05,59.1]
[185895,"Партнер номер 1","1945-05-31","не оплачен",287,0.05,14.350000000000001]
[185900,"","1945-05-31","оплачен",570,"",""]
[185904,"Партнер номер 3","1945-05-31","оплачен",2254,0.05,112.7]
[185909,"Партнер номер 1","1945-05-31","не оплачен",931,0.05,46.550000000000004]
[185911,"Партнер номер 2","1945-05-31","не оплачен",939,0.04,37.56]
[185916,"Партнер номер 5","1945-05-31","оплачен",2000,0.03,60]
[185922,"Партнер номер 3","1945-05-31","не оплачен",931,0.05,46.550000000000004]
[185926,"Партнер номер 1","1945-05-31","оплачен",2300,0.05,115]
[185930,"","1945-05-31","не оплачен",4832,"",""]
[185933,"Партнер номер 1","1945-05-31","оплачен",1525,0.05,76.25]
[185936,"","1945-05-31","оплачен",1927,"",""]
[185939,"Партнер номер 2","1945-05-31","не оплачен",2126,0.04,85.04]
[185942,"Партнер номер 2","1945-05-31","не оплачен",937,0.04,37.480000000000004]
[185945,"Партнер номер 2","1945-05-31","оплачен",744,0.04,29.76]
[185950,"Партнер номер 1","1945-05-31","оплачен",1959,0.05,97.95]
[185955,"","1945-05-31","не оплачен",3957,"",""]
[185960,"","1945-05-31","оплачен",1987,"",""]
[185965,"Партнер номер 2","1945-05-31","не оплачен",2126,0.04,85.04]
[185967,"Партнер номер 1","1945-05-31","не оплачен",2328,0.05,116.4]
[185969,"","1945-05-31","оплачен",2121,"",""]
[185975,"Партнер номер 11","1945-05-31","оплачен",951,0.05,47.550000000000004]
[185977,"Партнер номер 2","1945-05-31","оплачен",1755,0.04,70.2]
[185980,"Партнер номер 2","1945-05-31","не оплачен",2055,0.04,82.2]
[185984,"Партнер номер 7","1945-05-31","оплачен",1512,0.05,75.600000000000009]
[185986,"","1945-05-31","не оплачен",1874,"",""]
[185991,"Партнер номер 1","1945-05-31","оплачен",2739,0.05,136.95000000000002]
[185993,"","1945-05-31","оплачен",2076,"",""]
[185995,"Партнер номер 46","1945-05-31","оплачен",1628,0.05,81.400000000000006]
[185997,"Партнер номер 2","1945-05-31","не оплачен",364,0.04,14.56]
[186000,"","1945-05-31","оплачен",4231,"",""]
[186003,"Партнер номер 7","1945-05-31","не оплачен",1182,0.05,59.1]
[186007,"Партнер номер 3","1945-05-31","оплачен",2193,0.05,109.65]
[186011,"Партнер номер 5","1945-05-31","оплачен",1607,0.03,48.21]
[186013,"Партнер номер 12","1945-05-31","не оплачен",771,0.03,23.13]
[186016,"","1945-05-31","не оплачен",1614,"",""]
[186019,"Партнер номер 2","1945-05-31","не оплачен",364,0.04,14.56]
[186023,"","1945-05-31","оплачен",2487,"",""]
[186028,"Партнер номер 2","1945-05-31","оплачен",809,0.04,32.36]
[186029,"","1945-05-31","не оплачен",1614,"",""]
[186033,"","1945-05-31","оплачен",1790,"",""]
[186037,"Партнер номер 11","1945-05-31","оплачен",1207,0.05,60.35]
[186039,"","1945-05-31","оплачен",1614,"",""]
[186043,"Партнер номер 2","1945-05-31","не оплачен",2055,0.04,82.2]
[186045,"","1945-05-31","оплачен",1589,"",""]
[186051,"","1945-05-31","оплачен",2487,"",""]
[186053,"Партнер номер 11","1945-05-31","не оплачен",975,0.05,48.75]
[186058,"","1945-05-31","оплачен",3177,"",""]
[186060,"","1945-05-31","не оплачен",2237,"",""]
[186061,"Партнер номер 1","1945-05-31","не оплачен",1269,0.05,63.45]
[186063,"Партнер номер 3","1945-05-31","оплачен",9251,0.05,462.55]
[186066,"Партнер номер 1","1945-05-31","оплачен",795,0.05,39.75]
[186070,"Партнер номер 7","1945-05-31","оплачен",2626,0.05,131.30000000000001]
[186072,"","1945-05-31","оплачен",2991,"",""]
[186075,"Партнер номер 2","1945-05-31","оплачен",2126,0.04,85.04]
[186079,"Партнер номер 1","1945-05-31","оплачен",920,0.05,46]
[186084,"Партнер номер 11","1945-05-31","оплачен",2059,0.05,102.95]
[186087,"Партнер номер 7","1945-05-31","оплачен",1432,0.05,71.600000000000009]
[186093,"Партнер номер 1","1945-05-31","оплачен",2115,0.05,105.75]
[186096,"Партнер номер 3","1945-05-31","оплачен",2379,0.05,118.95]
[186104,"Партнер номер 2","1945-05-31","не оплачен",889,0.04,35.56]
[186108,"Партнер номер 2","1945-05-31","оплачен",3478,0.04,139.12]
[186110,"Партнер номер 2","1945-05-31","оплачен",2076,0.04,83.04]
[186114,"Партнер номер 2","1945-05-31","оплачен",977,0.04,39.08]
[186117,"Партнер номер 5","1945-05-31","не оплачен",1935,0.03,58.05]
[186120,"Партнер номер 2","1945-05-31","оплачен",989,0.04,39.56]
[186126,"Партнер номер 1","1945-05-31","не оплачен",1059,0.05,52.95]
[186131,"","1945-05-31","оплачен",613,"",""]
[186132,"Партнер номер 2","1945-05-31","оплачен",373,0.04,14.92]
[186136,"","1945-05-31","оплачен",2912,"",""]
[186139,"Партнер номер 3","1945-05-31","не оплачен",460,0.05,23]
[186144,"Партнер номер 2","1945-05-31","оплачен",373,0.04,14.92]
[186148,"","1945-05-31","не оплачен",3037,"",""]
[186153,"","1945-05-31","оплачен",4083,"",""]
[186158,"","1945-05-31","не оплачен",4249,"",""]
[186161,"Партнер номер 1","1945-05-31","оплачен",789,0.05,39.450000000000003]
[186163,"Партнер номер 1","1945-05-31","не оплачен",899,0.05,44.95]
[186165,"","1945-05-31","оплачен",2270,"",""]
[186168,"Партнер номер 2","1945-05-31","оплачен",979,0.04,39.160000000000004]
[186172,"Партнер номер 8","1945-05-31","оплачен",460,0.03,13.799999999999999]
[186177,"Партнер номер 3","1945-05-31","оплачен",2289,0.05,114.45]
[186179,"","1945-05-31","оплачен",2274,"",""]
[186183,"","1945-05-31","оплачен",2408,"",""]
[186188,"Партнер номер 7","1945-05-31","оплачен",1510,0.05,75.5]
[186193,"","1945-05-31","оплачен",3001,"",""]
[186194,"Партнер номер 1","1945-05-31","оплачен",3149,0.05,157.45000000000002]
[186200,"Партнер номер 1","1945-05-31","не оплачен",1535,0.05,76.75]
[186201,"Партнер номер 2","1945-05-31","оплачен",1188,0.04,47.52]
[186203,"","1945-05-31","оплачен",2470,"",""]
[186207,"","1945-05-31","оплачен",2381,"",""]
[186209,"Партнер номер 11","1945-05-31","не оплачен",542,0.05,27.1]
[186213,"Партнер номер 1","1945-05-31","оплачен",2522,0.05,126.10000000000001]
[186219,"","1945-05-31","оплачен",2217,"",""]
[186223,"","1945-05-31","не оплачен",1308,"",""]
[186225,"","1945-05-31","оплачен",7298,"",""]
[186229,"","1945-05-31","оплачен",610,"",""]
[186232,"Партнер номер 11","1945-05-31","оплачен",6429,0.05,321.45000000000005]
[186234,"Партнер номер 51","1945-05-31","оплачен",3015,0.04,120.60000000000001]
[186236,"","1945-05-31","оплачен",2093,"",""]
[186239,"","1945-05-31","оплачен",1503,"",""]
[186243,"","1945-05-31","оплачен",1268,"",""]
[186244,"Партнер номер 1","1945-05-31","оплачен",2276,0.05,113.80000000000001]
[186246,"Партнер номер 7","1945-05-31","не оплачен",3025,0.05,151.25]
[186249,"Партнер номер 1","1945-05-31","не оплачен",1878,0.05,93.9]
[186254,"Партнер номер 1","1945-05-31","оплачен",1184,0.05,59.2]
[186260,"Партнер номер 1","1945-05-31","оплачен",1878,0.05,93.9]
[186262,"","1945-05-31","оплачен",1675,"",""]
[186264,"","1945-05-31","оплачен",2178,"",""]
[186268,"","1945-05-31","оплачен",1104,"",""]
[186273,"Партнер номер 1","1945-05-31","оплачен",2743,0.05,137.15]
[186278,"Партнер номер 2","1945-05-31","оплачен",1731,0.04,69.239999999999995]
[186281,"","1945-05-31","оплачен",806,"",""]
[186283,"Партнер номер 2","1945-05-31","не оплачен",1003,0.04,40.119999999999997]
[186285,"Партнер номер 5","1945-05-31","оплачен",3056,0.03,91.679999999999993]
[186289,"Партнер номер 6","1945-05-31","не оплачен",2569,0.04,102.76]
[186293,"Партнер номер 1","1945-05-31","оплачен",4261,0.05,213.05]
[186296,"Партнер номер 2","1945-05-31","не оплачен",1439,0.04,57.56]
[186298,"Партнер номер 46","1945-05-31","оплачен",1247,0.05,62.35]
[186300,"Партнер номер 2","1945-05-31","не оплачен",1378,0.04,55.120000000000005]
[186302,"","1945-05-31","оплачен",7345,"",""]
[186304,"Партнер номер 4","1945-05-31","оплачен",3026,0.04,121.04]
[186308,"Партнер номер 2","1945-05-31","оплачен",3339,0.04,133.56]
[186312,"","1945-05-31","оплачен",2803,"",""]
[186317,"Партнер номер 1","1945-05-31","оплачен",3739,0.05,186.95000000000002]
[186321,"Партнер номер 2","1945-05-31","не оплачен",3258,0.04,130.32]
[186325,"Партнер номер 5","1945-05-31","оплачен",2272,0.03,68.16]
[186331,"","1945-05-31","оплачен",2263,"",""]
[186336,"Партнер номер 1","1945-05-31","не оплачен",529,0.05,26.450000000000003]
[186338,"Партнер номер 1","1945-05-31","не оплачен",1383,0.05,69.150000000000006]

{"sheet":"Сводная таблица (пример)","index":5,"n_rows":48,"n_cols":3,"rows_kept":48,"cut":false,"hidden":false,"merged":[[0,1,0,2]]}
[null,"Необходимо получить такой сводный список, в котором будет посчитана сумма комиссии по каждому партнеру.\nЗдесь должны быть только оплаченные заказы.\n{используйте \"сводные таблицы\"}"]
[]
[null,"Названия строк","Сумма по полю Комиссия партнера (руб)"]
[null,"Партнер номер 1",64947.699999999924]
[null,"Партнер номер 7",15815.999999999989]
[null,"Партнер номер 11",15704.099999999997]
[null,"Партнер номер 3",13834.849999999993]
[null,"Партнер номер 5",13603.769999999995]
[null,"Партнер номер 10",4045.5200000000004]
[null,"Партнер номер 2",3406.08]
[null,"Партнер номер 9",3376.7999999999997]
[null,"Партнер номер 28",2747.4999999999995]
[null,"Партнер номер 6",2276.7999999999997]
[null,"Партнер номер 4",2115.6800000000007]
[null,"Партнер номер 17",1750.5600000000002]
[null,"Партнер номер 46",1382.7000000000003]
[null,"Партнер номер 25",1357.65]
[null,"Партнер номер 13",1331.65]
[null,"Партнер номер 8",978.87]
[null,"Партнер номер 16",715.8]
[null,"Партнер номер 12",663.59999999999991]
[null,"Партнер номер 30",545.25]
[null,"Партнер номер 21",542.4]
[null,"Партнер номер 23",420.9]
[null,"Партнер номер 47",358.85]
[null,"Партнер номер 39",343.6]
[null,"Партнер номер 42",341.65000000000003]
[null,"Партнер номер 32",295.8]
[null,"Партнер номер 26",256.60000000000002]
[null,"Партнер номер 29",253.8]
[null,"Партнер номер 51",242.92000000000002]
[null,"Партнер номер 34",225.55]
[null,"Партнер номер 35",219.44]
[null,"Партнер номер 19",207.10000000000002]
[null,"Партнер номер 20",191.13]
[null,"Партнер номер 31",170.13]
[null,"Партнер номер 41",158.45000000000002]
[null,"Партнер номер 37",145.30000000000001]
[null,"Партнер номер 40",101.95]
[null,"Партнер номер 22",88.4]
[null,"Партнер номер 48",83.22]
[null,"Партнер номер 43",78]
[null,"Партнер номер 45",68.680000000000007]
[null,"Партнер номер 15",62.76]
[null,"Партнер номер 36",62.150000000000006]
[null,"Партнер номер 14",43.379999999999995]
[null,"Партнер номер 24",41.79]
[null,"Партнер номер 33",39.75]